{"text_format":"1","workbook":"xlsx","n_sheets":20,"sheets":["Introduction","TrackLCAT","Flowchart","Instructions","TechNotes","InputCondition","IntvTriggers","IntvChanges","IntvCosts","IntvCost (1)","IntvCost (2)","DetRates","Projection","Results","Summary","OutputFinancial","OutputEnv","OutputOps","OutputCondition","EnvImpacts"],"not_rendered":{"charts":8,"images":30,"macros":1,"external_links":3,"defined_names":39,"comments":6,"pivot_tables":0},"unopened":[],"bounds":{"document_bytes":16777216,"sheet_cells":100000,"rows_first":2000,"rows_last":500,"rows_between":2000,"halvings":0,"cell_chars":16384,"cell_head_chars":4096},"cells_cut":0,"cells_raw":0,"read":"whole","date_system":"1900"}

{"sheet":"Introduction","index":0,"n_rows":36,"n_cols":13,"rows_kept":36,"cut":false,"hidden":false,"merged":[[14,7,32,18],[35,7,35,18]]}
[]
[]
[]
[]
[]
[]
[]
[]
[]
[]
[null,null,null,null,null,null,null,null,null,null,null,null,"MAINtenance, renewal and Improvement "]
[null,null,null,null,null,null,null,null,null,null,null,null,"of rail transport iNfrastructure "]
[null,null,null,null,null,null,null,null,null,null,null,null,"to reduce Economic and environmental impacts"]
[]
[null,null,null,null,null,null,null,"Abstract of the MAINLINE Project:\nGrowth in demand for rail transportation across Europe is predicted to continue. Much of this growth will have to be accommodated on existing lines that contain old infrastructure.                                                                                      This demand will increase both the rate of deterioration of these elderly assets and the need for shorter line closures for maintenance or renewal interventions.                                                                                                                              The impact of these interventions must be minimized and will also need to take into account the need for lower economic and environmental impacts.                                                                                                                                                New interventions will need to be developed along with additional tools to inform decision makers about the economic and environmental consequences of different intervention options being considered. \nMAINLINE proposes to address all these issues through a series of linked work packages that will target at least € 300m per year savings across Europe with a reduced environmental footprint in terms of embodied carbon and other environmental benefits. It will:\n- Apply new technologies to extend the life of elderly infrastructure\n- Improve degradation and structural models to develop more realistic life cycle cost and safety models\n- Investigate new construction methods for the replacement of obsolete infrastructure\n- Investigate monitoring techniques to complement or replace existing examination techniques\n- Develop management tools to assess whole life environmental and economic impact. \n"]
[]
[]
[]
[]
[]
[]
[]
[]
[]
[]
[]
[]
[]
[]
[]
[]
[]
[]
[]
[]
[null,null,null,null,null,null,null,"Project funded by the EU 7th Framework Programme under call SST.2011.5.2-6 Cost-effective improvement of rail transport, infrastructure. Grant agreement no: 285121"]

{"sheet":"TrackLCAT","index":1,"n_rows":51,"n_cols":3,"rows_kept":51,"cut":false,"hidden":false,"merged":[[4,1,4,2]]}
[]
[]
[]
[]
[null,"Plain Line Track Life Cycle Assessment Tool (LCAT)"]
[]
[null,1,"LCAT Definition"]
[null,"A","Each LCAT is a forecasting tool that compares different maintenance and intervention strategies for the selected asset based on a life cycle evaluation. A Life-Cycle Assessment is ‘the comparison and "]
[null,null,"and evaluation of the inputs/outputs and the potential environmental impacts of a system during its lifetime. Such a lifecycle evaluation attempts to quantify and model:"]
[null,null,"-       Direct economic costs"]
[null,null,"-       Availability (delay costs / user cost)"]
[null,null,"-       Environmental impact costs"]
[null,"B","For a more detailed explanation of the mode, the User is encouraged to reference the LCAT User Manual written under the ML D5.7 deliverable."]
[]
[null,2,"LCAT function"]
[]
[]
[]
[]
[]
[]
[]
[]
[]
[]
[]
[]
[]
[]
[null,3,"LCAT application"]
[null,"A","The Track LCAT does not have a length dimension; it can accommodate any length. The User may specify the appropriate length based on relevant cost information in the 'IntCost() sheets."]
[]
[null,4,"Deterioration modelling: Track Quality 'Q'"]
[null,"A","The MAINLINE mathematical approach, a non-linear, e-functional regression curve that is described in ML D2.3 and specifies that the track quality index deteriorates on the basis of the following exponential function:"]
[]
[null,null,"where:"]
[null,null,"      is the starting condition of the track, b is the deterioration rate  and"]
[null,null,"      is the condition of the track at time t."]
[]
[null,"B","The exponent b (the deterioration rate) of the exponential function reflects the speed of the deterioration process over time (t) under different influences. "]
[]
[null,"C","Track LCAT processess assessments for the following track characteristics:"]
[null,null,"·         Three types of sleepers"]
[null,null,"·         Five different transport loadings"]
[null,null,"·         Three different ballast types"]
[null,null,"·         Four different radius"]
[null,null,"·         One operational speed (up to 130 kmph but it can be extended to up to 160 kmph)"]
[null,null,"·         Two drainage conditions (good/poor)"]
[null,null,"·         Two sub-layer conditions (good/poor)"]
[]
[null,5,"Summary"]

{"sheet":"Flowchart","index":2,"n_rows":5,"n_cols":3,"rows_kept":5,"cut":false,"hidden":false,"merged":[]}
["MAINLINE",null,"Plain Track Model"]
[]
[null,"Model Flow Chart"]
[null,null,"This shows the relationship between the sheets in this model."]
[null,null,"Click on a heading to go to that sheet."]

{"sheet":"Instructions","index":3,"n_rows":42,"n_cols":4,"rows_kept":42,"cut":false,"hidden":false,"merged":[]}
["MAINLINE",null,{"$f":"Flowchart!C1","v":"Plain Track Model"}]
[]
[]
[null,"Background:","MAINLINE:","Work Package 5; Deliverable 5.5 - Life-cycle Assessment Tool"]
[null,null,"File name:","ML_D5.5_TrackModel_v12.00.xlsm"]
[null,null,"Model ref:","ML-D5.5 Plain Track Model"]
[null,null,"Model version:",12]
[null,null,"Version date:","2014-09-15"]
[null,null,"Function:","This model was developed by the MAINLINE project \nto demonstrate the deteroration and intervention algorithms discovered in the MAINLINE work packages."]
[]
[]
[null,"INSTRUCTIONS:",null,"Instructions are given below for each sheet which requires some user input"]
[null,"Sheet colours:","NOTES","Black tab sheets are general instructions and information about the model"]
[null,null,"INPUT","Blue tab are sheets for data input"]
[null,null,"OUTPUT","Purple tabs are output sheets"]
[null,null,"INTV COST","Green tabs are sheets for the user to calculate costs and environmental impacts of interventions"]
[null,null,"ENV REFS","Yellow tab is a sheet of environmantal reference data"]
[null,null,"CALCULATION","Red tabs are calculation sheets, which the user can see but does not need to change"]
[]
[null,"Cell colours:","Data Input Cells","All input cells are coloured light blue.  Other cells cannot be changed."]
[null,null,null,"Click on any blue cell to see input instructions"]
[null,null,null,"Detailed instructions regarding inputs are given on each sheet"]
[]
[]
[null,"USER SHEETS:"]
[null,"Information:","Introduction","Introduction to MAINLINE"]
[null,null,"TrackLCAT","Introduction to the Plain Line Track LCAT"]
[null,null,"Flowchart","Outline of data flow in the model, with dynamic links to sheets"]
[null,null,"Instructions","This sheet of instructions"]
[null,"User inputs:","TechNotes","Some technical details about the model"]
[null,null,"InputCondition","Select the conditions which best describe the Track and its initial condition"]
[null,null,"IntvTriggers","This lists the interventions which may be used and their triggering mechanisms"]
[null,null,"IntvChanges","This sheet shows the ways in which the scores change after the interventions"]
[null,null,"IntvCosts","Enter the costs and environmental impacts of each intervention"]
[null,null,"IntvCost (1)-(2)","Build-up of costs and impacts for each intervention; there are 2 sheets, one for each intervention"]
[null,null,"EnvImpacts","Reference list of impacts of construction material and operations"]
[null,"User outputs:"]
[null,null,"Summary","This shows a summary of the modelling results."]
[null,null,"OutputFinancial","This shows a summary of the projected financial costs"]
[null,null,"OutputEnv","This shows a summary of the projected environmental impacts"]
[null,null,"OutputOps","This shows a summary of the projected operational impacts"]
[null,null,"OutputCondition","This shows a summary of the projected condition scores"]

{"sheet":"TechNotes","index":4,"n_rows":45,"n_cols":4,"rows_kept":45,"cut":false,"hidden":false,"merged":[]}
["MAINLINE",null,{"$f":"Flowchart!C1","v":"Plain Track Model"}]
[]
[null,"Amendments:","Version"]
[null,"2013-11-29","v01.00","Released for review"]
[null,"2013-12-20","v02.00","Amended after review"]
[null,"2014-04-22","v03.00","Addition of extra performance profile data"]
[null,null,null,"Corresponding modification of worksheet \"InputCondition\" options"]
[null,null,null,"Reprogramming of \"Projection\" worksheet to accommodate new data"]
[null,null,null,"Various cosmetic and functional changes to support the new data and the switch to only two intervention types"]
[null,"2014-04-22","v04.00","Correction of order of option buttons on worksheet \"InputCondition\""]
[null,"2014-05-20","v05.00","Revised performance profiles as per [140520 MAINLINE Track Profiles Extrapolation Explanation.xlsm]"]
[null,null,null,"Addition of Warning message in results sheets for renewal <10 years (E2:F3 on each \"Results\" sheet)"]
[null,null,null,"Modification of chart of condition (Q) over time"]
[null,"2014-07-11","v06.00","Modified to allow change in track behaviour only after after a tamping action has occurred"]
[null,null,null,"Modified summary graph so that Q(end) doesn't include effect of deterioration"]
[null,"2014-07-30","v07.00","Revised performance profiles as per [140729 MAINLINE Track Profiles Extrapolation Explanation.xlsm]"]
[null,"2014-07-31","v08.00","Reprogramming of \"Projection\" worksheet to include new tamping rule"]
[null,"2014-08-06","v09.00","Reprogramming of \"Projection\" worksheet to include new renewal rule"]
[null,"2014-08-29","v10.00","Deterioration rates updated to take into account the non-influence of poor subsoil or/and drainage"]
[null,"2014-09-01","v11.00","Revised performance profiles as per [140830 MAINLINE Track Profiles Extrapolation Explanation.xlsm]"]
[null,"2014-09-15","v12.00","Changes in the LCC implemented. Residual value and initial investment costs added"]
[]
[null,"Function of Sheets:"]
[null,null,"FlowChart","Overview of the workings of the model"]
[null,null,"Instructions","Model origin, version, and general notes on use of the model"]
[null,null,"TechNotes","Some technical notes on the model and its workings"]
[null,null,"InputCondition","Input of initial condition of asset"]
[null,null,"IntvTriggers","Interventions and how they are triggered"]
[null,null,"IntvChanges","Changes to scores caused by interventions"]
[null,null,"IntvCosts","Intervention costs and environmental impacts and operational impacts"]
[null,null,"IntvCost (1)","Estimation of the costs and environmental impact of Intervention No 1 (in-situ tamping of ballast)"]
[null,null,"IntvCost (2)","Estimation of the costs and environmental impact of Intervention No 2 (renewal of track structure)"]
[null,null,"DetRates","Tables of deterioration data"]
[null,null,"Projection","Calculation of initial scores (from initial condition) and calculation of deterioration and interventions for 20 time periods of 5 years each"]
[null,null,"Resullts","Collation of results from Projection"]
[null,null,"Summary","Summary of the model run with key inputs and outputs"]
[null,null,"OutputFinancial","Summary of projected costs"]
[null,null,"OutputEnv","Summary of projected environmental impacts "]
[null,null,"OutputOps","Summary of projected operational impacts "]
[null,null,"OutputCondition","Output of projected asset condition"]
[null,null,"EnvImpacts","Reference list of Impacts of typical construction and maintenance activities and materials"]
[]
[null,"Technical notes:","MAINLINE","This model does not use VBA code or Macros"]
[null,null,null,"This model uses Excel 'Form Control' objects and not ActiveX controls."]
[null,null,null,"Because the model uses 'Form Control' objects it is best stored as a macro file (.xlsm)"]

{"sheet":"InputCondition","index":5,"n_rows":16,"n_cols":14,"rows_kept":16,"cut":false,"hidden":false,"merged":[]}
["MAINLINE",null,{"$f":"Flowchart!C1","v":"Plain Track Model"}]
[null,null,"User Input"]
[]
[]
[]
[null,null,"Initial Track Condition"]
[null,null,"Input of data which describes the status and condition of the track at the start of the assessment."]
[]
[]
[null,null,null,null,null,null,"Data is currently only available for up to 130 kph."]
[]
[]
[]
[null,null,null,null,null,null,"Basalt, high-quality granite, siliceous material",null,null,null,null,"LA < 16",null,"     ''LA' refers to the Los Angeles test for stone."]
[null,null,null,null,null,null,"Granite, diabase, dolomite",null,null,null,null,"16 < LA <23"]
[null,null,null,null,null,null,"Limestone",null,null,null,null,"LA > 23"]

{"sheet":"IntvTriggers","index":6,"n_rows":39,"n_cols":116,"rows_kept":39,"cut":false,"hidden":false,"merged":[[25,11,25,13],[28,3,28,5],[29,6,29,7],[30,6,30,7],[28,6,28,7]]}
["MAINLINE",null,{"$f":"Flowchart!C1","v":"Plain Track Model"}]
[null,null,"User Input"]
[]
[]
[]
[null,null,"Interventions"]
[null,null,"Interventions can be triggered in a number of ways."]
[null,null,"Some can be programmed by the user, others rely on data which is already recorded within the model."]
[null,null,"Select which types of intervention should apply here:"]
[null,null,"Only blue color cells may require user input"]
[]
[null,null,null,null,null,null,null,null,null,null,null," Where Tamping does not cause 'Q' to be uplifted above Qult - Renewal will be triggered"]
[]
[]
[]
[]
[]
[]
[]
[null,null,null,null,null,null,null,null,null,null,null," Where Tamping does not cause 'Q' to be uplifted above the trigger value - Renewal will be triggered"]
[]
[]
[]
[]
[null,null,"User-specified Intervention Q Values",null,null,null,null,null,null,null,"User-Specified Intervention Timings"]
[null,null,"Active:",false,null,null,null,null,null,null,"Active:",false]
[null,null,"Enter Q value at or below which interventions will be executed",null,null,null,null,null,null,null,"Interventions triggered by inputting an x into the relevant years"]
[null,null,"Leave blank any scores that are not relevant",null,null,null,null,null,null,null,"Leave blank any years where no intervention is relevant"]
[null,null,"Ref","Intervention",null,null,"Track Quality Q",null,null,null,"Year",0,1,2,3,4,5,6,7,8,9,10,11,12,13,14,15,16,17,18,19,20,21,22,23,24,25,26,27,28,29,30,31,32,33,34,35,36,37,38,39,40,41,42,43,44,45,46,47,48,49,50,51,52,53,54,55,56,57,58,59,60,61,62,63,64,65,66,67,68,69,70,71,72,73,74,75,76,77,78,79,80,81,82,83,84,85,86,87,88,89,90,91,92,93,94,95,96,97,98,99,100,101,102,103,104]
[null,null,1,"In-situ tamping of ballast",null,null,-12,null,null,null,"Tamping"]
[null,null,2,"Renew track structure",null,null,-15,null,null,null,"Renewal","x"]
[]
[null,null,"Notes:"]
[null,"●","These trigger values relate to the deterioration mechanisms described in ML D2.2 and D2.3 reports"]
[null,"●","Track quality 'Q' triggers should be negative values. They typically range between (-5,-25)"]
[null,"●","Tamping 'Q' trigger score should be greater than renewal's one"]
[null,"●","Track is assumed to be brand new on year 0"]
[null,null,{"$f":"IF(AND(G30>0,D26),\"'Q' Trigger values should be negative numbers. Please change 'Q' accordingly\",IF(AND(G31>0,D26),\"'Q' Trigger values should be negative numbers. Please change 'Q' accordingly\",\"\"))","v":""}]
[null,null,{"$f":"IF(AND(G30<G31,D26,G30<0,G31<0),\"Tamping 'Q' trigger score should be greater than that of the renewal (reneal cannot be triggered earlier than tamping). Please check 'Q' values in G30:G31 cells.\",\"\")","v":""}]

{"sheet":"IntvChanges","index":7,"n_rows":19,"n_cols":15,"rows_kept":19,"cut":false,"hidden":false,"merged":[[15,7,15,10],[16,7,16,10],[17,7,17,10],[18,7,18,10],[15,4,15,6],[16,4,16,6],[17,4,17,6],[18,4,18,6]]}
["MAINLINE",null,{"$f":"Flowchart!C1","v":"Plain Track Model"}]
[null,null,"User Input",null,null,null,null,null,null,null,null,null,null,null,"Concrete"]
[null,null,null,null,null,null,null,null,null,null,null,null,null,null,"Concrete with Under Sleeper Pads"]
[null,null,null,null,null,null,null,null,null,null,null,null,null,null,"Wooden"]
[null,null,null,null,null,null,null,null,null,null,null,null,null,null,"Hard"]
[null,null,"Intervention Changes",null,null,null,null,null,null,null,null,null,null,null,"Medium"]
[null,null,"Enter the changes in scores (uplifts) due to the interventions.",null,null,null,null,null,null,null,null,null,null,null,"Soft"]
[null,null,"Only blue color cells may require user input"]
[]
[null,null,"Tamping",null,"None required.",null,null,null,null,null,null,null,null,null,"Good"]
[null,null,null,null,"Q' uplifts for tamping are pre-programmed into the model, based on field data.",null,null,null,null,null,null,null,null,null,"Poor"]
[]
[null,null,"Renewal",null,"Q' uplifts for renewal are pre-programmed into the model, based on field data."]
[null,null,null,null,"Otherwise, on renewal - replace with:"]
[]
[null,null,null,null,"Sleeper type",null,null,"Concrete with Under Sleeper Pads"]
[null,null,null,null,"Ballast type",null,null,"Hard"]
[null,null,null,null,"Sub-layer Condition",null,null,"Good"]
[null,null,null,null,"Drainage Condition",null,null,"Good"]

{"sheet":"IntvCosts","index":8,"n_rows":23,"n_cols":25,"rows_kept":23,"cut":false,"hidden":false,"merged":[[18,2,18,4],[17,2,17,4],[12,5,12,9],[16,21,16,23],[12,11,12,14],[12,21,12,24],[12,16,12,19]]}
["MAINLINE",null,{"$f":"Flowchart!C1","v":"Plain Track Model"}]
[null,null,"User Input"]
[]
[]
[]
[null,null,"Intervention Costs & Impacts"]
[null,null,"Enter names of cost categories"]
[null,null,"Enter any budget names and proportions"]
[null,null,"Enter  operational impacts of interventions"]
[null,null,"Enter discount rate and cash equivalents of impacts"]
[null,null,"Only blue color cells may require user input"]
[]
[null,null,null,null,null,"Costs by category   [Euros]",null,null,null,null,null,"Costs by Budgets   [%]",null,null,null,null,"Environmental Impacts",null,null,null,null,"Operational Impact"]
[null,null,null,null,"Name:","Labour","Plant","Materials","Tax","TOTAL",null,"Maintenance","Capital","Operations","Government",null,"Carbon Dioxide equivalent","User-defined impact (2)","User-defined impact (3)","Cash Equivalent",null,"Over-night possession [Nr]","Day possessions [Nr]","Speed restriction [days]","Total cash Equivalent"]
[null,null,null,null,"Ref:","Lab","Plt","Mnt","Tax",null,null,"Mnt","Cap","Ops","Gov",null,"CO2e","EI-2","EI-3","All",null,"Poss(N)","Poss(D)","TSR","All"]
[null,null,null,null,"Unit:","€","€","€","€","€",null,"%","%","%","%",null,"kg","unit2","unit3","€",null,"Nr","Nr","Days","€"]
[null,"Ref","Intervention",null,null,0,1,2,3,null,null,null,null,null,null,null,0,1,2]
[null,1,{"$f":"IntvTriggers!D30","v":"In-situ tamping of ballast"},null,null,{"$f":"OFFSET(INDIRECT(\"'IntvCost (\"&$B18&\")'!\"&$F$20),0,F$17)","v":10000},2000,2000,3000,{"$f":"SUM(F18:I18)","v":17000},null,{"$f":"1-SUM(M18:O18)","v":0},0.8,0.15,0.05,null,{"$f":"OFFSET(INDIRECT(\"'IntvCost (\"&$B18&\")'!\"&$Q$20),0,Q$17)","v":421},0,0,{"$f":"SUMPRODUCT(Q$21:S$21,Q18:S18)","v":421},null,1,null,null,{"$f":"SUMPRODUCT(V18:X18,V$21:X$21)","v":1000}]
[null,2,{"$f":"IntvTriggers!D31","v":"Renew track structure"},null,null,205000,500000,5000,20000,730000,null,1,null,null,null,null,296745.7,0,0,{"$f":"SUMPRODUCT(Q$21:S$21,Q19:S19)","v":296745.7},null,3,null,2,{"$f":"SUMPRODUCT(V19:X19,V$21:X$21)","v":4000}]
[null,null,null,null,null,"IntvCost1",null,null,null,null,null,null,null,null,null,null,"IntvEnvr1"]
[null,null,null,null,null,null,null,null,null,null,null,null,null,null,"Cash equivalents of impacts",null,1,0.2,0.3,null,null,1000,5000,500]
[]
[null,null,null,null,null,null,null,null,"Financial discount rate  (pa)",2.3E-2,null,null,null,null,null,null,null,null,"Environmental discount rate  (pa)",0.02]

{"sheet":"IntvCost (1)","index":9,"n_rows":31,"n_cols":15,"rows_kept":31,"cut":false,"hidden":false,"merged":[[7,3,7,7],[7,8,7,13]]}
["MAINLINE",null,{"$f":"Flowchart!C1","v":"Plain Track Model"}]
[null,null,"Costs & Environment Impact of Intervention"]
[null,null,"Enter costs and environmental impacts for this intervention"]
[null,"Interv. No:",{"$f":"-VALUE(RIGHT(CELL(\"filename\",A1),4))","v":1}]
[null,"Intervention:",{"$f":"IntvTriggers!D30","v":"In-situ tamping of ballast"}]
[null,"Scale:","ONE intervention treats:",1,"km"]
[]
[null,null,null,"Financial Costs Estimate   [Euros]",null,null,null,null,"Environamental Impact Assessment"]
[null,null,"Item",{"$f":"IntvCosts!F14","v":"Labour"},{"$f":"IntvCosts!G14","v":"Plant"},{"$f":"IntvCosts!H14","v":"Materials"},{"$f":"IntvCosts!I14","v":"Tax"},"TOTAL","Environmental Impact","Usage","Unit of usage",{"$f":"IntvCosts!Q14","v":"Carbon Dioxide equivalent"},{"$f":"IntvCosts!R14","v":"User-defined impact (2)"},{"$f":"IntvCosts!S14","v":"User-defined impact (3)"},"Notes on estimation"]
[null,null,null,"€","€","€","€","€",null,null,null,"kg (CO2e)",{"$f":"IntvCosts!R16& \"  (\" &IntvCosts!R15&\")\"","v":"unit2  (EI-2)"},{"$f":"IntvCosts!S16& \"  (\" &IntvCosts!S15&\")\"","v":"unit3  (EI-3)"}]
[null,null,"Tamping machine",6000,2000,2000,2000,{"$f":"SUM(D11:G11)","v":12000},"Ballast tamper",1,{"$f":"IF($I11<>\"\",VLOOKUP($I11,EnvImpacts!$G$14:$I$52,EnvImpacts!H$13,0),\"-\")","v":"km"},{"$f":"IF($I11<>\"\",VLOOKUP($I11,EnvImpacts!$G$14:$I$52,EnvImpacts!I$13,0),\"-\")","v":153}]
[null,null,"Other activities",4000,null,null,1000,5000,"Diesel fuel",100,{"$f":"IF($I12<>\"\",VLOOKUP($I12,EnvImpacts!$G$14:$I$52,EnvImpacts!H$13,0),\"-\")","v":"l"},{"$f":"IF($I12<>\"\",VLOOKUP($I12,EnvImpacts!$G$14:$I$52,EnvImpacts!I$13,0),\"-\")","v":2.68}]
[null,null,null,null,null,null,null,0,null,null,{"$f":"IF($I13<>\"\",VLOOKUP($I13,EnvImpacts!$G$14:$I$52,EnvImpacts!H$13,0),\"-\")","v":"-"},{"$f":"IF($I13<>\"\",VLOOKUP($I13,EnvImpacts!$G$14:$I$52,EnvImpacts!I$13,0),\"-\")","v":"-"}]
[null,null,null,null,null,null,null,0,null,null,{"$f":"IF($I14<>\"\",VLOOKUP($I14,EnvImpacts!$G$14:$I$52,EnvImpacts!H$13,0),\"-\")","v":"-"},{"$f":"IF($I14<>\"\",VLOOKUP($I14,EnvImpacts!$G$14:$I$52,EnvImpacts!I$13,0),\"-\")","v":"-"}]
[null,null,null,null,null,null,null,0,null,null,{"$f":"IF($I15<>\"\",VLOOKUP($I15,EnvImpacts!$G$14:$I$52,EnvImpacts!H$13,0),\"-\")","v":"-"},{"$f":"IF($I15<>\"\",VLOOKUP($I15,EnvImpacts!$G$14:$I$52,EnvImpacts!I$13,0),\"-\")","v":"-"}]
[null,null,null,null,null,null,null,0,null,null,{"$f":"IF($I16<>\"\",VLOOKUP($I16,EnvImpacts!$G$14:$I$52,EnvImpacts!H$13,0),\"-\")","v":"-"},{"$f":"IF($I16<>\"\",VLOOKUP($I16,EnvImpacts!$G$14:$I$52,EnvImpacts!I$13,0),\"-\")","v":"-"}]
[null,null,null,null,null,null,null,0,null,null,{"$f":"IF($I17<>\"\",VLOOKUP($I17,EnvImpacts!$G$14:$I$52,EnvImpacts!H$13,0),\"-\")","v":"-"},{"$f":"IF($I17<>\"\",VLOOKUP($I17,EnvImpacts!$G$14:$I$52,EnvImpacts!I$13,0),\"-\")","v":"-"}]
[null,null,null,null,null,null,null,0,null,null,{"$f":"IF($I18<>\"\",VLOOKUP($I18,EnvImpacts!$G$14:$I$52,EnvImpacts!H$13,0),\"-\")","v":"-"},{"$f":"IF($I18<>\"\",VLOOKUP($I18,EnvImpacts!$G$14:$I$52,EnvImpacts!I$13,0),\"-\")","v":"-"}]
[null,null,null,null,null,null,null,0,null,null,{"$f":"IF($I19<>\"\",VLOOKUP($I19,EnvImpacts!$G$14:$I$52,EnvImpacts!H$13,0),\"-\")","v":"-"},{"$f":"IF($I19<>\"\",VLOOKUP($I19,EnvImpacts!$G$14:$I$52,EnvImpacts!I$13,0),\"-\")","v":"-"}]
[null,null,null,null,null,null,null,0,null,null,{"$f":"IF($I20<>\"\",VLOOKUP($I20,EnvImpacts!$G$14:$I$52,EnvImpacts!H$13,0),\"-\")","v":"-"},{"$f":"IF($I20<>\"\",VLOOKUP($I20,EnvImpacts!$G$14:$I$52,EnvImpacts!I$13,0),\"-\")","v":"-"}]
[null,null,null,null,null,null,null,0,null,null,{"$f":"IF($I21<>\"\",VLOOKUP($I21,EnvImpacts!$G$14:$I$52,EnvImpacts!H$13,0),\"-\")","v":"-"},{"$f":"IF($I21<>\"\",VLOOKUP($I21,EnvImpacts!$G$14:$I$52,EnvImpacts!I$13,0),\"-\")","v":"-"}]
[null,null,null,null,null,null,null,0,null,null,{"$f":"IF($I22<>\"\",VLOOKUP($I22,EnvImpacts!$G$14:$I$52,EnvImpacts!H$13,0),\"-\")","v":"-"},{"$f":"IF($I22<>\"\",VLOOKUP($I22,EnvImpacts!$G$14:$I$52,EnvImpacts!I$13,0),\"-\")","v":"-"}]
[null,null,null,null,null,null,null,0,null,null,{"$f":"IF($I23<>\"\",VLOOKUP($I23,EnvImpacts!$G$14:$I$52,EnvImpacts!H$13,0),\"-\")","v":"-"},{"$f":"IF($I23<>\"\",VLOOKUP($I23,EnvImpacts!$G$14:$I$52,EnvImpacts!I$13,0),\"-\")","v":"-"}]
[null,null,null,null,null,null,null,0,null,null,{"$f":"IF($I24<>\"\",VLOOKUP($I24,EnvImpacts!$G$14:$I$52,EnvImpacts!H$13,0),\"-\")","v":"-"},{"$f":"IF($I24<>\"\",VLOOKUP($I24,EnvImpacts!$G$14:$I$52,EnvImpacts!I$13,0),\"-\")","v":"-"}]
[null,null,null,null,null,null,null,0,null,null,{"$f":"IF($I25<>\"\",VLOOKUP($I25,EnvImpacts!$G$14:$I$52,EnvImpacts!H$13,0),\"-\")","v":"-"},{"$f":"IF($I25<>\"\",VLOOKUP($I25,EnvImpacts!$G$14:$I$52,EnvImpacts!I$13,0),\"-\")","v":"-"}]
[null,null,null,null,null,null,null,0,null,null,{"$f":"IF($I26<>\"\",VLOOKUP($I26,EnvImpacts!$G$14:$I$52,EnvImpacts!H$13,0),\"-\")","v":"-"},{"$f":"IF($I26<>\"\",VLOOKUP($I26,EnvImpacts!$G$14:$I$52,EnvImpacts!I$13,0),\"-\")","v":"-"}]
[null,null,null,null,null,null,null,null,"User defined impacts"]
[null,null,null,null,null,null,null,{"$f":"SUM(D28:G28)","v":0}]
[null,null,null,null,null,null,null,{"$f":"SUM(D29:G29)","v":0}]
[]
[null,null,"Totals",{"$f":"SUM(D10:D30)","v":10000},{"$f":"SUM(E10:E30)","v":2000},{"$f":"SUM(F10:F30)","v":2000},{"$f":"SUM(G10:G30)","v":3000},{"$f":"SUM(H10:H30)","v":17000},"Carried to 'IntvCosts'",null,null,{"$f":"SUMPRODUCT($J10:$J29,L10:L29)","v":421},{"$f":"SUM(M10:M29)","v":0},{"$f":"SUM(N10:N29)","v":0},"Carried to 'IntvCosts'"]

{"sheet":"IntvCost (2)","index":10,"n_rows":31,"n_cols":15,"rows_kept":31,"cut":false,"hidden":false,"merged":[[7,3,7,7],[7,8,7,13]]}
["MAINLINE",null,{"$f":"Flowchart!C1","v":"Plain Track Model"}]
[null,null,"Costs & Environment Impact of Intervention"]
[null,null,"Enter costs and environmental impacts for this intervention"]
[null,"Interv. No:",{"$f":"-VALUE(RIGHT(CELL(\"filename\",A1),4))","v":2}]
[null,"Intervention:",{"$f":"IntvTriggers!D31","v":"Renew track structure"}]
[null,"Scale:","ONE intervention treats:",1,"km"]
[]
[null,null,null,"Financial Costs Estimate   [Euros]",null,null,null,null,"Environamental Impact Assessment"]
[null,null,"Item",{"$f":"IntvCosts!F14","v":"Labour"},{"$f":"IntvCosts!G14","v":"Plant"},{"$f":"IntvCosts!H14","v":"Materials"},{"$f":"IntvCosts!I14","v":"Tax"},"TOTAL","Environmental Impact","Usage","Unit of usage",{"$f":"IntvCosts!Q14","v":"Carbon Dioxide equivalent"},{"$f":"IntvCosts!R14","v":"User-defined impact (2)"},{"$f":"IntvCosts!S14","v":"User-defined impact (3)"},"Notes on estimation"]
[null,null,null,"€","€","€","€","€",null,null,null,"kg (CO2e)",{"$f":"IntvCosts!R16& \"  (\" &IntvCosts!R15&\")\"","v":"unit2  (EI-2)"},{"$f":"IntvCosts!S16& \"  (\" &IntvCosts!S15&\")\"","v":"unit3  (EI-3)"}]
[null,null,"Relaying",5000,500000,5000,10000,{"$f":"SUM(D11:G11)","v":520000},"Sleeper (concrete)",2000,{"$f":"IF($I11<>\"\",VLOOKUP($I11,EnvImpacts!$G$14:$I$52,EnvImpacts!H$13,0),\"-\")","v":"each"},{"$f":"IF($I11<>\"\",VLOOKUP($I11,EnvImpacts!$G$14:$I$52,EnvImpacts!I$13,0),\"-\")","v":21.572849999999999}]
[null,null,"Other activities",200000,null,null,10000,210000,"Ballast",5000,{"$f":"IF($I12<>\"\",VLOOKUP($I12,EnvImpacts!$G$14:$I$52,EnvImpacts!H$13,0),\"-\")","v":"m3"},{"$f":"IF($I12<>\"\",VLOOKUP($I12,EnvImpacts!$G$14:$I$52,EnvImpacts!I$13,0),\"-\")","v":50.72}]
[null,null,null,null,null,null,null,0,null,null,{"$f":"IF($I13<>\"\",VLOOKUP($I13,EnvImpacts!$G$14:$I$52,EnvImpacts!H$13,0),\"-\")","v":"-"},{"$f":"IF($I13<>\"\",VLOOKUP($I13,EnvImpacts!$G$14:$I$52,EnvImpacts!I$13,0),\"-\")","v":"-"}]
[null,null,null,null,null,null,null,0,null,null,{"$f":"IF($I14<>\"\",VLOOKUP($I14,EnvImpacts!$G$14:$I$52,EnvImpacts!H$13,0),\"-\")","v":"-"},{"$f":"IF($I14<>\"\",VLOOKUP($I14,EnvImpacts!$G$14:$I$52,EnvImpacts!I$13,0),\"-\")","v":"-"}]
[null,null,null,null,null,null,null,0,null,null,{"$f":"IF($I15<>\"\",VLOOKUP($I15,EnvImpacts!$G$14:$I$52,EnvImpacts!H$13,0),\"-\")","v":"-"},{"$f":"IF($I15<>\"\",VLOOKUP($I15,EnvImpacts!$G$14:$I$52,EnvImpacts!I$13,0),\"-\")","v":"-"}]
[null,null,null,null,null,null,null,0,null,null,{"$f":"IF($I16<>\"\",VLOOKUP($I16,EnvImpacts!$G$14:$I$52,EnvImpacts!H$13,0),\"-\")","v":"-"},{"$f":"IF($I16<>\"\",VLOOKUP($I16,EnvImpacts!$G$14:$I$52,EnvImpacts!I$13,0),\"-\")","v":"-"}]
[null,null,null,null,null,null,null,0,null,null,{"$f":"IF($I17<>\"\",VLOOKUP($I17,EnvImpacts!$G$14:$I$52,EnvImpacts!H$13,0),\"-\")","v":"-"},{"$f":"IF($I17<>\"\",VLOOKUP($I17,EnvImpacts!$G$14:$I$52,EnvImpacts!I$13,0),\"-\")","v":"-"}]
[null,null,null,null,null,null,null,0,null,null,{"$f":"IF($I18<>\"\",VLOOKUP($I18,EnvImpacts!$G$14:$I$52,EnvImpacts!H$13,0),\"-\")","v":"-"},{"$f":"IF($I18<>\"\",VLOOKUP($I18,EnvImpacts!$G$14:$I$52,EnvImpacts!I$13,0),\"-\")","v":"-"}]
[null,null,null,null,null,null,null,0,null,null,{"$f":"IF($I19<>\"\",VLOOKUP($I19,EnvImpacts!$G$14:$I$52,EnvImpacts!H$13,0),\"-\")","v":"-"},{"$f":"IF($I19<>\"\",VLOOKUP($I19,EnvImpacts!$G$14:$I$52,EnvImpacts!I$13,0),\"-\")","v":"-"}]
[null,null,null,null,null,null,null,0,null,null,{"$f":"IF($I20<>\"\",VLOOKUP($I20,EnvImpacts!$G$14:$I$52,EnvImpacts!H$13,0),\"-\")","v":"-"},{"$f":"IF($I20<>\"\",VLOOKUP($I20,EnvImpacts!$G$14:$I$52,EnvImpacts!I$13,0),\"-\")","v":"-"}]
[null,null,null,null,null,null,null,0,null,null,{"$f":"IF($I21<>\"\",VLOOKUP($I21,EnvImpacts!$G$14:$I$52,EnvImpacts!H$13,0),\"-\")","v":"-"},{"$f":"IF($I21<>\"\",VLOOKUP($I21,EnvImpacts!$G$14:$I$52,EnvImpacts!I$13,0),\"-\")","v":"-"}]
[null,null,null,null,null,null,null,0,null,null,{"$f":"IF($I22<>\"\",VLOOKUP($I22,EnvImpacts!$G$14:$I$52,EnvImpacts!H$13,0),\"-\")","v":"-"},{"$f":"IF($I22<>\"\",VLOOKUP($I22,EnvImpacts!$G$14:$I$52,EnvImpacts!I$13,0),\"-\")","v":"-"}]
[null,null,null,null,null,null,null,0,null,null,{"$f":"IF($I23<>\"\",VLOOKUP($I23,EnvImpacts!$G$14:$I$52,EnvImpacts!H$13,0),\"-\")","v":"-"},{"$f":"IF($I23<>\"\",VLOOKUP($I23,EnvImpacts!$G$14:$I$52,EnvImpacts!I$13,0),\"-\")","v":"-"}]
[null,null,null,null,null,null,null,0,null,null,{"$f":"IF($I24<>\"\",VLOOKUP($I24,EnvImpacts!$G$14:$I$52,EnvImpacts!H$13,0),\"-\")","v":"-"},{"$f":"IF($I24<>\"\",VLOOKUP($I24,EnvImpacts!$G$14:$I$52,EnvImpacts!I$13,0),\"-\")","v":"-"}]
[null,null,null,null,null,null,null,0,null,null,{"$f":"IF($I25<>\"\",VLOOKUP($I25,EnvImpacts!$G$14:$I$52,EnvImpacts!H$13,0),\"-\")","v":"-"},{"$f":"IF($I25<>\"\",VLOOKUP($I25,EnvImpacts!$G$14:$I$52,EnvImpacts!I$13,0),\"-\")","v":"-"}]
[null,null,null,null,null,null,null,0,null,null,{"$f":"IF($I26<>\"\",VLOOKUP($I26,EnvImpacts!$G$14:$I$52,EnvImpacts!H$13,0),\"-\")","v":"-"},{"$f":"IF($I26<>\"\",VLOOKUP($I26,EnvImpacts!$G$14:$I$52,EnvImpacts!I$13,0),\"-\")","v":"-"}]
[null,null,null,null,null,null,null,null,"User defined impacts"]
[null,null,null,null,null,null,null,{"$f":"SUM(D28:G28)","v":0}]
[null,null,null,null,null,null,null,{"$f":"SUM(D29:G29)","v":0}]
[]
[null,null,"Totals",{"$f":"SUM(D10:D30)","v":205000},{"$f":"SUM(E10:E30)","v":500000},{"$f":"SUM(F10:F30)","v":5000},{"$f":"SUM(G10:G30)","v":20000},{"$f":"SUM(H10:H30)","v":730000},"Carried to 'IntvCosts'",null,null,{"$f":"SUMPRODUCT($J10:$J29,L10:L29)","v":296745.7},{"$f":"SUM(M10:M29)","v":0},{"$f":"SUM(N10:N29)","v":0},"Carried to 'IntvCosts'"]

{"sheet":"DetRates","index":11,"n_rows":3138,"n_cols":28,"rows_kept":3138,"cut":false,"hidden":false,"merged":[[7,20,7,22],[16,9,16,10],[16,11,16,12],[16,13,16,14],[16,15,16,16],[16,20,16,26],[7,11,7,12],[7,13,7,14],[7,15,7,16],[16,17,16,19],[16,3,16,4],[16,5,16,6],[7,7,7,8],[7,9,7,10],[16,7,16,8],[7,3,7,4],[7,5,7,6]]}
["MAINLINE",null,{"$f":"Flowchart!C1","v":"Plain Track Model"}]
[null,null,"Track Deterioration Data"]
[]
[]
[]
[null,null,"Reference Values"]
[null,null,null,null,null,null,null,null,null,null,null,null,null,null,null,null,null,null,null,null,"Maximum Number of Tamping Actions"]
[null,null,null,"Operational Speed",null,"Traffic Loading",null,"Sleepers",null,"Ballast Hardness",null,"Minimum Radius",null,"Sub Layer Condition",null,"Drainage Condition",null,null,null,null,"Ballast Hardness"]
[null,null,null,"Ref","Name","Ref","Name","Ref","Name","Ref","Name","Ref","Name","Ref","Name","Ref","Name",null,null,null,"Ref","Name","Max No."]
[null,null,null,1,"<130mph",1,"< 15,000",1,"Concrete",1,"Hard",1,"> 600",1,"Good",1,"Good",null,null,null,1,"Hard",20]
[null,null,null,null,null,2,"15,000 - 30,000",2,"Concrete with USP",2,"Medium",2,"400 < R < 600",2,"Poor",2,"Poor",null,null,null,2,"Medium",15]
[null,null,null,null,null,3,"30,000 - 45,000",3,"Wooden",3,"Soft",3,"300 < R < 400",null,null,null,null,null,null,null,3,"Soft",10]
[null,null,null,null,null,4,"45,000 - 65,000",null,null,null,null,4,"< 300"]
[null,null,null,null,null,5,"65,000 - 100,000"]
[]
[null,null,"Deterioration Data"]
[null,null,null,"Operational Speed",null,"Traffic Loading",null,"Sleepers",null,"Ballast Hardness",null,"Minimum Radius",null,"Sub Layer Condition",null,"Drainage Condition",null,"Age Range",null,null,"Data to be selected"]
[null,"Lookup","Row","Ref","Name","Ref","Name","Ref","Name","Ref","Name","Ref","Name","Ref","Name","Ref","Name","Range","Start","End","Q0","bn","dbn/dt","Qn","dQn/dt","Qult","TSL","Ref"]
[null,{"$f":"D19&F19&H19&J19&L19&N19&P19&\"-\"&S19","v":"1412111-0"},1,1,"<130mph",4,"45,000 - 65,000",1,"Concrete",2,"Medium",1,"> 600",1,"Good",1,"Good","0 to 10",0,10,-7,0.2,0,-8,0,-12,50]
[null,{"$f":"D20&F20&H20&J20&L20&N20&P20&\"-\"&S20","v":"1412111-10"},2,1,"<130mph",4,"45,000 - 65,000",1,"Concrete",2,"Medium",1,"> 600",1,"Good",1,"Good","10 to 25",10,25,-7,0.15,0,-10,0,-15,50]
[null,"1412111-25",3,1,"<130mph",4,"45,000 - 65,000",1,"Concrete",2,"Medium",1,"> 600",1,"Good",1,"Good","25 to 30",25,30,-7,0.19,0,-14,0,-20,50]
[null,"1412111-30",4,1,"<130mph",4,"45,000 - 65,000",1,"Concrete",2,"Medium",1,"> 600",1,"Good",1,"Good","Above 30",30,1000,-7,0.19,0,-20,-0.5,-25,50]
[null,"1411111-0",5,1,"<130mph",4,"45,000 - 65,000",1,"Concrete",1,"Hard",1,"> 600",1,"Good",1,"Good","0 to 10",0,10,-7,0.13999999999999999,0,-7.2,0,-12,50]
[null,"1411111-10",6,1,"<130mph",4,"45,000 - 65,000",1,"Concrete",1,"Hard",1,"> 600",1,"Good",1,"Good","10 to 25",10,25,-7,0.105,0,-9,0,-15,50]
[null,"1411111-25",7,1,"<130mph",4,"45,000 - 65,000",1,"Concrete",1,"Hard",1,"> 600",1,"Good",1,"Good","25 to 30",25,30,-7,0.13299999999999998,0,-12.6,0,-20,50]
[null,"1411111-30",8,1,"<130mph",4,"45,000 - 65,000",1,"Concrete",1,"Hard",1,"> 600",1,"Good",1,"Good","Above 30",30,1000,-7,0.13299999999999998,0,-18,-0.5,-25,50]
[null,"1413111-0",9,1,"<130mph",4,"45,000 - 65,000",1,"Concrete",3,"Soft",1,"> 600",1,"Good",1,"Good","0 to 10",0,10,-7,0.24,0,-8.8000000000000007,0,-12,50]
[null,"1413111-10",10,1,"<130mph",4,"45,000 - 65,000",1,"Concrete",3,"Soft",1,"> 600",1,"Good",1,"Good","10 to 25",10,25,-7,0.18,0,-11,0,-15,50]
[null,"1413111-25",11,1,"<130mph",4,"45,000 - 65,000",1,"Concrete",3,"Soft",1,"> 600",1,"Good",1,"Good","25 to 30",25,30,-7,0.22799999999999998,0,-15.400000000000002,0,-20,50]
[null,"1413111-30",12,1,"<130mph",4,"45,000 - 65,000",1,"Concrete",3,"Soft",1,"> 600",1,"Good",1,"Good","Above 30",30,1000,-7,0.22799999999999998,0,-22,-0.5,-25,50]
[null,"1412121-0",13,1,"<130mph",4,"45,000 - 65,000",1,"Concrete",2,"Medium",1,"> 600",2,"Poor",1,"Good","0 to 10",0,10,-7,0.2,0,-8,0,-12,50]
[null,"1412121-10",14,1,"<130mph",4,"45,000 - 65,000",1,"Concrete",2,"Medium",1,"> 600",2,"Poor",1,"Good","10 to 25",10,25,-7,0.18,0,-11,0,-15,50]
[null,"1412121-25",15,1,"<130mph",4,"45,000 - 65,000",1,"Concrete",2,"Medium",1,"> 600",2,"Poor",1,"Good","25 to 30",25,30,-7,0.22799999999999998,0,-15.400000000000002,0,-20,50]
[null,"1412121-30",16,1,"<130mph",4,"45,000 - 65,000",1,"Concrete",2,"Medium",1,"> 600",2,"Poor",1,"Good","Above 30",30,1000,-7,0.22799999999999998,0,-22,-0.5,-25,50]
[null,"1411121-0",17,1,"<130mph",4,"45,000 - 65,000",1,"Concrete",1,"Hard",1,"> 600",2,"Poor",1,"Good","0 to 10",0,10,-7,0.13999999999999999,0,-7.2,0,-12,50]
[null,"1411121-10",18,1,"<130mph",4,"45,000 - 65,000",1,"Concrete",1,"Hard",1,"> 600",2,"Poor",1,"Good","10 to 25",10,25,-7,0.126,0,-9.9,0,-15,50]
[null,"1411121-25",19,1,"<130mph",4,"45,000 - 65,000",1,"Concrete",1,"Hard",1,"> 600",2,"Poor",1,"Good","25 to 30",25,30,-7,0.15959999999999999,0,-13.860000000000001,0,-20,50]
[null,"1411121-30",20,1,"<130mph",4,"45,000 - 65,000",1,"Concrete",1,"Hard",1,"> 600",2,"Poor",1,"Good","Above 30",30,1000,-7,0.15959999999999999,0,-19.8,-0.5,-25,50]
[null,"1413121-0",21,1,"<130mph",4,"45,000 - 65,000",1,"Concrete",3,"Soft",1,"> 600",2,"Poor",1,"Good","0 to 10",0,10,-7,0.24,0,-8.8000000000000007,0,-12,50]
[null,"1413121-10",22,1,"<130mph",4,"45,000 - 65,000",1,"Concrete",3,"Soft",1,"> 600",2,"Poor",1,"Good","10 to 25",10,25,-7,0.216,0,-12.100000000000001,0,-15,50]
[null,"1413121-25",23,1,"<130mph",4,"45,000 - 65,000",1,"Concrete",3,"Soft",1,"> 600",2,"Poor",1,"Good","25 to 30",25,30,-7,0.27360000000000001,0,-16.940000000000001,0,-20,50]
[null,"1413121-30",24,1,"<130mph",4,"45,000 - 65,000",1,"Concrete",3,"Soft",1,"> 600",2,"Poor",1,"Good","Above 30",30,1000,-7,0.27360000000000001,0,-24.200000000000003,-0.5,-25,50]
[null,"1412112-0",25,1,"<130mph",4,"45,000 - 65,000",1,"Concrete",2,"Medium",1,"> 600",1,"Good",2,"Poor","0 to 10",0,10,-7,0.2,0,-8,0,-12,50]
[null,"1412112-10",26,1,"<130mph",4,"45,000 - 65,000",1,"Concrete",2,"Medium",1,"> 600",1,"Good",2,"Poor","10 to 25",10,25,-7,0.16500000000000001,0,-11,0,-15,50]
[null,"1412112-25",27,1,"<130mph",4,"45,000 - 65,000",1,"Concrete",2,"Medium",1,"> 600",1,"Good",2,"Poor","25 to 30",25,30,-7,0.20900000000000002,0,-15.400000000000002,0,-20,50]
[null,"1412112-30",28,1,"<130mph",4,"45,000 - 65,000",1,"Concrete",2,"Medium",1,"> 600",1,"Good",2,"Poor","Above 30",30,1000,-7,0.20900000000000002,0,-22,-0.5,-25,50]
[null,"1411112-0",29,1,"<130mph",4,"45,000 - 65,000",1,"Concrete",1,"Hard",1,"> 600",1,"Good",2,"Poor","0 to 10",0,10,-7,0.13999999999999999,0,-7.2,0,-12,50]
[null,"1411112-10",30,1,"<130mph",4,"45,000 - 65,000",1,"Concrete",1,"Hard",1,"> 600",1,"Good",2,"Poor","10 to 25",10,25,-7,0.11549999999999999,0,-9.9,0,-15,50]
[null,"1411112-25",31,1,"<130mph",4,"45,000 - 65,000",1,"Concrete",1,"Hard",1,"> 600",1,"Good",2,"Poor","25 to 30",25,30,-7,0.14630000000000001,0,-13.860000000000001,0,-20,50]
[null,"1411112-30",32,1,"<130mph",4,"45,000 - 65,000",1,"Concrete",1,"Hard",1,"> 600",1,"Good",2,"Poor","Above 30",30,1000,-7,0.14630000000000001,0,-19.8,-0.5,-25,50]
[null,"1413112-0",33,1,"<130mph",4,"45,000 - 65,000",1,"Concrete",3,"Soft",1,"> 600",1,"Good",2,"Poor","0 to 10",0,10,-7,0.24,0,-8.8000000000000007,0,-12,50]
[null,"1413112-10",34,1,"<130mph",4,"45,000 - 65,000",1,"Concrete",3,"Soft",1,"> 600",1,"Good",2,"Poor","10 to 25",10,25,-7,0.19800000000000001,0,-12.100000000000001,0,-15,50]
[null,"1413112-25",35,1,"<130mph",4,"45,000 - 65,000",1,"Concrete",3,"Soft",1,"> 600",1,"Good",2,"Poor","25 to 30",25,30,-7,0.25080000000000002,0,-16.940000000000001,0,-20,50]
[null,"1413112-30",36,1,"<130mph",4,"45,000 - 65,000",1,"Concrete",3,"Soft",1,"> 600",1,"Good",2,"Poor","Above 30",30,1000,-7,0.25080000000000002,0,-24.200000000000003,-0.5,-25,50]
[null,"1412122-0",37,1,"<130mph",4,"45,000 - 65,000",1,"Concrete",2,"Medium",1,"> 600",2,"Poor",2,"Poor","0 to 10",0,10,-7,0.2,0,-8,0,-12,50]
[null,"1412122-10",38,1,"<130mph",4,"45,000 - 65,000",1,"Concrete",2,"Medium",1,"> 600",2,"Poor",2,"Poor","10 to 25",10,25,-7,0.19800000000000001,0,-12.100000000000001,0,-15,50]
[null,"1412122-25",39,1,"<130mph",4,"45,000 - 65,000",1,"Concrete",2,"Medium",1,"> 600",2,"Poor",2,"Poor","25 to 30",25,30,-7,0.25080000000000002,0,-16.940000000000001,0,-20,50]
[null,"1412122-30",40,1,"<130mph",4,"45,000 - 65,000",1,"Concrete",2,"Medium",1,"> 600",2,"Poor",2,"Poor","Above 30",30,1000,-7,0.25080000000000002,0,-24.200000000000003,-0.5,-25,50]
[null,"1411122-0",41,1,"<130mph",4,"45,000 - 65,000",1,"Concrete",1,"Hard",1,"> 600",2,"Poor",2,"Poor","0 to 10",0,10,-7,0.13999999999999999,0,-7.2,0,-12,50]
[null,"1411122-10",42,1,"<130mph",4,"45,000 - 65,000",1,"Concrete",1,"Hard",1,"> 600",2,"Poor",2,"Poor","10 to 25",10,25,-7,0.1386,0,-10.890000000000002,0,-15,50]
[null,"1411122-25",43,1,"<130mph",4,"45,000 - 65,000",1,"Concrete",1,"Hard",1,"> 600",2,"Poor",2,"Poor","25 to 30",25,30,-7,0.17556000000000002,0,-15.246000000000002,0,-20,50]
[null,"1411122-30",44,1,"<130mph",4,"45,000 - 65,000",1,"Concrete",1,"Hard",1,"> 600",2,"Poor",2,"Poor","Above 30",30,1000,-7,0.17556000000000002,0,-21.780000000000005,-0.5,-25,50]
[null,"1413122-0",45,1,"<130mph",4,"45,000 - 65,000",1,"Concrete",3,"Soft",1,"> 600",2,"Poor",2,"Poor","0 to 10",0,10,-7,0.24,0,-8.8000000000000007,0,-12,50]
[null,"1413122-10",46,1,"<130mph",4,"45,000 - 65,000",1,"Concrete",3,"Soft",1,"> 600",2,"Poor",2,"Poor","10 to 25",10,25,-7,0.23760000000000001,0,-13.310000000000004,0,-15,50]
[null,"1413122-25",47,1,"<130mph",4,"45,000 - 65,000",1,"Concrete",3,"Soft",1,"> 600",2,"Poor",2,"Poor","25 to 30",25,30,-7,0.30096000000000001,0,-18.634000000000007,0,-20,50]
[null,"1413122-30",48,1,"<130mph",4,"45,000 - 65,000",1,"Concrete",3,"Soft",1,"> 600",2,"Poor",2,"Poor","Above 30",30,1000,-7,0.30096000000000001,0,-26.620000000000008,-0.5,-25,50]
[null,"1412211-0",49,1,"<130mph",4,"45,000 - 65,000",1,"Concrete",2,"Medium",2,"400 < R < 600",1,"Good",1,"Good","0 to 10",0,10,-7,0.22000000000000003,0,-8,0,-12,50]
[null,"1412211-10",50,1,"<130mph",4,"45,000 - 65,000",1,"Concrete",2,"Medium",2,"400 < R < 600",1,"Good",1,"Good","10 to 25",10,25,-7,0.16500000000000001,0,-10,0,-15,50]
[null,"1412211-25",51,1,"<130mph",4,"45,000 - 65,000",1,"Concrete",2,"Medium",2,"400 < R < 600",1,"Good",1,"Good","25 to 30",25,30,-7,0.20900000000000002,0,-14,0,-20,50]
[null,"1412211-30",52,1,"<130mph",4,"45,000 - 65,000",1,"Concrete",2,"Medium",2,"400 < R < 600",1,"Good",1,"Good","Above 30",30,1000,-7,0.20900000000000002,0,-20,-0.5,-25,50]
[null,"1411211-0",53,1,"<130mph",4,"45,000 - 65,000",1,"Concrete",1,"Hard",2,"400 < R < 600",1,"Good",1,"Good","0 to 10",0,10,-7,0.15400000000000003,0,-7.2,0,-12,50]
[null,"1411211-10",54,1,"<130mph",4,"45,000 - 65,000",1,"Concrete",1,"Hard",2,"400 < R < 600",1,"Good",1,"Good","10 to 25",10,25,-7,0.11549999999999999,0,-9,0,-15,50]
[null,"1411211-25",55,1,"<130mph",4,"45,000 - 65,000",1,"Concrete",1,"Hard",2,"400 < R < 600",1,"Good",1,"Good","25 to 30",25,30,-7,0.14630000000000001,0,-12.6,0,-20,50]
[null,"1411211-30",56,1,"<130mph",4,"45,000 - 65,000",1,"Concrete",1,"Hard",2,"400 < R < 600",1,"Good",1,"Good","Above 30",30,1000,-7,0.14630000000000001,0,-18,-0.5,-25,50]
[null,"1413211-0",57,1,"<130mph",4,"45,000 - 65,000",1,"Concrete",3,"Soft",2,"400 < R < 600",1,"Good",1,"Good","0 to 10",0,10,-7,0.26400000000000001,0,-8.8000000000000007,0,-12,50]
[null,"1413211-10",58,1,"<130mph",4,"45,000 - 65,000",1,"Concrete",3,"Soft",2,"400 < R < 600",1,"Good",1,"Good","10 to 25",10,25,-7,0.19800000000000001,0,-11,0,-15,50]
[null,"1413211-25",59,1,"<130mph",4,"45,000 - 65,000",1,"Concrete",3,"Soft",2,"400 < R < 600",1,"Good",1,"Good","25 to 30",25,30,-7,0.25080000000000002,0,-15.400000000000002,0,-20,50]
[null,"1413211-30",60,1,"<130mph",4,"45,000 - 65,000",1,"Concrete",3,"Soft",2,"400 < R < 600",1,"Good",1,"Good","Above 30",30,1000,-7,0.25080000000000002,0,-22,-0.5,-25,50]
[null,"1412221-0",61,1,"<130mph",4,"45,000 - 65,000",1,"Concrete",2,"Medium",2,"400 < R < 600",2,"Poor",1,"Good","0 to 10",0,10,-7,0.22000000000000003,0,-8,0,-12,50]
[null,"1412221-10",62,1,"<130mph",4,"45,000 - 65,000",1,"Concrete",2,"Medium",2,"400 < R < 600",2,"Poor",1,"Good","10 to 25",10,25,-7,0.19800000000000001,0,-11,0,-15,50]
[null,"1412221-25",63,1,"<130mph",4,"45,000 - 65,000",1,"Concrete",2,"Medium",2,"400 < R < 600",2,"Poor",1,"Good","25 to 30",25,30,-7,0.25080000000000002,0,-15.400000000000002,0,-20,50]
[null,"1412221-30",64,1,"<130mph",4,"45,000 - 65,000",1,"Concrete",2,"Medium",2,"400 < R < 600",2,"Poor",1,"Good","Above 30",30,1000,-7,0.25080000000000002,0,-22,-0.5,-25,50]
[null,"1411221-0",65,1,"<130mph",4,"45,000 - 65,000",1,"Concrete",1,"Hard",2,"400 < R < 600",2,"Poor",1,"Good","0 to 10",0,10,-7,0.15400000000000003,0,-7.2,0,-12,50]
[null,{"$f":"D84&F84&H84&J84&L84&N84&P84&\"-\"&S84","v":"1411221-10"},66,1,"<130mph",4,"45,000 - 65,000",1,"Concrete",1,"Hard",2,"400 < R < 600",2,"Poor",1,"Good","10 to 25",10,25,-7,0.13859999999999997,0,-9.9,0,-15,50]
[null,"1411221-25",67,1,"<130mph",4,"45,000 - 65,000",1,"Concrete",1,"Hard",2,"400 < R < 600",2,"Poor",1,"Good","25 to 30",25,30,-7,0.17555999999999999,0,-13.860000000000001,0,-20,50]
[null,"1411221-30",68,1,"<130mph",4,"45,000 - 65,000",1,"Concrete",1,"Hard",2,"400 < R < 600",2,"Poor",1,"Good","Above 30",30,1000,-7,0.17555999999999999,0,-19.8,-0.5,-25,50]
[null,"1413221-0",69,1,"<130mph",4,"45,000 - 65,000",1,"Concrete",3,"Soft",2,"400 < R < 600",2,"Poor",1,"Good","0 to 10",0,10,-7,0.26400000000000001,0,-8.8000000000000007,0,-12,50]
[null,"1413221-10",70,1,"<130mph",4,"45,000 - 65,000",1,"Concrete",3,"Soft",2,"400 < R < 600",2,"Poor",1,"Good","10 to 25",10,25,-7,0.23760000000000001,0,-12.100000000000001,0,-15,50]
[null,"1413221-25",71,1,"<130mph",4,"45,000 - 65,000",1,"Concrete",3,"Soft",2,"400 < R < 600",2,"Poor",1,"Good","25 to 30",25,30,-7,0.30096000000000001,0,-16.940000000000001,0,-20,50]
[null,"1413221-30",72,1,"<130mph",4,"45,000 - 65,000",1,"Concrete",3,"Soft",2,"400 < R < 600",2,"Poor",1,"Good","Above 30",30,1000,-7,0.30096000000000001,0,-24.200000000000003,-0.5,-25,50]
[null,"1412212-0",73,1,"<130mph",4,"45,000 - 65,000",1,"Concrete",2,"Medium",2,"400 < R < 600",1,"Good",2,"Poor","0 to 10",0,10,-7,0.22000000000000003,0,-8,0,-12,50]
[null,"1412212-10",74,1,"<130mph",4,"45,000 - 65,000",1,"Concrete",2,"Medium",2,"400 < R < 600",1,"Good",2,"Poor","10 to 25",10,25,-7,0.18150000000000002,0,-11,0,-15,50]
[null,"1412212-25",75,1,"<130mph",4,"45,000 - 65,000",1,"Concrete",2,"Medium",2,"400 < R < 600",1,"Good",2,"Poor","25 to 30",25,30,-7,0.22990000000000005,0,-15.400000000000002,0,-20,50]
[null,"1412212-30",76,1,"<130mph",4,"45,000 - 65,000",1,"Concrete",2,"Medium",2,"400 < R < 600",1,"Good",2,"Poor","Above 30",30,1000,-7,0.22990000000000005,0,-22,-0.5,-25,50]
[null,"1411212-0",77,1,"<130mph",4,"45,000 - 65,000",1,"Concrete",1,"Hard",2,"400 < R < 600",1,"Good",2,"Poor","0 to 10",0,10,-7,0.15400000000000003,0,-7.2,0,-12,50]
[null,"1411212-10",78,1,"<130mph",4,"45,000 - 65,000",1,"Concrete",1,"Hard",2,"400 < R < 600",1,"Good",2,"Poor","10 to 25",10,25,-7,0.12705,0,-9.9,0,-15,50]
[null,"1411212-25",79,1,"<130mph",4,"45,000 - 65,000",1,"Concrete",1,"Hard",2,"400 < R < 600",1,"Good",2,"Poor","25 to 30",25,30,-7,0.16093000000000002,0,-13.860000000000001,0,-20,50]
[null,"1411212-30",80,1,"<130mph",4,"45,000 - 65,000",1,"Concrete",1,"Hard",2,"400 < R < 600",1,"Good",2,"Poor","Above 30",30,1000,-7,0.16093000000000002,0,-19.8,-0.5,-25,50]
[null,"1413212-0",81,1,"<130mph",4,"45,000 - 65,000",1,"Concrete",3,"Soft",2,"400 < R < 600",1,"Good",2,"Poor","0 to 10",0,10,-7,0.26400000000000001,0,-8.8000000000000007,0,-12,50]
[null,"1413212-10",82,1,"<130mph",4,"45,000 - 65,000",1,"Concrete",3,"Soft",2,"400 < R < 600",1,"Good",2,"Poor","10 to 25",10,25,-7,0.21780000000000002,0,-12.100000000000001,0,-15,50]
[null,"1413212-25",83,1,"<130mph",4,"45,000 - 65,000",1,"Concrete",3,"Soft",2,"400 < R < 600",1,"Good",2,"Poor","25 to 30",25,30,-7,0.27588000000000001,0,-16.940000000000001,0,-20,50]
[null,"1413212-30",84,1,"<130mph",4,"45,000 - 65,000",1,"Concrete",3,"Soft",2,"400 < R < 600",1,"Good",2,"Poor","Above 30",30,1000,-7,0.27588000000000001,0,-24.200000000000003,-0.5,-25,50]
[null,"1412222-0",85,1,"<130mph",4,"45,000 - 65,000",1,"Concrete",2,"Medium",2,"400 < R < 600",2,"Poor",2,"Poor","0 to 10",0,10,-7,0.22000000000000003,0,-8,0,-12,50]
[null,"1412222-10",86,1,"<130mph",4,"45,000 - 65,000",1,"Concrete",2,"Medium",2,"400 < R < 600",2,"Poor",2,"Poor","10 to 25",10,25,-7,0.21780000000000002,0,-12.100000000000001,0,-15,50]
[null,"1412222-25",87,1,"<130mph",4,"45,000 - 65,000",1,"Concrete",2,"Medium",2,"400 < R < 600",2,"Poor",2,"Poor","25 to 30",25,30,-7,0.27588000000000001,0,-16.940000000000001,0,-20,50]
[null,"1412222-30",88,1,"<130mph",4,"45,000 - 65,000",1,"Concrete",2,"Medium",2,"400 < R < 600",2,"Poor",2,"Poor","Above 30",30,1000,-7,0.27588000000000001,0,-24.200000000000003,-0.5,-25,50]
[null,"1411222-0",89,1,"<130mph",4,"45,000 - 65,000",1,"Concrete",1,"Hard",2,"400 < R < 600",2,"Poor",2,"Poor","0 to 10",0,10,-7,0.15400000000000003,0,-7.2,0,-12,50]
[null,"1411222-10",90,1,"<130mph",4,"45,000 - 65,000",1,"Concrete",1,"Hard",2,"400 < R < 600",2,"Poor",2,"Poor","10 to 25",10,25,-7,0.15245999999999998,0,-10.890000000000002,0,-15,50]
[null,"1411222-25",91,1,"<130mph",4,"45,000 - 65,000",1,"Concrete",1,"Hard",2,"400 < R < 600",2,"Poor",2,"Poor","25 to 30",25,30,-7,0.19311600000000001,0,-15.246000000000002,0,-20,50]
[null,"1411222-30",92,1,"<130mph",4,"45,000 - 65,000",1,"Concrete",1,"Hard",2,"400 < R < 600",2,"Poor",2,"Poor","Above 30",30,1000,-7,0.19311600000000001,0,-21.780000000000005,-0.5,-25,50]
[null,"1413222-0",93,1,"<130mph",4,"45,000 - 65,000",1,"Concrete",3,"Soft",2,"400 < R < 600",2,"Poor",2,"Poor","0 to 10",0,10,-7,0.26400000000000001,0,-8.8000000000000007,0,-12,50]
[null,"1413222-10",94,1,"<130mph",4,"45,000 - 65,000",1,"Concrete",3,"Soft",2,"400 < R < 600",2,"Poor",2,"Poor","10 to 25",10,25,-7,0.26136000000000004,0,-13.310000000000004,0,-15,50]
[null,"1413222-25",95,1,"<130mph",4,"45,000 - 65,000",1,"Concrete",3,"Soft",2,"400 < R < 600",2,"Poor",2,"Poor","25 to 30",25,30,-7,0.33105600000000002,0,-18.634000000000007,0,-20,50]
[null,"1413222-30",96,1,"<130mph",4,"45,000 - 65,000",1,"Concrete",3,"Soft",2,"400 < R < 600",2,"Poor",2,"Poor","Above 30",30,1000,-7,0.33105600000000002,0,-26.620000000000008,-0.5,-25,50]
[null,"1412311-0",97,1,"<130mph",4,"45,000 - 65,000",1,"Concrete",2,"Medium",3,"300 < R < 400",1,"Good",1,"Good","0 to 10",0,10,-7,0.22000000000000003,0,-8,0,-12,25]
[null,"1412311-10",98,1,"<130mph",4,"45,000 - 65,000",1,"Concrete",2,"Medium",3,"300 < R < 400",1,"Good",1,"Good","10 to 25",10,25,-7,0.16500000000000001,0,-10,0,-15,25]
[null,"1412311-25",99,1,"<130mph",4,"45,000 - 65,000",1,"Concrete",2,"Medium",3,"300 < R < 400",1,"Good",1,"Good","25 to 30",25,30,-7,0.20900000000000002,0,-14,0,-20,25]
[null,"1412311-30",100,1,"<130mph",4,"45,000 - 65,000",1,"Concrete",2,"Medium",3,"300 < R < 400",1,"Good",1,"Good","Above 30",30,1000,-7,0.20900000000000002,0,-20,-0.5,-25,25]
[null,"1411311-0",101,1,"<130mph",4,"45,000 - 65,000",1,"Concrete",1,"Hard",3,"300 < R < 400",1,"Good",1,"Good","0 to 10",0,10,-7,0.15400000000000003,0,-7.2,0,-12,25]
[null,"1411311-10",102,1,"<130mph",4,"45,000 - 65,000",1,"Concrete",1,"Hard",3,"300 < R < 400",1,"Good",1,"Good","10 to 25",10,25,-7,0.11549999999999999,0,-9,0,-15,25]
[null,"1411311-25",103,1,"<130mph",4,"45,000 - 65,000",1,"Concrete",1,"Hard",3,"300 < R < 400",1,"Good",1,"Good","25 to 30",25,30,-7,0.14630000000000001,0,-12.6,0,-20,25]
[null,"1411311-30",104,1,"<130mph",4,"45,000 - 65,000",1,"Concrete",1,"Hard",3,"300 < R < 400",1,"Good",1,"Good","Above 30",30,1000,-7,0.14630000000000001,0,-18,-0.5,-25,25]
[null,"1413311-0",105,1,"<130mph",4,"45,000 - 65,000",1,"Concrete",3,"Soft",3,"300 < R < 400",1,"Good",1,"Good","0 to 10",0,10,-7,0.26400000000000001,0,-8.8000000000000007,0,-12,25]
[null,"1413311-10",106,1,"<130mph",4,"45,000 - 65,000",1,"Concrete",3,"Soft",3,"300 < R < 400",1,"Good",1,"Good","10 to 25",10,25,-7,0.19800000000000001,0,-11,0,-15,25]
[null,"1413311-25",107,1,"<130mph",4,"45,000 - 65,000",1,"Concrete",3,"Soft",3,"300 < R < 400",1,"Good",1,"Good","25 to 30",25,30,-7,0.25080000000000002,0,-15.400000000000002,0,-20,25]
[null,"1413311-30",108,1,"<130mph",4,"45,000 - 65,000",1,"Concrete",3,"Soft",3,"300 < R < 400",1,"Good",1,"Good","Above 30",30,1000,-7,0.25080000000000002,0,-22,-0.5,-25,25]
[null,"1412321-0",109,1,"<130mph",4,"45,000 - 65,000",1,"Concrete",2,"Medium",3,"300 < R < 400",2,"Poor",1,"Good","0 to 10",0,10,-7,0.22000000000000003,0,-8,0,-12,25]
[null,"1412321-10",110,1,"<130mph",4,"45,000 - 65,000",1,"Concrete",2,"Medium",3,"300 < R < 400",2,"Poor",1,"Good","10 to 25",10,25,-7,0.19800000000000001,0,-11,0,-15,25]
[null,"1412321-25",111,1,"<130mph",4,"45,000 - 65,000",1,"Concrete",2,"Medium",3,"300 < R < 400",2,"Poor",1,"Good","25 to 30",25,30,-7,0.25080000000000002,0,-15.400000000000002,0,-20,25]
[null,"1412321-30",112,1,"<130mph",4,"45,000 - 65,000",1,"Concrete",2,"Medium",3,"300 < R < 400",2,"Poor",1,"Good","Above 30",30,1000,-7,0.25080000000000002,0,-22,-0.5,-25,25]
[null,"1411321-0",113,1,"<130mph",4,"45,000 - 65,000",1,"Concrete",1,"Hard",3,"300 < R < 400",2,"Poor",1,"Good","0 to 10",0,10,-7,0.15400000000000003,0,-7.2,0,-12,25]
[null,"1411321-10",114,1,"<130mph",4,"45,000 - 65,000",1,"Concrete",1,"Hard",3,"300 < R < 400",2,"Poor",1,"Good","10 to 25",10,25,-7,0.13859999999999997,0,-9.9,0,-15,25]
[null,"1411321-25",115,1,"<130mph",4,"45,000 - 65,000",1,"Concrete",1,"Hard",3,"300 < R < 400",2,"Poor",1,"Good","25 to 30",25,30,-7,0.17555999999999999,0,-13.860000000000001,0,-20,25]
[null,"1411321-30",116,1,"<130mph",4,"45,000 - 65,000",1,"Concrete",1,"Hard",3,"300 < R < 400",2,"Poor",1,"Good","Above 30",30,1000,-7,0.17555999999999999,0,-19.8,-0.5,-25,25]
[null,"1413321-0",117,1,"<130mph",4,"45,000 - 65,000",1,"Concrete",3,"Soft",3,"300 < R < 400",2,"Poor",1,"Good","0 to 10",0,10,-7,0.26400000000000001,0,-8.8000000000000007,0,-12,25]
[null,"1413321-10",118,1,"<130mph",4,"45,000 - 65,000",1,"Concrete",3,"Soft",3,"300 < R < 400",2,"Poor",1,"Good","10 to 25",10,25,-7,0.23760000000000001,0,-12.100000000000001,0,-15,25]
[null,"1413321-25",119,1,"<130mph",4,"45,000 - 65,000",1,"Concrete",3,"Soft",3,"300 < R < 400",2,"Poor",1,"Good","25 to 30",25,30,-7,0.30096000000000001,0,-16.940000000000001,0,-20,25]
[null,"1413321-30",120,1,"<130mph",4,"45,000 - 65,000",1,"Concrete",3,"Soft",3,"300 < R < 400",2,"Poor",1,"Good","Above 30",30,1000,-7,0.30096000000000001,0,-24.200000000000003,-0.5,-25,25]
[null,"1412312-0",121,1,"<130mph",4,"45,000 - 65,000",1,"Concrete",2,"Medium",3,"300 < R < 400",1,"Good",2,"Poor","0 to 10",0,10,-7,0.22000000000000003,0,-8,0,-12,25]
[null,"1412312-10",122,1,"<130mph",4,"45,000 - 65,000",1,"Concrete",2,"Medium",3,"300 < R < 400",1,"Good",2,"Poor","10 to 25",10,25,-7,0.18150000000000002,0,-11,0,-15,25]
[null,"1412312-25",123,1,"<130mph",4,"45,000 - 65,000",1,"Concrete",2,"Medium",3,"300 < R < 400",1,"Good",2,"Poor","25 to 30",25,30,-7,0.22990000000000005,0,-15.400000000000002,0,-20,25]
[null,"1412312-30",124,1,"<130mph",4,"45,000 - 65,000",1,"Concrete",2,"Medium",3,"300 < R < 400",1,"Good",2,"Poor","Above 30",30,1000,-7,0.22990000000000005,0,-22,-0.5,-25,25]
[null,"1411312-0",125,1,"<130mph",4,"45,000 - 65,000",1,"Concrete",1,"Hard",3,"300 < R < 400",1,"Good",2,"Poor","0 to 10",0,10,-7,0.15400000000000003,0,-7.2,0,-12,25]
[null,"1411312-10",126,1,"<130mph",4,"45,000 - 65,000",1,"Concrete",1,"Hard",3,"300 < R < 400",1,"Good",2,"Poor","10 to 25",10,25,-7,0.12705,0,-9.9,0,-15,25]
[null,"1411312-25",127,1,"<130mph",4,"45,000 - 65,000",1,"Concrete",1,"Hard",3,"300 < R < 400",1,"Good",2,"Poor","25 to 30",25,30,-7,0.16093000000000002,0,-13.860000000000001,0,-20,25]
[null,"1411312-30",128,1,"<130mph",4,"45,000 - 65,000",1,"Concrete",1,"Hard",3,"300 < R < 400",1,"Good",2,"Poor","Above 30",30,1000,-7,0.16093000000000002,0,-19.8,-0.5,-25,25]
[null,"1413312-0",129,1,"<130mph",4,"45,000 - 65,000",1,"Concrete",3,"Soft",3,"300 < R < 400",1,"Good",2,"Poor","0 to 10",0,10,-7,0.26400000000000001,0,-8.8000000000000007,0,-12,25]
[null,{"$f":"D148&F148&H148&J148&L148&N148&P148&\"-\"&S148","v":"1413312-10"},130,1,"<130mph",4,"45,000 - 65,000",1,"Concrete",3,"Soft",3,"300 < R < 400",1,"Good",2,"Poor","10 to 25",10,25,-7,0.21780000000000002,0,-12.100000000000001,0,-15,25]
[null,"1413312-25",131,1,"<130mph",4,"45,000 - 65,000",1,"Concrete",3,"Soft",3,"300 < R < 400",1,"Good",2,"Poor","25 to 30",25,30,-7,0.27588000000000001,0,-16.940000000000001,0,-20,25]
[null,"1413312-30",132,1,"<130mph",4,"45,000 - 65,000",1,"Concrete",3,"Soft",3,"300 < R < 400",1,"Good",2,"Poor","Above 30",30,1000,-7,0.27588000000000001,0,-24.200000000000003,-0.5,-25,25]
[null,"1412322-0",133,1,"<130mph",4,"45,000 - 65,000",1,"Concrete",2,"Medium",3,"300 < R < 400",2,"Poor",2,"Poor","0 to 10",0,10,-7,0.22000000000000003,0,-8,0,-12,25]
[null,"1412322-10",134,1,"<130mph",4,"45,000 - 65,000",1,"Concrete",2,"Medium",3,"300 < R < 400",2,"Poor",2,"Poor","10 to 25",10,25,-7,0.21780000000000002,0,-12.100000000000001,0,-15,25]
[null,"1412322-25",135,1,"<130mph",4,"45,000 - 65,000",1,"Concrete",2,"Medium",3,"300 < R < 400",2,"Poor",2,"Poor","25 to 30",25,30,-7,0.27588000000000001,0,-16.940000000000001,0,-20,25]
[null,"1412322-30",136,1,"<130mph",4,"45,000 - 65,000",1,"Concrete",2,"Medium",3,"300 < R < 400",2,"Poor",2,"Poor","Above 30",30,1000,-7,0.27588000000000001,0,-24.200000000000003,-0.5,-25,25]
[null,"1411322-0",137,1,"<130mph",4,"45,000 - 65,000",1,"Concrete",1,"Hard",3,"300 < R < 400",2,"Poor",2,"Poor","0 to 10",0,10,-7,0.15400000000000003,0,-7.2,0,-12,25]
[null,"1411322-10",138,1,"<130mph",4,"45,000 - 65,000",1,"Concrete",1,"Hard",3,"300 < R < 400",2,"Poor",2,"Poor","10 to 25",10,25,-7,0.15245999999999998,0,-10.890000000000002,0,-15,25]
[null,"1411322-25",139,1,"<130mph",4,"45,000 - 65,000",1,"Concrete",1,"Hard",3,"300 < R < 400",2,"Poor",2,"Poor","25 to 30",25,30,-7,0.19311600000000001,0,-15.246000000000002,0,-20,25]
[null,"1411322-30",140,1,"<130mph",4,"45,000 - 65,000",1,"Concrete",1,"Hard",3,"300 < R < 400",2,"Poor",2,"Poor","Above 30",30,1000,-7,0.19311600000000001,0,-21.780000000000005,-0.5,-25,25]
[null,"1413322-0",141,1,"<130mph",4,"45,000 - 65,000",1,"Concrete",3,"Soft",3,"300 < R < 400",2,"Poor",2,"Poor","0 to 10",0,10,-7,0.26400000000000001,0,-8.8000000000000007,0,-12,25]
[null,"1413322-10",142,1,"<130mph",4,"45,000 - 65,000",1,"Concrete",3,"Soft",3,"300 < R < 400",2,"Poor",2,"Poor","10 to 25",10,25,-7,0.26136000000000004,0,-13.310000000000004,0,-15,25]
[null,"1413322-25",143,1,"<130mph",4,"45,000 - 65,000",1,"Concrete",3,"Soft",3,"300 < R < 400",2,"Poor",2,"Poor","25 to 30",25,30,-7,0.33105600000000002,0,-18.634000000000007,0,-20,25]
[null,"1413322-30",144,1,"<130mph",4,"45,000 - 65,000",1,"Concrete",3,"Soft",3,"300 < R < 400",2,"Poor",2,"Poor","Above 30",30,1000,-7,0.33105600000000002,0,-26.620000000000008,-0.5,-25,25]
[null,"1412411-0",145,1,"<130mph",4,"45,000 - 65,000",1,"Concrete",2,"Medium",4,"< 300",1,"Good",1,"Good","0 to 10",0,10,-7,0.30000000000000004,0,-8,0,-12,20]
[null,"1412411-10",146,1,"<130mph",4,"45,000 - 65,000",1,"Concrete",2,"Medium",4,"< 300",1,"Good",1,"Good","10 to 25",10,25,-7,0.22499999999999998,0,-10,0,-15,20]
[null,"1412411-25",147,1,"<130mph",4,"45,000 - 65,000",1,"Concrete",2,"Medium",4,"< 300",1,"Good",1,"Good","25 to 30",25,30,-7,0.28500000000000003,0,-14,0,-20,20]
[null,"1412411-30",148,1,"<130mph",4,"45,000 - 65,000",1,"Concrete",2,"Medium",4,"< 300",1,"Good",1,"Good","Above 30",30,1000,-7,0.28500000000000003,0,-20,-0.5,-25,20]
[null,"1411411-0",149,1,"<130mph",4,"45,000 - 65,000",1,"Concrete",1,"Hard",4,"< 300",1,"Good",1,"Good","0 to 10",0,10,-7,0.20999999999999996,0,-7.2,0,-12,20]
[null,"1411411-10",150,1,"<130mph",4,"45,000 - 65,000",1,"Concrete",1,"Hard",4,"< 300",1,"Good",1,"Good","10 to 25",10,25,-7,0.15749999999999997,0,-9,0,-15,20]
[null,"1411411-25",151,1,"<130mph",4,"45,000 - 65,000",1,"Concrete",1,"Hard",4,"< 300",1,"Good",1,"Good","25 to 30",25,30,-7,0.19949999999999996,0,-12.6,0,-20,20]
[null,"1411411-30",152,1,"<130mph",4,"45,000 - 65,000",1,"Concrete",1,"Hard",4,"< 300",1,"Good",1,"Good","Above 30",30,1000,-7,0.19949999999999996,0,-18,-0.5,-25,20]
[null,"1413411-0",153,1,"<130mph",4,"45,000 - 65,000",1,"Concrete",3,"Soft",4,"< 300",1,"Good",1,"Good","0 to 10",0,10,-7,0.36,0,-8.8000000000000007,0,-12,20]
[null,"1413411-10",154,1,"<130mph",4,"45,000 - 65,000",1,"Concrete",3,"Soft",4,"< 300",1,"Good",1,"Good","10 to 25",10,25,-7,0.26999999999999996,0,-11,0,-15,20]
[null,"1413411-25",155,1,"<130mph",4,"45,000 - 65,000",1,"Concrete",3,"Soft",4,"< 300",1,"Good",1,"Good","25 to 30",25,30,-7,0.34199999999999997,0,-15.400000000000002,0,-20,20]
[null,"1413411-30",156,1,"<130mph",4,"45,000 - 65,000",1,"Concrete",3,"Soft",4,"< 300",1,"Good",1,"Good","Above 30",30,1000,-7,0.34199999999999997,0,-22,-0.5,-25,20]
[null,"1412421-0",157,1,"<130mph",4,"45,000 - 65,000",1,"Concrete",2,"Medium",4,"< 300",2,"Poor",1,"Good","0 to 10",0,10,-7,0.30000000000000004,0,-8,0,-12,20]
[null,"1412421-10",158,1,"<130mph",4,"45,000 - 65,000",1,"Concrete",2,"Medium",4,"< 300",2,"Poor",1,"Good","10 to 25",10,25,-7,0.26999999999999996,0,-11,0,-15,20]
[null,"1412421-25",159,1,"<130mph",4,"45,000 - 65,000",1,"Concrete",2,"Medium",4,"< 300",2,"Poor",1,"Good","25 to 30",25,30,-7,0.34199999999999997,0,-15.400000000000002,0,-20,20]
[null,"1412421-30",160,1,"<130mph",4,"45,000 - 65,000",1,"Concrete",2,"Medium",4,"< 300",2,"Poor",1,"Good","Above 30",30,1000,-7,0.34199999999999997,0,-22,-0.5,-25,20]
[null,"1411421-0",161,1,"<130mph",4,"45,000 - 65,000",1,"Concrete",1,"Hard",4,"< 300",2,"Poor",1,"Good","0 to 10",0,10,-7,0.20999999999999996,0,-7.2,0,-12,20]
[null,"1411421-10",162,1,"<130mph",4,"45,000 - 65,000",1,"Concrete",1,"Hard",4,"< 300",2,"Poor",1,"Good","10 to 25",10,25,-7,0.18899999999999997,0,-9.9,0,-15,20]
[null,"1411421-25",163,1,"<130mph",4,"45,000 - 65,000",1,"Concrete",1,"Hard",4,"< 300",2,"Poor",1,"Good","25 to 30",25,30,-7,0.23939999999999997,0,-13.860000000000001,0,-20,20]
[null,"1411421-30",164,1,"<130mph",4,"45,000 - 65,000",1,"Concrete",1,"Hard",4,"< 300",2,"Poor",1,"Good","Above 30",30,1000,-7,0.23939999999999997,0,-19.8,-0.5,-25,20]
[null,"1413421-0",165,1,"<130mph",4,"45,000 - 65,000",1,"Concrete",3,"Soft",4,"< 300",2,"Poor",1,"Good","0 to 10",0,10,-7,0.36,0,-8.8000000000000007,0,-12,20]
[null,"1413421-10",166,1,"<130mph",4,"45,000 - 65,000",1,"Concrete",3,"Soft",4,"< 300",2,"Poor",1,"Good","10 to 25",10,25,-7,0.32399999999999995,0,-12.100000000000001,0,-15,20]
[null,"1413421-25",167,1,"<130mph",4,"45,000 - 65,000",1,"Concrete",3,"Soft",4,"< 300",2,"Poor",1,"Good","25 to 30",25,30,-7,0.41039999999999993,0,-16.940000000000001,0,-20,20]
[null,"1413421-30",168,1,"<130mph",4,"45,000 - 65,000",1,"Concrete",3,"Soft",4,"< 300",2,"Poor",1,"Good","Above 30",30,1000,-7,0.41039999999999993,0,-24.200000000000003,-0.5,-25,20]
[null,"1412412-0",169,1,"<130mph",4,"45,000 - 65,000",1,"Concrete",2,"Medium",4,"< 300",1,"Good",2,"Poor","0 to 10",0,10,-7,0.30000000000000004,0,-8,0,-12,20]
[null,"1412412-10",170,1,"<130mph",4,"45,000 - 65,000",1,"Concrete",2,"Medium",4,"< 300",1,"Good",2,"Poor","10 to 25",10,25,-7,0.2475,0,-11,0,-15,20]
[null,"1412412-25",171,1,"<130mph",4,"45,000 - 65,000",1,"Concrete",2,"Medium",4,"< 300",1,"Good",2,"Poor","25 to 30",25,30,-7,0.31350000000000006,0,-15.400000000000002,0,-20,20]
[null,"1412412-30",172,1,"<130mph",4,"45,000 - 65,000",1,"Concrete",2,"Medium",4,"< 300",1,"Good",2,"Poor","Above 30",30,1000,-7,0.31350000000000006,0,-22,-0.5,-25,20]
[null,"1411412-0",173,1,"<130mph",4,"45,000 - 65,000",1,"Concrete",1,"Hard",4,"< 300",1,"Good",2,"Poor","0 to 10",0,10,-7,0.20999999999999996,0,-7.2,0,-12,20]
[null,"1411412-10",174,1,"<130mph",4,"45,000 - 65,000",1,"Concrete",1,"Hard",4,"< 300",1,"Good",2,"Poor","10 to 25",10,25,-7,0.17324999999999996,0,-9.9,0,-15,20]
[null,"1411412-25",175,1,"<130mph",4,"45,000 - 65,000",1,"Concrete",1,"Hard",4,"< 300",1,"Good",2,"Poor","25 to 30",25,30,-7,0.21944999999999998,0,-13.860000000000001,0,-20,20]
[null,"1411412-30",176,1,"<130mph",4,"45,000 - 65,000",1,"Concrete",1,"Hard",4,"< 300",1,"Good",2,"Poor","Above 30",30,1000,-7,0.21944999999999998,0,-19.8,-0.5,-25,20]
[null,"1413412-0",177,1,"<130mph",4,"45,000 - 65,000",1,"Concrete",3,"Soft",4,"< 300",1,"Good",2,"Poor","0 to 10",0,10,-7,0.36,0,-8.8000000000000007,0,-12,20]
[null,"1413412-10",178,1,"<130mph",4,"45,000 - 65,000",1,"Concrete",3,"Soft",4,"< 300",1,"Good",2,"Poor","10 to 25",10,25,-7,0.29699999999999999,0,-12.100000000000001,0,-15,20]
[null,"1413412-25",179,1,"<130mph",4,"45,000 - 65,000",1,"Concrete",3,"Soft",4,"< 300",1,"Good",2,"Poor","25 to 30",25,30,-7,0.37619999999999998,0,-16.940000000000001,0,-20,20]
[null,"1413412-30",180,1,"<130mph",4,"45,000 - 65,000",1,"Concrete",3,"Soft",4,"< 300",1,"Good",2,"Poor","Above 30",30,1000,-7,0.37619999999999998,0,-24.200000000000003,-0.5,-25,20]
[null,"1412422-0",181,1,"<130mph",4,"45,000 - 65,000",1,"Concrete",2,"Medium",4,"< 300",2,"Poor",2,"Poor","0 to 10",0,10,-7,0.30000000000000004,0,-8,0,-12,20]
[null,"1412422-10",182,1,"<130mph",4,"45,000 - 65,000",1,"Concrete",2,"Medium",4,"< 300",2,"Poor",2,"Poor","10 to 25",10,25,-7,0.29699999999999999,0,-12.100000000000001,0,-15,20]
[null,"1412422-25",183,1,"<130mph",4,"45,000 - 65,000",1,"Concrete",2,"Medium",4,"< 300",2,"Poor",2,"Poor","25 to 30",25,30,-7,0.37619999999999998,0,-16.940000000000001,0,-20,20]
[null,"1412422-30",184,1,"<130mph",4,"45,000 - 65,000",1,"Concrete",2,"Medium",4,"< 300",2,"Poor",2,"Poor","Above 30",30,1000,-7,0.37619999999999998,0,-24.200000000000003,-0.5,-25,20]
[null,"1411422-0",185,1,"<130mph",4,"45,000 - 65,000",1,"Concrete",1,"Hard",4,"< 300",2,"Poor",2,"Poor","0 to 10",0,10,-7,0.20999999999999996,0,-7.2,0,-12,20]
[null,"1411422-10",186,1,"<130mph",4,"45,000 - 65,000",1,"Concrete",1,"Hard",4,"< 300",2,"Poor",2,"Poor","10 to 25",10,25,-7,0.20789999999999997,0,-10.890000000000002,0,-15,20]
[null,"1411422-25",187,1,"<130mph",4,"45,000 - 65,000",1,"Concrete",1,"Hard",4,"< 300",2,"Poor",2,"Poor","25 to 30",25,30,-7,0.26333999999999996,0,-15.246000000000002,0,-20,20]
[null,"1411422-30",188,1,"<130mph",4,"45,000 - 65,000",1,"Concrete",1,"Hard",4,"< 300",2,"Poor",2,"Poor","Above 30",30,1000,-7,0.26333999999999996,0,-21.780000000000005,-0.5,-25,20]
[null,"1413422-0",189,1,"<130mph",4,"45,000 - 65,000",1,"Concrete",3,"Soft",4,"< 300",2,"Poor",2,"Poor","0 to 10",0,10,-7,0.36,0,-8.8000000000000007,0,-12,20]
[null,"1413422-10",190,1,"<130mph",4,"45,000 - 65,000",1,"Concrete",3,"Soft",4,"< 300",2,"Poor",2,"Poor","10 to 25",10,25,-7,0.35639999999999999,0,-13.310000000000004,0,-15,20]
[null,"1413422-25",191,1,"<130mph",4,"45,000 - 65,000",1,"Concrete",3,"Soft",4,"< 300",2,"Poor",2,"Poor","25 to 30",25,30,-7,0.45144000000000001,0,-18.634000000000007,0,-20,20]
[null,"1413422-30",192,1,"<130mph",4,"45,000 - 65,000",1,"Concrete",3,"Soft",4,"< 300",2,"Poor",2,"Poor","Above 30",30,1000,-7,0.45144000000000001,0,-26.620000000000008,-0.5,-25,20]
[null,"1212111-0",193,1,"<130mph",2,"15,000 - 30,000",1,"Concrete",2,"Medium",1,"> 600",1,"Good",1,"Good","0 to 10",0,10,-7,9.2307692307692313E-2,0,-8,0,-12,50]
[null,{"$f":"D212&F212&H212&J212&L212&N212&P212&\"-\"&S212","v":"1212111-10"},194,1,"<130mph",2,"15,000 - 30,000",1,"Concrete",2,"Medium",1,"> 600",1,"Good",1,"Good","10 to 25",10,25,-7,6.9230769230769235E-2,0,-10,0,-15,50]
[null,"1212111-25",195,1,"<130mph",2,"15,000 - 30,000",1,"Concrete",2,"Medium",1,"> 600",1,"Good",1,"Good","25 to 30",25,30,-7,8.7692307692307694E-2,0,-14,0,-20,50]
[null,"1212111-30",196,1,"<130mph",2,"15,000 - 30,000",1,"Concrete",2,"Medium",1,"> 600",1,"Good",1,"Good","Above 30",30,1000,-7,8.7692307692307694E-2,0,-20,-0.5,-25,50]
[null,"1211111-0",197,1,"<130mph",2,"15,000 - 30,000",1,"Concrete",1,"Hard",1,"> 600",1,"Good",1,"Good","0 to 10",0,10,-7,6.4615384615384616E-2,0,-7.2,0,-12,50]
[null,"1211111-10",198,1,"<130mph",2,"15,000 - 30,000",1,"Concrete",1,"Hard",1,"> 600",1,"Good",1,"Good","10 to 25",10,25,-7,4.8461538461538466E-2,0,-9,0,-15,50]
[null,"1211111-25",199,1,"<130mph",2,"15,000 - 30,000",1,"Concrete",1,"Hard",1,"> 600",1,"Good",1,"Good","25 to 30",25,30,-7,6.1384615384615392E-2,0,-12.6,0,-20,50]
[null,"1211111-30",200,1,"<130mph",2,"15,000 - 30,000",1,"Concrete",1,"Hard",1,"> 600",1,"Good",1,"Good","Above 30",30,1000,-7,6.1384615384615392E-2,0,-18,-0.5,-25,50]
[null,"1213111-0",201,1,"<130mph",2,"15,000 - 30,000",1,"Concrete",3,"Soft",1,"> 600",1,"Good",1,"Good","0 to 10",0,10,-7,0.11076923076923079,0,-8.8000000000000007,0,-12,50]
[null,"1213111-10",202,1,"<130mph",2,"15,000 - 30,000",1,"Concrete",3,"Soft",1,"> 600",1,"Good",1,"Good","10 to 25",10,25,-7,8.3076923076923076E-2,0,-11,0,-15,50]
[null,"1213111-25",203,1,"<130mph",2,"15,000 - 30,000",1,"Concrete",3,"Soft",1,"> 600",1,"Good",1,"Good","25 to 30",25,30,-7,0.10523076923076924,0,-15.400000000000002,0,-20,50]
[null,"1213111-30",204,1,"<130mph",2,"15,000 - 30,000",1,"Concrete",3,"Soft",1,"> 600",1,"Good",1,"Good","Above 30",30,1000,-7,0.10523076923076924,0,-22,-0.5,-25,50]
[null,"1212121-0",205,1,"<130mph",2,"15,000 - 30,000",1,"Concrete",2,"Medium",1,"> 600",2,"Poor",1,"Good","0 to 10",0,10,-7,9.2307692307692313E-2,0,-8,0,-12,50]
[null,"1212121-10",206,1,"<130mph",2,"15,000 - 30,000",1,"Concrete",2,"Medium",1,"> 600",2,"Poor",1,"Good","10 to 25",10,25,-7,8.3076923076923076E-2,0,-11,0,-15,50]
[null,"1212121-25",207,1,"<130mph",2,"15,000 - 30,000",1,"Concrete",2,"Medium",1,"> 600",2,"Poor",1,"Good","25 to 30",25,30,-7,0.10523076923076924,0,-15.400000000000002,0,-20,50]
[null,"1212121-30",208,1,"<130mph",2,"15,000 - 30,000",1,"Concrete",2,"Medium",1,"> 600",2,"Poor",1,"Good","Above 30",30,1000,-7,0.10523076923076924,0,-22,-0.5,-25,50]
[null,"1211121-0",209,1,"<130mph",2,"15,000 - 30,000",1,"Concrete",1,"Hard",1,"> 600",2,"Poor",1,"Good","0 to 10",0,10,-7,6.4615384615384616E-2,0,-7.2,0,-12,50]
[null,"1211121-10",210,1,"<130mph",2,"15,000 - 30,000",1,"Concrete",1,"Hard",1,"> 600",2,"Poor",1,"Good","10 to 25",10,25,-7,5.8153846153846153E-2,0,-9.9,0,-15,50]
[null,"1211121-25",211,1,"<130mph",2,"15,000 - 30,000",1,"Concrete",1,"Hard",1,"> 600",2,"Poor",1,"Good","25 to 30",25,30,-7,7.3661538461538473E-2,0,-13.860000000000001,0,-20,50]
[null,"1211121-30",212,1,"<130mph",2,"15,000 - 30,000",1,"Concrete",1,"Hard",1,"> 600",2,"Poor",1,"Good","Above 30",30,1000,-7,7.3661538461538473E-2,0,-19.8,-0.5,-25,50]
[null,"1213121-0",213,1,"<130mph",2,"15,000 - 30,000",1,"Concrete",3,"Soft",1,"> 600",2,"Poor",1,"Good","0 to 10",0,10,-7,0.11076923076923079,0,-8.8000000000000007,0,-12,50]
[null,"1213121-10",214,1,"<130mph",2,"15,000 - 30,000",1,"Concrete",3,"Soft",1,"> 600",2,"Poor",1,"Good","10 to 25",10,25,-7,9.9692307692307691E-2,0,-12.100000000000001,0,-15,50]
[null,"1213121-25",215,1,"<130mph",2,"15,000 - 30,000",1,"Concrete",3,"Soft",1,"> 600",2,"Poor",1,"Good","25 to 30",25,30,-7,0.12627692307692306,0,-16.940000000000001,0,-20,50]
[null,"1213121-30",216,1,"<130mph",2,"15,000 - 30,000",1,"Concrete",3,"Soft",1,"> 600",2,"Poor",1,"Good","Above 30",30,1000,-7,0.12627692307692306,0,-24.200000000000003,-0.5,-25,50]
[null,"1212112-0",217,1,"<130mph",2,"15,000 - 30,000",1,"Concrete",2,"Medium",1,"> 600",1,"Good",2,"Poor","0 to 10",0,10,-7,9.2307692307692313E-2,0,-8,0,-12,50]
[null,"1212112-10",218,1,"<130mph",2,"15,000 - 30,000",1,"Concrete",2,"Medium",1,"> 600",1,"Good",2,"Poor","10 to 25",10,25,-7,7.6153846153846169E-2,0,-11,0,-15,50]
[null,"1212112-25",219,1,"<130mph",2,"15,000 - 30,000",1,"Concrete",2,"Medium",1,"> 600",1,"Good",2,"Poor","25 to 30",25,30,-7,9.6461538461538474E-2,0,-15.400000000000002,0,-20,50]
[null,"1212112-30",220,1,"<130mph",2,"15,000 - 30,000",1,"Concrete",2,"Medium",1,"> 600",1,"Good",2,"Poor","Above 30",30,1000,-7,9.6461538461538474E-2,0,-22,-0.5,-25,50]
[null,"1211112-0",221,1,"<130mph",2,"15,000 - 30,000",1,"Concrete",1,"Hard",1,"> 600",1,"Good",2,"Poor","0 to 10",0,10,-7,6.4615384615384616E-2,0,-7.2,0,-12,50]
[null,"1211112-10",222,1,"<130mph",2,"15,000 - 30,000",1,"Concrete",1,"Hard",1,"> 600",1,"Good",2,"Poor","10 to 25",10,25,-7,5.3307692307692313E-2,0,-9.9,0,-15,50]
[null,"1211112-25",223,1,"<130mph",2,"15,000 - 30,000",1,"Concrete",1,"Hard",1,"> 600",1,"Good",2,"Poor","25 to 30",25,30,-7,6.7523076923076922E-2,0,-13.860000000000001,0,-20,50]
[null,"1211112-30",224,1,"<130mph",2,"15,000 - 30,000",1,"Concrete",1,"Hard",1,"> 600",1,"Good",2,"Poor","Above 30",30,1000,-7,6.7523076923076922E-2,0,-19.8,-0.5,-25,50]
[null,"1213112-0",225,1,"<130mph",2,"15,000 - 30,000",1,"Concrete",3,"Soft",1,"> 600",1,"Good",2,"Poor","0 to 10",0,10,-7,0.11076923076923079,0,-8.8000000000000007,0,-12,50]
[null,"1213112-10",226,1,"<130mph",2,"15,000 - 30,000",1,"Concrete",3,"Soft",1,"> 600",1,"Good",2,"Poor","10 to 25",10,25,-7,9.1384615384615384E-2,0,-12.100000000000001,0,-15,50]
[null,"1213112-25",227,1,"<130mph",2,"15,000 - 30,000",1,"Concrete",3,"Soft",1,"> 600",1,"Good",2,"Poor","25 to 30",25,30,-7,0.11575384615384615,0,-16.940000000000001,0,-20,50]
[null,"1213112-30",228,1,"<130mph",2,"15,000 - 30,000",1,"Concrete",3,"Soft",1,"> 600",1,"Good",2,"Poor","Above 30",30,1000,-7,0.11575384615384615,0,-24.200000000000003,-0.5,-25,50]
[null,"1212122-0",229,1,"<130mph",2,"15,000 - 30,000",1,"Concrete",2,"Medium",1,"> 600",2,"Poor",2,"Poor","0 to 10",0,10,-7,9.2307692307692313E-2,0,-8,0,-12,50]
[null,"1212122-10",230,1,"<130mph",2,"15,000 - 30,000",1,"Concrete",2,"Medium",1,"> 600",2,"Poor",2,"Poor","10 to 25",10,25,-7,9.1384615384615384E-2,0,-12.100000000000001,0,-15,50]
[null,"1212122-25",231,1,"<130mph",2,"15,000 - 30,000",1,"Concrete",2,"Medium",1,"> 600",2,"Poor",2,"Poor","25 to 30",25,30,-7,0.11575384615384615,0,-16.940000000000001,0,-20,50]
[null,"1212122-30",232,1,"<130mph",2,"15,000 - 30,000",1,"Concrete",2,"Medium",1,"> 600",2,"Poor",2,"Poor","Above 30",30,1000,-7,0.11575384615384615,0,-24.200000000000003,-0.5,-25,50]
[null,"1211122-0",233,1,"<130mph",2,"15,000 - 30,000",1,"Concrete",1,"Hard",1,"> 600",2,"Poor",2,"Poor","0 to 10",0,10,-7,6.4615384615384616E-2,0,-7.2,0,-12,50]
[null,"1211122-10",234,1,"<130mph",2,"15,000 - 30,000",1,"Concrete",1,"Hard",1,"> 600",2,"Poor",2,"Poor","10 to 25",10,25,-7,6.3969230769230778E-2,0,-10.890000000000002,0,-15,50]
[null,"1211122-25",235,1,"<130mph",2,"15,000 - 30,000",1,"Concrete",1,"Hard",1,"> 600",2,"Poor",2,"Poor","25 to 30",25,30,-7,8.1027692307692314E-2,0,-15.246000000000002,0,-20,50]
[null,"1211122-30",236,1,"<130mph",2,"15,000 - 30,000",1,"Concrete",1,"Hard",1,"> 600",2,"Poor",2,"Poor","Above 30",30,1000,-7,8.1027692307692314E-2,0,-21.780000000000005,-0.5,-25,50]
[null,"1213122-0",237,1,"<130mph",2,"15,000 - 30,000",1,"Concrete",3,"Soft",1,"> 600",2,"Poor",2,"Poor","0 to 10",0,10,-7,0.11076923076923079,0,-8.8000000000000007,0,-12,50]
[null,"1213122-10",238,1,"<130mph",2,"15,000 - 30,000",1,"Concrete",3,"Soft",1,"> 600",2,"Poor",2,"Poor","10 to 25",10,25,-7,0.10966153846153848,0,-13.310000000000004,0,-15,50]
[null,"1213122-25",239,1,"<130mph",2,"15,000 - 30,000",1,"Concrete",3,"Soft",1,"> 600",2,"Poor",2,"Poor","25 to 30",25,30,-7,0.1389046153846154,0,-18.634000000000007,0,-20,50]
[null,"1213122-30",240,1,"<130mph",2,"15,000 - 30,000",1,"Concrete",3,"Soft",1,"> 600",2,"Poor",2,"Poor","Above 30",30,1000,-7,0.1389046153846154,0,-26.620000000000008,-0.5,-25,50]
[null,"1212211-0",241,1,"<130mph",2,"15,000 - 30,000",1,"Concrete",2,"Medium",2,"400 < R < 600",1,"Good",1,"Good","0 to 10",0,10,-7,0.10153846153846156,0,-8,0,-12,50]
[null,"1212211-10",242,1,"<130mph",2,"15,000 - 30,000",1,"Concrete",2,"Medium",2,"400 < R < 600",1,"Good",1,"Good","10 to 25",10,25,-7,7.6153846153846169E-2,0,-10,0,-15,50]
[null,"1212211-25",243,1,"<130mph",2,"15,000 - 30,000",1,"Concrete",2,"Medium",2,"400 < R < 600",1,"Good",1,"Good","25 to 30",25,30,-7,9.6461538461538474E-2,0,-14,0,-20,50]
[null,"1212211-30",244,1,"<130mph",2,"15,000 - 30,000",1,"Concrete",2,"Medium",2,"400 < R < 600",1,"Good",1,"Good","Above 30",30,1000,-7,9.6461538461538474E-2,0,-20,-0.5,-25,50]
[null,"1211211-0",245,1,"<130mph",2,"15,000 - 30,000",1,"Concrete",1,"Hard",2,"400 < R < 600",1,"Good",1,"Good","0 to 10",0,10,-7,7.1076923076923079E-2,0,-7.2,0,-12,50]
[null,"1211211-10",246,1,"<130mph",2,"15,000 - 30,000",1,"Concrete",1,"Hard",2,"400 < R < 600",1,"Good",1,"Good","10 to 25",10,25,-7,5.3307692307692313E-2,0,-9,0,-15,50]
[null,"1211211-25",247,1,"<130mph",2,"15,000 - 30,000",1,"Concrete",1,"Hard",2,"400 < R < 600",1,"Good",1,"Good","25 to 30",25,30,-7,6.7523076923076922E-2,0,-12.6,0,-20,50]
[null,"1211211-30",248,1,"<130mph",2,"15,000 - 30,000",1,"Concrete",1,"Hard",2,"400 < R < 600",1,"Good",1,"Good","Above 30",30,1000,-7,6.7523076923076922E-2,0,-18,-0.5,-25,50]
[null,"1213211-0",249,1,"<130mph",2,"15,000 - 30,000",1,"Concrete",3,"Soft",2,"400 < R < 600",1,"Good",1,"Good","0 to 10",0,10,-7,0.12184615384615385,0,-8.8000000000000007,0,-12,50]
[null,"1213211-10",250,1,"<130mph",2,"15,000 - 30,000",1,"Concrete",3,"Soft",2,"400 < R < 600",1,"Good",1,"Good","10 to 25",10,25,-7,9.1384615384615384E-2,0,-11,0,-15,50]
[null,"1213211-25",251,1,"<130mph",2,"15,000 - 30,000",1,"Concrete",3,"Soft",2,"400 < R < 600",1,"Good",1,"Good","25 to 30",25,30,-7,0.11575384615384615,0,-15.400000000000002,0,-20,50]
[null,"1213211-30",252,1,"<130mph",2,"15,000 - 30,000",1,"Concrete",3,"Soft",2,"400 < R < 600",1,"Good",1,"Good","Above 30",30,1000,-7,0.11575384615384615,0,-22,-0.5,-25,50]
[null,"1212221-0",253,1,"<130mph",2,"15,000 - 30,000",1,"Concrete",2,"Medium",2,"400 < R < 600",2,"Poor",1,"Good","0 to 10",0,10,-7,0.10153846153846156,0,-8,0,-12,50]
[null,"1212221-10",254,1,"<130mph",2,"15,000 - 30,000",1,"Concrete",2,"Medium",2,"400 < R < 600",2,"Poor",1,"Good","10 to 25",10,25,-7,9.1384615384615384E-2,0,-11,0,-15,50]
[null,"1212221-25",255,1,"<130mph",2,"15,000 - 30,000",1,"Concrete",2,"Medium",2,"400 < R < 600",2,"Poor",1,"Good","25 to 30",25,30,-7,0.11575384615384615,0,-15.400000000000002,0,-20,50]
[null,"1212221-30",256,1,"<130mph",2,"15,000 - 30,000",1,"Concrete",2,"Medium",2,"400 < R < 600",2,"Poor",1,"Good","Above 30",30,1000,-7,0.11575384615384615,0,-22,-0.5,-25,50]
[null,"1211221-0",257,1,"<130mph",2,"15,000 - 30,000",1,"Concrete",1,"Hard",2,"400 < R < 600",2,"Poor",1,"Good","0 to 10",0,10,-7,7.1076923076923079E-2,0,-7.2,0,-12,50]
[null,{"$f":"D276&F276&H276&J276&L276&N276&P276&\"-\"&S276","v":"1211221-10"},258,1,"<130mph",2,"15,000 - 30,000",1,"Concrete",1,"Hard",2,"400 < R < 600",2,"Poor",1,"Good","10 to 25",10,25,-7,6.3969230769230764E-2,0,-9.9,0,-15,50]
[null,"1211221-25",259,1,"<130mph",2,"15,000 - 30,000",1,"Concrete",1,"Hard",2,"400 < R < 600",2,"Poor",1,"Good","25 to 30",25,30,-7,8.1027692307692301E-2,0,-13.860000000000001,0,-20,50]
[null,"1211221-30",260,1,"<130mph",2,"15,000 - 30,000",1,"Concrete",1,"Hard",2,"400 < R < 600",2,"Poor",1,"Good","Above 30",30,1000,-7,8.1027692307692301E-2,0,-19.8,-0.5,-25,50]
[null,"1213221-0",261,1,"<130mph",2,"15,000 - 30,000",1,"Concrete",3,"Soft",2,"400 < R < 600",2,"Poor",1,"Good","0 to 10",0,10,-7,0.12184615384615385,0,-8.8000000000000007,0,-12,50]
[null,"1213221-10",262,1,"<130mph",2,"15,000 - 30,000",1,"Concrete",3,"Soft",2,"400 < R < 600",2,"Poor",1,"Good","10 to 25",10,25,-7,0.10966153846153848,0,-12.100000000000001,0,-15,50]
[null,"1213221-25",263,1,"<130mph",2,"15,000 - 30,000",1,"Concrete",3,"Soft",2,"400 < R < 600",2,"Poor",1,"Good","25 to 30",25,30,-7,0.1389046153846154,0,-16.940000000000001,0,-20,50]
[null,"1213221-30",264,1,"<130mph",2,"15,000 - 30,000",1,"Concrete",3,"Soft",2,"400 < R < 600",2,"Poor",1,"Good","Above 30",30,1000,-7,0.1389046153846154,0,-24.200000000000003,-0.5,-25,50]
[null,"1212212-0",265,1,"<130mph",2,"15,000 - 30,000",1,"Concrete",2,"Medium",2,"400 < R < 600",1,"Good",2,"Poor","0 to 10",0,10,-7,0.10153846153846156,0,-8,0,-12,50]
[null,"1212212-10",266,1,"<130mph",2,"15,000 - 30,000",1,"Concrete",2,"Medium",2,"400 < R < 600",1,"Good",2,"Poor","10 to 25",10,25,-7,8.3769230769230776E-2,0,-11,0,-15,50]
[null,"1212212-25",267,1,"<130mph",2,"15,000 - 30,000",1,"Concrete",2,"Medium",2,"400 < R < 600",1,"Good",2,"Poor","25 to 30",25,30,-7,0.10610769230769233,0,-15.400000000000002,0,-20,50]
[null,"1212212-30",268,1,"<130mph",2,"15,000 - 30,000",1,"Concrete",2,"Medium",2,"400 < R < 600",1,"Good",2,"Poor","Above 30",30,1000,-7,0.10610769230769233,0,-22,-0.5,-25,50]
[null,"1211212-0",269,1,"<130mph",2,"15,000 - 30,000",1,"Concrete",1,"Hard",2,"400 < R < 600",1,"Good",2,"Poor","0 to 10",0,10,-7,7.1076923076923079E-2,0,-7.2,0,-12,50]
[null,"1211212-10",270,1,"<130mph",2,"15,000 - 30,000",1,"Concrete",1,"Hard",2,"400 < R < 600",1,"Good",2,"Poor","10 to 25",10,25,-7,5.8638461538461542E-2,0,-9.9,0,-15,50]
[null,"1211212-25",271,1,"<130mph",2,"15,000 - 30,000",1,"Concrete",1,"Hard",2,"400 < R < 600",1,"Good",2,"Poor","25 to 30",25,30,-7,7.4275384615384632E-2,0,-13.860000000000001,0,-20,50]
[null,"1211212-30",272,1,"<130mph",2,"15,000 - 30,000",1,"Concrete",1,"Hard",2,"400 < R < 600",1,"Good",2,"Poor","Above 30",30,1000,-7,7.4275384615384632E-2,0,-19.8,-0.5,-25,50]
[null,"1213212-0",273,1,"<130mph",2,"15,000 - 30,000",1,"Concrete",3,"Soft",2,"400 < R < 600",1,"Good",2,"Poor","0 to 10",0,10,-7,0.12184615384615385,0,-8.8000000000000007,0,-12,50]
[null,"1213212-10",274,1,"<130mph",2,"15,000 - 30,000",1,"Concrete",3,"Soft",2,"400 < R < 600",1,"Good",2,"Poor","10 to 25",10,25,-7,0.10052307692307695,0,-12.100000000000001,0,-15,50]
[null,"1213212-25",275,1,"<130mph",2,"15,000 - 30,000",1,"Concrete",3,"Soft",2,"400 < R < 600",1,"Good",2,"Poor","25 to 30",25,30,-7,0.12732923076923081,0,-16.940000000000001,0,-20,50]
[null,"1213212-30",276,1,"<130mph",2,"15,000 - 30,000",1,"Concrete",3,"Soft",2,"400 < R < 600",1,"Good",2,"Poor","Above 30",30,1000,-7,0.12732923076923081,0,-24.200000000000003,-0.5,-25,50]
[null,"1212222-0",277,1,"<130mph",2,"15,000 - 30,000",1,"Concrete",2,"Medium",2,"400 < R < 600",2,"Poor",2,"Poor","0 to 10",0,10,-7,0.10153846153846156,0,-8,0,-12,50]
[null,"1212222-10",278,1,"<130mph",2,"15,000 - 30,000",1,"Concrete",2,"Medium",2,"400 < R < 600",2,"Poor",2,"Poor","10 to 25",10,25,-7,0.10052307692307695,0,-12.100000000000001,0,-15,50]
[null,"1212222-25",279,1,"<130mph",2,"15,000 - 30,000",1,"Concrete",2,"Medium",2,"400 < R < 600",2,"Poor",2,"Poor","25 to 30",25,30,-7,0.12732923076923081,0,-16.940000000000001,0,-20,50]
[null,"1212222-30",280,1,"<130mph",2,"15,000 - 30,000",1,"Concrete",2,"Medium",2,"400 < R < 600",2,"Poor",2,"Poor","Above 30",30,1000,-7,0.12732923076923081,0,-24.200000000000003,-0.5,-25,50]
[null,"1211222-0",281,1,"<130mph",2,"15,000 - 30,000",1,"Concrete",1,"Hard",2,"400 < R < 600",2,"Poor",2,"Poor","0 to 10",0,10,-7,7.1076923076923079E-2,0,-7.2,0,-12,50]
[null,"1211222-10",282,1,"<130mph",2,"15,000 - 30,000",1,"Concrete",1,"Hard",2,"400 < R < 600",2,"Poor",2,"Poor","10 to 25",10,25,-7,7.0366153846153842E-2,0,-10.890000000000002,0,-15,50]
[null,"1211222-25",283,1,"<130mph",2,"15,000 - 30,000",1,"Concrete",1,"Hard",2,"400 < R < 600",2,"Poor",2,"Poor","25 to 30",25,30,-7,8.9130461538461547E-2,0,-15.246000000000002,0,-20,50]
[null,"1211222-30",284,1,"<130mph",2,"15,000 - 30,000",1,"Concrete",1,"Hard",2,"400 < R < 600",2,"Poor",2,"Poor","Above 30",30,1000,-7,8.9130461538461547E-2,0,-21.780000000000005,-0.5,-25,50]
[null,"1213222-0",285,1,"<130mph",2,"15,000 - 30,000",1,"Concrete",3,"Soft",2,"400 < R < 600",2,"Poor",2,"Poor","0 to 10",0,10,-7,0.12184615384615385,0,-8.8000000000000007,0,-12,50]
[null,"1213222-10",286,1,"<130mph",2,"15,000 - 30,000",1,"Concrete",3,"Soft",2,"400 < R < 600",2,"Poor",2,"Poor","10 to 25",10,25,-7,0.12062769230769232,0,-13.310000000000004,0,-15,50]
[null,"1213222-25",287,1,"<130mph",2,"15,000 - 30,000",1,"Concrete",3,"Soft",2,"400 < R < 600",2,"Poor",2,"Poor","25 to 30",25,30,-7,0.15279507692307695,0,-18.634000000000007,0,-20,50]
[null,"1213222-30",288,1,"<130mph",2,"15,000 - 30,000",1,"Concrete",3,"Soft",2,"400 < R < 600",2,"Poor",2,"Poor","Above 30",30,1000,-7,0.15279507692307695,0,-26.620000000000008,-0.5,-25,50]
[null,"1212311-0",289,1,"<130mph",2,"15,000 - 30,000",1,"Concrete",2,"Medium",3,"300 < R < 400",1,"Good",1,"Good","0 to 10",0,10,-7,0.10153846153846156,0,-8,0,-12,25]
[null,"1212311-10",290,1,"<130mph",2,"15,000 - 30,000",1,"Concrete",2,"Medium",3,"300 < R < 400",1,"Good",1,"Good","10 to 25",10,25,-7,7.6153846153846169E-2,0,-10,0,-15,25]
[null,"1212311-25",291,1,"<130mph",2,"15,000 - 30,000",1,"Concrete",2,"Medium",3,"300 < R < 400",1,"Good",1,"Good","25 to 30",25,30,-7,9.6461538461538474E-2,0,-14,0,-20,25]
[null,"1212311-30",292,1,"<130mph",2,"15,000 - 30,000",1,"Concrete",2,"Medium",3,"300 < R < 400",1,"Good",1,"Good","Above 30",30,1000,-7,9.6461538461538474E-2,0,-20,-0.5,-25,25]
[null,"1211311-0",293,1,"<130mph",2,"15,000 - 30,000",1,"Concrete",1,"Hard",3,"300 < R < 400",1,"Good",1,"Good","0 to 10",0,10,-7,7.1076923076923079E-2,0,-7.2,0,-12,25]
[null,"1211311-10",294,1,"<130mph",2,"15,000 - 30,000",1,"Concrete",1,"Hard",3,"300 < R < 400",1,"Good",1,"Good","10 to 25",10,25,-7,5.3307692307692313E-2,0,-9,0,-15,25]
[null,"1211311-25",295,1,"<130mph",2,"15,000 - 30,000",1,"Concrete",1,"Hard",3,"300 < R < 400",1,"Good",1,"Good","25 to 30",25,30,-7,6.7523076923076922E-2,0,-12.6,0,-20,25]
[null,"1211311-30",296,1,"<130mph",2,"15,000 - 30,000",1,"Concrete",1,"Hard",3,"300 < R < 400",1,"Good",1,"Good","Above 30",30,1000,-7,6.7523076923076922E-2,0,-18,-0.5,-25,25]
[null,"1213311-0",297,1,"<130mph",2,"15,000 - 30,000",1,"Concrete",3,"Soft",3,"300 < R < 400",1,"Good",1,"Good","0 to 10",0,10,-7,0.12184615384615385,0,-8.8000000000000007,0,-12,25]
[null,"1213311-10",298,1,"<130mph",2,"15,000 - 30,000",1,"Concrete",3,"Soft",3,"300 < R < 400",1,"Good",1,"Good","10 to 25",10,25,-7,9.1384615384615384E-2,0,-11,0,-15,25]
[null,"1213311-25",299,1,"<130mph",2,"15,000 - 30,000",1,"Concrete",3,"Soft",3,"300 < R < 400",1,"Good",1,"Good","25 to 30",25,30,-7,0.11575384615384615,0,-15.400000000000002,0,-20,25]
[null,"1213311-30",300,1,"<130mph",2,"15,000 - 30,000",1,"Concrete",3,"Soft",3,"300 < R < 400",1,"Good",1,"Good","Above 30",30,1000,-7,0.11575384615384615,0,-22,-0.5,-25,25]
[null,"1212321-0",301,1,"<130mph",2,"15,000 - 30,000",1,"Concrete",2,"Medium",3,"300 < R < 400",2,"Poor",1,"Good","0 to 10",0,10,-7,0.10153846153846156,0,-8,0,-12,25]
[null,"1212321-10",302,1,"<130mph",2,"15,000 - 30,000",1,"Concrete",2,"Medium",3,"300 < R < 400",2,"Poor",1,"Good","10 to 25",10,25,-7,9.1384615384615384E-2,0,-11,0,-15,25]
[null,"1212321-25",303,1,"<130mph",2,"15,000 - 30,000",1,"Concrete",2,"Medium",3,"300 < R < 400",2,"Poor",1,"Good","25 to 30",25,30,-7,0.11575384615384615,0,-15.400000000000002,0,-20,25]
[null,"1212321-30",304,1,"<130mph",2,"15,000 - 30,000",1,"Concrete",2,"Medium",3,"300 < R < 400",2,"Poor",1,"Good","Above 30",30,1000,-7,0.11575384615384615,0,-22,-0.5,-25,25]
[null,"1211321-0",305,1,"<130mph",2,"15,000 - 30,000",1,"Concrete",1,"Hard",3,"300 < R < 400",2,"Poor",1,"Good","0 to 10",0,10,-7,7.1076923076923079E-2,0,-7.2,0,-12,25]
[null,"1211321-10",306,1,"<130mph",2,"15,000 - 30,000",1,"Concrete",1,"Hard",3,"300 < R < 400",2,"Poor",1,"Good","10 to 25",10,25,-7,6.3969230769230764E-2,0,-9.9,0,-15,25]
[null,"1211321-25",307,1,"<130mph",2,"15,000 - 30,000",1,"Concrete",1,"Hard",3,"300 < R < 400",2,"Poor",1,"Good","25 to 30",25,30,-7,8.1027692307692301E-2,0,-13.860000000000001,0,-20,25]
[null,"1211321-30",308,1,"<130mph",2,"15,000 - 30,000",1,"Concrete",1,"Hard",3,"300 < R < 400",2,"Poor",1,"Good","Above 30",30,1000,-7,8.1027692307692301E-2,0,-19.8,-0.5,-25,25]
[null,"1213321-0",309,1,"<130mph",2,"15,000 - 30,000",1,"Concrete",3,"Soft",3,"300 < R < 400",2,"Poor",1,"Good","0 to 10",0,10,-7,0.12184615384615385,0,-8.8000000000000007,0,-12,25]
[null,"1213321-10",310,1,"<130mph",2,"15,000 - 30,000",1,"Concrete",3,"Soft",3,"300 < R < 400",2,"Poor",1,"Good","10 to 25",10,25,-7,0.10966153846153848,0,-12.100000000000001,0,-15,25]
[null,"1213321-25",311,1,"<130mph",2,"15,000 - 30,000",1,"Concrete",3,"Soft",3,"300 < R < 400",2,"Poor",1,"Good","25 to 30",25,30,-7,0.1389046153846154,0,-16.940000000000001,0,-20,25]
[null,"1213321-30",312,1,"<130mph",2,"15,000 - 30,000",1,"Concrete",3,"Soft",3,"300 < R < 400",2,"Poor",1,"Good","Above 30",30,1000,-7,0.1389046153846154,0,-24.200000000000003,-0.5,-25,25]
[null,"1212312-0",313,1,"<130mph",2,"15,000 - 30,000",1,"Concrete",2,"Medium",3,"300 < R < 400",1,"Good",2,"Poor","0 to 10",0,10,-7,0.10153846153846156,0,-8,0,-12,25]
[null,"1212312-10",314,1,"<130mph",2,"15,000 - 30,000",1,"Concrete",2,"Medium",3,"300 < R < 400",1,"Good",2,"Poor","10 to 25",10,25,-7,8.3769230769230776E-2,0,-11,0,-15,25]
[null,"1212312-25",315,1,"<130mph",2,"15,000 - 30,000",1,"Concrete",2,"Medium",3,"300 < R < 400",1,"Good",2,"Poor","25 to 30",25,30,-7,0.10610769230769233,0,-15.400000000000002,0,-20,25]
[null,"1212312-30",316,1,"<130mph",2,"15,000 - 30,000",1,"Concrete",2,"Medium",3,"300 < R < 400",1,"Good",2,"Poor","Above 30",30,1000,-7,0.10610769230769233,0,-22,-0.5,-25,25]
[null,"1211312-0",317,1,"<130mph",2,"15,000 - 30,000",1,"Concrete",1,"Hard",3,"300 < R < 400",1,"Good",2,"Poor","0 to 10",0,10,-7,7.1076923076923079E-2,0,-7.2,0,-12,25]
[null,"1211312-10",318,1,"<130mph",2,"15,000 - 30,000",1,"Concrete",1,"Hard",3,"300 < R < 400",1,"Good",2,"Poor","10 to 25",10,25,-7,5.8638461538461542E-2,0,-9.9,0,-15,25]
[null,"1211312-25",319,1,"<130mph",2,"15,000 - 30,000",1,"Concrete",1,"Hard",3,"300 < R < 400",1,"Good",2,"Poor","25 to 30",25,30,-7,7.4275384615384632E-2,0,-13.860000000000001,0,-20,25]
[null,"1211312-30",320,1,"<130mph",2,"15,000 - 30,000",1,"Concrete",1,"Hard",3,"300 < R < 400",1,"Good",2,"Poor","Above 30",30,1000,-7,7.4275384615384632E-2,0,-19.8,-0.5,-25,25]
[null,"1213312-0",321,1,"<130mph",2,"15,000 - 30,000",1,"Concrete",3,"Soft",3,"300 < R < 400",1,"Good",2,"Poor","0 to 10",0,10,-7,0.12184615384615385,0,-8.8000000000000007,0,-12,25]
[null,{"$f":"D340&F340&H340&J340&L340&N340&P340&\"-\"&S340","v":"1213312-10"},322,1,"<130mph",2,"15,000 - 30,000",1,"Concrete",3,"Soft",3,"300 < R < 400",1,"Good",2,"Poor","10 to 25",10,25,-7,0.10052307692307695,0,-12.100000000000001,0,-15,25]
[null,"1213312-25",323,1,"<130mph",2,"15,000 - 30,000",1,"Concrete",3,"Soft",3,"300 < R < 400",1,"Good",2,"Poor","25 to 30",25,30,-7,0.12732923076923081,0,-16.940000000000001,0,-20,25]
[null,"1213312-30",324,1,"<130mph",2,"15,000 - 30,000",1,"Concrete",3,"Soft",3,"300 < R < 400",1,"Good",2,"Poor","Above 30",30,1000,-7,0.12732923076923081,0,-24.200000000000003,-0.5,-25,25]
[null,"1212322-0",325,1,"<130mph",2,"15,000 - 30,000",1,"Concrete",2,"Medium",3,"300 < R < 400",2,"Poor",2,"Poor","0 to 10",0,10,-7,0.10153846153846156,0,-8,0,-12,25]
[null,"1212322-10",326,1,"<130mph",2,"15,000 - 30,000",1,"Concrete",2,"Medium",3,"300 < R < 400",2,"Poor",2,"Poor","10 to 25",10,25,-7,0.10052307692307695,0,-12.100000000000001,0,-15,25]
[null,"1212322-25",327,1,"<130mph",2,"15,000 - 30,000",1,"Concrete",2,"Medium",3,"300 < R < 400",2,"Poor",2,"Poor","25 to 30",25,30,-7,0.12732923076923081,0,-16.940000000000001,0,-20,25]
[null,"1212322-30",328,1,"<130mph",2,"15,000 - 30,000",1,"Concrete",2,"Medium",3,"300 < R < 400",2,"Poor",2,"Poor","Above 30",30,1000,-7,0.12732923076923081,0,-24.200000000000003,-0.5,-25,25]
[null,"1211322-0",329,1,"<130mph",2,"15,000 - 30,000",1,"Concrete",1,"Hard",3,"300 < R < 400",2,"Poor",2,"Poor","0 to 10",0,10,-7,7.1076923076923079E-2,0,-7.2,0,-12,25]
[null,"1211322-10",330,1,"<130mph",2,"15,000 - 30,000",1,"Concrete",1,"Hard",3,"300 < R < 400",2,"Poor",2,"Poor","10 to 25",10,25,-7,7.0366153846153842E-2,0,-10.890000000000002,0,-15,25]
[null,"1211322-25",331,1,"<130mph",2,"15,000 - 30,000",1,"Concrete",1,"Hard",3,"300 < R < 400",2,"Poor",2,"Poor","25 to 30",25,30,-7,8.9130461538461547E-2,0,-15.246000000000002,0,-20,25]
[null,"1211322-30",332,1,"<130mph",2,"15,000 - 30,000",1,"Concrete",1,"Hard",3,"300 < R < 400",2,"Poor",2,"Poor","Above 30",30,1000,-7,8.9130461538461547E-2,0,-21.780000000000005,-0.5,-25,25]
[null,"1213322-0",333,1,"<130mph",2,"15,000 - 30,000",1,"Concrete",3,"Soft",3,"300 < R < 400",2,"Poor",2,"Poor","0 to 10",0,10,-7,0.12184615384615385,0,-8.8000000000000007,0,-12,25]
[null,"1213322-10",334,1,"<130mph",2,"15,000 - 30,000",1,"Concrete",3,"Soft",3,"300 < R < 400",2,"Poor",2,"Poor","10 to 25",10,25,-7,0.12062769230769232,0,-13.310000000000004,0,-15,25]
[null,"1213322-25",335,1,"<130mph",2,"15,000 - 30,000",1,"Concrete",3,"Soft",3,"300 < R < 400",2,"Poor",2,"Poor","25 to 30",25,30,-7,0.15279507692307695,0,-18.634000000000007,0,-20,25]
[null,"1213322-30",336,1,"<130mph",2,"15,000 - 30,000",1,"Concrete",3,"Soft",3,"300 < R < 400",2,"Poor",2,"Poor","Above 30",30,1000,-7,0.15279507692307695,0,-26.620000000000008,-0.5,-25,25]
[null,"1212411-0",337,1,"<130mph",2,"15,000 - 30,000",1,"Concrete",2,"Medium",4,"< 300",1,"Good",1,"Good","0 to 10",0,10,-7,0.13846153846153847,0,-8,0,-12,20]
[null,"1212411-10",338,1,"<130mph",2,"15,000 - 30,000",1,"Concrete",2,"Medium",4,"< 300",1,"Good",1,"Good","10 to 25",10,25,-7,0.10384615384615384,0,-10,0,-15,20]
[null,"1212411-25",339,1,"<130mph",2,"15,000 - 30,000",1,"Concrete",2,"Medium",4,"< 300",1,"Good",1,"Good","25 to 30",25,30,-7,0.13153846153846155,0,-14,0,-20,20]
[null,"1212411-30",340,1,"<130mph",2,"15,000 - 30,000",1,"Concrete",2,"Medium",4,"< 300",1,"Good",1,"Good","Above 30",30,1000,-7,0.13153846153846155,0,-20,-0.5,-25,20]
[null,"1211411-0",341,1,"<130mph",2,"15,000 - 30,000",1,"Concrete",1,"Hard",4,"< 300",1,"Good",1,"Good","0 to 10",0,10,-7,9.6923076923076917E-2,0,-7.2,0,-12,20]
[null,"1211411-10",342,1,"<130mph",2,"15,000 - 30,000",1,"Concrete",1,"Hard",4,"< 300",1,"Good",1,"Good","10 to 25",10,25,-7,7.2692307692307681E-2,0,-9,0,-15,20]
[null,"1211411-25",343,1,"<130mph",2,"15,000 - 30,000",1,"Concrete",1,"Hard",4,"< 300",1,"Good",1,"Good","25 to 30",25,30,-7,9.207692307692307E-2,0,-12.6,0,-20,20]
[null,"1211411-30",344,1,"<130mph",2,"15,000 - 30,000",1,"Concrete",1,"Hard",4,"< 300",1,"Good",1,"Good","Above 30",30,1000,-7,9.207692307692307E-2,0,-18,-0.5,-25,20]
[null,"1213411-0",345,1,"<130mph",2,"15,000 - 30,000",1,"Concrete",3,"Soft",4,"< 300",1,"Good",1,"Good","0 to 10",0,10,-7,0.16615384615384615,0,-8.8000000000000007,0,-12,20]
[null,"1213411-10",346,1,"<130mph",2,"15,000 - 30,000",1,"Concrete",3,"Soft",4,"< 300",1,"Good",1,"Good","10 to 25",10,25,-7,0.1246153846153846,0,-11,0,-15,20]
[null,"1213411-25",347,1,"<130mph",2,"15,000 - 30,000",1,"Concrete",3,"Soft",4,"< 300",1,"Good",1,"Good","25 to 30",25,30,-7,0.15784615384615383,0,-15.400000000000002,0,-20,20]
[null,"1213411-30",348,1,"<130mph",2,"15,000 - 30,000",1,"Concrete",3,"Soft",4,"< 300",1,"Good",1,"Good","Above 30",30,1000,-7,0.15784615384615383,0,-22,-0.5,-25,20]
[null,"1212421-0",349,1,"<130mph",2,"15,000 - 30,000",1,"Concrete",2,"Medium",4,"< 300",2,"Poor",1,"Good","0 to 10",0,10,-7,0.13846153846153847,0,-8,0,-12,20]
[null,"1212421-10",350,1,"<130mph",2,"15,000 - 30,000",1,"Concrete",2,"Medium",4,"< 300",2,"Poor",1,"Good","10 to 25",10,25,-7,0.1246153846153846,0,-11,0,-15,20]
[null,"1212421-25",351,1,"<130mph",2,"15,000 - 30,000",1,"Concrete",2,"Medium",4,"< 300",2,"Poor",1,"Good","25 to 30",25,30,-7,0.15784615384615383,0,-15.400000000000002,0,-20,20]
[null,"1212421-30",352,1,"<130mph",2,"15,000 - 30,000",1,"Concrete",2,"Medium",4,"< 300",2,"Poor",1,"Good","Above 30",30,1000,-7,0.15784615384615383,0,-22,-0.5,-25,20]
[null,"1211421-0",353,1,"<130mph",2,"15,000 - 30,000",1,"Concrete",1,"Hard",4,"< 300",2,"Poor",1,"Good","0 to 10",0,10,-7,9.6923076923076917E-2,0,-7.2,0,-12,20]
[null,"1211421-10",354,1,"<130mph",2,"15,000 - 30,000",1,"Concrete",1,"Hard",4,"< 300",2,"Poor",1,"Good","10 to 25",10,25,-7,8.7230769230769209E-2,0,-9.9,0,-15,20]
[null,"1211421-25",355,1,"<130mph",2,"15,000 - 30,000",1,"Concrete",1,"Hard",4,"< 300",2,"Poor",1,"Good","25 to 30",25,30,-7,0.11049230769230768,0,-13.860000000000001,0,-20,20]
[null,"1211421-30",356,1,"<130mph",2,"15,000 - 30,000",1,"Concrete",1,"Hard",4,"< 300",2,"Poor",1,"Good","Above 30",30,1000,-7,0.11049230769230768,0,-19.8,-0.5,-25,20]
[null,"1213421-0",357,1,"<130mph",2,"15,000 - 30,000",1,"Concrete",3,"Soft",4,"< 300",2,"Poor",1,"Good","0 to 10",0,10,-7,0.16615384615384615,0,-8.8000000000000007,0,-12,20]
[null,"1213421-10",358,1,"<130mph",2,"15,000 - 30,000",1,"Concrete",3,"Soft",4,"< 300",2,"Poor",1,"Good","10 to 25",10,25,-7,0.14953846153846151,0,-12.100000000000001,0,-15,20]
[null,"1213421-25",359,1,"<130mph",2,"15,000 - 30,000",1,"Concrete",3,"Soft",4,"< 300",2,"Poor",1,"Good","25 to 30",25,30,-7,0.1894153846153846,0,-16.940000000000001,0,-20,20]
[null,"1213421-30",360,1,"<130mph",2,"15,000 - 30,000",1,"Concrete",3,"Soft",4,"< 300",2,"Poor",1,"Good","Above 30",30,1000,-7,0.1894153846153846,0,-24.200000000000003,-0.5,-25,20]
[null,"1212412-0",361,1,"<130mph",2,"15,000 - 30,000",1,"Concrete",2,"Medium",4,"< 300",1,"Good",2,"Poor","0 to 10",0,10,-7,0.13846153846153847,0,-8,0,-12,20]
[null,"1212412-10",362,1,"<130mph",2,"15,000 - 30,000",1,"Concrete",2,"Medium",4,"< 300",1,"Good",2,"Poor","10 to 25",10,25,-7,0.11423076923076923,0,-11,0,-15,20]
[null,"1212412-25",363,1,"<130mph",2,"15,000 - 30,000",1,"Concrete",2,"Medium",4,"< 300",1,"Good",2,"Poor","25 to 30",25,30,-7,0.1446923076923077,0,-15.400000000000002,0,-20,20]
[null,"1212412-30",364,1,"<130mph",2,"15,000 - 30,000",1,"Concrete",2,"Medium",4,"< 300",1,"Good",2,"Poor","Above 30",30,1000,-7,0.1446923076923077,0,-22,-0.5,-25,20]
[null,"1211412-0",365,1,"<130mph",2,"15,000 - 30,000",1,"Concrete",1,"Hard",4,"< 300",1,"Good",2,"Poor","0 to 10",0,10,-7,9.6923076923076917E-2,0,-7.2,0,-12,20]
[null,"1211412-10",366,1,"<130mph",2,"15,000 - 30,000",1,"Concrete",1,"Hard",4,"< 300",1,"Good",2,"Poor","10 to 25",10,25,-7,7.9961538461538445E-2,0,-9.9,0,-15,20]
[null,"1211412-25",367,1,"<130mph",2,"15,000 - 30,000",1,"Concrete",1,"Hard",4,"< 300",1,"Good",2,"Poor","25 to 30",25,30,-7,0.10128461538461538,0,-13.860000000000001,0,-20,20]
[null,"1211412-30",368,1,"<130mph",2,"15,000 - 30,000",1,"Concrete",1,"Hard",4,"< 300",1,"Good",2,"Poor","Above 30",30,1000,-7,0.10128461538461538,0,-19.8,-0.5,-25,20]
[null,"1213412-0",369,1,"<130mph",2,"15,000 - 30,000",1,"Concrete",3,"Soft",4,"< 300",1,"Good",2,"Poor","0 to 10",0,10,-7,0.16615384615384615,0,-8.8000000000000007,0,-12,20]
[null,"1213412-10",370,1,"<130mph",2,"15,000 - 30,000",1,"Concrete",3,"Soft",4,"< 300",1,"Good",2,"Poor","10 to 25",10,25,-7,0.13707692307692307,0,-12.100000000000001,0,-15,20]
[null,"1213412-25",371,1,"<130mph",2,"15,000 - 30,000",1,"Concrete",3,"Soft",4,"< 300",1,"Good",2,"Poor","25 to 30",25,30,-7,0.17363076923076923,0,-16.940000000000001,0,-20,20]
[null,"1213412-30",372,1,"<130mph",2,"15,000 - 30,000",1,"Concrete",3,"Soft",4,"< 300",1,"Good",2,"Poor","Above 30",30,1000,-7,0.17363076923076923,0,-24.200000000000003,-0.5,-25,20]
[null,"1212422-0",373,1,"<130mph",2,"15,000 - 30,000",1,"Concrete",2,"Medium",4,"< 300",2,"Poor",2,"Poor","0 to 10",0,10,-7,0.13846153846153847,0,-8,0,-12,20]
[null,"1212422-10",374,1,"<130mph",2,"15,000 - 30,000",1,"Concrete",2,"Medium",4,"< 300",2,"Poor",2,"Poor","10 to 25",10,25,-7,0.13707692307692307,0,-12.100000000000001,0,-15,20]
[null,"1212422-25",375,1,"<130mph",2,"15,000 - 30,000",1,"Concrete",2,"Medium",4,"< 300",2,"Poor",2,"Poor","25 to 30",25,30,-7,0.17363076923076923,0,-16.940000000000001,0,-20,20]
[null,"1212422-30",376,1,"<130mph",2,"15,000 - 30,000",1,"Concrete",2,"Medium",4,"< 300",2,"Poor",2,"Poor","Above 30",30,1000,-7,0.17363076923076923,0,-24.200000000000003,-0.5,-25,20]
[null,"1211422-0",377,1,"<130mph",2,"15,000 - 30,000",1,"Concrete",1,"Hard",4,"< 300",2,"Poor",2,"Poor","0 to 10",0,10,-7,9.6923076923076917E-2,0,-7.2,0,-12,20]
[null,"1211422-10",378,1,"<130mph",2,"15,000 - 30,000",1,"Concrete",1,"Hard",4,"< 300",2,"Poor",2,"Poor","10 to 25",10,25,-7,9.5953846153846153E-2,0,-10.890000000000002,0,-15,20]
[null,"1211422-25",379,1,"<130mph",2,"15,000 - 30,000",1,"Concrete",1,"Hard",4,"< 300",2,"Poor",2,"Poor","25 to 30",25,30,-7,0.12154153846153846,0,-15.246000000000002,0,-20,20]
[null,"1211422-30",380,1,"<130mph",2,"15,000 - 30,000",1,"Concrete",1,"Hard",4,"< 300",2,"Poor",2,"Poor","Above 30",30,1000,-7,0.12154153846153846,0,-21.780000000000005,-0.5,-25,20]
[null,"1213422-0",381,1,"<130mph",2,"15,000 - 30,000",1,"Concrete",3,"Soft",4,"< 300",2,"Poor",2,"Poor","0 to 10",0,10,-7,0.16615384615384615,0,-8.8000000000000007,0,-12,20]
[null,"1213422-10",382,1,"<130mph",2,"15,000 - 30,000",1,"Concrete",3,"Soft",4,"< 300",2,"Poor",2,"Poor","10 to 25",10,25,-7,0.16449230769230769,0,-13.310000000000004,0,-15,20]
[null,"1213422-25",383,1,"<130mph",2,"15,000 - 30,000",1,"Concrete",3,"Soft",4,"< 300",2,"Poor",2,"Poor","25 to 30",25,30,-7,0.20835692307692308,0,-18.634000000000007,0,-20,20]
[null,"1213422-30",384,1,"<130mph",2,"15,000 - 30,000",1,"Concrete",3,"Soft",4,"< 300",2,"Poor",2,"Poor","Above 30",30,1000,-7,0.20835692307692308,0,-26.620000000000008,-0.5,-25,20]
[null,"1112111-0",385,1,"<130mph",1,"< 15,000",1,"Concrete",2,"Medium",1,"> 600",1,"Good",1,"Good","0 to 10",0,10,-7,4.615384615384617E-2,0,-8,0,-12,50]
[null,{"$f":"D404&F404&H404&J404&L404&N404&P404&\"-\"&S404","v":"1112111-10"},386,1,"<130mph",1,"< 15,000",1,"Concrete",2,"Medium",1,"> 600",1,"Good",1,"Good","10 to 25",10,25,-7,3.4615384615384624E-2,0,-10,0,-15,50]
[null,"1112111-25",387,1,"<130mph",1,"< 15,000",1,"Concrete",2,"Medium",1,"> 600",1,"Good",1,"Good","25 to 30",25,30,-7,4.3846153846153861E-2,0,-14,0,-20,50]
[null,"1112111-30",388,1,"<130mph",1,"< 15,000",1,"Concrete",2,"Medium",1,"> 600",1,"Good",1,"Good","Above 30",30,1000,-7,4.3846153846153861E-2,0,-20,-0.5,-25,50]
[null,"1111111-0",389,1,"<130mph",1,"< 15,000",1,"Concrete",1,"Hard",1,"> 600",1,"Good",1,"Good","0 to 10",0,10,-7,3.2307692307692315E-2,0,-7.2,0,-12,50]
[null,"1111111-10",390,1,"<130mph",1,"< 15,000",1,"Concrete",1,"Hard",1,"> 600",1,"Good",1,"Good","10 to 25",10,25,-7,2.4230769230769236E-2,0,-9,0,-15,50]
[null,"1111111-25",391,1,"<130mph",1,"< 15,000",1,"Concrete",1,"Hard",1,"> 600",1,"Good",1,"Good","25 to 30",25,30,-7,3.0692307692307699E-2,0,-12.6,0,-20,50]
[null,"1111111-30",392,1,"<130mph",1,"< 15,000",1,"Concrete",1,"Hard",1,"> 600",1,"Good",1,"Good","Above 30",30,1000,-7,3.0692307692307699E-2,0,-18,-0.5,-25,50]
[null,"1113111-0",393,1,"<130mph",1,"< 15,000",1,"Concrete",3,"Soft",1,"> 600",1,"Good",1,"Good","0 to 10",0,10,-7,5.53846153846154E-2,0,-8.8000000000000007,0,-12,50]
[null,"1113111-10",394,1,"<130mph",1,"< 15,000",1,"Concrete",3,"Soft",1,"> 600",1,"Good",1,"Good","10 to 25",10,25,-7,4.1538461538461545E-2,0,-11,0,-15,50]
[null,"1113111-25",395,1,"<130mph",1,"< 15,000",1,"Concrete",3,"Soft",1,"> 600",1,"Good",1,"Good","25 to 30",25,30,-7,5.2615384615384626E-2,0,-15.400000000000002,0,-20,50]
[null,"1113111-30",396,1,"<130mph",1,"< 15,000",1,"Concrete",3,"Soft",1,"> 600",1,"Good",1,"Good","Above 30",30,1000,-7,5.2615384615384626E-2,0,-22,-0.5,-25,50]
[null,"1112121-0",397,1,"<130mph",1,"< 15,000",1,"Concrete",2,"Medium",1,"> 600",2,"Poor",1,"Good","0 to 10",0,10,-7,4.615384615384617E-2,0,-8,0,-12,50]
[null,"1112121-10",398,1,"<130mph",1,"< 15,000",1,"Concrete",2,"Medium",1,"> 600",2,"Poor",1,"Good","10 to 25",10,25,-7,4.1538461538461545E-2,0,-11,0,-15,50]
[null,"1112121-25",399,1,"<130mph",1,"< 15,000",1,"Concrete",2,"Medium",1,"> 600",2,"Poor",1,"Good","25 to 30",25,30,-7,5.2615384615384626E-2,0,-15.400000000000002,0,-20,50]
[null,"1112121-30",400,1,"<130mph",1,"< 15,000",1,"Concrete",2,"Medium",1,"> 600",2,"Poor",1,"Good","Above 30",30,1000,-7,5.2615384615384626E-2,0,-22,-0.5,-25,50]
[null,"1111121-0",401,1,"<130mph",1,"< 15,000",1,"Concrete",1,"Hard",1,"> 600",2,"Poor",1,"Good","0 to 10",0,10,-7,3.2307692307692315E-2,0,-7.2,0,-12,50]
[null,"1111121-10",402,1,"<130mph",1,"< 15,000",1,"Concrete",1,"Hard",1,"> 600",2,"Poor",1,"Good","10 to 25",10,25,-7,2.9076923076923084E-2,0,-9.9,0,-15,50]
[null,"1111121-25",403,1,"<130mph",1,"< 15,000",1,"Concrete",1,"Hard",1,"> 600",2,"Poor",1,"Good","25 to 30",25,30,-7,3.6830769230769236E-2,0,-13.860000000000001,0,-20,50]
[null,"1111121-30",404,1,"<130mph",1,"< 15,000",1,"Concrete",1,"Hard",1,"> 600",2,"Poor",1,"Good","Above 30",30,1000,-7,3.6830769230769236E-2,0,-19.8,-0.5,-25,50]
[null,"1113121-0",405,1,"<130mph",1,"< 15,000",1,"Concrete",3,"Soft",1,"> 600",2,"Poor",1,"Good","0 to 10",0,10,-7,5.53846153846154E-2,0,-8.8000000000000007,0,-12,50]
[null,"1113121-10",406,1,"<130mph",1,"< 15,000",1,"Concrete",3,"Soft",1,"> 600",2,"Poor",1,"Good","10 to 25",10,25,-7,4.9846153846153859E-2,0,-12.100000000000001,0,-15,50]
[null,"1113121-25",407,1,"<130mph",1,"< 15,000",1,"Concrete",3,"Soft",1,"> 600",2,"Poor",1,"Good","25 to 30",25,30,-7,6.313846153846156E-2,0,-16.940000000000001,0,-20,50]
[null,"1113121-30",408,1,"<130mph",1,"< 15,000",1,"Concrete",3,"Soft",1,"> 600",2,"Poor",1,"Good","Above 30",30,1000,-7,6.313846153846156E-2,0,-24.200000000000003,-0.5,-25,50]
[null,"1112112-0",409,1,"<130mph",1,"< 15,000",1,"Concrete",2,"Medium",1,"> 600",1,"Good",2,"Poor","0 to 10",0,10,-7,4.615384615384617E-2,0,-8,0,-12,50]
[null,"1112112-10",410,1,"<130mph",1,"< 15,000",1,"Concrete",2,"Medium",1,"> 600",1,"Good",2,"Poor","10 to 25",10,25,-7,3.8076923076923092E-2,0,-11,0,-15,50]
[null,"1112112-25",411,1,"<130mph",1,"< 15,000",1,"Concrete",2,"Medium",1,"> 600",1,"Good",2,"Poor","25 to 30",25,30,-7,4.8230769230769251E-2,0,-15.400000000000002,0,-20,50]
[null,"1112112-30",412,1,"<130mph",1,"< 15,000",1,"Concrete",2,"Medium",1,"> 600",1,"Good",2,"Poor","Above 30",30,1000,-7,4.8230769230769251E-2,0,-22,-0.5,-25,50]
[null,"1111112-0",413,1,"<130mph",1,"< 15,000",1,"Concrete",1,"Hard",1,"> 600",1,"Good",2,"Poor","0 to 10",0,10,-7,3.2307692307692315E-2,0,-7.2,0,-12,50]
[null,"1111112-10",414,1,"<130mph",1,"< 15,000",1,"Concrete",1,"Hard",1,"> 600",1,"Good",2,"Poor","10 to 25",10,25,-7,2.6653846153846163E-2,0,-9.9,0,-15,50]
[null,"1111112-25",415,1,"<130mph",1,"< 15,000",1,"Concrete",1,"Hard",1,"> 600",1,"Good",2,"Poor","25 to 30",25,30,-7,3.3761538461538475E-2,0,-13.860000000000001,0,-20,50]
[null,"1111112-30",416,1,"<130mph",1,"< 15,000",1,"Concrete",1,"Hard",1,"> 600",1,"Good",2,"Poor","Above 30",30,1000,-7,3.3761538461538475E-2,0,-19.8,-0.5,-25,50]
[null,"1113112-0",417,1,"<130mph",1,"< 15,000",1,"Concrete",3,"Soft",1,"> 600",1,"Good",2,"Poor","0 to 10",0,10,-7,5.53846153846154E-2,0,-8.8000000000000007,0,-12,50]
[null,"1113112-10",418,1,"<130mph",1,"< 15,000",1,"Concrete",3,"Soft",1,"> 600",1,"Good",2,"Poor","10 to 25",10,25,-7,4.5692307692307706E-2,0,-12.100000000000001,0,-15,50]
[null,"1113112-25",419,1,"<130mph",1,"< 15,000",1,"Concrete",3,"Soft",1,"> 600",1,"Good",2,"Poor","25 to 30",25,30,-7,5.7876923076923097E-2,0,-16.940000000000001,0,-20,50]
[null,"1113112-30",420,1,"<130mph",1,"< 15,000",1,"Concrete",3,"Soft",1,"> 600",1,"Good",2,"Poor","Above 30",30,1000,-7,5.7876923076923097E-2,0,-24.200000000000003,-0.5,-25,50]
[null,"1112122-0",421,1,"<130mph",1,"< 15,000",1,"Concrete",2,"Medium",1,"> 600",2,"Poor",2,"Poor","0 to 10",0,10,-7,4.615384615384617E-2,0,-8,0,-12,50]
[null,"1112122-10",422,1,"<130mph",1,"< 15,000",1,"Concrete",2,"Medium",1,"> 600",2,"Poor",2,"Poor","10 to 25",10,25,-7,4.5692307692307706E-2,0,-12.100000000000001,0,-15,50]
[null,"1112122-25",423,1,"<130mph",1,"< 15,000",1,"Concrete",2,"Medium",1,"> 600",2,"Poor",2,"Poor","25 to 30",25,30,-7,5.7876923076923097E-2,0,-16.940000000000001,0,-20,50]
[null,"1112122-30",424,1,"<130mph",1,"< 15,000",1,"Concrete",2,"Medium",1,"> 600",2,"Poor",2,"Poor","Above 30",30,1000,-7,5.7876923076923097E-2,0,-24.200000000000003,-0.5,-25,50]
[null,"1111122-0",425,1,"<130mph",1,"< 15,000",1,"Concrete",1,"Hard",1,"> 600",2,"Poor",2,"Poor","0 to 10",0,10,-7,3.2307692307692315E-2,0,-7.2,0,-12,50]
[null,"1111122-10",426,1,"<130mph",1,"< 15,000",1,"Concrete",1,"Hard",1,"> 600",2,"Poor",2,"Poor","10 to 25",10,25,-7,3.1984615384615396E-2,0,-10.890000000000002,0,-15,50]
[null,"1111122-25",427,1,"<130mph",1,"< 15,000",1,"Concrete",1,"Hard",1,"> 600",2,"Poor",2,"Poor","25 to 30",25,30,-7,4.0513846153846171E-2,0,-15.246000000000002,0,-20,50]
[null,"1111122-30",428,1,"<130mph",1,"< 15,000",1,"Concrete",1,"Hard",1,"> 600",2,"Poor",2,"Poor","Above 30",30,1000,-7,4.0513846153846171E-2,0,-21.780000000000005,-0.5,-25,50]
[null,"1113122-0",429,1,"<130mph",1,"< 15,000",1,"Concrete",3,"Soft",1,"> 600",2,"Poor",2,"Poor","0 to 10",0,10,-7,5.53846153846154E-2,0,-8.8000000000000007,0,-12,50]
[null,"1113122-10",430,1,"<130mph",1,"< 15,000",1,"Concrete",3,"Soft",1,"> 600",2,"Poor",2,"Poor","10 to 25",10,25,-7,5.4830769230769245E-2,0,-13.310000000000004,0,-15,50]
[null,"1113122-25",431,1,"<130mph",1,"< 15,000",1,"Concrete",3,"Soft",1,"> 600",2,"Poor",2,"Poor","25 to 30",25,30,-7,6.9452307692307716E-2,0,-18.634000000000007,0,-20,50]
[null,"1113122-30",432,1,"<130mph",1,"< 15,000",1,"Concrete",3,"Soft",1,"> 600",2,"Poor",2,"Poor","Above 30",30,1000,-7,6.9452307692307716E-2,0,-26.620000000000008,-0.5,-25,50]
[null,"1112211-0",433,1,"<130mph",1,"< 15,000",1,"Concrete",2,"Medium",2,"400 < R < 600",1,"Good",1,"Good","0 to 10",0,10,-7,5.0769230769230789E-2,0,-8,0,-12,50]
[null,"1112211-10",434,1,"<130mph",1,"< 15,000",1,"Concrete",2,"Medium",2,"400 < R < 600",1,"Good",1,"Good","10 to 25",10,25,-7,3.8076923076923092E-2,0,-10,0,-15,50]
[null,"1112211-25",435,1,"<130mph",1,"< 15,000",1,"Concrete",2,"Medium",2,"400 < R < 600",1,"Good",1,"Good","25 to 30",25,30,-7,4.8230769230769251E-2,0,-14,0,-20,50]
[null,"1112211-30",436,1,"<130mph",1,"< 15,000",1,"Concrete",2,"Medium",2,"400 < R < 600",1,"Good",1,"Good","Above 30",30,1000,-7,4.8230769230769251E-2,0,-20,-0.5,-25,50]
[null,"1111211-0",437,1,"<130mph",1,"< 15,000",1,"Concrete",1,"Hard",2,"400 < R < 600",1,"Good",1,"Good","0 to 10",0,10,-7,3.5538461538461553E-2,0,-7.2,0,-12,50]
[null,"1111211-10",438,1,"<130mph",1,"< 15,000",1,"Concrete",1,"Hard",2,"400 < R < 600",1,"Good",1,"Good","10 to 25",10,25,-7,2.6653846153846163E-2,0,-9,0,-15,50]
[null,"1111211-25",439,1,"<130mph",1,"< 15,000",1,"Concrete",1,"Hard",2,"400 < R < 600",1,"Good",1,"Good","25 to 30",25,30,-7,3.3761538461538475E-2,0,-12.6,0,-20,50]
[null,"1111211-30",440,1,"<130mph",1,"< 15,000",1,"Concrete",1,"Hard",2,"400 < R < 600",1,"Good",1,"Good","Above 30",30,1000,-7,3.3761538461538475E-2,0,-18,-0.5,-25,50]
[null,"1113211-0",441,1,"<130mph",1,"< 15,000",1,"Concrete",3,"Soft",2,"400 < R < 600",1,"Good",1,"Good","0 to 10",0,10,-7,6.0923076923076948E-2,0,-8.8000000000000007,0,-12,50]
[null,"1113211-10",442,1,"<130mph",1,"< 15,000",1,"Concrete",3,"Soft",2,"400 < R < 600",1,"Good",1,"Good","10 to 25",10,25,-7,4.5692307692307706E-2,0,-11,0,-15,50]
[null,"1113211-25",443,1,"<130mph",1,"< 15,000",1,"Concrete",3,"Soft",2,"400 < R < 600",1,"Good",1,"Good","25 to 30",25,30,-7,5.7876923076923097E-2,0,-15.400000000000002,0,-20,50]
[null,"1113211-30",444,1,"<130mph",1,"< 15,000",1,"Concrete",3,"Soft",2,"400 < R < 600",1,"Good",1,"Good","Above 30",30,1000,-7,5.7876923076923097E-2,0,-22,-0.5,-25,50]
[null,"1112221-0",445,1,"<130mph",1,"< 15,000",1,"Concrete",2,"Medium",2,"400 < R < 600",2,"Poor",1,"Good","0 to 10",0,10,-7,5.0769230769230789E-2,0,-8,0,-12,50]
[null,"1112221-10",446,1,"<130mph",1,"< 15,000",1,"Concrete",2,"Medium",2,"400 < R < 600",2,"Poor",1,"Good","10 to 25",10,25,-7,4.5692307692307706E-2,0,-11,0,-15,50]
[null,"1112221-25",447,1,"<130mph",1,"< 15,000",1,"Concrete",2,"Medium",2,"400 < R < 600",2,"Poor",1,"Good","25 to 30",25,30,-7,5.7876923076923097E-2,0,-15.400000000000002,0,-20,50]
[null,"1112221-30",448,1,"<130mph",1,"< 15,000",1,"Concrete",2,"Medium",2,"400 < R < 600",2,"Poor",1,"Good","Above 30",30,1000,-7,5.7876923076923097E-2,0,-22,-0.5,-25,50]
[null,"1111221-0",449,1,"<130mph",1,"< 15,000",1,"Concrete",1,"Hard",2,"400 < R < 600",2,"Poor",1,"Good","0 to 10",0,10,-7,3.5538461538461553E-2,0,-7.2,0,-12,50]
[null,{"$f":"D468&F468&H468&J468&L468&N468&P468&\"-\"&S468","v":"1111221-10"},450,1,"<130mph",1,"< 15,000",1,"Concrete",1,"Hard",2,"400 < R < 600",2,"Poor",1,"Good","10 to 25",10,25,-7,3.1984615384615389E-2,0,-9.9,0,-15,50]
[null,"1111221-25",451,1,"<130mph",1,"< 15,000",1,"Concrete",1,"Hard",2,"400 < R < 600",2,"Poor",1,"Good","25 to 30",25,30,-7,4.0513846153846164E-2,0,-13.860000000000001,0,-20,50]
[null,"1111221-30",452,1,"<130mph",1,"< 15,000",1,"Concrete",1,"Hard",2,"400 < R < 600",2,"Poor",1,"Good","Above 30",30,1000,-7,4.0513846153846164E-2,0,-19.8,-0.5,-25,50]
[null,"1113221-0",453,1,"<130mph",1,"< 15,000",1,"Concrete",3,"Soft",2,"400 < R < 600",2,"Poor",1,"Good","0 to 10",0,10,-7,6.0923076923076948E-2,0,-8.8000000000000007,0,-12,50]
[null,"1113221-10",454,1,"<130mph",1,"< 15,000",1,"Concrete",3,"Soft",2,"400 < R < 600",2,"Poor",1,"Good","10 to 25",10,25,-7,5.4830769230769245E-2,0,-12.100000000000001,0,-15,50]
[null,"1113221-25",455,1,"<130mph",1,"< 15,000",1,"Concrete",3,"Soft",2,"400 < R < 600",2,"Poor",1,"Good","25 to 30",25,30,-7,6.9452307692307716E-2,0,-16.940000000000001,0,-20,50]
[null,"1113221-30",456,1,"<130mph",1,"< 15,000",1,"Concrete",3,"Soft",2,"400 < R < 600",2,"Poor",1,"Good","Above 30",30,1000,-7,6.9452307692307716E-2,0,-24.200000000000003,-0.5,-25,50]
[null,"1112212-0",457,1,"<130mph",1,"< 15,000",1,"Concrete",2,"Medium",2,"400 < R < 600",1,"Good",2,"Poor","0 to 10",0,10,-7,5.0769230769230789E-2,0,-8,0,-12,50]
[null,"1112212-10",458,1,"<130mph",1,"< 15,000",1,"Concrete",2,"Medium",2,"400 < R < 600",1,"Good",2,"Poor","10 to 25",10,25,-7,4.1884615384615402E-2,0,-11,0,-15,50]
[null,"1112212-25",459,1,"<130mph",1,"< 15,000",1,"Concrete",2,"Medium",2,"400 < R < 600",1,"Good",2,"Poor","25 to 30",25,30,-7,5.3053846153846174E-2,0,-15.400000000000002,0,-20,50]
[null,"1112212-30",460,1,"<130mph",1,"< 15,000",1,"Concrete",2,"Medium",2,"400 < R < 600",1,"Good",2,"Poor","Above 30",30,1000,-7,5.3053846153846174E-2,0,-22,-0.5,-25,50]
[null,"1111212-0",461,1,"<130mph",1,"< 15,000",1,"Concrete",1,"Hard",2,"400 < R < 600",1,"Good",2,"Poor","0 to 10",0,10,-7,3.5538461538461553E-2,0,-7.2,0,-12,50]
[null,"1111212-10",462,1,"<130mph",1,"< 15,000",1,"Concrete",1,"Hard",2,"400 < R < 600",1,"Good",2,"Poor","10 to 25",10,25,-7,2.9319230769230781E-2,0,-9.9,0,-15,50]
[null,"1111212-25",463,1,"<130mph",1,"< 15,000",1,"Concrete",1,"Hard",2,"400 < R < 600",1,"Good",2,"Poor","25 to 30",25,30,-7,3.7137692307692323E-2,0,-13.860000000000001,0,-20,50]
[null,"1111212-30",464,1,"<130mph",1,"< 15,000",1,"Concrete",1,"Hard",2,"400 < R < 600",1,"Good",2,"Poor","Above 30",30,1000,-7,3.7137692307692323E-2,0,-19.8,-0.5,-25,50]
[null,"1113212-0",465,1,"<130mph",1,"< 15,000",1,"Concrete",3,"Soft",2,"400 < R < 600",1,"Good",2,"Poor","0 to 10",0,10,-7,6.0923076923076948E-2,0,-8.8000000000000007,0,-12,50]
[null,"1113212-10",466,1,"<130mph",1,"< 15,000",1,"Concrete",3,"Soft",2,"400 < R < 600",1,"Good",2,"Poor","10 to 25",10,25,-7,5.0261538461538482E-2,0,-12.100000000000001,0,-15,50]
[null,"1113212-25",467,1,"<130mph",1,"< 15,000",1,"Concrete",3,"Soft",2,"400 < R < 600",1,"Good",2,"Poor","25 to 30",25,30,-7,6.3664615384615417E-2,0,-16.940000000000001,0,-20,50]
[null,"1113212-30",468,1,"<130mph",1,"< 15,000",1,"Concrete",3,"Soft",2,"400 < R < 600",1,"Good",2,"Poor","Above 30",30,1000,-7,6.3664615384615417E-2,0,-24.200000000000003,-0.5,-25,50]
[null,"1112222-0",469,1,"<130mph",1,"< 15,000",1,"Concrete",2,"Medium",2,"400 < R < 600",2,"Poor",2,"Poor","0 to 10",0,10,-7,5.0769230769230789E-2,0,-8,0,-12,50]
[null,"1112222-10",470,1,"<130mph",1,"< 15,000",1,"Concrete",2,"Medium",2,"400 < R < 600",2,"Poor",2,"Poor","10 to 25",10,25,-7,5.0261538461538482E-2,0,-12.100000000000001,0,-15,50]
[null,"1112222-25",471,1,"<130mph",1,"< 15,000",1,"Concrete",2,"Medium",2,"400 < R < 600",2,"Poor",2,"Poor","25 to 30",25,30,-7,6.3664615384615417E-2,0,-16.940000000000001,0,-20,50]
[null,"1112222-30",472,1,"<130mph",1,"< 15,000",1,"Concrete",2,"Medium",2,"400 < R < 600",2,"Poor",2,"Poor","Above 30",30,1000,-7,6.3664615384615417E-2,0,-24.200000000000003,-0.5,-25,50]
[null,"1111222-0",473,1,"<130mph",1,"< 15,000",1,"Concrete",1,"Hard",2,"400 < R < 600",2,"Poor",2,"Poor","0 to 10",0,10,-7,3.5538461538461553E-2,0,-7.2,0,-12,50]
[null,"1111222-10",474,1,"<130mph",1,"< 15,000",1,"Concrete",1,"Hard",2,"400 < R < 600",2,"Poor",2,"Poor","10 to 25",10,25,-7,3.5183076923076935E-2,0,-10.890000000000002,0,-15,50]
[null,"1111222-25",475,1,"<130mph",1,"< 15,000",1,"Concrete",1,"Hard",2,"400 < R < 600",2,"Poor",2,"Poor","25 to 30",25,30,-7,4.4565230769230781E-2,0,-15.246000000000002,0,-20,50]
[null,"1111222-30",476,1,"<130mph",1,"< 15,000",1,"Concrete",1,"Hard",2,"400 < R < 600",2,"Poor",2,"Poor","Above 30",30,1000,-7,4.4565230769230781E-2,0,-21.780000000000005,-0.5,-25,50]
[null,"1113222-0",477,1,"<130mph",1,"< 15,000",1,"Concrete",3,"Soft",2,"400 < R < 600",2,"Poor",2,"Poor","0 to 10",0,10,-7,6.0923076923076948E-2,0,-8.8000000000000007,0,-12,50]
[null,"1113222-10",478,1,"<130mph",1,"< 15,000",1,"Concrete",3,"Soft",2,"400 < R < 600",2,"Poor",2,"Poor","10 to 25",10,25,-7,6.0313846153846176E-2,0,-13.310000000000004,0,-15,50]
[null,"1113222-25",479,1,"<130mph",1,"< 15,000",1,"Concrete",3,"Soft",2,"400 < R < 600",2,"Poor",2,"Poor","25 to 30",25,30,-7,7.6397538461538489E-2,0,-18.634000000000007,0,-20,50]
[null,"1113222-30",480,1,"<130mph",1,"< 15,000",1,"Concrete",3,"Soft",2,"400 < R < 600",2,"Poor",2,"Poor","Above 30",30,1000,-7,7.6397538461538489E-2,0,-26.620000000000008,-0.5,-25,50]
[null,"1112311-0",481,1,"<130mph",1,"< 15,000",1,"Concrete",2,"Medium",3,"300 < R < 400",1,"Good",1,"Good","0 to 10",0,10,-7,5.0769230769230789E-2,0,-8,0,-12,25]
[null,"1112311-10",482,1,"<130mph",1,"< 15,000",1,"Concrete",2,"Medium",3,"300 < R < 400",1,"Good",1,"Good","10 to 25",10,25,-7,3.8076923076923092E-2,0,-10,0,-15,25]
[null,"1112311-25",483,1,"<130mph",1,"< 15,000",1,"Concrete",2,"Medium",3,"300 < R < 400",1,"Good",1,"Good","25 to 30",25,30,-7,4.8230769230769251E-2,0,-14,0,-20,25]
[null,"1112311-30",484,1,"<130mph",1,"< 15,000",1,"Concrete",2,"Medium",3,"300 < R < 400",1,"Good",1,"Good","Above 30",30,1000,-7,4.8230769230769251E-2,0,-20,-0.5,-25,25]
[null,"1111311-0",485,1,"<130mph",1,"< 15,000",1,"Concrete",1,"Hard",3,"300 < R < 400",1,"Good",1,"Good","0 to 10",0,10,-7,3.5538461538461553E-2,0,-7.2,0,-12,25]
[null,"1111311-10",486,1,"<130mph",1,"< 15,000",1,"Concrete",1,"Hard",3,"300 < R < 400",1,"Good",1,"Good","10 to 25",10,25,-7,2.6653846153846163E-2,0,-9,0,-15,25]
[null,"1111311-25",487,1,"<130mph",1,"< 15,000",1,"Concrete",1,"Hard",3,"300 < R < 400",1,"Good",1,"Good","25 to 30",25,30,-7,3.3761538461538475E-2,0,-12.6,0,-20,25]
[null,"1111311-30",488,1,"<130mph",1,"< 15,000",1,"Concrete",1,"Hard",3,"300 < R < 400",1,"Good",1,"Good","Above 30",30,1000,-7,3.3761538461538475E-2,0,-18,-0.5,-25,25]
[null,"1113311-0",489,1,"<130mph",1,"< 15,000",1,"Concrete",3,"Soft",3,"300 < R < 400",1,"Good",1,"Good","0 to 10",0,10,-7,6.0923076923076948E-2,0,-8.8000000000000007,0,-12,25]
[null,"1113311-10",490,1,"<130mph",1,"< 15,000",1,"Concrete",3,"Soft",3,"300 < R < 400",1,"Good",1,"Good","10 to 25",10,25,-7,4.5692307692307706E-2,0,-11,0,-15,25]
[null,"1113311-25",491,1,"<130mph",1,"< 15,000",1,"Concrete",3,"Soft",3,"300 < R < 400",1,"Good",1,"Good","25 to 30",25,30,-7,5.7876923076923097E-2,0,-15.400000000000002,0,-20,25]
[null,"1113311-30",492,1,"<130mph",1,"< 15,000",1,"Concrete",3,"Soft",3,"300 < R < 400",1,"Good",1,"Good","Above 30",30,1000,-7,5.7876923076923097E-2,0,-22,-0.5,-25,25]
[null,"1112321-0",493,1,"<130mph",1,"< 15,000",1,"Concrete",2,"Medium",3,"300 < R < 400",2,"Poor",1,"Good","0 to 10",0,10,-7,5.0769230769230789E-2,0,-8,0,-12,25]
[null,"1112321-10",494,1,"<130mph",1,"< 15,000",1,"Concrete",2,"Medium",3,"300 < R < 400",2,"Poor",1,"Good","10 to 25",10,25,-7,4.5692307692307706E-2,0,-11,0,-15,25]
[null,"1112321-25",495,1,"<130mph",1,"< 15,000",1,"Concrete",2,"Medium",3,"300 < R < 400",2,"Poor",1,"Good","25 to 30",25,30,-7,5.7876923076923097E-2,0,-15.400000000000002,0,-20,25]
[null,"1112321-30",496,1,"<130mph",1,"< 15,000",1,"Concrete",2,"Medium",3,"300 < R < 400",2,"Poor",1,"Good","Above 30",30,1000,-7,5.7876923076923097E-2,0,-22,-0.5,-25,25]
[null,"1111321-0",497,1,"<130mph",1,"< 15,000",1,"Concrete",1,"Hard",3,"300 < R < 400",2,"Poor",1,"Good","0 to 10",0,10,-7,3.5538461538461553E-2,0,-7.2,0,-12,25]
[null,"1111321-10",498,1,"<130mph",1,"< 15,000",1,"Concrete",1,"Hard",3,"300 < R < 400",2,"Poor",1,"Good","10 to 25",10,25,-7,3.1984615384615389E-2,0,-9.9,0,-15,25]
[null,"1111321-25",499,1,"<130mph",1,"< 15,000",1,"Concrete",1,"Hard",3,"300 < R < 400",2,"Poor",1,"Good","25 to 30",25,30,-7,4.0513846153846164E-2,0,-13.860000000000001,0,-20,25]
[null,"1111321-30",500,1,"<130mph",1,"< 15,000",1,"Concrete",1,"Hard",3,"300 < R < 400",2,"Poor",1,"Good","Above 30",30,1000,-7,4.0513846153846164E-2,0,-19.8,-0.5,-25,25]
[null,"1113321-0",501,1,"<130mph",1,"< 15,000",1,"Concrete",3,"Soft",3,"300 < R < 400",2,"Poor",1,"Good","0 to 10",0,10,-7,6.0923076923076948E-2,0,-8.8000000000000007,0,-12,25]
[null,"1113321-10",502,1,"<130mph",1,"< 15,000",1,"Concrete",3,"Soft",3,"300 < R < 400",2,"Poor",1,"Good","10 to 25",10,25,-7,5.4830769230769245E-2,0,-12.100000000000001,0,-15,25]
[null,"1113321-25",503,1,"<130mph",1,"< 15,000",1,"Concrete",3,"Soft",3,"300 < R < 400",2,"Poor",1,"Good","25 to 30",25,30,-7,6.9452307692307716E-2,0,-16.940000000000001,0,-20,25]
[null,"1113321-30",504,1,"<130mph",1,"< 15,000",1,"Concrete",3,"Soft",3,"300 < R < 400",2,"Poor",1,"Good","Above 30",30,1000,-7,6.9452307692307716E-2,0,-24.200000000000003,-0.5,-25,25]
[null,"1112312-0",505,1,"<130mph",1,"< 15,000",1,"Concrete",2,"Medium",3,"300 < R < 400",1,"Good",2,"Poor","0 to 10",0,10,-7,5.0769230769230789E-2,0,-8,0,-12,25]
[null,"1112312-10",506,1,"<130mph",1,"< 15,000",1,"Concrete",2,"Medium",3,"300 < R < 400",1,"Good",2,"Poor","10 to 25",10,25,-7,4.1884615384615402E-2,0,-11,0,-15,25]
[null,"1112312-25",507,1,"<130mph",1,"< 15,000",1,"Concrete",2,"Medium",3,"300 < R < 400",1,"Good",2,"Poor","25 to 30",25,30,-7,5.3053846153846174E-2,0,-15.400000000000002,0,-20,25]
[null,"1112312-30",508,1,"<130mph",1,"< 15,000",1,"Concrete",2,"Medium",3,"300 < R < 400",1,"Good",2,"Poor","Above 30",30,1000,-7,5.3053846153846174E-2,0,-22,-0.5,-25,25]
[null,"1111312-0",509,1,"<130mph",1,"< 15,000",1,"Concrete",1,"Hard",3,"300 < R < 400",1,"Good",2,"Poor","0 to 10",0,10,-7,3.5538461538461553E-2,0,-7.2,0,-12,25]
[null,"1111312-10",510,1,"<130mph",1,"< 15,000",1,"Concrete",1,"Hard",3,"300 < R < 400",1,"Good",2,"Poor","10 to 25",10,25,-7,2.9319230769230781E-2,0,-9.9,0,-15,25]
[null,"1111312-25",511,1,"<130mph",1,"< 15,000",1,"Concrete",1,"Hard",3,"300 < R < 400",1,"Good",2,"Poor","25 to 30",25,30,-7,3.7137692307692323E-2,0,-13.860000000000001,0,-20,25]
[null,"1111312-30",512,1,"<130mph",1,"< 15,000",1,"Concrete",1,"Hard",3,"300 < R < 400",1,"Good",2,"Poor","Above 30",30,1000,-7,3.7137692307692323E-2,0,-19.8,-0.5,-25,25]
[null,"1113312-0",513,1,"<130mph",1,"< 15,000",1,"Concrete",3,"Soft",3,"300 < R < 400",1,"Good",2,"Poor","0 to 10",0,10,-7,6.0923076923076948E-2,0,-8.8000000000000007,0,-12,25]
[null,{"$f":"D532&F532&H532&J532&L532&N532&P532&\"-\"&S532","v":"1113312-10"},514,1,"<130mph",1,"< 15,000",1,"Concrete",3,"Soft",3,"300 < R < 400",1,"Good",2,"Poor","10 to 25",10,25,-7,5.0261538461538482E-2,0,-12.100000000000001,0,-15,25]
[null,"1113312-25",515,1,"<130mph",1,"< 15,000",1,"Concrete",3,"Soft",3,"300 < R < 400",1,"Good",2,"Poor","25 to 30",25,30,-7,6.3664615384615417E-2,0,-16.940000000000001,0,-20,25]
[null,"1113312-30",516,1,"<130mph",1,"< 15,000",1,"Concrete",3,"Soft",3,"300 < R < 400",1,"Good",2,"Poor","Above 30",30,1000,-7,6.3664615384615417E-2,0,-24.200000000000003,-0.5,-25,25]
[null,"1112322-0",517,1,"<130mph",1,"< 15,000",1,"Concrete",2,"Medium",3,"300 < R < 400",2,"Poor",2,"Poor","0 to 10",0,10,-7,5.0769230769230789E-2,0,-8,0,-12,25]
[null,"1112322-10",518,1,"<130mph",1,"< 15,000",1,"Concrete",2,"Medium",3,"300 < R < 400",2,"Poor",2,"Poor","10 to 25",10,25,-7,5.0261538461538482E-2,0,-12.100000000000001,0,-15,25]
[null,"1112322-25",519,1,"<130mph",1,"< 15,000",1,"Concrete",2,"Medium",3,"300 < R < 400",2,"Poor",2,"Poor","25 to 30",25,30,-7,6.3664615384615417E-2,0,-16.940000000000001,0,-20,25]
[null,"1112322-30",520,1,"<130mph",1,"< 15,000",1,"Concrete",2,"Medium",3,"300 < R < 400",2,"Poor",2,"Poor","Above 30",30,1000,-7,6.3664615384615417E-2,0,-24.200000000000003,-0.5,-25,25]
[null,"1111322-0",521,1,"<130mph",1,"< 15,000",1,"Concrete",1,"Hard",3,"300 < R < 400",2,"Poor",2,"Poor","0 to 10",0,10,-7,3.5538461538461553E-2,0,-7.2,0,-12,25]
[null,"1111322-10",522,1,"<130mph",1,"< 15,000",1,"Concrete",1,"Hard",3,"300 < R < 400",2,"Poor",2,"Poor","10 to 25",10,25,-7,3.5183076923076935E-2,0,-10.890000000000002,0,-15,25]
[null,"1111322-25",523,1,"<130mph",1,"< 15,000",1,"Concrete",1,"Hard",3,"300 < R < 400",2,"Poor",2,"Poor","25 to 30",25,30,-7,4.4565230769230781E-2,0,-15.246000000000002,0,-20,25]
[null,"1111322-30",524,1,"<130mph",1,"< 15,000",1,"Concrete",1,"Hard",3,"300 < R < 400",2,"Poor",2,"Poor","Above 30",30,1000,-7,4.4565230769230781E-2,0,-21.780000000000005,-0.5,-25,25]
[null,"1113322-0",525,1,"<130mph",1,"< 15,000",1,"Concrete",3,"Soft",3,"300 < R < 400",2,"Poor",2,"Poor","0 to 10",0,10,-7,6.0923076923076948E-2,0,-8.8000000000000007,0,-12,25]
[null,"1113322-10",526,1,"<130mph",1,"< 15,000",1,"Concrete",3,"Soft",3,"300 < R < 400",2,"Poor",2,"Poor","10 to 25",10,25,-7,6.0313846153846176E-2,0,-13.310000000000004,0,-15,25]
[null,"1113322-25",527,1,"<130mph",1,"< 15,000",1,"Concrete",3,"Soft",3,"300 < R < 400",2,"Poor",2,"Poor","25 to 30",25,30,-7,7.6397538461538489E-2,0,-18.634000000000007,0,-20,25]
[null,"1113322-30",528,1,"<130mph",1,"< 15,000",1,"Concrete",3,"Soft",3,"300 < R < 400",2,"Poor",2,"Poor","Above 30",30,1000,-7,7.6397538461538489E-2,0,-26.620000000000008,-0.5,-25,25]
[null,"1112411-0",529,1,"<130mph",1,"< 15,000",1,"Concrete",2,"Medium",4,"< 300",1,"Good",1,"Good","0 to 10",0,10,-7,6.9230769230769248E-2,0,-8,0,-12,20]
[null,"1112411-10",530,1,"<130mph",1,"< 15,000",1,"Concrete",2,"Medium",4,"< 300",1,"Good",1,"Good","10 to 25",10,25,-7,5.192307692307694E-2,0,-10,0,-15,20]
[null,"1112411-25",531,1,"<130mph",1,"< 15,000",1,"Concrete",2,"Medium",4,"< 300",1,"Good",1,"Good","25 to 30",25,30,-7,6.5769230769230788E-2,0,-14,0,-20,20]
[null,"1112411-30",532,1,"<130mph",1,"< 15,000",1,"Concrete",2,"Medium",4,"< 300",1,"Good",1,"Good","Above 30",30,1000,-7,6.5769230769230788E-2,0,-20,-0.5,-25,20]
[null,"1111411-0",533,1,"<130mph",1,"< 15,000",1,"Concrete",1,"Hard",4,"< 300",1,"Good",1,"Good","0 to 10",0,10,-7,4.8461538461538473E-2,0,-7.2,0,-12,20]
[null,"1111411-10",534,1,"<130mph",1,"< 15,000",1,"Concrete",1,"Hard",4,"< 300",1,"Good",1,"Good","10 to 25",10,25,-7,3.6346153846153847E-2,0,-9,0,-15,20]
[null,"1111411-25",535,1,"<130mph",1,"< 15,000",1,"Concrete",1,"Hard",4,"< 300",1,"Good",1,"Good","25 to 30",25,30,-7,4.6038461538461542E-2,0,-12.6,0,-20,20]
[null,"1111411-30",536,1,"<130mph",1,"< 15,000",1,"Concrete",1,"Hard",4,"< 300",1,"Good",1,"Good","Above 30",30,1000,-7,4.6038461538461542E-2,0,-18,-0.5,-25,20]
[null,"1113411-0",537,1,"<130mph",1,"< 15,000",1,"Concrete",3,"Soft",4,"< 300",1,"Good",1,"Good","0 to 10",0,10,-7,8.3076923076923104E-2,0,-8.8000000000000007,0,-12,20]
[null,"1113411-10",538,1,"<130mph",1,"< 15,000",1,"Concrete",3,"Soft",4,"< 300",1,"Good",1,"Good","10 to 25",10,25,-7,6.2307692307692314E-2,0,-11,0,-15,20]
[null,"1113411-25",539,1,"<130mph",1,"< 15,000",1,"Concrete",3,"Soft",4,"< 300",1,"Good",1,"Good","25 to 30",25,30,-7,7.8923076923076943E-2,0,-15.400000000000002,0,-20,20]
[null,"1113411-30",540,1,"<130mph",1,"< 15,000",1,"Concrete",3,"Soft",4,"< 300",1,"Good",1,"Good","Above 30",30,1000,-7,7.8923076923076943E-2,0,-22,-0.5,-25,20]
[null,"1112421-0",541,1,"<130mph",1,"< 15,000",1,"Concrete",2,"Medium",4,"< 300",2,"Poor",1,"Good","0 to 10",0,10,-7,6.9230769230769248E-2,0,-8,0,-12,20]
[null,"1112421-10",542,1,"<130mph",1,"< 15,000",1,"Concrete",2,"Medium",4,"< 300",2,"Poor",1,"Good","10 to 25",10,25,-7,6.2307692307692314E-2,0,-11,0,-15,20]
[null,"1112421-25",543,1,"<130mph",1,"< 15,000",1,"Concrete",2,"Medium",4,"< 300",2,"Poor",1,"Good","25 to 30",25,30,-7,7.8923076923076943E-2,0,-15.400000000000002,0,-20,20]
[null,"1112421-30",544,1,"<130mph",1,"< 15,000",1,"Concrete",2,"Medium",4,"< 300",2,"Poor",1,"Good","Above 30",30,1000,-7,7.8923076923076943E-2,0,-22,-0.5,-25,20]
[null,"1111421-0",545,1,"<130mph",1,"< 15,000",1,"Concrete",1,"Hard",4,"< 300",2,"Poor",1,"Good","0 to 10",0,10,-7,4.8461538461538473E-2,0,-7.2,0,-12,20]
[null,"1111421-10",546,1,"<130mph",1,"< 15,000",1,"Concrete",1,"Hard",4,"< 300",2,"Poor",1,"Good","10 to 25",10,25,-7,4.3615384615384618E-2,0,-9.9,0,-15,20]
[null,"1111421-25",547,1,"<130mph",1,"< 15,000",1,"Concrete",1,"Hard",4,"< 300",2,"Poor",1,"Good","25 to 30",25,30,-7,5.5246153846153848E-2,0,-13.860000000000001,0,-20,20]
[null,"1111421-30",548,1,"<130mph",1,"< 15,000",1,"Concrete",1,"Hard",4,"< 300",2,"Poor",1,"Good","Above 30",30,1000,-7,5.5246153846153848E-2,0,-19.8,-0.5,-25,20]
[null,"1113421-0",549,1,"<130mph",1,"< 15,000",1,"Concrete",3,"Soft",4,"< 300",2,"Poor",1,"Good","0 to 10",0,10,-7,8.3076923076923104E-2,0,-8.8000000000000007,0,-12,20]
[null,"1113421-10",550,1,"<130mph",1,"< 15,000",1,"Concrete",3,"Soft",4,"< 300",2,"Poor",1,"Good","10 to 25",10,25,-7,7.4769230769230782E-2,0,-12.100000000000001,0,-15,20]
[null,"1113421-25",551,1,"<130mph",1,"< 15,000",1,"Concrete",3,"Soft",4,"< 300",2,"Poor",1,"Good","25 to 30",25,30,-7,9.4707692307692326E-2,0,-16.940000000000001,0,-20,20]
[null,"1113421-30",552,1,"<130mph",1,"< 15,000",1,"Concrete",3,"Soft",4,"< 300",2,"Poor",1,"Good","Above 30",30,1000,-7,9.4707692307692326E-2,0,-24.200000000000003,-0.5,-25,20]
[null,"1112412-0",553,1,"<130mph",1,"< 15,000",1,"Concrete",2,"Medium",4,"< 300",1,"Good",2,"Poor","0 to 10",0,10,-7,6.9230769230769248E-2,0,-8,0,-12,20]
[null,"1112412-10",554,1,"<130mph",1,"< 15,000",1,"Concrete",2,"Medium",4,"< 300",1,"Good",2,"Poor","10 to 25",10,25,-7,5.7115384615384637E-2,0,-11,0,-15,20]
[null,"1112412-25",555,1,"<130mph",1,"< 15,000",1,"Concrete",2,"Medium",4,"< 300",1,"Good",2,"Poor","25 to 30",25,30,-7,7.2346153846153879E-2,0,-15.400000000000002,0,-20,20]
[null,"1112412-30",556,1,"<130mph",1,"< 15,000",1,"Concrete",2,"Medium",4,"< 300",1,"Good",2,"Poor","Above 30",30,1000,-7,7.2346153846153879E-2,0,-22,-0.5,-25,20]
[null,"1111412-0",557,1,"<130mph",1,"< 15,000",1,"Concrete",1,"Hard",4,"< 300",1,"Good",2,"Poor","0 to 10",0,10,-7,4.8461538461538473E-2,0,-7.2,0,-12,20]
[null,"1111412-10",558,1,"<130mph",1,"< 15,000",1,"Concrete",1,"Hard",4,"< 300",1,"Good",2,"Poor","10 to 25",10,25,-7,3.9980769230769229E-2,0,-9.9,0,-15,20]
[null,"1111412-25",559,1,"<130mph",1,"< 15,000",1,"Concrete",1,"Hard",4,"< 300",1,"Good",2,"Poor","25 to 30",25,30,-7,5.0642307692307695E-2,0,-13.860000000000001,0,-20,20]
[null,"1111412-30",560,1,"<130mph",1,"< 15,000",1,"Concrete",1,"Hard",4,"< 300",1,"Good",2,"Poor","Above 30",30,1000,-7,5.0642307692307695E-2,0,-19.8,-0.5,-25,20]
[null,"1113412-0",561,1,"<130mph",1,"< 15,000",1,"Concrete",3,"Soft",4,"< 300",1,"Good",2,"Poor","0 to 10",0,10,-7,8.3076923076923104E-2,0,-8.8000000000000007,0,-12,20]
[null,"1113412-10",562,1,"<130mph",1,"< 15,000",1,"Concrete",3,"Soft",4,"< 300",1,"Good",2,"Poor","10 to 25",10,25,-7,6.8538461538461548E-2,0,-12.100000000000001,0,-15,20]
[null,"1113412-25",563,1,"<130mph",1,"< 15,000",1,"Concrete",3,"Soft",4,"< 300",1,"Good",2,"Poor","25 to 30",25,30,-7,8.6815384615384641E-2,0,-16.940000000000001,0,-20,20]
[null,"1113412-30",564,1,"<130mph",1,"< 15,000",1,"Concrete",3,"Soft",4,"< 300",1,"Good",2,"Poor","Above 30",30,1000,-7,8.6815384615384641E-2,0,-24.200000000000003,-0.5,-25,20]
[null,"1112422-0",565,1,"<130mph",1,"< 15,000",1,"Concrete",2,"Medium",4,"< 300",2,"Poor",2,"Poor","0 to 10",0,10,-7,6.9230769230769248E-2,0,-8,0,-12,20]
[null,"1112422-10",566,1,"<130mph",1,"< 15,000",1,"Concrete",2,"Medium",4,"< 300",2,"Poor",2,"Poor","10 to 25",10,25,-7,6.8538461538461548E-2,0,-12.100000000000001,0,-15,20]
[null,"1112422-25",567,1,"<130mph",1,"< 15,000",1,"Concrete",2,"Medium",4,"< 300",2,"Poor",2,"Poor","25 to 30",25,30,-7,8.6815384615384641E-2,0,-16.940000000000001,0,-20,20]
[null,"1112422-30",568,1,"<130mph",1,"< 15,000",1,"Concrete",2,"Medium",4,"< 300",2,"Poor",2,"Poor","Above 30",30,1000,-7,8.6815384615384641E-2,0,-24.200000000000003,-0.5,-25,20]
[null,"1111422-0",569,1,"<130mph",1,"< 15,000",1,"Concrete",1,"Hard",4,"< 300",2,"Poor",2,"Poor","0 to 10",0,10,-7,4.8461538461538473E-2,0,-7.2,0,-12,20]
[null,"1111422-10",570,1,"<130mph",1,"< 15,000",1,"Concrete",1,"Hard",4,"< 300",2,"Poor",2,"Poor","10 to 25",10,25,-7,4.7976923076923084E-2,0,-10.890000000000002,0,-15,20]
[null,"1111422-25",571,1,"<130mph",1,"< 15,000",1,"Concrete",1,"Hard",4,"< 300",2,"Poor",2,"Poor","25 to 30",25,30,-7,6.0770769230769239E-2,0,-15.246000000000002,0,-20,20]
[null,"1111422-30",572,1,"<130mph",1,"< 15,000",1,"Concrete",1,"Hard",4,"< 300",2,"Poor",2,"Poor","Above 30",30,1000,-7,6.0770769230769239E-2,0,-21.780000000000005,-0.5,-25,20]
[null,"1113422-0",573,1,"<130mph",1,"< 15,000",1,"Concrete",3,"Soft",4,"< 300",2,"Poor",2,"Poor","0 to 10",0,10,-7,8.3076923076923104E-2,0,-8.8000000000000007,0,-12,20]
[null,"1113422-10",574,1,"<130mph",1,"< 15,000",1,"Concrete",3,"Soft",4,"< 300",2,"Poor",2,"Poor","10 to 25",10,25,-7,8.2246153846153872E-2,0,-13.310000000000004,0,-15,20]
[null,"1113422-25",575,1,"<130mph",1,"< 15,000",1,"Concrete",3,"Soft",4,"< 300",2,"Poor",2,"Poor","25 to 30",25,30,-7,0.10417846153846158,0,-18.634000000000007,0,-20,20]
[null,"1113422-30",576,1,"<130mph",1,"< 15,000",1,"Concrete",3,"Soft",4,"< 300",2,"Poor",2,"Poor","Above 30",30,1000,-7,0.10417846153846158,0,-26.620000000000008,-0.5,-25,20]
[null,"1512111-0",577,1,"<130mph",5,"65,000 - 100,000",1,"Concrete",2,"Medium",1,"> 600",1,"Good",1,"Good","0 to 10",0,10,-7,0.30769230769230771,0,-8,0,-12,50]
[null,{"$f":"D596&F596&H596&J596&L596&N596&P596&\"-\"&S596","v":"1512111-10"},578,1,"<130mph",5,"65,000 - 100,000",1,"Concrete",2,"Medium",1,"> 600",1,"Good",1,"Good","10 to 25",10,25,-7,0.23076923076923078,0,-10,0,-15,50]
[null,"1512111-25",579,1,"<130mph",5,"65,000 - 100,000",1,"Concrete",2,"Medium",1,"> 600",1,"Good",1,"Good","25 to 30",25,30,-7,0.29230769230769232,0,-14,0,-20,50]
[null,"1512111-30",580,1,"<130mph",5,"65,000 - 100,000",1,"Concrete",2,"Medium",1,"> 600",1,"Good",1,"Good","Above 30",30,1000,-7,0.29230769230769232,0,-20,-0.5,-25,50]
[null,"1511111-0",581,1,"<130mph",5,"65,000 - 100,000",1,"Concrete",1,"Hard",1,"> 600",1,"Good",1,"Good","0 to 10",0,10,-7,0.2153846153846154,0,-7.2,0,-12,50]
[null,"1511111-10",582,1,"<130mph",5,"65,000 - 100,000",1,"Concrete",1,"Hard",1,"> 600",1,"Good",1,"Good","10 to 25",10,25,-7,0.16153846153846152,0,-9,0,-15,50]
[null,"1511111-25",583,1,"<130mph",5,"65,000 - 100,000",1,"Concrete",1,"Hard",1,"> 600",1,"Good",1,"Good","25 to 30",25,30,-7,0.20461538461538462,0,-12.6,0,-20,50]
[null,"1511111-30",584,1,"<130mph",5,"65,000 - 100,000",1,"Concrete",1,"Hard",1,"> 600",1,"Good",1,"Good","Above 30",30,1000,-7,0.20461538461538462,0,-18,-0.5,-25,50]
[null,"1513111-0",585,1,"<130mph",5,"65,000 - 100,000",1,"Concrete",3,"Soft",1,"> 600",1,"Good",1,"Good","0 to 10",0,10,-7,0.36923076923076925,0,-8.8000000000000007,0,-12,50]
[null,"1513111-10",586,1,"<130mph",5,"65,000 - 100,000",1,"Concrete",3,"Soft",1,"> 600",1,"Good",1,"Good","10 to 25",10,25,-7,0.27692307692307694,0,-11,0,-15,50]
[null,"1513111-25",587,1,"<130mph",5,"65,000 - 100,000",1,"Concrete",3,"Soft",1,"> 600",1,"Good",1,"Good","25 to 30",25,30,-7,0.35076923076923078,0,-15.400000000000002,0,-20,50]
[null,"1513111-30",588,1,"<130mph",5,"65,000 - 100,000",1,"Concrete",3,"Soft",1,"> 600",1,"Good",1,"Good","Above 30",30,1000,-7,0.35076923076923078,0,-22,-0.5,-25,50]
[null,"1512121-0",589,1,"<130mph",5,"65,000 - 100,000",1,"Concrete",2,"Medium",1,"> 600",2,"Poor",1,"Good","0 to 10",0,10,-7,0.30769230769230771,0,-8,0,-12,50]
[null,"1512121-10",590,1,"<130mph",5,"65,000 - 100,000",1,"Concrete",2,"Medium",1,"> 600",2,"Poor",1,"Good","10 to 25",10,25,-7,0.27692307692307694,0,-11,0,-15,50]
[null,"1512121-25",591,1,"<130mph",5,"65,000 - 100,000",1,"Concrete",2,"Medium",1,"> 600",2,"Poor",1,"Good","25 to 30",25,30,-7,0.35076923076923078,0,-15.400000000000002,0,-20,50]
[null,"1512121-30",592,1,"<130mph",5,"65,000 - 100,000",1,"Concrete",2,"Medium",1,"> 600",2,"Poor",1,"Good","Above 30",30,1000,-7,0.35076923076923078,0,-22,-0.5,-25,50]
[null,"1511121-0",593,1,"<130mph",5,"65,000 - 100,000",1,"Concrete",1,"Hard",1,"> 600",2,"Poor",1,"Good","0 to 10",0,10,-7,0.2153846153846154,0,-7.2,0,-12,50]
[null,"1511121-10",594,1,"<130mph",5,"65,000 - 100,000",1,"Concrete",1,"Hard",1,"> 600",2,"Poor",1,"Good","10 to 25",10,25,-7,0.19384615384615386,0,-9.9,0,-15,50]
[null,"1511121-25",595,1,"<130mph",5,"65,000 - 100,000",1,"Concrete",1,"Hard",1,"> 600",2,"Poor",1,"Good","25 to 30",25,30,-7,0.24553846153846157,0,-13.860000000000001,0,-20,50]
[null,"1511121-30",596,1,"<130mph",5,"65,000 - 100,000",1,"Concrete",1,"Hard",1,"> 600",2,"Poor",1,"Good","Above 30",30,1000,-7,0.24553846153846157,0,-19.8,-0.5,-25,50]
[null,"1513121-0",597,1,"<130mph",5,"65,000 - 100,000",1,"Concrete",3,"Soft",1,"> 600",2,"Poor",1,"Good","0 to 10",0,10,-7,0.36923076923076925,0,-8.8000000000000007,0,-12,50]
[null,"1513121-10",598,1,"<130mph",5,"65,000 - 100,000",1,"Concrete",3,"Soft",1,"> 600",2,"Poor",1,"Good","10 to 25",10,25,-7,0.3323076923076923,0,-12.100000000000001,0,-15,50]
[null,"1513121-25",599,1,"<130mph",5,"65,000 - 100,000",1,"Concrete",3,"Soft",1,"> 600",2,"Poor",1,"Good","25 to 30",25,30,-7,0.42092307692307696,0,-16.940000000000001,0,-20,50]
[null,"1513121-30",600,1,"<130mph",5,"65,000 - 100,000",1,"Concrete",3,"Soft",1,"> 600",2,"Poor",1,"Good","Above 30",30,1000,-7,0.42092307692307696,0,-24.200000000000003,-0.5,-25,50]
[null,"1512112-0",601,1,"<130mph",5,"65,000 - 100,000",1,"Concrete",2,"Medium",1,"> 600",1,"Good",2,"Poor","0 to 10",0,10,-7,0.30769230769230771,0,-8,0,-12,50]
[null,"1512112-10",602,1,"<130mph",5,"65,000 - 100,000",1,"Concrete",2,"Medium",1,"> 600",1,"Good",2,"Poor","10 to 25",10,25,-7,0.25384615384615389,0,-11,0,-15,50]
[null,"1512112-25",603,1,"<130mph",5,"65,000 - 100,000",1,"Concrete",2,"Medium",1,"> 600",1,"Good",2,"Poor","25 to 30",25,30,-7,0.32153846153846161,0,-15.400000000000002,0,-20,50]
[null,"1512112-30",604,1,"<130mph",5,"65,000 - 100,000",1,"Concrete",2,"Medium",1,"> 600",1,"Good",2,"Poor","Above 30",30,1000,-7,0.32153846153846161,0,-22,-0.5,-25,50]
[null,"1511112-0",605,1,"<130mph",5,"65,000 - 100,000",1,"Concrete",1,"Hard",1,"> 600",1,"Good",2,"Poor","0 to 10",0,10,-7,0.2153846153846154,0,-7.2,0,-12,50]
[null,"1511112-10",606,1,"<130mph",5,"65,000 - 100,000",1,"Concrete",1,"Hard",1,"> 600",1,"Good",2,"Poor","10 to 25",10,25,-7,0.17769230769230768,0,-9.9,0,-15,50]
[null,"1511112-25",607,1,"<130mph",5,"65,000 - 100,000",1,"Concrete",1,"Hard",1,"> 600",1,"Good",2,"Poor","25 to 30",25,30,-7,0.22507692307692309,0,-13.860000000000001,0,-20,50]
[null,"1511112-30",608,1,"<130mph",5,"65,000 - 100,000",1,"Concrete",1,"Hard",1,"> 600",1,"Good",2,"Poor","Above 30",30,1000,-7,0.22507692307692309,0,-19.8,-0.5,-25,50]
[null,"1513112-0",609,1,"<130mph",5,"65,000 - 100,000",1,"Concrete",3,"Soft",1,"> 600",1,"Good",2,"Poor","0 to 10",0,10,-7,0.36923076923076925,0,-8.8000000000000007,0,-12,50]
[null,"1513112-10",610,1,"<130mph",5,"65,000 - 100,000",1,"Concrete",3,"Soft",1,"> 600",1,"Good",2,"Poor","10 to 25",10,25,-7,0.30461538461538468,0,-12.100000000000001,0,-15,50]
[null,"1513112-25",611,1,"<130mph",5,"65,000 - 100,000",1,"Concrete",3,"Soft",1,"> 600",1,"Good",2,"Poor","25 to 30",25,30,-7,0.38584615384615389,0,-16.940000000000001,0,-20,50]
[null,"1513112-30",612,1,"<130mph",5,"65,000 - 100,000",1,"Concrete",3,"Soft",1,"> 600",1,"Good",2,"Poor","Above 30",30,1000,-7,0.38584615384615389,0,-24.200000000000003,-0.5,-25,50]
[null,"1512122-0",613,1,"<130mph",5,"65,000 - 100,000",1,"Concrete",2,"Medium",1,"> 600",2,"Poor",2,"Poor","0 to 10",0,10,-7,0.30769230769230771,0,-8,0,-12,50]
[null,"1512122-10",614,1,"<130mph",5,"65,000 - 100,000",1,"Concrete",2,"Medium",1,"> 600",2,"Poor",2,"Poor","10 to 25",10,25,-7,0.30461538461538468,0,-12.100000000000001,0,-15,50]
[null,"1512122-25",615,1,"<130mph",5,"65,000 - 100,000",1,"Concrete",2,"Medium",1,"> 600",2,"Poor",2,"Poor","25 to 30",25,30,-7,0.38584615384615389,0,-16.940000000000001,0,-20,50]
[null,"1512122-30",616,1,"<130mph",5,"65,000 - 100,000",1,"Concrete",2,"Medium",1,"> 600",2,"Poor",2,"Poor","Above 30",30,1000,-7,0.38584615384615389,0,-24.200000000000003,-0.5,-25,50]
[null,"1511122-0",617,1,"<130mph",5,"65,000 - 100,000",1,"Concrete",1,"Hard",1,"> 600",2,"Poor",2,"Poor","0 to 10",0,10,-7,0.2153846153846154,0,-7.2,0,-12,50]
[null,"1511122-10",618,1,"<130mph",5,"65,000 - 100,000",1,"Concrete",1,"Hard",1,"> 600",2,"Poor",2,"Poor","10 to 25",10,25,-7,0.21323076923076925,0,-10.890000000000002,0,-15,50]
[null,"1511122-25",619,1,"<130mph",5,"65,000 - 100,000",1,"Concrete",1,"Hard",1,"> 600",2,"Poor",2,"Poor","25 to 30",25,30,-7,0.27009230769230769,0,-15.246000000000002,0,-20,50]
[null,"1511122-30",620,1,"<130mph",5,"65,000 - 100,000",1,"Concrete",1,"Hard",1,"> 600",2,"Poor",2,"Poor","Above 30",30,1000,-7,0.27009230769230769,0,-21.780000000000005,-0.5,-25,50]
[null,"1513122-0",621,1,"<130mph",5,"65,000 - 100,000",1,"Concrete",3,"Soft",1,"> 600",2,"Poor",2,"Poor","0 to 10",0,10,-7,0.36923076923076925,0,-8.8000000000000007,0,-12,50]
[null,"1513122-10",622,1,"<130mph",5,"65,000 - 100,000",1,"Concrete",3,"Soft",1,"> 600",2,"Poor",2,"Poor","10 to 25",10,25,-7,0.36553846153846153,0,-13.310000000000004,0,-15,50]
[null,"1513122-25",623,1,"<130mph",5,"65,000 - 100,000",1,"Concrete",3,"Soft",1,"> 600",2,"Poor",2,"Poor","25 to 30",25,30,-7,0.46301538461538461,0,-18.634000000000007,0,-20,50]
[null,"1513122-30",624,1,"<130mph",5,"65,000 - 100,000",1,"Concrete",3,"Soft",1,"> 600",2,"Poor",2,"Poor","Above 30",30,1000,-7,0.46301538461538461,0,-26.620000000000008,-0.5,-25,50]
[null,"1512211-0",625,1,"<130mph",5,"65,000 - 100,000",1,"Concrete",2,"Medium",2,"400 < R < 600",1,"Good",1,"Good","0 to 10",0,10,-7,0.33846153846153854,0,-8,0,-12,50]
[null,"1512211-10",626,1,"<130mph",5,"65,000 - 100,000",1,"Concrete",2,"Medium",2,"400 < R < 600",1,"Good",1,"Good","10 to 25",10,25,-7,0.25384615384615389,0,-10,0,-15,50]
[null,"1512211-25",627,1,"<130mph",5,"65,000 - 100,000",1,"Concrete",2,"Medium",2,"400 < R < 600",1,"Good",1,"Good","25 to 30",25,30,-7,0.32153846153846161,0,-14,0,-20,50]
[null,"1512211-30",628,1,"<130mph",5,"65,000 - 100,000",1,"Concrete",2,"Medium",2,"400 < R < 600",1,"Good",1,"Good","Above 30",30,1000,-7,0.32153846153846161,0,-20,-0.5,-25,50]
[null,"1511211-0",629,1,"<130mph",5,"65,000 - 100,000",1,"Concrete",1,"Hard",2,"400 < R < 600",1,"Good",1,"Good","0 to 10",0,10,-7,0.23692307692307693,0,-7.2,0,-12,50]
[null,"1511211-10",630,1,"<130mph",5,"65,000 - 100,000",1,"Concrete",1,"Hard",2,"400 < R < 600",1,"Good",1,"Good","10 to 25",10,25,-7,0.17769230769230768,0,-9,0,-15,50]
[null,"1511211-25",631,1,"<130mph",5,"65,000 - 100,000",1,"Concrete",1,"Hard",2,"400 < R < 600",1,"Good",1,"Good","25 to 30",25,30,-7,0.22507692307692309,0,-12.6,0,-20,50]
[null,"1511211-30",632,1,"<130mph",5,"65,000 - 100,000",1,"Concrete",1,"Hard",2,"400 < R < 600",1,"Good",1,"Good","Above 30",30,1000,-7,0.22507692307692309,0,-18,-0.5,-25,50]
[null,"1513211-0",633,1,"<130mph",5,"65,000 - 100,000",1,"Concrete",3,"Soft",2,"400 < R < 600",1,"Good",1,"Good","0 to 10",0,10,-7,0.40615384615384625,0,-8.8000000000000007,0,-12,50]
[null,"1513211-10",634,1,"<130mph",5,"65,000 - 100,000",1,"Concrete",3,"Soft",2,"400 < R < 600",1,"Good",1,"Good","10 to 25",10,25,-7,0.30461538461538468,0,-11,0,-15,50]
[null,"1513211-25",635,1,"<130mph",5,"65,000 - 100,000",1,"Concrete",3,"Soft",2,"400 < R < 600",1,"Good",1,"Good","25 to 30",25,30,-7,0.38584615384615389,0,-15.400000000000002,0,-20,50]
[null,"1513211-30",636,1,"<130mph",5,"65,000 - 100,000",1,"Concrete",3,"Soft",2,"400 < R < 600",1,"Good",1,"Good","Above 30",30,1000,-7,0.38584615384615389,0,-22,-0.5,-25,50]
[null,"1512221-0",637,1,"<130mph",5,"65,000 - 100,000",1,"Concrete",2,"Medium",2,"400 < R < 600",2,"Poor",1,"Good","0 to 10",0,10,-7,0.33846153846153854,0,-8,0,-12,50]
[null,"1512221-10",638,1,"<130mph",5,"65,000 - 100,000",1,"Concrete",2,"Medium",2,"400 < R < 600",2,"Poor",1,"Good","10 to 25",10,25,-7,0.30461538461538468,0,-11,0,-15,50]
[null,"1512221-25",639,1,"<130mph",5,"65,000 - 100,000",1,"Concrete",2,"Medium",2,"400 < R < 600",2,"Poor",1,"Good","25 to 30",25,30,-7,0.38584615384615389,0,-15.400000000000002,0,-20,50]
[null,"1512221-30",640,1,"<130mph",5,"65,000 - 100,000",1,"Concrete",2,"Medium",2,"400 < R < 600",2,"Poor",1,"Good","Above 30",30,1000,-7,0.38584615384615389,0,-22,-0.5,-25,50]
[null,"1511221-0",641,1,"<130mph",5,"65,000 - 100,000",1,"Concrete",1,"Hard",2,"400 < R < 600",2,"Poor",1,"Good","0 to 10",0,10,-7,0.23692307692307693,0,-7.2,0,-12,50]
[null,{"$f":"D660&F660&H660&J660&L660&N660&P660&\"-\"&S660","v":"1511221-10"},642,1,"<130mph",5,"65,000 - 100,000",1,"Concrete",1,"Hard",2,"400 < R < 600",2,"Poor",1,"Good","10 to 25",10,25,-7,0.2132307692307692,0,-9.9,0,-15,50]
[null,"1511221-25",643,1,"<130mph",5,"65,000 - 100,000",1,"Concrete",1,"Hard",2,"400 < R < 600",2,"Poor",1,"Good","25 to 30",25,30,-7,0.27009230769230769,0,-13.860000000000001,0,-20,50]
[null,"1511221-30",644,1,"<130mph",5,"65,000 - 100,000",1,"Concrete",1,"Hard",2,"400 < R < 600",2,"Poor",1,"Good","Above 30",30,1000,-7,0.27009230769230769,0,-19.8,-0.5,-25,50]
[null,"1513221-0",645,1,"<130mph",5,"65,000 - 100,000",1,"Concrete",3,"Soft",2,"400 < R < 600",2,"Poor",1,"Good","0 to 10",0,10,-7,0.40615384615384625,0,-8.8000000000000007,0,-12,50]
[null,"1513221-10",646,1,"<130mph",5,"65,000 - 100,000",1,"Concrete",3,"Soft",2,"400 < R < 600",2,"Poor",1,"Good","10 to 25",10,25,-7,0.36553846153846153,0,-12.100000000000001,0,-15,50]
[null,"1513221-25",647,1,"<130mph",5,"65,000 - 100,000",1,"Concrete",3,"Soft",2,"400 < R < 600",2,"Poor",1,"Good","25 to 30",25,30,-7,0.46301538461538461,0,-16.940000000000001,0,-20,50]
[null,"1513221-30",648,1,"<130mph",5,"65,000 - 100,000",1,"Concrete",3,"Soft",2,"400 < R < 600",2,"Poor",1,"Good","Above 30",30,1000,-7,0.46301538461538461,0,-24.200000000000003,-0.5,-25,50]
[null,"1512212-0",649,1,"<130mph",5,"65,000 - 100,000",1,"Concrete",2,"Medium",2,"400 < R < 600",1,"Good",2,"Poor","0 to 10",0,10,-7,0.33846153846153854,0,-8,0,-12,50]
[null,"1512212-10",650,1,"<130mph",5,"65,000 - 100,000",1,"Concrete",2,"Medium",2,"400 < R < 600",1,"Good",2,"Poor","10 to 25",10,25,-7,0.27923076923076928,0,-11,0,-15,50]
[null,"1512212-25",651,1,"<130mph",5,"65,000 - 100,000",1,"Concrete",2,"Medium",2,"400 < R < 600",1,"Good",2,"Poor","25 to 30",25,30,-7,0.35369230769230781,0,-15.400000000000002,0,-20,50]
[null,"1512212-30",652,1,"<130mph",5,"65,000 - 100,000",1,"Concrete",2,"Medium",2,"400 < R < 600",1,"Good",2,"Poor","Above 30",30,1000,-7,0.35369230769230781,0,-22,-0.5,-25,50]
[null,"1511212-0",653,1,"<130mph",5,"65,000 - 100,000",1,"Concrete",1,"Hard",2,"400 < R < 600",1,"Good",2,"Poor","0 to 10",0,10,-7,0.23692307692307693,0,-7.2,0,-12,50]
[null,"1511212-10",654,1,"<130mph",5,"65,000 - 100,000",1,"Concrete",1,"Hard",2,"400 < R < 600",1,"Good",2,"Poor","10 to 25",10,25,-7,0.19546153846153849,0,-9.9,0,-15,50]
[null,"1511212-25",655,1,"<130mph",5,"65,000 - 100,000",1,"Concrete",1,"Hard",2,"400 < R < 600",1,"Good",2,"Poor","25 to 30",25,30,-7,0.24758461538461543,0,-13.860000000000001,0,-20,50]
[null,"1511212-30",656,1,"<130mph",5,"65,000 - 100,000",1,"Concrete",1,"Hard",2,"400 < R < 600",1,"Good",2,"Poor","Above 30",30,1000,-7,0.24758461538461543,0,-19.8,-0.5,-25,50]
[null,"1513212-0",657,1,"<130mph",5,"65,000 - 100,000",1,"Concrete",3,"Soft",2,"400 < R < 600",1,"Good",2,"Poor","0 to 10",0,10,-7,0.40615384615384625,0,-8.8000000000000007,0,-12,50]
[null,"1513212-10",658,1,"<130mph",5,"65,000 - 100,000",1,"Concrete",3,"Soft",2,"400 < R < 600",1,"Good",2,"Poor","10 to 25",10,25,-7,0.33507692307692311,0,-12.100000000000001,0,-15,50]
[null,"1513212-25",659,1,"<130mph",5,"65,000 - 100,000",1,"Concrete",3,"Soft",2,"400 < R < 600",1,"Good",2,"Poor","25 to 30",25,30,-7,0.42443076923076933,0,-16.940000000000001,0,-20,50]
[null,"1513212-30",660,1,"<130mph",5,"65,000 - 100,000",1,"Concrete",3,"Soft",2,"400 < R < 600",1,"Good",2,"Poor","Above 30",30,1000,-7,0.42443076923076933,0,-24.200000000000003,-0.5,-25,50]
[null,"1512222-0",661,1,"<130mph",5,"65,000 - 100,000",1,"Concrete",2,"Medium",2,"400 < R < 600",2,"Poor",2,"Poor","0 to 10",0,10,-7,0.33846153846153854,0,-8,0,-12,50]
[null,"1512222-10",662,1,"<130mph",5,"65,000 - 100,000",1,"Concrete",2,"Medium",2,"400 < R < 600",2,"Poor",2,"Poor","10 to 25",10,25,-7,0.33507692307692311,0,-12.100000000000001,0,-15,50]
[null,"1512222-25",663,1,"<130mph",5,"65,000 - 100,000",1,"Concrete",2,"Medium",2,"400 < R < 600",2,"Poor",2,"Poor","25 to 30",25,30,-7,0.42443076923076933,0,-16.940000000000001,0,-20,50]
[null,"1512222-30",664,1,"<130mph",5,"65,000 - 100,000",1,"Concrete",2,"Medium",2,"400 < R < 600",2,"Poor",2,"Poor","Above 30",30,1000,-7,0.42443076923076933,0,-24.200000000000003,-0.5,-25,50]
[null,"1511222-0",665,1,"<130mph",5,"65,000 - 100,000",1,"Concrete",1,"Hard",2,"400 < R < 600",2,"Poor",2,"Poor","0 to 10",0,10,-7,0.23692307692307693,0,-7.2,0,-12,50]
[null,"1511222-10",666,1,"<130mph",5,"65,000 - 100,000",1,"Concrete",1,"Hard",2,"400 < R < 600",2,"Poor",2,"Poor","10 to 25",10,25,-7,0.23455384615384614,0,-10.890000000000002,0,-15,50]
[null,"1511222-25",667,1,"<130mph",5,"65,000 - 100,000",1,"Concrete",1,"Hard",2,"400 < R < 600",2,"Poor",2,"Poor","25 to 30",25,30,-7,0.29710153846153847,0,-15.246000000000002,0,-20,50]
[null,"1511222-30",668,1,"<130mph",5,"65,000 - 100,000",1,"Concrete",1,"Hard",2,"400 < R < 600",2,"Poor",2,"Poor","Above 30",30,1000,-7,0.29710153846153847,0,-21.780000000000005,-0.5,-25,50]
[null,"1513222-0",669,1,"<130mph",5,"65,000 - 100,000",1,"Concrete",3,"Soft",2,"400 < R < 600",2,"Poor",2,"Poor","0 to 10",0,10,-7,0.40615384615384625,0,-8.8000000000000007,0,-12,50]
[null,"1513222-10",670,1,"<130mph",5,"65,000 - 100,000",1,"Concrete",3,"Soft",2,"400 < R < 600",2,"Poor",2,"Poor","10 to 25",10,25,-7,0.40209230769230769,0,-13.310000000000004,0,-15,50]
[null,"1513222-25",671,1,"<130mph",5,"65,000 - 100,000",1,"Concrete",3,"Soft",2,"400 < R < 600",2,"Poor",2,"Poor","25 to 30",25,30,-7,0.50931692307692311,0,-18.634000000000007,0,-20,50]
[null,"1513222-30",672,1,"<130mph",5,"65,000 - 100,000",1,"Concrete",3,"Soft",2,"400 < R < 600",2,"Poor",2,"Poor","Above 30",30,1000,-7,0.50931692307692311,0,-26.620000000000008,-0.5,-25,50]
[null,"1512311-0",673,1,"<130mph",5,"65,000 - 100,000",1,"Concrete",2,"Medium",3,"300 < R < 400",1,"Good",1,"Good","0 to 10",0,10,-7,0.33846153846153854,0,-8,0,-12,25]
[null,"1512311-10",674,1,"<130mph",5,"65,000 - 100,000",1,"Concrete",2,"Medium",3,"300 < R < 400",1,"Good",1,"Good","10 to 25",10,25,-7,0.25384615384615389,0,-10,0,-15,25]
[null,"1512311-25",675,1,"<130mph",5,"65,000 - 100,000",1,"Concrete",2,"Medium",3,"300 < R < 400",1,"Good",1,"Good","25 to 30",25,30,-7,0.32153846153846161,0,-14,0,-20,25]
[null,"1512311-30",676,1,"<130mph",5,"65,000 - 100,000",1,"Concrete",2,"Medium",3,"300 < R < 400",1,"Good",1,"Good","Above 30",30,1000,-7,0.32153846153846161,0,-20,-0.5,-25,25]
[null,"1511311-0",677,1,"<130mph",5,"65,000 - 100,000",1,"Concrete",1,"Hard",3,"300 < R < 400",1,"Good",1,"Good","0 to 10",0,10,-7,0.23692307692307693,0,-7.2,0,-12,25]
[null,"1511311-10",678,1,"<130mph",5,"65,000 - 100,000",1,"Concrete",1,"Hard",3,"300 < R < 400",1,"Good",1,"Good","10 to 25",10,25,-7,0.17769230769230768,0,-9,0,-15,25]
[null,"1511311-25",679,1,"<130mph",5,"65,000 - 100,000",1,"Concrete",1,"Hard",3,"300 < R < 400",1,"Good",1,"Good","25 to 30",25,30,-7,0.22507692307692309,0,-12.6,0,-20,25]
[null,"1511311-30",680,1,"<130mph",5,"65,000 - 100,000",1,"Concrete",1,"Hard",3,"300 < R < 400",1,"Good",1,"Good","Above 30",30,1000,-7,0.22507692307692309,0,-18,-0.5,-25,25]
[null,"1513311-0",681,1,"<130mph",5,"65,000 - 100,000",1,"Concrete",3,"Soft",3,"300 < R < 400",1,"Good",1,"Good","0 to 10",0,10,-7,0.40615384615384625,0,-8.8000000000000007,0,-12,25]
[null,"1513311-10",682,1,"<130mph",5,"65,000 - 100,000",1,"Concrete",3,"Soft",3,"300 < R < 400",1,"Good",1,"Good","10 to 25",10,25,-7,0.30461538461538468,0,-11,0,-15,25]
[null,"1513311-25",683,1,"<130mph",5,"65,000 - 100,000",1,"Concrete",3,"Soft",3,"300 < R < 400",1,"Good",1,"Good","25 to 30",25,30,-7,0.38584615384615389,0,-15.400000000000002,0,-20,25]
[null,"1513311-30",684,1,"<130mph",5,"65,000 - 100,000",1,"Concrete",3,"Soft",3,"300 < R < 400",1,"Good",1,"Good","Above 30",30,1000,-7,0.38584615384615389,0,-22,-0.5,-25,25]
[null,"1512321-0",685,1,"<130mph",5,"65,000 - 100,000",1,"Concrete",2,"Medium",3,"300 < R < 400",2,"Poor",1,"Good","0 to 10",0,10,-7,0.33846153846153854,0,-8,0,-12,25]
[null,"1512321-10",686,1,"<130mph",5,"65,000 - 100,000",1,"Concrete",2,"Medium",3,"300 < R < 400",2,"Poor",1,"Good","10 to 25",10,25,-7,0.30461538461538468,0,-11,0,-15,25]
[null,"1512321-25",687,1,"<130mph",5,"65,000 - 100,000",1,"Concrete",2,"Medium",3,"300 < R < 400",2,"Poor",1,"Good","25 to 30",25,30,-7,0.38584615384615389,0,-15.400000000000002,0,-20,25]
[null,"1512321-30",688,1,"<130mph",5,"65,000 - 100,000",1,"Concrete",2,"Medium",3,"300 < R < 400",2,"Poor",1,"Good","Above 30",30,1000,-7,0.38584615384615389,0,-22,-0.5,-25,25]
[null,"1511321-0",689,1,"<130mph",5,"65,000 - 100,000",1,"Concrete",1,"Hard",3,"300 < R < 400",2,"Poor",1,"Good","0 to 10",0,10,-7,0.23692307692307693,0,-7.2,0,-12,25]
[null,"1511321-10",690,1,"<130mph",5,"65,000 - 100,000",1,"Concrete",1,"Hard",3,"300 < R < 400",2,"Poor",1,"Good","10 to 25",10,25,-7,0.2132307692307692,0,-9.9,0,-15,25]
[null,"1511321-25",691,1,"<130mph",5,"65,000 - 100,000",1,"Concrete",1,"Hard",3,"300 < R < 400",2,"Poor",1,"Good","25 to 30",25,30,-7,0.27009230769230769,0,-13.860000000000001,0,-20,25]
[null,"1511321-30",692,1,"<130mph",5,"65,000 - 100,000",1,"Concrete",1,"Hard",3,"300 < R < 400",2,"Poor",1,"Good","Above 30",30,1000,-7,0.27009230769230769,0,-19.8,-0.5,-25,25]
[null,"1513321-0",693,1,"<130mph",5,"65,000 - 100,000",1,"Concrete",3,"Soft",3,"300 < R < 400",2,"Poor",1,"Good","0 to 10",0,10,-7,0.40615384615384625,0,-8.8000000000000007,0,-12,25]
[null,"1513321-10",694,1,"<130mph",5,"65,000 - 100,000",1,"Concrete",3,"Soft",3,"300 < R < 400",2,"Poor",1,"Good","10 to 25",10,25,-7,0.36553846153846153,0,-12.100000000000001,0,-15,25]
[null,"1513321-25",695,1,"<130mph",5,"65,000 - 100,000",1,"Concrete",3,"Soft",3,"300 < R < 400",2,"Poor",1,"Good","25 to 30",25,30,-7,0.46301538461538461,0,-16.940000000000001,0,-20,25]
[null,"1513321-30",696,1,"<130mph",5,"65,000 - 100,000",1,"Concrete",3,"Soft",3,"300 < R < 400",2,"Poor",1,"Good","Above 30",30,1000,-7,0.46301538461538461,0,-24.200000000000003,-0.5,-25,25]
[null,"1512312-0",697,1,"<130mph",5,"65,000 - 100,000",1,"Concrete",2,"Medium",3,"300 < R < 400",1,"Good",2,"Poor","0 to 10",0,10,-7,0.33846153846153854,0,-8,0,-12,25]
[null,"1512312-10",698,1,"<130mph",5,"65,000 - 100,000",1,"Concrete",2,"Medium",3,"300 < R < 400",1,"Good",2,"Poor","10 to 25",10,25,-7,0.27923076923076928,0,-11,0,-15,25]
[null,"1512312-25",699,1,"<130mph",5,"65,000 - 100,000",1,"Concrete",2,"Medium",3,"300 < R < 400",1,"Good",2,"Poor","25 to 30",25,30,-7,0.35369230769230781,0,-15.400000000000002,0,-20,25]
[null,"1512312-30",700,1,"<130mph",5,"65,000 - 100,000",1,"Concrete",2,"Medium",3,"300 < R < 400",1,"Good",2,"Poor","Above 30",30,1000,-7,0.35369230769230781,0,-22,-0.5,-25,25]
[null,"1511312-0",701,1,"<130mph",5,"65,000 - 100,000",1,"Concrete",1,"Hard",3,"300 < R < 400",1,"Good",2,"Poor","0 to 10",0,10,-7,0.23692307692307693,0,-7.2,0,-12,25]
[null,"1511312-10",702,1,"<130mph",5,"65,000 - 100,000",1,"Concrete",1,"Hard",3,"300 < R < 400",1,"Good",2,"Poor","10 to 25",10,25,-7,0.19546153846153849,0,-9.9,0,-15,25]
[null,"1511312-25",703,1,"<130mph",5,"65,000 - 100,000",1,"Concrete",1,"Hard",3,"300 < R < 400",1,"Good",2,"Poor","25 to 30",25,30,-7,0.24758461538461543,0,-13.860000000000001,0,-20,25]
[null,"1511312-30",704,1,"<130mph",5,"65,000 - 100,000",1,"Concrete",1,"Hard",3,"300 < R < 400",1,"Good",2,"Poor","Above 30",30,1000,-7,0.24758461538461543,0,-19.8,-0.5,-25,25]
[null,"1513312-0",705,1,"<130mph",5,"65,000 - 100,000",1,"Concrete",3,"Soft",3,"300 < R < 400",1,"Good",2,"Poor","0 to 10",0,10,-7,0.40615384615384625,0,-8.8000000000000007,0,-12,25]
[null,{"$f":"D724&F724&H724&J724&L724&N724&P724&\"-\"&S724","v":"1513312-10"},706,1,"<130mph",5,"65,000 - 100,000",1,"Concrete",3,"Soft",3,"300 < R < 400",1,"Good",2,"Poor","10 to 25",10,25,-7,0.33507692307692311,0,-12.100000000000001,0,-15,25]
[null,"1513312-25",707,1,"<130mph",5,"65,000 - 100,000",1,"Concrete",3,"Soft",3,"300 < R < 400",1,"Good",2,"Poor","25 to 30",25,30,-7,0.42443076923076933,0,-16.940000000000001,0,-20,25]
[null,"1513312-30",708,1,"<130mph",5,"65,000 - 100,000",1,"Concrete",3,"Soft",3,"300 < R < 400",1,"Good",2,"Poor","Above 30",30,1000,-7,0.42443076923076933,0,-24.200000000000003,-0.5,-25,25]
[null,"1512322-0",709,1,"<130mph",5,"65,000 - 100,000",1,"Concrete",2,"Medium",3,"300 < R < 400",2,"Poor",2,"Poor","0 to 10",0,10,-7,0.33846153846153854,0,-8,0,-12,25]
[null,"1512322-10",710,1,"<130mph",5,"65,000 - 100,000",1,"Concrete",2,"Medium",3,"300 < R < 400",2,"Poor",2,"Poor","10 to 25",10,25,-7,0.33507692307692311,0,-12.100000000000001,0,-15,25]
[null,"1512322-25",711,1,"<130mph",5,"65,000 - 100,000",1,"Concrete",2,"Medium",3,"300 < R < 400",2,"Poor",2,"Poor","25 to 30",25,30,-7,0.42443076923076933,0,-16.940000000000001,0,-20,25]
[null,"1512322-30",712,1,"<130mph",5,"65,000 - 100,000",1,"Concrete",2,"Medium",3,"300 < R < 400",2,"Poor",2,"Poor","Above 30",30,1000,-7,0.42443076923076933,0,-24.200000000000003,-0.5,-25,25]
[null,"1511322-0",713,1,"<130mph",5,"65,000 - 100,000",1,"Concrete",1,"Hard",3,"300 < R < 400",2,"Poor",2,"Poor","0 to 10",0,10,-7,0.23692307692307693,0,-7.2,0,-12,25]
[null,"1511322-10",714,1,"<130mph",5,"65,000 - 100,000",1,"Concrete",1,"Hard",3,"300 < R < 400",2,"Poor",2,"Poor","10 to 25",10,25,-7,0.23455384615384614,0,-10.890000000000002,0,-15,25]
[null,"1511322-25",715,1,"<130mph",5,"65,000 - 100,000",1,"Concrete",1,"Hard",3,"300 < R < 400",2,"Poor",2,"Poor","25 to 30",25,30,-7,0.29710153846153847,0,-15.246000000000002,0,-20,25]
[null,"1511322-30",716,1,"<130mph",5,"65,000 - 100,000",1,"Concrete",1,"Hard",3,"300 < R < 400",2,"Poor",2,"Poor","Above 30",30,1000,-7,0.29710153846153847,0,-21.780000000000005,-0.5,-25,25]
[null,"1513322-0",717,1,"<130mph",5,"65,000 - 100,000",1,"Concrete",3,"Soft",3,"300 < R < 400",2,"Poor",2,"Poor","0 to 10",0,10,-7,0.40615384615384625,0,-8.8000000000000007,0,-12,25]
[null,"1513322-10",718,1,"<130mph",5,"65,000 - 100,000",1,"Concrete",3,"Soft",3,"300 < R < 400",2,"Poor",2,"Poor","10 to 25",10,25,-7,0.40209230769230769,0,-13.310000000000004,0,-15,25]
[null,"1513322-25",719,1,"<130mph",5,"65,000 - 100,000",1,"Concrete",3,"Soft",3,"300 < R < 400",2,"Poor",2,"Poor","25 to 30",25,30,-7,0.50931692307692311,0,-18.634000000000007,0,-20,25]
[null,"1513322-30",720,1,"<130mph",5,"65,000 - 100,000",1,"Concrete",3,"Soft",3,"300 < R < 400",2,"Poor",2,"Poor","Above 30",30,1000,-7,0.50931692307692311,0,-26.620000000000008,-0.5,-25,25]
[null,"1512411-0",721,1,"<130mph",5,"65,000 - 100,000",1,"Concrete",2,"Medium",4,"< 300",1,"Good",1,"Good","0 to 10",0,10,-7,0.46153846153846162,0,-8,0,-12,20]
[null,"1512411-10",722,1,"<130mph",5,"65,000 - 100,000",1,"Concrete",2,"Medium",4,"< 300",1,"Good",1,"Good","10 to 25",10,25,-7,0.3461538461538462,0,-10,0,-15,20]
[null,"1512411-25",723,1,"<130mph",5,"65,000 - 100,000",1,"Concrete",2,"Medium",4,"< 300",1,"Good",1,"Good","25 to 30",25,30,-7,0.43846153846153851,0,-14,0,-20,20]
[null,"1512411-30",724,1,"<130mph",5,"65,000 - 100,000",1,"Concrete",2,"Medium",4,"< 300",1,"Good",1,"Good","Above 30",30,1000,-7,0.43846153846153851,0,-20,-0.5,-25,20]
[null,"1511411-0",725,1,"<130mph",5,"65,000 - 100,000",1,"Concrete",1,"Hard",4,"< 300",1,"Good",1,"Good","0 to 10",0,10,-7,0.32307692307692304,0,-7.2,0,-12,20]
[null,"1511411-10",726,1,"<130mph",5,"65,000 - 100,000",1,"Concrete",1,"Hard",4,"< 300",1,"Good",1,"Good","10 to 25",10,25,-7,0.24230769230769228,0,-9,0,-15,20]
[null,"1511411-25",727,1,"<130mph",5,"65,000 - 100,000",1,"Concrete",1,"Hard",4,"< 300",1,"Good",1,"Good","25 to 30",25,30,-7,0.30692307692307691,0,-12.6,0,-20,20]
[null,"1511411-30",728,1,"<130mph",5,"65,000 - 100,000",1,"Concrete",1,"Hard",4,"< 300",1,"Good",1,"Good","Above 30",30,1000,-7,0.30692307692307691,0,-18,-0.5,-25,20]
[null,"1513411-0",729,1,"<130mph",5,"65,000 - 100,000",1,"Concrete",3,"Soft",4,"< 300",1,"Good",1,"Good","0 to 10",0,10,-7,0.55384615384615388,0,-8.8000000000000007,0,-12,20]
[null,"1513411-10",730,1,"<130mph",5,"65,000 - 100,000",1,"Concrete",3,"Soft",4,"< 300",1,"Good",1,"Good","10 to 25",10,25,-7,0.41538461538461535,0,-11,0,-15,20]
[null,"1513411-25",731,1,"<130mph",5,"65,000 - 100,000",1,"Concrete",3,"Soft",4,"< 300",1,"Good",1,"Good","25 to 30",25,30,-7,0.52615384615384619,0,-15.400000000000002,0,-20,20]
[null,"1513411-30",732,1,"<130mph",5,"65,000 - 100,000",1,"Concrete",3,"Soft",4,"< 300",1,"Good",1,"Good","Above 30",30,1000,-7,0.52615384615384619,0,-22,-0.5,-25,20]
[null,"1512421-0",733,1,"<130mph",5,"65,000 - 100,000",1,"Concrete",2,"Medium",4,"< 300",2,"Poor",1,"Good","0 to 10",0,10,-7,0.46153846153846162,0,-8,0,-12,20]
[null,"1512421-10",734,1,"<130mph",5,"65,000 - 100,000",1,"Concrete",2,"Medium",4,"< 300",2,"Poor",1,"Good","10 to 25",10,25,-7,0.41538461538461535,0,-11,0,-15,20]
[null,"1512421-25",735,1,"<130mph",5,"65,000 - 100,000",1,"Concrete",2,"Medium",4,"< 300",2,"Poor",1,"Good","25 to 30",25,30,-7,0.52615384615384619,0,-15.400000000000002,0,-20,20]
[null,"1512421-30",736,1,"<130mph",5,"65,000 - 100,000",1,"Concrete",2,"Medium",4,"< 300",2,"Poor",1,"Good","Above 30",30,1000,-7,0.52615384615384619,0,-22,-0.5,-25,20]
[null,"1511421-0",737,1,"<130mph",5,"65,000 - 100,000",1,"Concrete",1,"Hard",4,"< 300",2,"Poor",1,"Good","0 to 10",0,10,-7,0.32307692307692304,0,-7.2,0,-12,20]
[null,"1511421-10",738,1,"<130mph",5,"65,000 - 100,000",1,"Concrete",1,"Hard",4,"< 300",2,"Poor",1,"Good","10 to 25",10,25,-7,0.29076923076923072,0,-9.9,0,-15,20]
[null,"1511421-25",739,1,"<130mph",5,"65,000 - 100,000",1,"Concrete",1,"Hard",4,"< 300",2,"Poor",1,"Good","25 to 30",25,30,-7,0.36830769230769228,0,-13.860000000000001,0,-20,20]
[null,"1511421-30",740,1,"<130mph",5,"65,000 - 100,000",1,"Concrete",1,"Hard",4,"< 300",2,"Poor",1,"Good","Above 30",30,1000,-7,0.36830769230769228,0,-19.8,-0.5,-25,20]
[null,"1513421-0",741,1,"<130mph",5,"65,000 - 100,000",1,"Concrete",3,"Soft",4,"< 300",2,"Poor",1,"Good","0 to 10",0,10,-7,0.55384615384615388,0,-8.8000000000000007,0,-12,20]
[null,"1513421-10",742,1,"<130mph",5,"65,000 - 100,000",1,"Concrete",3,"Soft",4,"< 300",2,"Poor",1,"Good","10 to 25",10,25,-7,0.4984615384615384,0,-12.100000000000001,0,-15,20]
[null,"1513421-25",743,1,"<130mph",5,"65,000 - 100,000",1,"Concrete",3,"Soft",4,"< 300",2,"Poor",1,"Good","25 to 30",25,30,-7,0.63138461538461532,0,-16.940000000000001,0,-20,20]
[null,"1513421-30",744,1,"<130mph",5,"65,000 - 100,000",1,"Concrete",3,"Soft",4,"< 300",2,"Poor",1,"Good","Above 30",30,1000,-7,0.63138461538461532,0,-24.200000000000003,-0.5,-25,20]
[null,"1512412-0",745,1,"<130mph",5,"65,000 - 100,000",1,"Concrete",2,"Medium",4,"< 300",1,"Good",2,"Poor","0 to 10",0,10,-7,0.46153846153846162,0,-8,0,-12,20]
[null,"1512412-10",746,1,"<130mph",5,"65,000 - 100,000",1,"Concrete",2,"Medium",4,"< 300",1,"Good",2,"Poor","10 to 25",10,25,-7,0.3807692307692308,0,-11,0,-15,20]
[null,"1512412-25",747,1,"<130mph",5,"65,000 - 100,000",1,"Concrete",2,"Medium",4,"< 300",1,"Good",2,"Poor","25 to 30",25,30,-7,0.48230769230769238,0,-15.400000000000002,0,-20,20]
[null,"1512412-30",748,1,"<130mph",5,"65,000 - 100,000",1,"Concrete",2,"Medium",4,"< 300",1,"Good",2,"Poor","Above 30",30,1000,-7,0.48230769230769238,0,-22,-0.5,-25,20]
[null,"1511412-0",749,1,"<130mph",5,"65,000 - 100,000",1,"Concrete",1,"Hard",4,"< 300",1,"Good",2,"Poor","0 to 10",0,10,-7,0.32307692307692304,0,-7.2,0,-12,20]
[null,"1511412-10",750,1,"<130mph",5,"65,000 - 100,000",1,"Concrete",1,"Hard",4,"< 300",1,"Good",2,"Poor","10 to 25",10,25,-7,0.2665384615384615,0,-9.9,0,-15,20]
[null,"1511412-25",751,1,"<130mph",5,"65,000 - 100,000",1,"Concrete",1,"Hard",4,"< 300",1,"Good",2,"Poor","25 to 30",25,30,-7,0.33761538461538459,0,-13.860000000000001,0,-20,20]
[null,"1511412-30",752,1,"<130mph",5,"65,000 - 100,000",1,"Concrete",1,"Hard",4,"< 300",1,"Good",2,"Poor","Above 30",30,1000,-7,0.33761538461538459,0,-19.8,-0.5,-25,20]
[null,"1513412-0",753,1,"<130mph",5,"65,000 - 100,000",1,"Concrete",3,"Soft",4,"< 300",1,"Good",2,"Poor","0 to 10",0,10,-7,0.55384615384615388,0,-8.8000000000000007,0,-12,20]
[null,"1513412-10",754,1,"<130mph",5,"65,000 - 100,000",1,"Concrete",3,"Soft",4,"< 300",1,"Good",2,"Poor","10 to 25",10,25,-7,0.45692307692307693,0,-12.100000000000001,0,-15,20]
[null,"1513412-25",755,1,"<130mph",5,"65,000 - 100,000",1,"Concrete",3,"Soft",4,"< 300",1,"Good",2,"Poor","25 to 30",25,30,-7,0.57876923076923081,0,-16.940000000000001,0,-20,20]
[null,"1513412-30",756,1,"<130mph",5,"65,000 - 100,000",1,"Concrete",3,"Soft",4,"< 300",1,"Good",2,"Poor","Above 30",30,1000,-7,0.57876923076923081,0,-24.200000000000003,-0.5,-25,20]
[null,"1512422-0",757,1,"<130mph",5,"65,000 - 100,000",1,"Concrete",2,"Medium",4,"< 300",2,"Poor",2,"Poor","0 to 10",0,10,-7,0.46153846153846162,0,-8,0,-12,20]
[null,"1512422-10",758,1,"<130mph",5,"65,000 - 100,000",1,"Concrete",2,"Medium",4,"< 300",2,"Poor",2,"Poor","10 to 25",10,25,-7,0.45692307692307693,0,-12.100000000000001,0,-15,20]
[null,"1512422-25",759,1,"<130mph",5,"65,000 - 100,000",1,"Concrete",2,"Medium",4,"< 300",2,"Poor",2,"Poor","25 to 30",25,30,-7,0.57876923076923081,0,-16.940000000000001,0,-20,20]
[null,"1512422-30",760,1,"<130mph",5,"65,000 - 100,000",1,"Concrete",2,"Medium",4,"< 300",2,"Poor",2,"Poor","Above 30",30,1000,-7,0.57876923076923081,0,-24.200000000000003,-0.5,-25,20]
[null,"1511422-0",761,1,"<130mph",5,"65,000 - 100,000",1,"Concrete",1,"Hard",4,"< 300",2,"Poor",2,"Poor","0 to 10",0,10,-7,0.32307692307692304,0,-7.2,0,-12,20]
[null,"1511422-10",762,1,"<130mph",5,"65,000 - 100,000",1,"Concrete",1,"Hard",4,"< 300",2,"Poor",2,"Poor","10 to 25",10,25,-7,0.31984615384615384,0,-10.890000000000002,0,-15,20]
[null,"1511422-25",763,1,"<130mph",5,"65,000 - 100,000",1,"Concrete",1,"Hard",4,"< 300",2,"Poor",2,"Poor","25 to 30",25,30,-7,0.40513846153846156,0,-15.246000000000002,0,-20,20]
[null,"1511422-30",764,1,"<130mph",5,"65,000 - 100,000",1,"Concrete",1,"Hard",4,"< 300",2,"Poor",2,"Poor","Above 30",30,1000,-7,0.40513846153846156,0,-21.780000000000005,-0.5,-25,20]
[null,"1513422-0",765,1,"<130mph",5,"65,000 - 100,000",1,"Concrete",3,"Soft",4,"< 300",2,"Poor",2,"Poor","0 to 10",0,10,-7,0.55384615384615388,0,-8.8000000000000007,0,-12,20]
[null,"1513422-10",766,1,"<130mph",5,"65,000 - 100,000",1,"Concrete",3,"Soft",4,"< 300",2,"Poor",2,"Poor","10 to 25",10,25,-7,0.54830769230769227,0,-13.310000000000004,0,-15,20]
[null,"1513422-25",767,1,"<130mph",5,"65,000 - 100,000",1,"Concrete",3,"Soft",4,"< 300",2,"Poor",2,"Poor","25 to 30",25,30,-7,0.69452307692307691,0,-18.634000000000007,0,-20,20]
[null,"1513422-30",768,1,"<130mph",5,"65,000 - 100,000",1,"Concrete",3,"Soft",4,"< 300",2,"Poor",2,"Poor","Above 30",30,1000,-7,0.69452307692307691,0,-26.620000000000008,-0.5,-25,20]
[null,"1312111-0",769,1,"<130mph",3,"30,000 - 45,000",1,"Concrete",2,"Medium",1,"> 600",1,"Good",1,"Good","0 to 10",0,10,-7,0.13846153846153847,0,-8,0,-12,50]
[null,{"$f":"D788&F788&H788&J788&L788&N788&P788&\"-\"&S788","v":"1312111-10"},770,1,"<130mph",3,"30,000 - 45,000",1,"Concrete",2,"Medium",1,"> 600",1,"Good",1,"Good","10 to 25",10,25,-7,0.10384615384615384,0,-10,0,-15,50]
[null,"1312111-25",771,1,"<130mph",3,"30,000 - 45,000",1,"Concrete",2,"Medium",1,"> 600",1,"Good",1,"Good","25 to 30",25,30,-7,0.13153846153846155,0,-14,0,-20,50]
[null,"1312111-30",772,1,"<130mph",3,"30,000 - 45,000",1,"Concrete",2,"Medium",1,"> 600",1,"Good",1,"Good","Above 30",30,1000,-7,0.13153846153846155,0,-20,-0.5,-25,50]
[null,"1311111-0",773,1,"<130mph",3,"30,000 - 45,000",1,"Concrete",1,"Hard",1,"> 600",1,"Good",1,"Good","0 to 10",0,10,-7,9.6923076923076917E-2,0,-7.2,0,-12,50]
[null,"1311111-10",774,1,"<130mph",3,"30,000 - 45,000",1,"Concrete",1,"Hard",1,"> 600",1,"Good",1,"Good","10 to 25",10,25,-7,7.2692307692307681E-2,0,-9,0,-15,50]
[null,"1311111-25",775,1,"<130mph",3,"30,000 - 45,000",1,"Concrete",1,"Hard",1,"> 600",1,"Good",1,"Good","25 to 30",25,30,-7,9.207692307692307E-2,0,-12.6,0,-20,50]
[null,"1311111-30",776,1,"<130mph",3,"30,000 - 45,000",1,"Concrete",1,"Hard",1,"> 600",1,"Good",1,"Good","Above 30",30,1000,-7,9.207692307692307E-2,0,-18,-0.5,-25,50]
[null,"1313111-0",777,1,"<130mph",3,"30,000 - 45,000",1,"Concrete",3,"Soft",1,"> 600",1,"Good",1,"Good","0 to 10",0,10,-7,0.16615384615384615,0,-8.8000000000000007,0,-12,50]
[null,"1313111-10",778,1,"<130mph",3,"30,000 - 45,000",1,"Concrete",3,"Soft",1,"> 600",1,"Good",1,"Good","10 to 25",10,25,-7,0.1246153846153846,0,-11,0,-15,50]
[null,"1313111-25",779,1,"<130mph",3,"30,000 - 45,000",1,"Concrete",3,"Soft",1,"> 600",1,"Good",1,"Good","25 to 30",25,30,-7,0.15784615384615383,0,-15.400000000000002,0,-20,50]
[null,"1313111-30",780,1,"<130mph",3,"30,000 - 45,000",1,"Concrete",3,"Soft",1,"> 600",1,"Good",1,"Good","Above 30",30,1000,-7,0.15784615384615383,0,-22,-0.5,-25,50]
[null,"1312121-0",781,1,"<130mph",3,"30,000 - 45,000",1,"Concrete",2,"Medium",1,"> 600",2,"Poor",1,"Good","0 to 10",0,10,-7,0.13846153846153847,0,-8,0,-12,50]
[null,"1312121-10",782,1,"<130mph",3,"30,000 - 45,000",1,"Concrete",2,"Medium",1,"> 600",2,"Poor",1,"Good","10 to 25",10,25,-7,0.1246153846153846,0,-11,0,-15,50]
[null,"1312121-25",783,1,"<130mph",3,"30,000 - 45,000",1,"Concrete",2,"Medium",1,"> 600",2,"Poor",1,"Good","25 to 30",25,30,-7,0.15784615384615383,0,-15.400000000000002,0,-20,50]
[null,"1312121-30",784,1,"<130mph",3,"30,000 - 45,000",1,"Concrete",2,"Medium",1,"> 600",2,"Poor",1,"Good","Above 30",30,1000,-7,0.15784615384615383,0,-22,-0.5,-25,50]
[null,"1311121-0",785,1,"<130mph",3,"30,000 - 45,000",1,"Concrete",1,"Hard",1,"> 600",2,"Poor",1,"Good","0 to 10",0,10,-7,9.6923076923076917E-2,0,-7.2,0,-12,50]
[null,"1311121-10",786,1,"<130mph",3,"30,000 - 45,000",1,"Concrete",1,"Hard",1,"> 600",2,"Poor",1,"Good","10 to 25",10,25,-7,8.7230769230769209E-2,0,-9.9,0,-15,50]
[null,"1311121-25",787,1,"<130mph",3,"30,000 - 45,000",1,"Concrete",1,"Hard",1,"> 600",2,"Poor",1,"Good","25 to 30",25,30,-7,0.11049230769230768,0,-13.860000000000001,0,-20,50]
[null,"1311121-30",788,1,"<130mph",3,"30,000 - 45,000",1,"Concrete",1,"Hard",1,"> 600",2,"Poor",1,"Good","Above 30",30,1000,-7,0.11049230769230768,0,-19.8,-0.5,-25,50]
[null,"1313121-0",789,1,"<130mph",3,"30,000 - 45,000",1,"Concrete",3,"Soft",1,"> 600",2,"Poor",1,"Good","0 to 10",0,10,-7,0.16615384615384615,0,-8.8000000000000007,0,-12,50]
[null,"1313121-10",790,1,"<130mph",3,"30,000 - 45,000",1,"Concrete",3,"Soft",1,"> 600",2,"Poor",1,"Good","10 to 25",10,25,-7,0.14953846153846154,0,-12.100000000000001,0,-15,50]
[null,"1313121-25",791,1,"<130mph",3,"30,000 - 45,000",1,"Concrete",3,"Soft",1,"> 600",2,"Poor",1,"Good","25 to 30",25,30,-7,0.18941538461538462,0,-16.940000000000001,0,-20,50]
[null,"1313121-30",792,1,"<130mph",3,"30,000 - 45,000",1,"Concrete",3,"Soft",1,"> 600",2,"Poor",1,"Good","Above 30",30,1000,-7,0.18941538461538462,0,-24.200000000000003,-0.5,-25,50]
[null,"1312112-0",793,1,"<130mph",3,"30,000 - 45,000",1,"Concrete",2,"Medium",1,"> 600",1,"Good",2,"Poor","0 to 10",0,10,-7,0.13846153846153847,0,-8,0,-12,50]
[null,"1312112-10",794,1,"<130mph",3,"30,000 - 45,000",1,"Concrete",2,"Medium",1,"> 600",1,"Good",2,"Poor","10 to 25",10,25,-7,0.11423076923076923,0,-11,0,-15,50]
[null,"1312112-25",795,1,"<130mph",3,"30,000 - 45,000",1,"Concrete",2,"Medium",1,"> 600",1,"Good",2,"Poor","25 to 30",25,30,-7,0.1446923076923077,0,-15.400000000000002,0,-20,50]
[null,"1312112-30",796,1,"<130mph",3,"30,000 - 45,000",1,"Concrete",2,"Medium",1,"> 600",1,"Good",2,"Poor","Above 30",30,1000,-7,0.1446923076923077,0,-22,-0.5,-25,50]
[null,"1311112-0",797,1,"<130mph",3,"30,000 - 45,000",1,"Concrete",1,"Hard",1,"> 600",1,"Good",2,"Poor","0 to 10",0,10,-7,9.6923076923076917E-2,0,-7.2,0,-12,50]
[null,"1311112-10",798,1,"<130mph",3,"30,000 - 45,000",1,"Concrete",1,"Hard",1,"> 600",1,"Good",2,"Poor","10 to 25",10,25,-7,7.9961538461538459E-2,0,-9.9,0,-15,50]
[null,"1311112-25",799,1,"<130mph",3,"30,000 - 45,000",1,"Concrete",1,"Hard",1,"> 600",1,"Good",2,"Poor","25 to 30",25,30,-7,0.10128461538461539,0,-13.860000000000001,0,-20,50]
[null,"1311112-30",800,1,"<130mph",3,"30,000 - 45,000",1,"Concrete",1,"Hard",1,"> 600",1,"Good",2,"Poor","Above 30",30,1000,-7,0.10128461538461539,0,-19.8,-0.5,-25,50]
[null,"1313112-0",801,1,"<130mph",3,"30,000 - 45,000",1,"Concrete",3,"Soft",1,"> 600",1,"Good",2,"Poor","0 to 10",0,10,-7,0.16615384615384615,0,-8.8000000000000007,0,-12,50]
[null,"1313112-10",802,1,"<130mph",3,"30,000 - 45,000",1,"Concrete",3,"Soft",1,"> 600",1,"Good",2,"Poor","10 to 25",10,25,-7,0.13707692307692307,0,-12.100000000000001,0,-15,50]
[null,"1313112-25",803,1,"<130mph",3,"30,000 - 45,000",1,"Concrete",3,"Soft",1,"> 600",1,"Good",2,"Poor","25 to 30",25,30,-7,0.17363076923076923,0,-16.940000000000001,0,-20,50]
[null,"1313112-30",804,1,"<130mph",3,"30,000 - 45,000",1,"Concrete",3,"Soft",1,"> 600",1,"Good",2,"Poor","Above 30",30,1000,-7,0.17363076923076923,0,-24.200000000000003,-0.5,-25,50]
[null,"1312122-0",805,1,"<130mph",3,"30,000 - 45,000",1,"Concrete",2,"Medium",1,"> 600",2,"Poor",2,"Poor","0 to 10",0,10,-7,0.13846153846153847,0,-8,0,-12,50]
[null,"1312122-10",806,1,"<130mph",3,"30,000 - 45,000",1,"Concrete",2,"Medium",1,"> 600",2,"Poor",2,"Poor","10 to 25",10,25,-7,0.13707692307692307,0,-12.100000000000001,0,-15,50]
[null,"1312122-25",807,1,"<130mph",3,"30,000 - 45,000",1,"Concrete",2,"Medium",1,"> 600",2,"Poor",2,"Poor","25 to 30",25,30,-7,0.17363076923076923,0,-16.940000000000001,0,-20,50]
[null,"1312122-30",808,1,"<130mph",3,"30,000 - 45,000",1,"Concrete",2,"Medium",1,"> 600",2,"Poor",2,"Poor","Above 30",30,1000,-7,0.17363076923076923,0,-24.200000000000003,-0.5,-25,50]
[null,"1311122-0",809,1,"<130mph",3,"30,000 - 45,000",1,"Concrete",1,"Hard",1,"> 600",2,"Poor",2,"Poor","0 to 10",0,10,-7,9.6923076923076917E-2,0,-7.2,0,-12,50]
[null,"1311122-10",810,1,"<130mph",3,"30,000 - 45,000",1,"Concrete",1,"Hard",1,"> 600",2,"Poor",2,"Poor","10 to 25",10,25,-7,9.5953846153846153E-2,0,-10.890000000000002,0,-15,50]
[null,"1311122-25",811,1,"<130mph",3,"30,000 - 45,000",1,"Concrete",1,"Hard",1,"> 600",2,"Poor",2,"Poor","25 to 30",25,30,-7,0.12154153846153846,0,-15.246000000000002,0,-20,50]
[null,"1311122-30",812,1,"<130mph",3,"30,000 - 45,000",1,"Concrete",1,"Hard",1,"> 600",2,"Poor",2,"Poor","Above 30",30,1000,-7,0.12154153846153846,0,-21.780000000000005,-0.5,-25,50]
[null,"1313122-0",813,1,"<130mph",3,"30,000 - 45,000",1,"Concrete",3,"Soft",1,"> 600",2,"Poor",2,"Poor","0 to 10",0,10,-7,0.16615384615384615,0,-8.8000000000000007,0,-12,50]
[null,"1313122-10",814,1,"<130mph",3,"30,000 - 45,000",1,"Concrete",3,"Soft",1,"> 600",2,"Poor",2,"Poor","10 to 25",10,25,-7,0.16449230769230769,0,-13.310000000000004,0,-15,50]
[null,"1313122-25",815,1,"<130mph",3,"30,000 - 45,000",1,"Concrete",3,"Soft",1,"> 600",2,"Poor",2,"Poor","25 to 30",25,30,-7,0.20835692307692308,0,-18.634000000000007,0,-20,50]
[null,"1313122-30",816,1,"<130mph",3,"30,000 - 45,000",1,"Concrete",3,"Soft",1,"> 600",2,"Poor",2,"Poor","Above 30",30,1000,-7,0.20835692307692308,0,-26.620000000000008,-0.5,-25,50]
[null,"1312211-0",817,1,"<130mph",3,"30,000 - 45,000",1,"Concrete",2,"Medium",2,"400 < R < 600",1,"Good",1,"Good","0 to 10",0,10,-7,0.15230769230769234,0,-8,0,-12,50]
[null,"1312211-10",818,1,"<130mph",3,"30,000 - 45,000",1,"Concrete",2,"Medium",2,"400 < R < 600",1,"Good",1,"Good","10 to 25",10,25,-7,0.11423076923076923,0,-10,0,-15,50]
[null,"1312211-25",819,1,"<130mph",3,"30,000 - 45,000",1,"Concrete",2,"Medium",2,"400 < R < 600",1,"Good",1,"Good","25 to 30",25,30,-7,0.1446923076923077,0,-14,0,-20,50]
[null,"1312211-30",820,1,"<130mph",3,"30,000 - 45,000",1,"Concrete",2,"Medium",2,"400 < R < 600",1,"Good",1,"Good","Above 30",30,1000,-7,0.1446923076923077,0,-20,-0.5,-25,50]
[null,"1311211-0",821,1,"<130mph",3,"30,000 - 45,000",1,"Concrete",1,"Hard",2,"400 < R < 600",1,"Good",1,"Good","0 to 10",0,10,-7,0.10661538461538463,0,-7.2,0,-12,50]
[null,"1311211-10",822,1,"<130mph",3,"30,000 - 45,000",1,"Concrete",1,"Hard",2,"400 < R < 600",1,"Good",1,"Good","10 to 25",10,25,-7,7.9961538461538459E-2,0,-9,0,-15,50]
[null,"1311211-25",823,1,"<130mph",3,"30,000 - 45,000",1,"Concrete",1,"Hard",2,"400 < R < 600",1,"Good",1,"Good","25 to 30",25,30,-7,0.10128461538461539,0,-12.6,0,-20,50]
[null,"1311211-30",824,1,"<130mph",3,"30,000 - 45,000",1,"Concrete",1,"Hard",2,"400 < R < 600",1,"Good",1,"Good","Above 30",30,1000,-7,0.10128461538461539,0,-18,-0.5,-25,50]
[null,"1313211-0",825,1,"<130mph",3,"30,000 - 45,000",1,"Concrete",3,"Soft",2,"400 < R < 600",1,"Good",1,"Good","0 to 10",0,10,-7,0.18276923076923079,0,-8.8000000000000007,0,-12,50]
[null,"1313211-10",826,1,"<130mph",3,"30,000 - 45,000",1,"Concrete",3,"Soft",2,"400 < R < 600",1,"Good",1,"Good","10 to 25",10,25,-7,0.13707692307692307,0,-11,0,-15,50]
[null,"1313211-25",827,1,"<130mph",3,"30,000 - 45,000",1,"Concrete",3,"Soft",2,"400 < R < 600",1,"Good",1,"Good","25 to 30",25,30,-7,0.17363076923076923,0,-15.400000000000002,0,-20,50]
[null,"1313211-30",828,1,"<130mph",3,"30,000 - 45,000",1,"Concrete",3,"Soft",2,"400 < R < 600",1,"Good",1,"Good","Above 30",30,1000,-7,0.17363076923076923,0,-22,-0.5,-25,50]
[null,"1312221-0",829,1,"<130mph",3,"30,000 - 45,000",1,"Concrete",2,"Medium",2,"400 < R < 600",2,"Poor",1,"Good","0 to 10",0,10,-7,0.15230769230769234,0,-8,0,-12,50]
[null,"1312221-10",830,1,"<130mph",3,"30,000 - 45,000",1,"Concrete",2,"Medium",2,"400 < R < 600",2,"Poor",1,"Good","10 to 25",10,25,-7,0.13707692307692307,0,-11,0,-15,50]
[null,"1312221-25",831,1,"<130mph",3,"30,000 - 45,000",1,"Concrete",2,"Medium",2,"400 < R < 600",2,"Poor",1,"Good","25 to 30",25,30,-7,0.17363076923076923,0,-15.400000000000002,0,-20,50]
[null,"1312221-30",832,1,"<130mph",3,"30,000 - 45,000",1,"Concrete",2,"Medium",2,"400 < R < 600",2,"Poor",1,"Good","Above 30",30,1000,-7,0.17363076923076923,0,-22,-0.5,-25,50]
[null,"1311221-0",833,1,"<130mph",3,"30,000 - 45,000",1,"Concrete",1,"Hard",2,"400 < R < 600",2,"Poor",1,"Good","0 to 10",0,10,-7,0.10661538461538463,0,-7.2,0,-12,50]
[null,{"$f":"D852&F852&H852&J852&L852&N852&P852&\"-\"&S852","v":"1311221-10"},834,1,"<130mph",3,"30,000 - 45,000",1,"Concrete",1,"Hard",2,"400 < R < 600",2,"Poor",1,"Good","10 to 25",10,25,-7,9.5953846153846153E-2,0,-9.9,0,-15,50]
[null,"1311221-25",835,1,"<130mph",3,"30,000 - 45,000",1,"Concrete",1,"Hard",2,"400 < R < 600",2,"Poor",1,"Good","25 to 30",25,30,-7,0.12154153846153846,0,-13.860000000000001,0,-20,50]
[null,"1311221-30",836,1,"<130mph",3,"30,000 - 45,000",1,"Concrete",1,"Hard",2,"400 < R < 600",2,"Poor",1,"Good","Above 30",30,1000,-7,0.12154153846153846,0,-19.8,-0.5,-25,50]
[null,"1313221-0",837,1,"<130mph",3,"30,000 - 45,000",1,"Concrete",3,"Soft",2,"400 < R < 600",2,"Poor",1,"Good","0 to 10",0,10,-7,0.18276923076923079,0,-8.8000000000000007,0,-12,50]
[null,"1313221-10",838,1,"<130mph",3,"30,000 - 45,000",1,"Concrete",3,"Soft",2,"400 < R < 600",2,"Poor",1,"Good","10 to 25",10,25,-7,0.16449230769230769,0,-12.100000000000001,0,-15,50]
[null,"1313221-25",839,1,"<130mph",3,"30,000 - 45,000",1,"Concrete",3,"Soft",2,"400 < R < 600",2,"Poor",1,"Good","25 to 30",25,30,-7,0.20835692307692308,0,-16.940000000000001,0,-20,50]
[null,"1313221-30",840,1,"<130mph",3,"30,000 - 45,000",1,"Concrete",3,"Soft",2,"400 < R < 600",2,"Poor",1,"Good","Above 30",30,1000,-7,0.20835692307692308,0,-24.200000000000003,-0.5,-25,50]
[null,"1312212-0",841,1,"<130mph",3,"30,000 - 45,000",1,"Concrete",2,"Medium",2,"400 < R < 600",1,"Good",2,"Poor","0 to 10",0,10,-7,0.15230769230769234,0,-8,0,-12,50]
[null,"1312212-10",842,1,"<130mph",3,"30,000 - 45,000",1,"Concrete",2,"Medium",2,"400 < R < 600",1,"Good",2,"Poor","10 to 25",10,25,-7,0.12565384615384617,0,-11,0,-15,50]
[null,"1312212-25",843,1,"<130mph",3,"30,000 - 45,000",1,"Concrete",2,"Medium",2,"400 < R < 600",1,"Good",2,"Poor","25 to 30",25,30,-7,0.15916153846153849,0,-15.400000000000002,0,-20,50]
[null,"1312212-30",844,1,"<130mph",3,"30,000 - 45,000",1,"Concrete",2,"Medium",2,"400 < R < 600",1,"Good",2,"Poor","Above 30",30,1000,-7,0.15916153846153849,0,-22,-0.5,-25,50]
[null,"1311212-0",845,1,"<130mph",3,"30,000 - 45,000",1,"Concrete",1,"Hard",2,"400 < R < 600",1,"Good",2,"Poor","0 to 10",0,10,-7,0.10661538461538463,0,-7.2,0,-12,50]
[null,"1311212-10",846,1,"<130mph",3,"30,000 - 45,000",1,"Concrete",1,"Hard",2,"400 < R < 600",1,"Good",2,"Poor","10 to 25",10,25,-7,8.7957692307692306E-2,0,-9.9,0,-15,50]
[null,"1311212-25",847,1,"<130mph",3,"30,000 - 45,000",1,"Concrete",1,"Hard",2,"400 < R < 600",1,"Good",2,"Poor","25 to 30",25,30,-7,0.11141307692307692,0,-13.860000000000001,0,-20,50]
[null,"1311212-30",848,1,"<130mph",3,"30,000 - 45,000",1,"Concrete",1,"Hard",2,"400 < R < 600",1,"Good",2,"Poor","Above 30",30,1000,-7,0.11141307692307692,0,-19.8,-0.5,-25,50]
[null,"1313212-0",849,1,"<130mph",3,"30,000 - 45,000",1,"Concrete",3,"Soft",2,"400 < R < 600",1,"Good",2,"Poor","0 to 10",0,10,-7,0.18276923076923079,0,-8.8000000000000007,0,-12,50]
[null,"1313212-10",850,1,"<130mph",3,"30,000 - 45,000",1,"Concrete",3,"Soft",2,"400 < R < 600",1,"Good",2,"Poor","10 to 25",10,25,-7,0.15078461538461541,0,-12.100000000000001,0,-15,50]
[null,"1313212-25",851,1,"<130mph",3,"30,000 - 45,000",1,"Concrete",3,"Soft",2,"400 < R < 600",1,"Good",2,"Poor","25 to 30",25,30,-7,0.19099384615384618,0,-16.940000000000001,0,-20,50]
[null,"1313212-30",852,1,"<130mph",3,"30,000 - 45,000",1,"Concrete",3,"Soft",2,"400 < R < 600",1,"Good",2,"Poor","Above 30",30,1000,-7,0.19099384615384618,0,-24.200000000000003,-0.5,-25,50]
[null,"1312222-0",853,1,"<130mph",3,"30,000 - 45,000",1,"Concrete",2,"Medium",2,"400 < R < 600",2,"Poor",2,"Poor","0 to 10",0,10,-7,0.15230769230769234,0,-8,0,-12,50]
[null,"1312222-10",854,1,"<130mph",3,"30,000 - 45,000",1,"Concrete",2,"Medium",2,"400 < R < 600",2,"Poor",2,"Poor","10 to 25",10,25,-7,0.15078461538461541,0,-12.100000000000001,0,-15,50]
[null,"1312222-25",855,1,"<130mph",3,"30,000 - 45,000",1,"Concrete",2,"Medium",2,"400 < R < 600",2,"Poor",2,"Poor","25 to 30",25,30,-7,0.19099384615384618,0,-16.940000000000001,0,-20,50]
[null,"1312222-30",856,1,"<130mph",3,"30,000 - 45,000",1,"Concrete",2,"Medium",2,"400 < R < 600",2,"Poor",2,"Poor","Above 30",30,1000,-7,0.19099384615384618,0,-24.200000000000003,-0.5,-25,50]
[null,"1311222-0",857,1,"<130mph",3,"30,000 - 45,000",1,"Concrete",1,"Hard",2,"400 < R < 600",2,"Poor",2,"Poor","0 to 10",0,10,-7,0.10661538461538463,0,-7.2,0,-12,50]
[null,"1311222-10",858,1,"<130mph",3,"30,000 - 45,000",1,"Concrete",1,"Hard",2,"400 < R < 600",2,"Poor",2,"Poor","10 to 25",10,25,-7,0.10554923076923077,0,-10.890000000000002,0,-15,50]
[null,"1311222-25",859,1,"<130mph",3,"30,000 - 45,000",1,"Concrete",1,"Hard",2,"400 < R < 600",2,"Poor",2,"Poor","25 to 30",25,30,-7,0.13369569230769229,0,-15.246000000000002,0,-20,50]
[null,"1311222-30",860,1,"<130mph",3,"30,000 - 45,000",1,"Concrete",1,"Hard",2,"400 < R < 600",2,"Poor",2,"Poor","Above 30",30,1000,-7,0.13369569230769229,0,-21.780000000000005,-0.5,-25,50]
[null,"1313222-0",861,1,"<130mph",3,"30,000 - 45,000",1,"Concrete",3,"Soft",2,"400 < R < 600",2,"Poor",2,"Poor","0 to 10",0,10,-7,0.18276923076923079,0,-8.8000000000000007,0,-12,50]
[null,"1313222-10",862,1,"<130mph",3,"30,000 - 45,000",1,"Concrete",3,"Soft",2,"400 < R < 600",2,"Poor",2,"Poor","10 to 25",10,25,-7,0.18094153846153849,0,-13.310000000000004,0,-15,50]
[null,"1313222-25",863,1,"<130mph",3,"30,000 - 45,000",1,"Concrete",3,"Soft",2,"400 < R < 600",2,"Poor",2,"Poor","25 to 30",25,30,-7,0.22919261538461541,0,-18.634000000000007,0,-20,50]
[null,"1313222-30",864,1,"<130mph",3,"30,000 - 45,000",1,"Concrete",3,"Soft",2,"400 < R < 600",2,"Poor",2,"Poor","Above 30",30,1000,-7,0.22919261538461541,0,-26.620000000000008,-0.5,-25,50]
[null,"1312311-0",865,1,"<130mph",3,"30,000 - 45,000",1,"Concrete",2,"Medium",3,"300 < R < 400",1,"Good",1,"Good","0 to 10",0,10,-7,0.15230769230769234,0,-8,0,-12,25]
[null,"1312311-10",866,1,"<130mph",3,"30,000 - 45,000",1,"Concrete",2,"Medium",3,"300 < R < 400",1,"Good",1,"Good","10 to 25",10,25,-7,0.11423076923076923,0,-10,0,-15,25]
[null,"1312311-25",867,1,"<130mph",3,"30,000 - 45,000",1,"Concrete",2,"Medium",3,"300 < R < 400",1,"Good",1,"Good","25 to 30",25,30,-7,0.1446923076923077,0,-14,0,-20,25]
[null,"1312311-30",868,1,"<130mph",3,"30,000 - 45,000",1,"Concrete",2,"Medium",3,"300 < R < 400",1,"Good",1,"Good","Above 30",30,1000,-7,0.1446923076923077,0,-20,-0.5,-25,25]
[null,"1311311-0",869,1,"<130mph",3,"30,000 - 45,000",1,"Concrete",1,"Hard",3,"300 < R < 400",1,"Good",1,"Good","0 to 10",0,10,-7,0.10661538461538463,0,-7.2,0,-12,25]
[null,"1311311-10",870,1,"<130mph",3,"30,000 - 45,000",1,"Concrete",1,"Hard",3,"300 < R < 400",1,"Good",1,"Good","10 to 25",10,25,-7,7.9961538461538459E-2,0,-9,0,-15,25]
[null,"1311311-25",871,1,"<130mph",3,"30,000 - 45,000",1,"Concrete",1,"Hard",3,"300 < R < 400",1,"Good",1,"Good","25 to 30",25,30,-7,0.10128461538461539,0,-12.6,0,-20,25]
[null,"1311311-30",872,1,"<130mph",3,"30,000 - 45,000",1,"Concrete",1,"Hard",3,"300 < R < 400",1,"Good",1,"Good","Above 30",30,1000,-7,0.10128461538461539,0,-18,-0.5,-25,25]
[null,"1313311-0",873,1,"<130mph",3,"30,000 - 45,000",1,"Concrete",3,"Soft",3,"300 < R < 400",1,"Good",1,"Good","0 to 10",0,10,-7,0.18276923076923079,0,-8.8000000000000007,0,-12,25]
[null,"1313311-10",874,1,"<130mph",3,"30,000 - 45,000",1,"Concrete",3,"Soft",3,"300 < R < 400",1,"Good",1,"Good","10 to 25",10,25,-7,0.13707692307692307,0,-11,0,-15,25]
[null,"1313311-25",875,1,"<130mph",3,"30,000 - 45,000",1,"Concrete",3,"Soft",3,"300 < R < 400",1,"Good",1,"Good","25 to 30",25,30,-7,0.17363076923076923,0,-15.400000000000002,0,-20,25]
[null,"1313311-30",876,1,"<130mph",3,"30,000 - 45,000",1,"Concrete",3,"Soft",3,"300 < R < 400",1,"Good",1,"Good","Above 30",30,1000,-7,0.17363076923076923,0,-22,-0.5,-25,25]
[null,"1312321-0",877,1,"<130mph",3,"30,000 - 45,000",1,"Concrete",2,"Medium",3,"300 < R < 400",2,"Poor",1,"Good","0 to 10",0,10,-7,0.15230769230769234,0,-8,0,-12,25]
[null,"1312321-10",878,1,"<130mph",3,"30,000 - 45,000",1,"Concrete",2,"Medium",3,"300 < R < 400",2,"Poor",1,"Good","10 to 25",10,25,-7,0.13707692307692307,0,-11,0,-15,25]
[null,"1312321-25",879,1,"<130mph",3,"30,000 - 45,000",1,"Concrete",2,"Medium",3,"300 < R < 400",2,"Poor",1,"Good","25 to 30",25,30,-7,0.17363076923076923,0,-15.400000000000002,0,-20,25]
[null,"1312321-30",880,1,"<130mph",3,"30,000 - 45,000",1,"Concrete",2,"Medium",3,"300 < R < 400",2,"Poor",1,"Good","Above 30",30,1000,-7,0.17363076923076923,0,-22,-0.5,-25,25]
[null,"1311321-0",881,1,"<130mph",3,"30,000 - 45,000",1,"Concrete",1,"Hard",3,"300 < R < 400",2,"Poor",1,"Good","0 to 10",0,10,-7,0.10661538461538463,0,-7.2,0,-12,25]
[null,"1311321-10",882,1,"<130mph",3,"30,000 - 45,000",1,"Concrete",1,"Hard",3,"300 < R < 400",2,"Poor",1,"Good","10 to 25",10,25,-7,9.5953846153846153E-2,0,-9.9,0,-15,25]
[null,"1311321-25",883,1,"<130mph",3,"30,000 - 45,000",1,"Concrete",1,"Hard",3,"300 < R < 400",2,"Poor",1,"Good","25 to 30",25,30,-7,0.12154153846153846,0,-13.860000000000001,0,-20,25]
[null,"1311321-30",884,1,"<130mph",3,"30,000 - 45,000",1,"Concrete",1,"Hard",3,"300 < R < 400",2,"Poor",1,"Good","Above 30",30,1000,-7,0.12154153846153846,0,-19.8,-0.5,-25,25]
[null,"1313321-0",885,1,"<130mph",3,"30,000 - 45,000",1,"Concrete",3,"Soft",3,"300 < R < 400",2,"Poor",1,"Good","0 to 10",0,10,-7,0.18276923076923079,0,-8.8000000000000007,0,-12,25]
[null,"1313321-10",886,1,"<130mph",3,"30,000 - 45,000",1,"Concrete",3,"Soft",3,"300 < R < 400",2,"Poor",1,"Good","10 to 25",10,25,-7,0.16449230769230769,0,-12.100000000000001,0,-15,25]
[null,"1313321-25",887,1,"<130mph",3,"30,000 - 45,000",1,"Concrete",3,"Soft",3,"300 < R < 400",2,"Poor",1,"Good","25 to 30",25,30,-7,0.20835692307692308,0,-16.940000000000001,0,-20,25]
[null,"1313321-30",888,1,"<130mph",3,"30,000 - 45,000",1,"Concrete",3,"Soft",3,"300 < R < 400",2,"Poor",1,"Good","Above 30",30,1000,-7,0.20835692307692308,0,-24.200000000000003,-0.5,-25,25]
[null,"1312312-0",889,1,"<130mph",3,"30,000 - 45,000",1,"Concrete",2,"Medium",3,"300 < R < 400",1,"Good",2,"Poor","0 to 10",0,10,-7,0.15230769230769234,0,-8,0,-12,25]
[null,"1312312-10",890,1,"<130mph",3,"30,000 - 45,000",1,"Concrete",2,"Medium",3,"300 < R < 400",1,"Good",2,"Poor","10 to 25",10,25,-7,0.12565384615384617,0,-11,0,-15,25]
[null,"1312312-25",891,1,"<130mph",3,"30,000 - 45,000",1,"Concrete",2,"Medium",3,"300 < R < 400",1,"Good",2,"Poor","25 to 30",25,30,-7,0.15916153846153849,0,-15.400000000000002,0,-20,25]
[null,"1312312-30",892,1,"<130mph",3,"30,000 - 45,000",1,"Concrete",2,"Medium",3,"300 < R < 400",1,"Good",2,"Poor","Above 30",30,1000,-7,0.15916153846153849,0,-22,-0.5,-25,25]
[null,"1311312-0",893,1,"<130mph",3,"30,000 - 45,000",1,"Concrete",1,"Hard",3,"300 < R < 400",1,"Good",2,"Poor","0 to 10",0,10,-7,0.10661538461538463,0,-7.2,0,-12,25]
[null,"1311312-10",894,1,"<130mph",3,"30,000 - 45,000",1,"Concrete",1,"Hard",3,"300 < R < 400",1,"Good",2,"Poor","10 to 25",10,25,-7,8.7957692307692306E-2,0,-9.9,0,-15,25]
[null,"1311312-25",895,1,"<130mph",3,"30,000 - 45,000",1,"Concrete",1,"Hard",3,"300 < R < 400",1,"Good",2,"Poor","25 to 30",25,30,-7,0.11141307692307692,0,-13.860000000000001,0,-20,25]
[null,"1311312-30",896,1,"<130mph",3,"30,000 - 45,000",1,"Concrete",1,"Hard",3,"300 < R < 400",1,"Good",2,"Poor","Above 30",30,1000,-7,0.11141307692307692,0,-19.8,-0.5,-25,25]
[null,"1313312-0",897,1,"<130mph",3,"30,000 - 45,000",1,"Concrete",3,"Soft",3,"300 < R < 400",1,"Good",2,"Poor","0 to 10",0,10,-7,0.18276923076923079,0,-8.8000000000000007,0,-12,25]
[null,{"$f":"D916&F916&H916&J916&L916&N916&P916&\"-\"&S916","v":"1313312-10"},898,1,"<130mph",3,"30,000 - 45,000",1,"Concrete",3,"Soft",3,"300 < R < 400",1,"Good",2,"Poor","10 to 25",10,25,-7,0.15078461538461541,0,-12.100000000000001,0,-15,25]
[null,"1313312-25",899,1,"<130mph",3,"30,000 - 45,000",1,"Concrete",3,"Soft",3,"300 < R < 400",1,"Good",2,"Poor","25 to 30",25,30,-7,0.19099384615384618,0,-16.940000000000001,0,-20,25]
[null,"1313312-30",900,1,"<130mph",3,"30,000 - 45,000",1,"Concrete",3,"Soft",3,"300 < R < 400",1,"Good",2,"Poor","Above 30",30,1000,-7,0.19099384615384618,0,-24.200000000000003,-0.5,-25,25]
[null,"1312322-0",901,1,"<130mph",3,"30,000 - 45,000",1,"Concrete",2,"Medium",3,"300 < R < 400",2,"Poor",2,"Poor","0 to 10",0,10,-7,0.15230769230769234,0,-8,0,-12,25]
[null,"1312322-10",902,1,"<130mph",3,"30,000 - 45,000",1,"Concrete",2,"Medium",3,"300 < R < 400",2,"Poor",2,"Poor","10 to 25",10,25,-7,0.15078461538461541,0,-12.100000000000001,0,-15,25]
[null,"1312322-25",903,1,"<130mph",3,"30,000 - 45,000",1,"Concrete",2,"Medium",3,"300 < R < 400",2,"Poor",2,"Poor","25 to 30",25,30,-7,0.19099384615384618,0,-16.940000000000001,0,-20,25]
[null,"1312322-30",904,1,"<130mph",3,"30,000 - 45,000",1,"Concrete",2,"Medium",3,"300 < R < 400",2,"Poor",2,"Poor","Above 30",30,1000,-7,0.19099384615384618,0,-24.200000000000003,-0.5,-25,25]
[null,"1311322-0",905,1,"<130mph",3,"30,000 - 45,000",1,"Concrete",1,"Hard",3,"300 < R < 400",2,"Poor",2,"Poor","0 to 10",0,10,-7,0.10661538461538463,0,-7.2,0,-12,25]
[null,"1311322-10",906,1,"<130mph",3,"30,000 - 45,000",1,"Concrete",1,"Hard",3,"300 < R < 400",2,"Poor",2,"Poor","10 to 25",10,25,-7,0.10554923076923077,0,-10.890000000000002,0,-15,25]
[null,"1311322-25",907,1,"<130mph",3,"30,000 - 45,000",1,"Concrete",1,"Hard",3,"300 < R < 400",2,"Poor",2,"Poor","25 to 30",25,30,-7,0.13369569230769229,0,-15.246000000000002,0,-20,25]
[null,"1311322-30",908,1,"<130mph",3,"30,000 - 45,000",1,"Concrete",1,"Hard",3,"300 < R < 400",2,"Poor",2,"Poor","Above 30",30,1000,-7,0.13369569230769229,0,-21.780000000000005,-0.5,-25,25]
[null,"1313322-0",909,1,"<130mph",3,"30,000 - 45,000",1,"Concrete",3,"Soft",3,"300 < R < 400",2,"Poor",2,"Poor","0 to 10",0,10,-7,0.18276923076923079,0,-8.8000000000000007,0,-12,25]
[null,"1313322-10",910,1,"<130mph",3,"30,000 - 45,000",1,"Concrete",3,"Soft",3,"300 < R < 400",2,"Poor",2,"Poor","10 to 25",10,25,-7,0.18094153846153849,0,-13.310000000000004,0,-15,25]
[null,"1313322-25",911,1,"<130mph",3,"30,000 - 45,000",1,"Concrete",3,"Soft",3,"300 < R < 400",2,"Poor",2,"Poor","25 to 30",25,30,-7,0.22919261538461541,0,-18.634000000000007,0,-20,25]
[null,"1313322-30",912,1,"<130mph",3,"30,000 - 45,000",1,"Concrete",3,"Soft",3,"300 < R < 400",2,"Poor",2,"Poor","Above 30",30,1000,-7,0.22919261538461541,0,-26.620000000000008,-0.5,-25,25]
[null,"1312411-0",913,1,"<130mph",3,"30,000 - 45,000",1,"Concrete",2,"Medium",4,"< 300",1,"Good",1,"Good","0 to 10",0,10,-7,0.20769230769230768,0,-8,0,-12,20]
[null,"1312411-10",914,1,"<130mph",3,"30,000 - 45,000",1,"Concrete",2,"Medium",4,"< 300",1,"Good",1,"Good","10 to 25",10,25,-7,0.15576923076923074,0,-10,0,-15,20]
[null,"1312411-25",915,1,"<130mph",3,"30,000 - 45,000",1,"Concrete",2,"Medium",4,"< 300",1,"Good",1,"Good","25 to 30",25,30,-7,0.1973076923076923,0,-14,0,-20,20]
[null,"1312411-30",916,1,"<130mph",3,"30,000 - 45,000",1,"Concrete",2,"Medium",4,"< 300",1,"Good",1,"Good","Above 30",30,1000,-7,0.1973076923076923,0,-20,-0.5,-25,20]
[null,"1311411-0",917,1,"<130mph",3,"30,000 - 45,000",1,"Concrete",1,"Hard",4,"< 300",1,"Good",1,"Good","0 to 10",0,10,-7,0.14538461538461536,0,-7.2,0,-12,20]
[null,"1311411-10",918,1,"<130mph",3,"30,000 - 45,000",1,"Concrete",1,"Hard",4,"< 300",1,"Good",1,"Good","10 to 25",10,25,-7,0.10903846153846151,0,-9,0,-15,20]
[null,"1311411-25",919,1,"<130mph",3,"30,000 - 45,000",1,"Concrete",1,"Hard",4,"< 300",1,"Good",1,"Good","25 to 30",25,30,-7,0.13811538461538458,0,-12.6,0,-20,20]
[null,"1311411-30",920,1,"<130mph",3,"30,000 - 45,000",1,"Concrete",1,"Hard",4,"< 300",1,"Good",1,"Good","Above 30",30,1000,-7,0.13811538461538458,0,-18,-0.5,-25,20]
[null,"1313411-0",921,1,"<130mph",3,"30,000 - 45,000",1,"Concrete",3,"Soft",4,"< 300",1,"Good",1,"Good","0 to 10",0,10,-7,0.2492307692307692,0,-8.8000000000000007,0,-12,20]
[null,"1313411-10",922,1,"<130mph",3,"30,000 - 45,000",1,"Concrete",3,"Soft",4,"< 300",1,"Good",1,"Good","10 to 25",10,25,-7,0.18692307692307689,0,-11,0,-15,20]
[null,"1313411-25",923,1,"<130mph",3,"30,000 - 45,000",1,"Concrete",3,"Soft",4,"< 300",1,"Good",1,"Good","25 to 30",25,30,-7,0.23676923076923073,0,-15.400000000000002,0,-20,20]
[null,"1313411-30",924,1,"<130mph",3,"30,000 - 45,000",1,"Concrete",3,"Soft",4,"< 300",1,"Good",1,"Good","Above 30",30,1000,-7,0.23676923076923073,0,-22,-0.5,-25,20]
[null,"1312421-0",925,1,"<130mph",3,"30,000 - 45,000",1,"Concrete",2,"Medium",4,"< 300",2,"Poor",1,"Good","0 to 10",0,10,-7,0.20769230769230768,0,-8,0,-12,20]
[null,"1312421-10",926,1,"<130mph",3,"30,000 - 45,000",1,"Concrete",2,"Medium",4,"< 300",2,"Poor",1,"Good","10 to 25",10,25,-7,0.18692307692307689,0,-11,0,-15,20]
[null,"1312421-25",927,1,"<130mph",3,"30,000 - 45,000",1,"Concrete",2,"Medium",4,"< 300",2,"Poor",1,"Good","25 to 30",25,30,-7,0.23676923076923073,0,-15.400000000000002,0,-20,20]
[null,"1312421-30",928,1,"<130mph",3,"30,000 - 45,000",1,"Concrete",2,"Medium",4,"< 300",2,"Poor",1,"Good","Above 30",30,1000,-7,0.23676923076923073,0,-22,-0.5,-25,20]
[null,"1311421-0",929,1,"<130mph",3,"30,000 - 45,000",1,"Concrete",1,"Hard",4,"< 300",2,"Poor",1,"Good","0 to 10",0,10,-7,0.14538461538461536,0,-7.2,0,-12,20]
[null,"1311421-10",930,1,"<130mph",3,"30,000 - 45,000",1,"Concrete",1,"Hard",4,"< 300",2,"Poor",1,"Good","10 to 25",10,25,-7,0.13084615384615381,0,-9.9,0,-15,20]
[null,"1311421-25",931,1,"<130mph",3,"30,000 - 45,000",1,"Concrete",1,"Hard",4,"< 300",2,"Poor",1,"Good","25 to 30",25,30,-7,0.1657384615384615,0,-13.860000000000001,0,-20,20]
[null,"1311421-30",932,1,"<130mph",3,"30,000 - 45,000",1,"Concrete",1,"Hard",4,"< 300",2,"Poor",1,"Good","Above 30",30,1000,-7,0.1657384615384615,0,-19.8,-0.5,-25,20]
[null,"1313421-0",933,1,"<130mph",3,"30,000 - 45,000",1,"Concrete",3,"Soft",4,"< 300",2,"Poor",1,"Good","0 to 10",0,10,-7,0.2492307692307692,0,-8.8000000000000007,0,-12,20]
[null,"1313421-10",934,1,"<130mph",3,"30,000 - 45,000",1,"Concrete",3,"Soft",4,"< 300",2,"Poor",1,"Good","10 to 25",10,25,-7,0.22430769230769226,0,-12.100000000000001,0,-15,20]
[null,"1313421-25",935,1,"<130mph",3,"30,000 - 45,000",1,"Concrete",3,"Soft",4,"< 300",2,"Poor",1,"Good","25 to 30",25,30,-7,0.28412307692307687,0,-16.940000000000001,0,-20,20]
[null,"1313421-30",936,1,"<130mph",3,"30,000 - 45,000",1,"Concrete",3,"Soft",4,"< 300",2,"Poor",1,"Good","Above 30",30,1000,-7,0.28412307692307687,0,-24.200000000000003,-0.5,-25,20]
[null,"1312412-0",937,1,"<130mph",3,"30,000 - 45,000",1,"Concrete",2,"Medium",4,"< 300",1,"Good",2,"Poor","0 to 10",0,10,-7,0.20769230769230768,0,-8,0,-12,20]
[null,"1312412-10",938,1,"<130mph",3,"30,000 - 45,000",1,"Concrete",2,"Medium",4,"< 300",1,"Good",2,"Poor","10 to 25",10,25,-7,0.17134615384615387,0,-11,0,-15,20]
[null,"1312412-25",939,1,"<130mph",3,"30,000 - 45,000",1,"Concrete",2,"Medium",4,"< 300",1,"Good",2,"Poor","25 to 30",25,30,-7,0.21703846153846157,0,-15.400000000000002,0,-20,20]
[null,"1312412-30",940,1,"<130mph",3,"30,000 - 45,000",1,"Concrete",2,"Medium",4,"< 300",1,"Good",2,"Poor","Above 30",30,1000,-7,0.21703846153846157,0,-22,-0.5,-25,20]
[null,"1311412-0",941,1,"<130mph",3,"30,000 - 45,000",1,"Concrete",1,"Hard",4,"< 300",1,"Good",2,"Poor","0 to 10",0,10,-7,0.14538461538461536,0,-7.2,0,-12,20]
[null,"1311412-10",942,1,"<130mph",3,"30,000 - 45,000",1,"Concrete",1,"Hard",4,"< 300",1,"Good",2,"Poor","10 to 25",10,25,-7,0.11994230769230767,0,-9.9,0,-15,20]
[null,"1311412-25",943,1,"<130mph",3,"30,000 - 45,000",1,"Concrete",1,"Hard",4,"< 300",1,"Good",2,"Poor","25 to 30",25,30,-7,0.15192692307692307,0,-13.860000000000001,0,-20,20]
[null,"1311412-30",944,1,"<130mph",3,"30,000 - 45,000",1,"Concrete",1,"Hard",4,"< 300",1,"Good",2,"Poor","Above 30",30,1000,-7,0.15192692307692307,0,-19.8,-0.5,-25,20]
[null,"1313412-0",945,1,"<130mph",3,"30,000 - 45,000",1,"Concrete",3,"Soft",4,"< 300",1,"Good",2,"Poor","0 to 10",0,10,-7,0.2492307692307692,0,-8.8000000000000007,0,-12,20]
[null,"1313412-10",946,1,"<130mph",3,"30,000 - 45,000",1,"Concrete",3,"Soft",4,"< 300",1,"Good",2,"Poor","10 to 25",10,25,-7,0.20561538461538462,0,-12.100000000000001,0,-15,20]
[null,"1313412-25",947,1,"<130mph",3,"30,000 - 45,000",1,"Concrete",3,"Soft",4,"< 300",1,"Good",2,"Poor","25 to 30",25,30,-7,0.26044615384615383,0,-16.940000000000001,0,-20,20]
[null,"1313412-30",948,1,"<130mph",3,"30,000 - 45,000",1,"Concrete",3,"Soft",4,"< 300",1,"Good",2,"Poor","Above 30",30,1000,-7,0.26044615384615383,0,-24.200000000000003,-0.5,-25,20]
[null,"1312422-0",949,1,"<130mph",3,"30,000 - 45,000",1,"Concrete",2,"Medium",4,"< 300",2,"Poor",2,"Poor","0 to 10",0,10,-7,0.20769230769230768,0,-8,0,-12,20]
[null,"1312422-10",950,1,"<130mph",3,"30,000 - 45,000",1,"Concrete",2,"Medium",4,"< 300",2,"Poor",2,"Poor","10 to 25",10,25,-7,0.20561538461538462,0,-12.100000000000001,0,-15,20]
[null,"1312422-25",951,1,"<130mph",3,"30,000 - 45,000",1,"Concrete",2,"Medium",4,"< 300",2,"Poor",2,"Poor","25 to 30",25,30,-7,0.26044615384615383,0,-16.940000000000001,0,-20,20]
[null,"1312422-30",952,1,"<130mph",3,"30,000 - 45,000",1,"Concrete",2,"Medium",4,"< 300",2,"Poor",2,"Poor","Above 30",30,1000,-7,0.26044615384615383,0,-24.200000000000003,-0.5,-25,20]
[null,"1311422-0",953,1,"<130mph",3,"30,000 - 45,000",1,"Concrete",1,"Hard",4,"< 300",2,"Poor",2,"Poor","0 to 10",0,10,-7,0.14538461538461536,0,-7.2,0,-12,20]
[null,"1311422-10",954,1,"<130mph",3,"30,000 - 45,000",1,"Concrete",1,"Hard",4,"< 300",2,"Poor",2,"Poor","10 to 25",10,25,-7,0.14393076923076922,0,-10.890000000000002,0,-15,20]
[null,"1311422-25",955,1,"<130mph",3,"30,000 - 45,000",1,"Concrete",1,"Hard",4,"< 300",2,"Poor",2,"Poor","25 to 30",25,30,-7,0.18231230769230769,0,-15.246000000000002,0,-20,20]
[null,"1311422-30",956,1,"<130mph",3,"30,000 - 45,000",1,"Concrete",1,"Hard",4,"< 300",2,"Poor",2,"Poor","Above 30",30,1000,-7,0.18231230769230769,0,-21.780000000000005,-0.5,-25,20]
[null,"1313422-0",957,1,"<130mph",3,"30,000 - 45,000",1,"Concrete",3,"Soft",4,"< 300",2,"Poor",2,"Poor","0 to 10",0,10,-7,0.2492307692307692,0,-8.8000000000000007,0,-12,20]
[null,"1313422-10",958,1,"<130mph",3,"30,000 - 45,000",1,"Concrete",3,"Soft",4,"< 300",2,"Poor",2,"Poor","10 to 25",10,25,-7,0.24673846153846149,0,-13.310000000000004,0,-15,20]
[null,"1313422-25",959,1,"<130mph",3,"30,000 - 45,000",1,"Concrete",3,"Soft",4,"< 300",2,"Poor",2,"Poor","25 to 30",25,30,-7,0.3125353846153846,0,-18.634000000000007,0,-20,20]
[null,"1313422-30",960,1,"<130mph",3,"30,000 - 45,000",1,"Concrete",3,"Soft",4,"< 300",2,"Poor",2,"Poor","Above 30",30,1000,-7,0.3125353846153846,0,-26.620000000000008,-0.5,-25,20]
[null,"1422111-0",961,1,"<130mph",4,"45,000 - 65,000",2,"Concrete with USP",2,"Medium",1,"> 600",1,"Good",1,"Good","0 to 10",0,10,-6,0.12,0,-7.5,0,-12,50]
[null,{"$f":"D980&F980&H980&J980&L980&N980&P980&\"-\"&S980","v":"1422111-10"},962,1,"<130mph",4,"45,000 - 65,000",2,"Concrete with USP",2,"Medium",1,"> 600",1,"Good",1,"Good","10 to 20",10,20,-6,0.09,0,-8,0,-15,50]
[null,"1422111-20",963,1,"<130mph",4,"45,000 - 65,000",2,"Concrete with USP",2,"Medium",1,"> 600",1,"Good",1,"Good","20 to 30",20,30,-6,0.11,0,-12,0,-20,50]
[null,"1422111-30",964,1,"<130mph",4,"45,000 - 65,000",2,"Concrete with USP",2,"Medium",1,"> 600",1,"Good",1,"Good","30 to 40",30,40,-6,0.12,0,-15,0,-25,50]
[null,"1422111-40",965,1,"<130mph",4,"45,000 - 65,000",2,"Concrete with USP",2,"Medium",1,"> 600",1,"Good",1,"Good","40 to 50",40,50,-6,0.13,0,-18,0,-25,50]
[null,"1422111-50",966,1,"<130mph",4,"45,000 - 65,000",2,"Concrete with USP",2,"Medium",1,"> 600",1,"Good",1,"Good","Above 50",50,1000,-6,0.13,0,-20,-0.5,-25,50]
[null,"1421111-0",967,1,"<130mph",4,"45,000 - 65,000",2,"Concrete with USP",1,"Hard",1,"> 600",1,"Good",1,"Good","0 to 10",0,10,-6,8.3999999999999991E-2,0,-6.75,0,-12,50]
[null,"1421111-10",968,1,"<130mph",4,"45,000 - 65,000",2,"Concrete with USP",1,"Hard",1,"> 600",1,"Good",1,"Good","10 to 20",10,20,-6,6.3E-2,0,-7.2,0,-15,50]
[null,"1421111-20",969,1,"<130mph",4,"45,000 - 65,000",2,"Concrete with USP",1,"Hard",1,"> 600",1,"Good",1,"Good","20 to 30",20,30,-6,7.6999999999999999E-2,0,-10.8,0,-20,50]
[null,"1421111-30",970,1,"<130mph",4,"45,000 - 65,000",2,"Concrete with USP",1,"Hard",1,"> 600",1,"Good",1,"Good","30 to 40",30,40,-6,8.3999999999999991E-2,0,-13.5,0,-25,50]
[null,"1421111-40",971,1,"<130mph",4,"45,000 - 65,000",2,"Concrete with USP",1,"Hard",1,"> 600",1,"Good",1,"Good","40 to 50",40,50,-6,9.0999999999999998E-2,0,-16.2,0,-25,50]
[null,"1421111-50",972,1,"<130mph",4,"45,000 - 65,000",2,"Concrete with USP",1,"Hard",1,"> 600",1,"Good",1,"Good","Above 50",50,1000,-6,9.0999999999999998E-2,0,-18,-0.5,-25,50]
[null,"1423111-0",973,1,"<130mph",4,"45,000 - 65,000",2,"Concrete with USP",3,"Soft",1,"> 600",1,"Good",1,"Good","0 to 10",0,10,-6,0.14399999999999999,0,-8.25,0,-12,50]
[null,"1423111-10",974,1,"<130mph",4,"45,000 - 65,000",2,"Concrete with USP",3,"Soft",1,"> 600",1,"Good",1,"Good","10 to 20",10,20,-6,0.108,0,-8.8000000000000007,0,-15,50]
[null,"1423111-20",975,1,"<130mph",4,"45,000 - 65,000",2,"Concrete with USP",3,"Soft",1,"> 600",1,"Good",1,"Good","20 to 30",20,30,-6,0.13200000000000001,0,-13.200000000000001,0,-20,50]
[null,"1423111-30",976,1,"<130mph",4,"45,000 - 65,000",2,"Concrete with USP",3,"Soft",1,"> 600",1,"Good",1,"Good","30 to 40",30,40,-6,0.14399999999999999,0,-16.5,0,-25,50]
[null,"1423111-40",977,1,"<130mph",4,"45,000 - 65,000",2,"Concrete with USP",3,"Soft",1,"> 600",1,"Good",1,"Good","40 to 50",40,50,-6,0.156,0,-19.8,0,-25,50]
[null,"1423111-50",978,1,"<130mph",4,"45,000 - 65,000",2,"Concrete with USP",3,"Soft",1,"> 600",1,"Good",1,"Good","Above 50",50,1000,-6,0.156,0,-22,-0.5,-25,50]
[null,"1422121-0",979,1,"<130mph",4,"45,000 - 65,000",2,"Concrete with USP",2,"Medium",1,"> 600",2,"Poor",1,"Good","0 to 10",0,10,-6,0.12,0,-7.5,0,-12,50]
[null,"1422121-10",980,1,"<130mph",4,"45,000 - 65,000",2,"Concrete with USP",2,"Medium",1,"> 600",2,"Poor",1,"Good","10 to 20",10,20,-6,0.108,0,-8.8000000000000007,0,-15,50]
[null,"1422121-20",981,1,"<130mph",4,"45,000 - 65,000",2,"Concrete with USP",2,"Medium",1,"> 600",2,"Poor",1,"Good","20 to 30",20,30,-6,0.13200000000000001,0,-13.200000000000001,0,-20,50]
[null,"1422121-30",982,1,"<130mph",4,"45,000 - 65,000",2,"Concrete with USP",2,"Medium",1,"> 600",2,"Poor",1,"Good","30 to 40",30,40,-6,0.14399999999999999,0,-16.5,0,-25,50]
[null,"1422121-40",983,1,"<130mph",4,"45,000 - 65,000",2,"Concrete with USP",2,"Medium",1,"> 600",2,"Poor",1,"Good","40 to 50",40,50,-6,0.156,0,-19.8,0,-25,50]
[null,"1422121-50",984,1,"<130mph",4,"45,000 - 65,000",2,"Concrete with USP",2,"Medium",1,"> 600",2,"Poor",1,"Good","Above 50",50,1000,-6,0.156,0,-22,-0.5,-25,50]
[null,"1421121-0",985,1,"<130mph",4,"45,000 - 65,000",2,"Concrete with USP",1,"Hard",1,"> 600",2,"Poor",1,"Good","0 to 10",0,10,-6,8.3999999999999991E-2,0,-6.75,0,-12,50]
[null,"1421121-10",986,1,"<130mph",4,"45,000 - 65,000",2,"Concrete with USP",1,"Hard",1,"> 600",2,"Poor",1,"Good","10 to 20",10,20,-6,7.5600000000000001E-2,0,-7.9200000000000008,0,-15,50]
[null,"1421121-20",987,1,"<130mph",4,"45,000 - 65,000",2,"Concrete with USP",1,"Hard",1,"> 600",2,"Poor",1,"Good","20 to 30",20,30,-6,9.2399999999999996E-2,0,-11.88,0,-20,50]
[null,"1421121-30",988,1,"<130mph",4,"45,000 - 65,000",2,"Concrete with USP",1,"Hard",1,"> 600",2,"Poor",1,"Good","30 to 40",30,40,-6,0.10079999999999999,0,-14.850000000000001,0,-25,50]
[null,"1421121-40",989,1,"<130mph",4,"45,000 - 65,000",2,"Concrete with USP",1,"Hard",1,"> 600",2,"Poor",1,"Good","40 to 50",40,50,-6,0.10920000000000001,0,-17.82,0,-25,50]
[null,"1421121-50",990,1,"<130mph",4,"45,000 - 65,000",2,"Concrete with USP",1,"Hard",1,"> 600",2,"Poor",1,"Good","Above 50",50,1000,-6,0.10920000000000001,0,-19.8,-0.5,-25,50]
[null,"1423121-0",991,1,"<130mph",4,"45,000 - 65,000",2,"Concrete with USP",3,"Soft",1,"> 600",2,"Poor",1,"Good","0 to 10",0,10,-6,0.14399999999999999,0,-8.25,0,-12,50]
[null,"1423121-10",992,1,"<130mph",4,"45,000 - 65,000",2,"Concrete with USP",3,"Soft",1,"> 600",2,"Poor",1,"Good","10 to 20",10,20,-6,0.12959999999999999,0,-9.6800000000000015,0,-15,50]
[null,"1423121-20",993,1,"<130mph",4,"45,000 - 65,000",2,"Concrete with USP",3,"Soft",1,"> 600",2,"Poor",1,"Good","20 to 30",20,30,-6,0.15839999999999999,0,-14.520000000000003,0,-20,50]
[null,"1423121-30",994,1,"<130mph",4,"45,000 - 65,000",2,"Concrete with USP",3,"Soft",1,"> 600",2,"Poor",1,"Good","30 to 40",30,40,-6,0.17279999999999998,0,-18.150000000000002,0,-25,50]
[null,"1423121-40",995,1,"<130mph",4,"45,000 - 65,000",2,"Concrete with USP",3,"Soft",1,"> 600",2,"Poor",1,"Good","40 to 50",40,50,-6,0.18720000000000001,0,-21.780000000000005,0,-25,50]
[null,"1423121-50",996,1,"<130mph",4,"45,000 - 65,000",2,"Concrete with USP",3,"Soft",1,"> 600",2,"Poor",1,"Good","Above 50",50,1000,-6,0.18720000000000001,0,-24.200000000000003,-0.5,-25,50]
[null,"1422112-0",997,1,"<130mph",4,"45,000 - 65,000",2,"Concrete with USP",2,"Medium",1,"> 600",1,"Good",2,"Poor","0 to 10",0,10,-6,0.12,0,-7.5,0,-12,50]
[null,"1422112-10",998,1,"<130mph",4,"45,000 - 65,000",2,"Concrete with USP",2,"Medium",1,"> 600",1,"Good",2,"Poor","10 to 20",10,20,-6,9.9000000000000005E-2,0,-8.8000000000000007,0,-15,50]
[null,"1422112-20",999,1,"<130mph",4,"45,000 - 65,000",2,"Concrete with USP",2,"Medium",1,"> 600",1,"Good",2,"Poor","20 to 30",20,30,-6,0.12100000000000001,0,-13.200000000000001,0,-20,50]
[null,"1422112-30",1000,1,"<130mph",4,"45,000 - 65,000",2,"Concrete with USP",2,"Medium",1,"> 600",1,"Good",2,"Poor","30 to 40",30,40,-6,0.13200000000000001,0,-16.5,0,-25,50]
[null,"1422112-40",1001,1,"<130mph",4,"45,000 - 65,000",2,"Concrete with USP",2,"Medium",1,"> 600",1,"Good",2,"Poor","40 to 50",40,50,-6,0.14300000000000002,0,-19.8,0,-25,50]
[null,"1422112-50",1002,1,"<130mph",4,"45,000 - 65,000",2,"Concrete with USP",2,"Medium",1,"> 600",1,"Good",2,"Poor","Above 50",50,1000,-6,0.14300000000000002,0,-22,-0.5,-25,50]
[null,"1421112-0",1003,1,"<130mph",4,"45,000 - 65,000",2,"Concrete with USP",1,"Hard",1,"> 600",1,"Good",2,"Poor","0 to 10",0,10,-6,8.3999999999999991E-2,0,-6.75,0,-12,50]
[null,"1421112-10",1004,1,"<130mph",4,"45,000 - 65,000",2,"Concrete with USP",1,"Hard",1,"> 600",1,"Good",2,"Poor","10 to 20",10,20,-6,6.93E-2,0,-7.9200000000000008,0,-15,50]
[null,"1421112-20",1005,1,"<130mph",4,"45,000 - 65,000",2,"Concrete with USP",1,"Hard",1,"> 600",1,"Good",2,"Poor","20 to 30",20,30,-6,8.4699999999999998E-2,0,-11.88,0,-20,50]
[null,"1421112-30",1006,1,"<130mph",4,"45,000 - 65,000",2,"Concrete with USP",1,"Hard",1,"> 600",1,"Good",2,"Poor","30 to 40",30,40,-6,9.2399999999999996E-2,0,-14.850000000000001,0,-25,50]
[null,"1421112-40",1007,1,"<130mph",4,"45,000 - 65,000",2,"Concrete with USP",1,"Hard",1,"> 600",1,"Good",2,"Poor","40 to 50",40,50,-6,0.10010000000000001,0,-17.82,0,-25,50]
[null,"1421112-50",1008,1,"<130mph",4,"45,000 - 65,000",2,"Concrete with USP",1,"Hard",1,"> 600",1,"Good",2,"Poor","Above 50",50,1000,-6,0.10010000000000001,0,-19.8,-0.5,-25,50]
[null,"1423112-0",1009,1,"<130mph",4,"45,000 - 65,000",2,"Concrete with USP",3,"Soft",1,"> 600",1,"Good",2,"Poor","0 to 10",0,10,-6,0.14399999999999999,0,-8.25,0,-12,50]
[null,"1423112-10",1010,1,"<130mph",4,"45,000 - 65,000",2,"Concrete with USP",3,"Soft",1,"> 600",1,"Good",2,"Poor","10 to 20",10,20,-6,0.1188,0,-9.6800000000000015,0,-15,50]
[null,"1423112-20",1011,1,"<130mph",4,"45,000 - 65,000",2,"Concrete with USP",3,"Soft",1,"> 600",1,"Good",2,"Poor","20 to 30",20,30,-6,0.1452,0,-14.520000000000003,0,-20,50]
[null,"1423112-30",1012,1,"<130mph",4,"45,000 - 65,000",2,"Concrete with USP",3,"Soft",1,"> 600",1,"Good",2,"Poor","30 to 40",30,40,-6,0.15840000000000001,0,-18.150000000000002,0,-25,50]
[null,"1423112-40",1013,1,"<130mph",4,"45,000 - 65,000",2,"Concrete with USP",3,"Soft",1,"> 600",1,"Good",2,"Poor","40 to 50",40,50,-6,0.1716,0,-21.780000000000005,0,-25,50]
[null,"1423112-50",1014,1,"<130mph",4,"45,000 - 65,000",2,"Concrete with USP",3,"Soft",1,"> 600",1,"Good",2,"Poor","Above 50",50,1000,-6,0.1716,0,-24.200000000000003,-0.5,-25,50]
[null,"1422122-0",1015,1,"<130mph",4,"45,000 - 65,000",2,"Concrete with USP",2,"Medium",1,"> 600",2,"Poor",2,"Poor","0 to 10",0,10,-6,0.12,0,-7.5,0,-12,50]
[null,"1422122-10",1016,1,"<130mph",4,"45,000 - 65,000",2,"Concrete with USP",2,"Medium",1,"> 600",2,"Poor",2,"Poor","10 to 20",10,20,-6,0.1188,0,-9.6800000000000015,0,-15,50]
[null,"1422122-20",1017,1,"<130mph",4,"45,000 - 65,000",2,"Concrete with USP",2,"Medium",1,"> 600",2,"Poor",2,"Poor","20 to 30",20,30,-6,0.1452,0,-14.520000000000003,0,-20,50]
[null,"1422122-30",1018,1,"<130mph",4,"45,000 - 65,000",2,"Concrete with USP",2,"Medium",1,"> 600",2,"Poor",2,"Poor","30 to 40",30,40,-6,0.15840000000000001,0,-18.150000000000002,0,-25,50]
[null,"1422122-40",1019,1,"<130mph",4,"45,000 - 65,000",2,"Concrete with USP",2,"Medium",1,"> 600",2,"Poor",2,"Poor","40 to 50",40,50,-6,0.1716,0,-21.780000000000005,0,-25,50]
[null,"1422122-50",1020,1,"<130mph",4,"45,000 - 65,000",2,"Concrete with USP",2,"Medium",1,"> 600",2,"Poor",2,"Poor","Above 50",50,1000,-6,0.1716,0,-24.200000000000003,-0.5,-25,50]
[null,"1421122-0",1021,1,"<130mph",4,"45,000 - 65,000",2,"Concrete with USP",1,"Hard",1,"> 600",2,"Poor",2,"Poor","0 to 10",0,10,-6,8.3999999999999991E-2,0,-6.75,0,-12,50]
[null,"1421122-10",1022,1,"<130mph",4,"45,000 - 65,000",2,"Concrete with USP",1,"Hard",1,"> 600",2,"Poor",2,"Poor","10 to 20",10,20,-6,8.3159999999999998E-2,0,-8.7120000000000015,0,-15,50]
[null,"1421122-20",1023,1,"<130mph",4,"45,000 - 65,000",2,"Concrete with USP",1,"Hard",1,"> 600",2,"Poor",2,"Poor","20 to 30",20,30,-6,0.10164000000000001,0,-13.068000000000001,0,-20,50]
[null,"1421122-30",1024,1,"<130mph",4,"45,000 - 65,000",2,"Concrete with USP",1,"Hard",1,"> 600",2,"Poor",2,"Poor","30 to 40",30,40,-6,0.11088000000000001,0,-16.335000000000004,0,-25,50]
[null,"1421122-40",1025,1,"<130mph",4,"45,000 - 65,000",2,"Concrete with USP",1,"Hard",1,"> 600",2,"Poor",2,"Poor","40 to 50",40,50,-6,0.12012,0,-19.602000000000004,0,-25,50]
[null,{"$f":"D1044&F1044&H1044&J1044&L1044&N1044&P1044&\"-\"&S1044","v":"1421122-50"},1026,1,"<130mph",4,"45,000 - 65,000",2,"Concrete with USP",1,"Hard",1,"> 600",2,"Poor",2,"Poor","Above 50",50,1000,-6,0.12012,0,-21.780000000000005,-0.5,-25,50]
[null,"1423122-0",1027,1,"<130mph",4,"45,000 - 65,000",2,"Concrete with USP",3,"Soft",1,"> 600",2,"Poor",2,"Poor","0 to 10",0,10,-6,0.14399999999999999,0,-8.25,0,-12,50]
[null,"1423122-10",1028,1,"<130mph",4,"45,000 - 65,000",2,"Concrete with USP",3,"Soft",1,"> 600",2,"Poor",2,"Poor","10 to 20",10,20,-6,0.14255999999999999,0,-10.648000000000003,0,-15,50]
[null,"1423122-20",1029,1,"<130mph",4,"45,000 - 65,000",2,"Concrete with USP",3,"Soft",1,"> 600",2,"Poor",2,"Poor","20 to 30",20,30,-6,0.17424000000000001,0,-15.972000000000005,0,-20,50]
[null,"1423122-30",1030,1,"<130mph",4,"45,000 - 65,000",2,"Concrete with USP",3,"Soft",1,"> 600",2,"Poor",2,"Poor","30 to 40",30,40,-6,0.19008,0,-19.965000000000007,0,-25,50]
[null,"1423122-40",1031,1,"<130mph",4,"45,000 - 65,000",2,"Concrete with USP",3,"Soft",1,"> 600",2,"Poor",2,"Poor","40 to 50",40,50,-6,0.20592000000000002,0,-23.958000000000006,0,-25,50]
[null,"1423122-50",1032,1,"<130mph",4,"45,000 - 65,000",2,"Concrete with USP",3,"Soft",1,"> 600",2,"Poor",2,"Poor","Above 50",50,1000,-6,0.20592000000000002,0,-26.620000000000008,-0.5,-25,50]
[null,"1422211-0",1033,1,"<130mph",4,"45,000 - 65,000",2,"Concrete with USP",2,"Medium",2,"400 < R < 600",1,"Good",1,"Good","0 to 10",0,10,-6,0.13200000000000001,0,-7.5,0,-12,50]
[null,"1422211-10",1034,1,"<130mph",4,"45,000 - 65,000",2,"Concrete with USP",2,"Medium",2,"400 < R < 600",1,"Good",1,"Good","10 to 20",10,20,-6,9.9000000000000005E-2,0,-8,0,-15,50]
[null,"1422211-20",1035,1,"<130mph",4,"45,000 - 65,000",2,"Concrete with USP",2,"Medium",2,"400 < R < 600",1,"Good",1,"Good","20 to 30",20,30,-6,0.12100000000000001,0,-12,0,-20,50]
[null,"1422211-30",1036,1,"<130mph",4,"45,000 - 65,000",2,"Concrete with USP",2,"Medium",2,"400 < R < 600",1,"Good",1,"Good","30 to 40",30,40,-6,0.13200000000000001,0,-15,0,-25,50]
[null,"1422211-40",1037,1,"<130mph",4,"45,000 - 65,000",2,"Concrete with USP",2,"Medium",2,"400 < R < 600",1,"Good",1,"Good","40 to 50",40,50,-6,0.14300000000000002,0,-18,0,-25,50]
[null,"1422211-50",1038,1,"<130mph",4,"45,000 - 65,000",2,"Concrete with USP",2,"Medium",2,"400 < R < 600",1,"Good",1,"Good","Above 50",50,1000,-6,0.14300000000000002,0,-20,-0.5,-25,50]
[null,"1421211-0",1039,1,"<130mph",4,"45,000 - 65,000",2,"Concrete with USP",1,"Hard",2,"400 < R < 600",1,"Good",1,"Good","0 to 10",0,10,-6,9.2399999999999996E-2,0,-6.75,0,-12,50]
[null,"1421211-10",1040,1,"<130mph",4,"45,000 - 65,000",2,"Concrete with USP",1,"Hard",2,"400 < R < 600",1,"Good",1,"Good","10 to 20",10,20,-6,6.93E-2,0,-7.2,0,-15,50]
[null,"1421211-20",1041,1,"<130mph",4,"45,000 - 65,000",2,"Concrete with USP",1,"Hard",2,"400 < R < 600",1,"Good",1,"Good","20 to 30",20,30,-6,8.4699999999999998E-2,0,-10.8,0,-20,50]
[null,"1421211-30",1042,1,"<130mph",4,"45,000 - 65,000",2,"Concrete with USP",1,"Hard",2,"400 < R < 600",1,"Good",1,"Good","30 to 40",30,40,-6,9.2399999999999996E-2,0,-13.5,0,-25,50]
[null,"1421211-40",1043,1,"<130mph",4,"45,000 - 65,000",2,"Concrete with USP",1,"Hard",2,"400 < R < 600",1,"Good",1,"Good","40 to 50",40,50,-6,0.10010000000000001,0,-16.2,0,-25,50]
[null,"1421211-50",1044,1,"<130mph",4,"45,000 - 65,000",2,"Concrete with USP",1,"Hard",2,"400 < R < 600",1,"Good",1,"Good","Above 50",50,1000,-6,0.10010000000000001,0,-18,-0.5,-25,50]
[null,"1423211-0",1045,1,"<130mph",4,"45,000 - 65,000",2,"Concrete with USP",3,"Soft",2,"400 < R < 600",1,"Good",1,"Good","0 to 10",0,10,-6,0.15840000000000001,0,-8.25,0,-12,50]
[null,"1423211-10",1046,1,"<130mph",4,"45,000 - 65,000",2,"Concrete with USP",3,"Soft",2,"400 < R < 600",1,"Good",1,"Good","10 to 20",10,20,-6,0.1188,0,-8.8000000000000007,0,-15,50]
[null,"1423211-20",1047,1,"<130mph",4,"45,000 - 65,000",2,"Concrete with USP",3,"Soft",2,"400 < R < 600",1,"Good",1,"Good","20 to 30",20,30,-6,0.1452,0,-13.200000000000001,0,-20,50]
[null,"1423211-30",1048,1,"<130mph",4,"45,000 - 65,000",2,"Concrete with USP",3,"Soft",2,"400 < R < 600",1,"Good",1,"Good","30 to 40",30,40,-6,0.15840000000000001,0,-16.5,0,-25,50]
[null,"1423211-40",1049,1,"<130mph",4,"45,000 - 65,000",2,"Concrete with USP",3,"Soft",2,"400 < R < 600",1,"Good",1,"Good","40 to 50",40,50,-6,0.1716,0,-19.8,0,-25,50]
[null,"1423211-50",1050,1,"<130mph",4,"45,000 - 65,000",2,"Concrete with USP",3,"Soft",2,"400 < R < 600",1,"Good",1,"Good","Above 50",50,1000,-6,0.1716,0,-22,-0.5,-25,50]
[null,"1422221-0",1051,1,"<130mph",4,"45,000 - 65,000",2,"Concrete with USP",2,"Medium",2,"400 < R < 600",2,"Poor",1,"Good","0 to 10",0,10,-6,0.13200000000000001,0,-7.5,0,-12,50]
[null,"1422221-10",1052,1,"<130mph",4,"45,000 - 65,000",2,"Concrete with USP",2,"Medium",2,"400 < R < 600",2,"Poor",1,"Good","10 to 20",10,20,-6,0.1188,0,-8.8000000000000007,0,-15,50]
[null,"1422221-20",1053,1,"<130mph",4,"45,000 - 65,000",2,"Concrete with USP",2,"Medium",2,"400 < R < 600",2,"Poor",1,"Good","20 to 30",20,30,-6,0.1452,0,-13.200000000000001,0,-20,50]
[null,"1422221-30",1054,1,"<130mph",4,"45,000 - 65,000",2,"Concrete with USP",2,"Medium",2,"400 < R < 600",2,"Poor",1,"Good","30 to 40",30,40,-6,0.15840000000000001,0,-16.5,0,-25,50]
[null,"1422221-40",1055,1,"<130mph",4,"45,000 - 65,000",2,"Concrete with USP",2,"Medium",2,"400 < R < 600",2,"Poor",1,"Good","40 to 50",40,50,-6,0.1716,0,-19.8,0,-25,50]
[null,"1422221-50",1056,1,"<130mph",4,"45,000 - 65,000",2,"Concrete with USP",2,"Medium",2,"400 < R < 600",2,"Poor",1,"Good","Above 50",50,1000,-6,0.1716,0,-22,-0.5,-25,50]
[null,"1421221-0",1057,1,"<130mph",4,"45,000 - 65,000",2,"Concrete with USP",1,"Hard",2,"400 < R < 600",2,"Poor",1,"Good","0 to 10",0,10,-6,9.2399999999999996E-2,0,-6.75,0,-12,50]
[null,"1421221-10",1058,1,"<130mph",4,"45,000 - 65,000",2,"Concrete with USP",1,"Hard",2,"400 < R < 600",2,"Poor",1,"Good","10 to 20",10,20,-6,8.3159999999999984E-2,0,-7.9200000000000008,0,-15,50]
[null,"1421221-20",1059,1,"<130mph",4,"45,000 - 65,000",2,"Concrete with USP",1,"Hard",2,"400 < R < 600",2,"Poor",1,"Good","20 to 30",20,30,-6,0.10163999999999999,0,-11.88,0,-20,50]
[null,"1421221-30",1060,1,"<130mph",4,"45,000 - 65,000",2,"Concrete with USP",1,"Hard",2,"400 < R < 600",2,"Poor",1,"Good","30 to 40",30,40,-6,0.11087999999999999,0,-14.850000000000001,0,-25,50]
[null,"1421221-40",1061,1,"<130mph",4,"45,000 - 65,000",2,"Concrete with USP",1,"Hard",2,"400 < R < 600",2,"Poor",1,"Good","40 to 50",40,50,-6,0.12011999999999999,0,-17.82,0,-25,50]
[null,"1421221-50",1062,1,"<130mph",4,"45,000 - 65,000",2,"Concrete with USP",1,"Hard",2,"400 < R < 600",2,"Poor",1,"Good","Above 50",50,1000,-6,0.12011999999999999,0,-19.8,-0.5,-25,50]
[null,"1423221-0",1063,1,"<130mph",4,"45,000 - 65,000",2,"Concrete with USP",3,"Soft",2,"400 < R < 600",2,"Poor",1,"Good","0 to 10",0,10,-6,0.15840000000000001,0,-8.25,0,-12,50]
[null,"1423221-10",1064,1,"<130mph",4,"45,000 - 65,000",2,"Concrete with USP",3,"Soft",2,"400 < R < 600",2,"Poor",1,"Good","10 to 20",10,20,-6,0.14255999999999999,0,-9.6800000000000015,0,-15,50]
[null,"1423221-20",1065,1,"<130mph",4,"45,000 - 65,000",2,"Concrete with USP",3,"Soft",2,"400 < R < 600",2,"Poor",1,"Good","20 to 30",20,30,-6,0.17424000000000001,0,-14.520000000000003,0,-20,50]
[null,"1423221-30",1066,1,"<130mph",4,"45,000 - 65,000",2,"Concrete with USP",3,"Soft",2,"400 < R < 600",2,"Poor",1,"Good","30 to 40",30,40,-6,0.19008,0,-18.150000000000002,0,-25,50]
[null,"1423221-40",1067,1,"<130mph",4,"45,000 - 65,000",2,"Concrete with USP",3,"Soft",2,"400 < R < 600",2,"Poor",1,"Good","40 to 50",40,50,-6,0.20592000000000002,0,-21.780000000000005,0,-25,50]
[null,"1423221-50",1068,1,"<130mph",4,"45,000 - 65,000",2,"Concrete with USP",3,"Soft",2,"400 < R < 600",2,"Poor",1,"Good","Above 50",50,1000,-6,0.20592000000000002,0,-24.200000000000003,-0.5,-25,50]
[null,"1422212-0",1069,1,"<130mph",4,"45,000 - 65,000",2,"Concrete with USP",2,"Medium",2,"400 < R < 600",1,"Good",2,"Poor","0 to 10",0,10,-6,0.13200000000000001,0,-7.5,0,-12,50]
[null,"1422212-10",1070,1,"<130mph",4,"45,000 - 65,000",2,"Concrete with USP",2,"Medium",2,"400 < R < 600",1,"Good",2,"Poor","10 to 20",10,20,-6,0.10890000000000001,0,-8.8000000000000007,0,-15,50]
[null,"1422212-20",1071,1,"<130mph",4,"45,000 - 65,000",2,"Concrete with USP",2,"Medium",2,"400 < R < 600",1,"Good",2,"Poor","20 to 30",20,30,-6,0.13310000000000002,0,-13.200000000000001,0,-20,50]
[null,"1422212-30",1072,1,"<130mph",4,"45,000 - 65,000",2,"Concrete with USP",2,"Medium",2,"400 < R < 600",1,"Good",2,"Poor","30 to 40",30,40,-6,0.14520000000000002,0,-16.5,0,-25,50]
[null,"1422212-40",1073,1,"<130mph",4,"45,000 - 65,000",2,"Concrete with USP",2,"Medium",2,"400 < R < 600",1,"Good",2,"Poor","40 to 50",40,50,-6,0.15730000000000002,0,-19.8,0,-25,50]
[null,"1422212-50",1074,1,"<130mph",4,"45,000 - 65,000",2,"Concrete with USP",2,"Medium",2,"400 < R < 600",1,"Good",2,"Poor","Above 50",50,1000,-6,0.15730000000000002,0,-22,-0.5,-25,50]
[null,"1421212-0",1075,1,"<130mph",4,"45,000 - 65,000",2,"Concrete with USP",1,"Hard",2,"400 < R < 600",1,"Good",2,"Poor","0 to 10",0,10,-6,9.2399999999999996E-2,0,-6.75,0,-12,50]
[null,"1421212-10",1076,1,"<130mph",4,"45,000 - 65,000",2,"Concrete with USP",1,"Hard",2,"400 < R < 600",1,"Good",2,"Poor","10 to 20",10,20,-6,7.6230000000000006E-2,0,-7.9200000000000008,0,-15,50]
[null,"1421212-20",1077,1,"<130mph",4,"45,000 - 65,000",2,"Concrete with USP",1,"Hard",2,"400 < R < 600",1,"Good",2,"Poor","20 to 30",20,30,-6,9.3170000000000017E-2,0,-11.88,0,-20,50]
[null,"1421212-30",1078,1,"<130mph",4,"45,000 - 65,000",2,"Concrete with USP",1,"Hard",2,"400 < R < 600",1,"Good",2,"Poor","30 to 40",30,40,-6,0.10164000000000001,0,-14.850000000000001,0,-25,50]
[null,"1421212-40",1079,1,"<130mph",4,"45,000 - 65,000",2,"Concrete with USP",1,"Hard",2,"400 < R < 600",1,"Good",2,"Poor","40 to 50",40,50,-6,0.11011000000000001,0,-17.82,0,-25,50]
[null,"1421212-50",1080,1,"<130mph",4,"45,000 - 65,000",2,"Concrete with USP",1,"Hard",2,"400 < R < 600",1,"Good",2,"Poor","Above 50",50,1000,-6,0.11011000000000001,0,-19.8,-0.5,-25,50]
[null,"1423212-0",1081,1,"<130mph",4,"45,000 - 65,000",2,"Concrete with USP",3,"Soft",2,"400 < R < 600",1,"Good",2,"Poor","0 to 10",0,10,-6,0.15840000000000001,0,-8.25,0,-12,50]
[null,"1423212-10",1082,1,"<130mph",4,"45,000 - 65,000",2,"Concrete with USP",3,"Soft",2,"400 < R < 600",1,"Good",2,"Poor","10 to 20",10,20,-6,0.13068000000000002,0,-9.6800000000000015,0,-15,50]
[null,"1423212-20",1083,1,"<130mph",4,"45,000 - 65,000",2,"Concrete with USP",3,"Soft",2,"400 < R < 600",1,"Good",2,"Poor","20 to 30",20,30,-6,0.15972000000000003,0,-14.520000000000003,0,-20,50]
[null,"1423212-30",1084,1,"<130mph",4,"45,000 - 65,000",2,"Concrete with USP",3,"Soft",2,"400 < R < 600",1,"Good",2,"Poor","30 to 40",30,40,-6,0.17424000000000001,0,-18.150000000000002,0,-25,50]
[null,"1423212-40",1085,1,"<130mph",4,"45,000 - 65,000",2,"Concrete with USP",3,"Soft",2,"400 < R < 600",1,"Good",2,"Poor","40 to 50",40,50,-6,0.18876000000000004,0,-21.780000000000005,0,-25,50]
[null,"1423212-50",1086,1,"<130mph",4,"45,000 - 65,000",2,"Concrete with USP",3,"Soft",2,"400 < R < 600",1,"Good",2,"Poor","Above 50",50,1000,-6,0.18876000000000004,0,-24.200000000000003,-0.5,-25,50]
[null,"1422222-0",1087,1,"<130mph",4,"45,000 - 65,000",2,"Concrete with USP",2,"Medium",2,"400 < R < 600",2,"Poor",2,"Poor","0 to 10",0,10,-6,0.13200000000000001,0,-7.5,0,-12,50]
[null,"1422222-10",1088,1,"<130mph",4,"45,000 - 65,000",2,"Concrete with USP",2,"Medium",2,"400 < R < 600",2,"Poor",2,"Poor","10 to 20",10,20,-6,0.13068000000000002,0,-9.6800000000000015,0,-15,50]
[null,"1422222-20",1089,1,"<130mph",4,"45,000 - 65,000",2,"Concrete with USP",2,"Medium",2,"400 < R < 600",2,"Poor",2,"Poor","20 to 30",20,30,-6,0.15972000000000003,0,-14.520000000000003,0,-20,50]
[null,{"$f":"D1108&F1108&H1108&J1108&L1108&N1108&P1108&\"-\"&S1108","v":"1422222-30"},1090,1,"<130mph",4,"45,000 - 65,000",2,"Concrete with USP",2,"Medium",2,"400 < R < 600",2,"Poor",2,"Poor","30 to 40",30,40,-6,0.17424000000000001,0,-18.150000000000002,0,-25,50]
[null,"1422222-40",1091,1,"<130mph",4,"45,000 - 65,000",2,"Concrete with USP",2,"Medium",2,"400 < R < 600",2,"Poor",2,"Poor","40 to 50",40,50,-6,0.18876000000000004,0,-21.780000000000005,0,-25,50]
[null,"1422222-50",1092,1,"<130mph",4,"45,000 - 65,000",2,"Concrete with USP",2,"Medium",2,"400 < R < 600",2,"Poor",2,"Poor","Above 50",50,1000,-6,0.18876000000000004,0,-24.200000000000003,-0.5,-25,50]
[null,"1421222-0",1093,1,"<130mph",4,"45,000 - 65,000",2,"Concrete with USP",1,"Hard",2,"400 < R < 600",2,"Poor",2,"Poor","0 to 10",0,10,-6,9.2399999999999996E-2,0,-6.75,0,-12,50]
[null,"1421222-10",1094,1,"<130mph",4,"45,000 - 65,000",2,"Concrete with USP",1,"Hard",2,"400 < R < 600",2,"Poor",2,"Poor","10 to 20",10,20,-6,9.1475999999999988E-2,0,-8.7120000000000015,0,-15,50]
[null,"1421222-20",1095,1,"<130mph",4,"45,000 - 65,000",2,"Concrete with USP",1,"Hard",2,"400 < R < 600",2,"Poor",2,"Poor","20 to 30",20,30,-6,0.111804,0,-13.068000000000001,0,-20,50]
[null,"1421222-30",1096,1,"<130mph",4,"45,000 - 65,000",2,"Concrete with USP",1,"Hard",2,"400 < R < 600",2,"Poor",2,"Poor","30 to 40",30,40,-6,0.12196799999999999,0,-16.335000000000004,0,-25,50]
[null,"1421222-40",1097,1,"<130mph",4,"45,000 - 65,000",2,"Concrete with USP",1,"Hard",2,"400 < R < 600",2,"Poor",2,"Poor","40 to 50",40,50,-6,0.132132,0,-19.602000000000004,0,-25,50]
[null,"1421222-50",1098,1,"<130mph",4,"45,000 - 65,000",2,"Concrete with USP",1,"Hard",2,"400 < R < 600",2,"Poor",2,"Poor","Above 50",50,1000,-6,0.132132,0,-21.780000000000005,-0.5,-25,50]
[null,"1423222-0",1099,1,"<130mph",4,"45,000 - 65,000",2,"Concrete with USP",3,"Soft",2,"400 < R < 600",2,"Poor",2,"Poor","0 to 10",0,10,-6,0.15840000000000001,0,-8.25,0,-12,50]
[null,"1423222-10",1100,1,"<130mph",4,"45,000 - 65,000",2,"Concrete with USP",3,"Soft",2,"400 < R < 600",2,"Poor",2,"Poor","10 to 20",10,20,-6,0.15681600000000001,0,-10.648000000000003,0,-15,50]
[null,"1423222-20",1101,1,"<130mph",4,"45,000 - 65,000",2,"Concrete with USP",3,"Soft",2,"400 < R < 600",2,"Poor",2,"Poor","20 to 30",20,30,-6,0.19166400000000003,0,-15.972000000000005,0,-20,50]
[null,"1423222-30",1102,1,"<130mph",4,"45,000 - 65,000",2,"Concrete with USP",3,"Soft",2,"400 < R < 600",2,"Poor",2,"Poor","30 to 40",30,40,-6,0.20908800000000002,0,-19.965000000000007,0,-25,50]
[null,"1423222-40",1103,1,"<130mph",4,"45,000 - 65,000",2,"Concrete with USP",3,"Soft",2,"400 < R < 600",2,"Poor",2,"Poor","40 to 50",40,50,-6,0.22651200000000002,0,-23.958000000000006,0,-25,50]
[null,"1423222-50",1104,1,"<130mph",4,"45,000 - 65,000",2,"Concrete with USP",3,"Soft",2,"400 < R < 600",2,"Poor",2,"Poor","Above 50",50,1000,-6,0.22651200000000002,0,-26.620000000000008,-0.5,-25,50]
[null,"1422311-0",1105,1,"<130mph",4,"45,000 - 65,000",2,"Concrete with USP",2,"Medium",3,"300 < R < 400",1,"Good",1,"Good","0 to 10",0,10,-6,0.13200000000000001,0,-7.5,0,-12,25]
[null,"1422311-10",1106,1,"<130mph",4,"45,000 - 65,000",2,"Concrete with USP",2,"Medium",3,"300 < R < 400",1,"Good",1,"Good","10 to 20",10,20,-6,9.9000000000000005E-2,0,-8,0,-15,25]
[null,"1422311-20",1107,1,"<130mph",4,"45,000 - 65,000",2,"Concrete with USP",2,"Medium",3,"300 < R < 400",1,"Good",1,"Good","20 to 30",20,30,-6,0.12100000000000001,0,-12,0,-20,25]
[null,"1422311-30",1108,1,"<130mph",4,"45,000 - 65,000",2,"Concrete with USP",2,"Medium",3,"300 < R < 400",1,"Good",1,"Good","30 to 40",30,40,-6,0.13200000000000001,0,-15,0,-25,25]
[null,"1422311-40",1109,1,"<130mph",4,"45,000 - 65,000",2,"Concrete with USP",2,"Medium",3,"300 < R < 400",1,"Good",1,"Good","40 to 50",40,50,-6,0.14300000000000002,0,-18,0,-25,25]
[null,"1422311-50",1110,1,"<130mph",4,"45,000 - 65,000",2,"Concrete with USP",2,"Medium",3,"300 < R < 400",1,"Good",1,"Good","Above 50",50,1000,-6,0.14300000000000002,0,-20,-0.5,-25,25]
[null,"1421311-0",1111,1,"<130mph",4,"45,000 - 65,000",2,"Concrete with USP",1,"Hard",3,"300 < R < 400",1,"Good",1,"Good","0 to 10",0,10,-6,9.2399999999999996E-2,0,-6.75,0,-12,25]
[null,"1421311-10",1112,1,"<130mph",4,"45,000 - 65,000",2,"Concrete with USP",1,"Hard",3,"300 < R < 400",1,"Good",1,"Good","10 to 20",10,20,-6,6.93E-2,0,-7.2,0,-15,25]
[null,"1421311-20",1113,1,"<130mph",4,"45,000 - 65,000",2,"Concrete with USP",1,"Hard",3,"300 < R < 400",1,"Good",1,"Good","20 to 30",20,30,-6,8.4699999999999998E-2,0,-10.8,0,-20,25]
[null,"1421311-30",1114,1,"<130mph",4,"45,000 - 65,000",2,"Concrete with USP",1,"Hard",3,"300 < R < 400",1,"Good",1,"Good","30 to 40",30,40,-6,9.2399999999999996E-2,0,-13.5,0,-25,25]
[null,"1421311-40",1115,1,"<130mph",4,"45,000 - 65,000",2,"Concrete with USP",1,"Hard",3,"300 < R < 400",1,"Good",1,"Good","40 to 50",40,50,-6,0.10010000000000001,0,-16.2,0,-25,25]
[null,"1421311-50",1116,1,"<130mph",4,"45,000 - 65,000",2,"Concrete with USP",1,"Hard",3,"300 < R < 400",1,"Good",1,"Good","Above 50",50,1000,-6,0.10010000000000001,0,-18,-0.5,-25,25]
[null,"1423311-0",1117,1,"<130mph",4,"45,000 - 65,000",2,"Concrete with USP",3,"Soft",3,"300 < R < 400",1,"Good",1,"Good","0 to 10",0,10,-6,0.15840000000000001,0,-8.25,0,-12,25]
[null,"1423311-10",1118,1,"<130mph",4,"45,000 - 65,000",2,"Concrete with USP",3,"Soft",3,"300 < R < 400",1,"Good",1,"Good","10 to 20",10,20,-6,0.1188,0,-8.8000000000000007,0,-15,25]
[null,"1423311-20",1119,1,"<130mph",4,"45,000 - 65,000",2,"Concrete with USP",3,"Soft",3,"300 < R < 400",1,"Good",1,"Good","20 to 30",20,30,-6,0.1452,0,-13.200000000000001,0,-20,25]
[null,"1423311-30",1120,1,"<130mph",4,"45,000 - 65,000",2,"Concrete with USP",3,"Soft",3,"300 < R < 400",1,"Good",1,"Good","30 to 40",30,40,-6,0.15840000000000001,0,-16.5,0,-25,25]
[null,"1423311-40",1121,1,"<130mph",4,"45,000 - 65,000",2,"Concrete with USP",3,"Soft",3,"300 < R < 400",1,"Good",1,"Good","40 to 50",40,50,-6,0.1716,0,-19.8,0,-25,25]
[null,"1423311-50",1122,1,"<130mph",4,"45,000 - 65,000",2,"Concrete with USP",3,"Soft",3,"300 < R < 400",1,"Good",1,"Good","Above 50",50,1000,-6,0.1716,0,-22,-0.5,-25,25]
[null,"1422321-0",1123,1,"<130mph",4,"45,000 - 65,000",2,"Concrete with USP",2,"Medium",3,"300 < R < 400",2,"Poor",1,"Good","0 to 10",0,10,-6,0.13200000000000001,0,-7.5,0,-12,25]
[null,"1422321-10",1124,1,"<130mph",4,"45,000 - 65,000",2,"Concrete with USP",2,"Medium",3,"300 < R < 400",2,"Poor",1,"Good","10 to 20",10,20,-6,0.1188,0,-8.8000000000000007,0,-15,25]
[null,"1422321-20",1125,1,"<130mph",4,"45,000 - 65,000",2,"Concrete with USP",2,"Medium",3,"300 < R < 400",2,"Poor",1,"Good","20 to 30",20,30,-6,0.1452,0,-13.200000000000001,0,-20,25]
[null,"1422321-30",1126,1,"<130mph",4,"45,000 - 65,000",2,"Concrete with USP",2,"Medium",3,"300 < R < 400",2,"Poor",1,"Good","30 to 40",30,40,-6,0.15840000000000001,0,-16.5,0,-25,25]
[null,"1422321-40",1127,1,"<130mph",4,"45,000 - 65,000",2,"Concrete with USP",2,"Medium",3,"300 < R < 400",2,"Poor",1,"Good","40 to 50",40,50,-6,0.1716,0,-19.8,0,-25,25]
[null,"1422321-50",1128,1,"<130mph",4,"45,000 - 65,000",2,"Concrete with USP",2,"Medium",3,"300 < R < 400",2,"Poor",1,"Good","Above 50",50,1000,-6,0.1716,0,-22,-0.5,-25,25]
[null,"1421321-0",1129,1,"<130mph",4,"45,000 - 65,000",2,"Concrete with USP",1,"Hard",3,"300 < R < 400",2,"Poor",1,"Good","0 to 10",0,10,-6,9.2399999999999996E-2,0,-6.75,0,-12,25]
[null,"1421321-10",1130,1,"<130mph",4,"45,000 - 65,000",2,"Concrete with USP",1,"Hard",3,"300 < R < 400",2,"Poor",1,"Good","10 to 20",10,20,-6,8.3159999999999984E-2,0,-7.9200000000000008,0,-15,25]
[null,"1421321-20",1131,1,"<130mph",4,"45,000 - 65,000",2,"Concrete with USP",1,"Hard",3,"300 < R < 400",2,"Poor",1,"Good","20 to 30",20,30,-6,0.10163999999999999,0,-11.88,0,-20,25]
[null,"1421321-30",1132,1,"<130mph",4,"45,000 - 65,000",2,"Concrete with USP",1,"Hard",3,"300 < R < 400",2,"Poor",1,"Good","30 to 40",30,40,-6,0.11087999999999999,0,-14.850000000000001,0,-25,25]
[null,"1421321-40",1133,1,"<130mph",4,"45,000 - 65,000",2,"Concrete with USP",1,"Hard",3,"300 < R < 400",2,"Poor",1,"Good","40 to 50",40,50,-6,0.12011999999999999,0,-17.82,0,-25,25]
[null,"1421321-50",1134,1,"<130mph",4,"45,000 - 65,000",2,"Concrete with USP",1,"Hard",3,"300 < R < 400",2,"Poor",1,"Good","Above 50",50,1000,-6,0.12011999999999999,0,-19.8,-0.5,-25,25]
[null,"1423321-0",1135,1,"<130mph",4,"45,000 - 65,000",2,"Concrete with USP",3,"Soft",3,"300 < R < 400",2,"Poor",1,"Good","0 to 10",0,10,-6,0.15840000000000001,0,-8.25,0,-12,25]
[null,"1423321-10",1136,1,"<130mph",4,"45,000 - 65,000",2,"Concrete with USP",3,"Soft",3,"300 < R < 400",2,"Poor",1,"Good","10 to 20",10,20,-6,0.14255999999999999,0,-9.6800000000000015,0,-15,25]
[null,"1423321-20",1137,1,"<130mph",4,"45,000 - 65,000",2,"Concrete with USP",3,"Soft",3,"300 < R < 400",2,"Poor",1,"Good","20 to 30",20,30,-6,0.17424000000000001,0,-14.520000000000003,0,-20,25]
[null,"1423321-30",1138,1,"<130mph",4,"45,000 - 65,000",2,"Concrete with USP",3,"Soft",3,"300 < R < 400",2,"Poor",1,"Good","30 to 40",30,40,-6,0.19008,0,-18.150000000000002,0,-25,25]
[null,"1423321-40",1139,1,"<130mph",4,"45,000 - 65,000",2,"Concrete with USP",3,"Soft",3,"300 < R < 400",2,"Poor",1,"Good","40 to 50",40,50,-6,0.20592000000000002,0,-21.780000000000005,0,-25,25]
[null,"1423321-50",1140,1,"<130mph",4,"45,000 - 65,000",2,"Concrete with USP",3,"Soft",3,"300 < R < 400",2,"Poor",1,"Good","Above 50",50,1000,-6,0.20592000000000002,0,-24.200000000000003,-0.5,-25,25]
[null,"1422312-0",1141,1,"<130mph",4,"45,000 - 65,000",2,"Concrete with USP",2,"Medium",3,"300 < R < 400",1,"Good",2,"Poor","0 to 10",0,10,-6,0.13200000000000001,0,-7.5,0,-12,25]
[null,"1422312-10",1142,1,"<130mph",4,"45,000 - 65,000",2,"Concrete with USP",2,"Medium",3,"300 < R < 400",1,"Good",2,"Poor","10 to 20",10,20,-6,0.10890000000000001,0,-8.8000000000000007,0,-15,25]
[null,"1422312-20",1143,1,"<130mph",4,"45,000 - 65,000",2,"Concrete with USP",2,"Medium",3,"300 < R < 400",1,"Good",2,"Poor","20 to 30",20,30,-6,0.13310000000000002,0,-13.200000000000001,0,-20,25]
[null,"1422312-30",1144,1,"<130mph",4,"45,000 - 65,000",2,"Concrete with USP",2,"Medium",3,"300 < R < 400",1,"Good",2,"Poor","30 to 40",30,40,-6,0.14520000000000002,0,-16.5,0,-25,25]
[null,"1422312-40",1145,1,"<130mph",4,"45,000 - 65,000",2,"Concrete with USP",2,"Medium",3,"300 < R < 400",1,"Good",2,"Poor","40 to 50",40,50,-6,0.15730000000000002,0,-19.8,0,-25,25]
[null,"1422312-50",1146,1,"<130mph",4,"45,000 - 65,000",2,"Concrete with USP",2,"Medium",3,"300 < R < 400",1,"Good",2,"Poor","Above 50",50,1000,-6,0.15730000000000002,0,-22,-0.5,-25,25]
[null,"1421312-0",1147,1,"<130mph",4,"45,000 - 65,000",2,"Concrete with USP",1,"Hard",3,"300 < R < 400",1,"Good",2,"Poor","0 to 10",0,10,-6,9.2399999999999996E-2,0,-6.75,0,-12,25]
[null,"1421312-10",1148,1,"<130mph",4,"45,000 - 65,000",2,"Concrete with USP",1,"Hard",3,"300 < R < 400",1,"Good",2,"Poor","10 to 20",10,20,-6,7.6230000000000006E-2,0,-7.9200000000000008,0,-15,25]
[null,"1421312-20",1149,1,"<130mph",4,"45,000 - 65,000",2,"Concrete with USP",1,"Hard",3,"300 < R < 400",1,"Good",2,"Poor","20 to 30",20,30,-6,9.3170000000000017E-2,0,-11.88,0,-20,25]
[null,"1421312-30",1150,1,"<130mph",4,"45,000 - 65,000",2,"Concrete with USP",1,"Hard",3,"300 < R < 400",1,"Good",2,"Poor","30 to 40",30,40,-6,0.10164000000000001,0,-14.850000000000001,0,-25,25]
[null,"1421312-40",1151,1,"<130mph",4,"45,000 - 65,000",2,"Concrete with USP",1,"Hard",3,"300 < R < 400",1,"Good",2,"Poor","40 to 50",40,50,-6,0.11011000000000001,0,-17.82,0,-25,25]
[null,"1421312-50",1152,1,"<130mph",4,"45,000 - 65,000",2,"Concrete with USP",1,"Hard",3,"300 < R < 400",1,"Good",2,"Poor","Above 50",50,1000,-6,0.11011000000000001,0,-19.8,-0.5,-25,25]
[null,"1423312-0",1153,1,"<130mph",4,"45,000 - 65,000",2,"Concrete with USP",3,"Soft",3,"300 < R < 400",1,"Good",2,"Poor","0 to 10",0,10,-6,0.15840000000000001,0,-8.25,0,-12,25]
[null,{"$f":"D1172&F1172&H1172&J1172&L1172&N1172&P1172&\"-\"&S1172","v":"1423312-10"},1154,1,"<130mph",4,"45,000 - 65,000",2,"Concrete with USP",3,"Soft",3,"300 < R < 400",1,"Good",2,"Poor","10 to 20",10,20,-6,0.13068000000000002,0,-9.6800000000000015,0,-15,25]
[null,"1423312-20",1155,1,"<130mph",4,"45,000 - 65,000",2,"Concrete with USP",3,"Soft",3,"300 < R < 400",1,"Good",2,"Poor","20 to 30",20,30,-6,0.15972000000000003,0,-14.520000000000003,0,-20,25]
[null,"1423312-30",1156,1,"<130mph",4,"45,000 - 65,000",2,"Concrete with USP",3,"Soft",3,"300 < R < 400",1,"Good",2,"Poor","30 to 40",30,40,-6,0.17424000000000001,0,-18.150000000000002,0,-25,25]
[null,"1423312-40",1157,1,"<130mph",4,"45,000 - 65,000",2,"Concrete with USP",3,"Soft",3,"300 < R < 400",1,"Good",2,"Poor","40 to 50",40,50,-6,0.18876000000000004,0,-21.780000000000005,0,-25,25]
[null,"1423312-50",1158,1,"<130mph",4,"45,000 - 65,000",2,"Concrete with USP",3,"Soft",3,"300 < R < 400",1,"Good",2,"Poor","Above 50",50,1000,-6,0.18876000000000004,0,-24.200000000000003,-0.5,-25,25]
[null,"1422322-0",1159,1,"<130mph",4,"45,000 - 65,000",2,"Concrete with USP",2,"Medium",3,"300 < R < 400",2,"Poor",2,"Poor","0 to 10",0,10,-6,0.13200000000000001,0,-7.5,0,-12,25]
[null,"1422322-10",1160,1,"<130mph",4,"45,000 - 65,000",2,"Concrete with USP",2,"Medium",3,"300 < R < 400",2,"Poor",2,"Poor","10 to 20",10,20,-6,0.13068000000000002,0,-9.6800000000000015,0,-15,25]
[null,"1422322-20",1161,1,"<130mph",4,"45,000 - 65,000",2,"Concrete with USP",2,"Medium",3,"300 < R < 400",2,"Poor",2,"Poor","20 to 30",20,30,-6,0.15972000000000003,0,-14.520000000000003,0,-20,25]
[null,"1422322-30",1162,1,"<130mph",4,"45,000 - 65,000",2,"Concrete with USP",2,"Medium",3,"300 < R < 400",2,"Poor",2,"Poor","30 to 40",30,40,-6,0.17424000000000001,0,-18.150000000000002,0,-25,25]
[null,"1422322-40",1163,1,"<130mph",4,"45,000 - 65,000",2,"Concrete with USP",2,"Medium",3,"300 < R < 400",2,"Poor",2,"Poor","40 to 50",40,50,-6,0.18876000000000004,0,-21.780000000000005,0,-25,25]
[null,"1422322-50",1164,1,"<130mph",4,"45,000 - 65,000",2,"Concrete with USP",2,"Medium",3,"300 < R < 400",2,"Poor",2,"Poor","Above 50",50,1000,-6,0.18876000000000004,0,-24.200000000000003,-0.5,-25,25]
[null,"1421322-0",1165,1,"<130mph",4,"45,000 - 65,000",2,"Concrete with USP",1,"Hard",3,"300 < R < 400",2,"Poor",2,"Poor","0 to 10",0,10,-6,9.2399999999999996E-2,0,-6.75,0,-12,25]
[null,"1421322-10",1166,1,"<130mph",4,"45,000 - 65,000",2,"Concrete with USP",1,"Hard",3,"300 < R < 400",2,"Poor",2,"Poor","10 to 20",10,20,-6,9.1475999999999988E-2,0,-8.7120000000000015,0,-15,25]
[null,"1421322-20",1167,1,"<130mph",4,"45,000 - 65,000",2,"Concrete with USP",1,"Hard",3,"300 < R < 400",2,"Poor",2,"Poor","20 to 30",20,30,-6,0.111804,0,-13.068000000000001,0,-20,25]
[null,"1421322-30",1168,1,"<130mph",4,"45,000 - 65,000",2,"Concrete with USP",1,"Hard",3,"300 < R < 400",2,"Poor",2,"Poor","30 to 40",30,40,-6,0.12196799999999999,0,-16.335000000000004,0,-25,25]
[null,"1421322-40",1169,1,"<130mph",4,"45,000 - 65,000",2,"Concrete with USP",1,"Hard",3,"300 < R < 400",2,"Poor",2,"Poor","40 to 50",40,50,-6,0.132132,0,-19.602000000000004,0,-25,25]
[null,"1421322-50",1170,1,"<130mph",4,"45,000 - 65,000",2,"Concrete with USP",1,"Hard",3,"300 < R < 400",2,"Poor",2,"Poor","Above 50",50,1000,-6,0.132132,0,-21.780000000000005,-0.5,-25,25]
[null,"1423322-0",1171,1,"<130mph",4,"45,000 - 65,000",2,"Concrete with USP",3,"Soft",3,"300 < R < 400",2,"Poor",2,"Poor","0 to 10",0,10,-6,0.15840000000000001,0,-8.25,0,-12,25]
[null,"1423322-10",1172,1,"<130mph",4,"45,000 - 65,000",2,"Concrete with USP",3,"Soft",3,"300 < R < 400",2,"Poor",2,"Poor","10 to 20",10,20,-6,0.15681600000000001,0,-10.648000000000003,0,-15,25]
[null,"1423322-20",1173,1,"<130mph",4,"45,000 - 65,000",2,"Concrete with USP",3,"Soft",3,"300 < R < 400",2,"Poor",2,"Poor","20 to 30",20,30,-6,0.19166400000000003,0,-15.972000000000005,0,-20,25]
[null,"1423322-30",1174,1,"<130mph",4,"45,000 - 65,000",2,"Concrete with USP",3,"Soft",3,"300 < R < 400",2,"Poor",2,"Poor","30 to 40",30,40,-6,0.20908800000000002,0,-19.965000000000007,0,-25,25]
[null,"1423322-40",1175,1,"<130mph",4,"45,000 - 65,000",2,"Concrete with USP",3,"Soft",3,"300 < R < 400",2,"Poor",2,"Poor","40 to 50",40,50,-6,0.22651200000000002,0,-23.958000000000006,0,-25,25]
[null,"1423322-50",1176,1,"<130mph",4,"45,000 - 65,000",2,"Concrete with USP",3,"Soft",3,"300 < R < 400",2,"Poor",2,"Poor","Above 50",50,1000,-6,0.22651200000000002,0,-26.620000000000008,-0.5,-25,25]
[null,"1422411-0",1177,1,"<130mph",4,"45,000 - 65,000",2,"Concrete with USP",2,"Medium",4,"< 300",1,"Good",1,"Good","0 to 10",0,10,-6,0.18,0,-7.5,0,-12,20]
[null,"1422411-10",1178,1,"<130mph",4,"45,000 - 65,000",2,"Concrete with USP",2,"Medium",4,"< 300",1,"Good",1,"Good","10 to 20",10,20,-6,0.13500000000000001,0,-8,0,-15,20]
[null,"1422411-20",1179,1,"<130mph",4,"45,000 - 65,000",2,"Concrete with USP",2,"Medium",4,"< 300",1,"Good",1,"Good","20 to 30",20,30,-6,0.16500000000000001,0,-12,0,-20,20]
[null,"1422411-30",1180,1,"<130mph",4,"45,000 - 65,000",2,"Concrete with USP",2,"Medium",4,"< 300",1,"Good",1,"Good","30 to 40",30,40,-6,0.18,0,-15,0,-25,20]
[null,"1422411-40",1181,1,"<130mph",4,"45,000 - 65,000",2,"Concrete with USP",2,"Medium",4,"< 300",1,"Good",1,"Good","40 to 50",40,50,-6,0.19500000000000001,0,-18,0,-25,20]
[null,"1422411-50",1182,1,"<130mph",4,"45,000 - 65,000",2,"Concrete with USP",2,"Medium",4,"< 300",1,"Good",1,"Good","Above 50",50,1000,-6,0.19500000000000001,0,-20,-0.5,-25,20]
[null,"1421411-0",1183,1,"<130mph",4,"45,000 - 65,000",2,"Concrete with USP",1,"Hard",4,"< 300",1,"Good",1,"Good","0 to 10",0,10,-6,0.12599999999999997,0,-6.75,0,-12,20]
[null,"1421411-10",1184,1,"<130mph",4,"45,000 - 65,000",2,"Concrete with USP",1,"Hard",4,"< 300",1,"Good",1,"Good","10 to 20",10,20,-6,9.4499999999999987E-2,0,-7.2,0,-15,20]
[null,"1421411-20",1185,1,"<130mph",4,"45,000 - 65,000",2,"Concrete with USP",1,"Hard",4,"< 300",1,"Good",1,"Good","20 to 30",20,30,-6,0.11549999999999998,0,-10.8,0,-20,20]
[null,"1421411-30",1186,1,"<130mph",4,"45,000 - 65,000",2,"Concrete with USP",1,"Hard",4,"< 300",1,"Good",1,"Good","30 to 40",30,40,-6,0.12599999999999997,0,-13.5,0,-25,20]
[null,"1421411-40",1187,1,"<130mph",4,"45,000 - 65,000",2,"Concrete with USP",1,"Hard",4,"< 300",1,"Good",1,"Good","40 to 50",40,50,-6,0.13649999999999998,0,-16.2,0,-25,20]
[null,"1421411-50",1188,1,"<130mph",4,"45,000 - 65,000",2,"Concrete with USP",1,"Hard",4,"< 300",1,"Good",1,"Good","Above 50",50,1000,-6,0.13649999999999998,0,-18,-0.5,-25,20]
[null,"1423411-0",1189,1,"<130mph",4,"45,000 - 65,000",2,"Concrete with USP",3,"Soft",4,"< 300",1,"Good",1,"Good","0 to 10",0,10,-6,0.21599999999999997,0,-8.25,0,-12,20]
[null,"1423411-10",1190,1,"<130mph",4,"45,000 - 65,000",2,"Concrete with USP",3,"Soft",4,"< 300",1,"Good",1,"Good","10 to 20",10,20,-6,0.16199999999999998,0,-8.8000000000000007,0,-15,20]
[null,"1423411-20",1191,1,"<130mph",4,"45,000 - 65,000",2,"Concrete with USP",3,"Soft",4,"< 300",1,"Good",1,"Good","20 to 30",20,30,-6,0.19799999999999998,0,-13.200000000000001,0,-20,20]
[null,"1423411-30",1192,1,"<130mph",4,"45,000 - 65,000",2,"Concrete with USP",3,"Soft",4,"< 300",1,"Good",1,"Good","30 to 40",30,40,-6,0.21599999999999997,0,-16.5,0,-25,20]
[null,"1423411-40",1193,1,"<130mph",4,"45,000 - 65,000",2,"Concrete with USP",3,"Soft",4,"< 300",1,"Good",1,"Good","40 to 50",40,50,-6,0.23399999999999999,0,-19.8,0,-25,20]
[null,"1423411-50",1194,1,"<130mph",4,"45,000 - 65,000",2,"Concrete with USP",3,"Soft",4,"< 300",1,"Good",1,"Good","Above 50",50,1000,-6,0.23399999999999999,0,-22,-0.5,-25,20]
[null,"1422421-0",1195,1,"<130mph",4,"45,000 - 65,000",2,"Concrete with USP",2,"Medium",4,"< 300",2,"Poor",1,"Good","0 to 10",0,10,-6,0.18,0,-7.5,0,-12,20]
[null,"1422421-10",1196,1,"<130mph",4,"45,000 - 65,000",2,"Concrete with USP",2,"Medium",4,"< 300",2,"Poor",1,"Good","10 to 20",10,20,-6,0.16199999999999998,0,-8.8000000000000007,0,-15,20]
[null,"1422421-20",1197,1,"<130mph",4,"45,000 - 65,000",2,"Concrete with USP",2,"Medium",4,"< 300",2,"Poor",1,"Good","20 to 30",20,30,-6,0.19799999999999998,0,-13.200000000000001,0,-20,20]
[null,"1422421-30",1198,1,"<130mph",4,"45,000 - 65,000",2,"Concrete with USP",2,"Medium",4,"< 300",2,"Poor",1,"Good","30 to 40",30,40,-6,0.21599999999999997,0,-16.5,0,-25,20]
[null,"1422421-40",1199,1,"<130mph",4,"45,000 - 65,000",2,"Concrete with USP",2,"Medium",4,"< 300",2,"Poor",1,"Good","40 to 50",40,50,-6,0.23399999999999999,0,-19.8,0,-25,20]
[null,"1422421-50",1200,1,"<130mph",4,"45,000 - 65,000",2,"Concrete with USP",2,"Medium",4,"< 300",2,"Poor",1,"Good","Above 50",50,1000,-6,0.23399999999999999,0,-22,-0.5,-25,20]
[null,"1421421-0",1201,1,"<130mph",4,"45,000 - 65,000",2,"Concrete with USP",1,"Hard",4,"< 300",2,"Poor",1,"Good","0 to 10",0,10,-6,0.12599999999999997,0,-6.75,0,-12,20]
[null,"1421421-10",1202,1,"<130mph",4,"45,000 - 65,000",2,"Concrete with USP",1,"Hard",4,"< 300",2,"Poor",1,"Good","10 to 20",10,20,-6,0.11339999999999997,0,-7.9200000000000008,0,-15,20]
[null,"1421421-20",1203,1,"<130mph",4,"45,000 - 65,000",2,"Concrete with USP",1,"Hard",4,"< 300",2,"Poor",1,"Good","20 to 30",20,30,-6,0.13859999999999997,0,-11.88,0,-20,20]
[null,"1421421-30",1204,1,"<130mph",4,"45,000 - 65,000",2,"Concrete with USP",1,"Hard",4,"< 300",2,"Poor",1,"Good","30 to 40",30,40,-6,0.15119999999999997,0,-14.850000000000001,0,-25,20]
[null,"1421421-40",1205,1,"<130mph",4,"45,000 - 65,000",2,"Concrete with USP",1,"Hard",4,"< 300",2,"Poor",1,"Good","40 to 50",40,50,-6,0.16379999999999997,0,-17.82,0,-25,20]
[null,"1421421-50",1206,1,"<130mph",4,"45,000 - 65,000",2,"Concrete with USP",1,"Hard",4,"< 300",2,"Poor",1,"Good","Above 50",50,1000,-6,0.16379999999999997,0,-19.8,-0.5,-25,20]
[null,"1423421-0",1207,1,"<130mph",4,"45,000 - 65,000",2,"Concrete with USP",3,"Soft",4,"< 300",2,"Poor",1,"Good","0 to 10",0,10,-6,0.21599999999999997,0,-8.25,0,-12,20]
[null,"1423421-10",1208,1,"<130mph",4,"45,000 - 65,000",2,"Concrete with USP",3,"Soft",4,"< 300",2,"Poor",1,"Good","10 to 20",10,20,-6,0.19439999999999996,0,-9.6800000000000015,0,-15,20]
[null,"1423421-20",1209,1,"<130mph",4,"45,000 - 65,000",2,"Concrete with USP",3,"Soft",4,"< 300",2,"Poor",1,"Good","20 to 30",20,30,-6,0.23759999999999998,0,-14.520000000000003,0,-20,20]
[null,"1423421-30",1210,1,"<130mph",4,"45,000 - 65,000",2,"Concrete with USP",3,"Soft",4,"< 300",2,"Poor",1,"Good","30 to 40",30,40,-6,0.25919999999999993,0,-18.150000000000002,0,-25,20]
[null,"1423421-40",1211,1,"<130mph",4,"45,000 - 65,000",2,"Concrete with USP",3,"Soft",4,"< 300",2,"Poor",1,"Good","40 to 50",40,50,-6,0.28079999999999999,0,-21.780000000000005,0,-25,20]
[null,"1423421-50",1212,1,"<130mph",4,"45,000 - 65,000",2,"Concrete with USP",3,"Soft",4,"< 300",2,"Poor",1,"Good","Above 50",50,1000,-6,0.28079999999999999,0,-24.200000000000003,-0.5,-25,20]
[null,"1422412-0",1213,1,"<130mph",4,"45,000 - 65,000",2,"Concrete with USP",2,"Medium",4,"< 300",1,"Good",2,"Poor","0 to 10",0,10,-6,0.18,0,-7.5,0,-12,20]
[null,"1422412-10",1214,1,"<130mph",4,"45,000 - 65,000",2,"Concrete with USP",2,"Medium",4,"< 300",1,"Good",2,"Poor","10 to 20",10,20,-6,0.14849999999999999,0,-8.8000000000000007,0,-15,20]
[null,"1422412-20",1215,1,"<130mph",4,"45,000 - 65,000",2,"Concrete with USP",2,"Medium",4,"< 300",1,"Good",2,"Poor","20 to 30",20,30,-6,0.18150000000000002,0,-13.200000000000001,0,-20,20]
[null,"1422412-30",1216,1,"<130mph",4,"45,000 - 65,000",2,"Concrete with USP",2,"Medium",4,"< 300",1,"Good",2,"Poor","30 to 40",30,40,-6,0.19800000000000001,0,-16.5,0,-25,20]
[null,"1422412-40",1217,1,"<130mph",4,"45,000 - 65,000",2,"Concrete with USP",2,"Medium",4,"< 300",1,"Good",2,"Poor","40 to 50",40,50,-6,0.21450000000000002,0,-19.8,0,-25,20]
[null,{"$f":"D1236&F1236&H1236&J1236&L1236&N1236&P1236&\"-\"&S1236","v":"1422412-50"},1218,1,"<130mph",4,"45,000 - 65,000",2,"Concrete with USP",2,"Medium",4,"< 300",1,"Good",2,"Poor","Above 50",50,1000,-6,0.21450000000000002,0,-22,-0.5,-25,20]
[null,"1421412-0",1219,1,"<130mph",4,"45,000 - 65,000",2,"Concrete with USP",1,"Hard",4,"< 300",1,"Good",2,"Poor","0 to 10",0,10,-6,0.12599999999999997,0,-6.75,0,-12,20]
[null,"1421412-10",1220,1,"<130mph",4,"45,000 - 65,000",2,"Concrete with USP",1,"Hard",4,"< 300",1,"Good",2,"Poor","10 to 20",10,20,-6,0.10394999999999997,0,-7.9200000000000008,0,-15,20]
[null,"1421412-20",1221,1,"<130mph",4,"45,000 - 65,000",2,"Concrete with USP",1,"Hard",4,"< 300",1,"Good",2,"Poor","20 to 30",20,30,-6,0.12704999999999997,0,-11.88,0,-20,20]
[null,"1421412-30",1222,1,"<130mph",4,"45,000 - 65,000",2,"Concrete with USP",1,"Hard",4,"< 300",1,"Good",2,"Poor","30 to 40",30,40,-6,0.13859999999999997,0,-14.850000000000001,0,-25,20]
[null,"1421412-40",1223,1,"<130mph",4,"45,000 - 65,000",2,"Concrete with USP",1,"Hard",4,"< 300",1,"Good",2,"Poor","40 to 50",40,50,-6,0.15014999999999998,0,-17.82,0,-25,20]
[null,"1421412-50",1224,1,"<130mph",4,"45,000 - 65,000",2,"Concrete with USP",1,"Hard",4,"< 300",1,"Good",2,"Poor","Above 50",50,1000,-6,0.15014999999999998,0,-19.8,-0.5,-25,20]
[null,"1423412-0",1225,1,"<130mph",4,"45,000 - 65,000",2,"Concrete with USP",3,"Soft",4,"< 300",1,"Good",2,"Poor","0 to 10",0,10,-6,0.21599999999999997,0,-8.25,0,-12,20]
[null,"1423412-10",1226,1,"<130mph",4,"45,000 - 65,000",2,"Concrete with USP",3,"Soft",4,"< 300",1,"Good",2,"Poor","10 to 20",10,20,-6,0.1782,0,-9.6800000000000015,0,-15,20]
[null,"1423412-20",1227,1,"<130mph",4,"45,000 - 65,000",2,"Concrete with USP",3,"Soft",4,"< 300",1,"Good",2,"Poor","20 to 30",20,30,-6,0.21779999999999999,0,-14.520000000000003,0,-20,20]
[null,"1423412-30",1228,1,"<130mph",4,"45,000 - 65,000",2,"Concrete with USP",3,"Soft",4,"< 300",1,"Good",2,"Poor","30 to 40",30,40,-6,0.23759999999999998,0,-18.150000000000002,0,-25,20]
[null,"1423412-40",1229,1,"<130mph",4,"45,000 - 65,000",2,"Concrete with USP",3,"Soft",4,"< 300",1,"Good",2,"Poor","40 to 50",40,50,-6,0.25740000000000002,0,-21.780000000000005,0,-25,20]
[null,"1423412-50",1230,1,"<130mph",4,"45,000 - 65,000",2,"Concrete with USP",3,"Soft",4,"< 300",1,"Good",2,"Poor","Above 50",50,1000,-6,0.25740000000000002,0,-24.200000000000003,-0.5,-25,20]
[null,"1422422-0",1231,1,"<130mph",4,"45,000 - 65,000",2,"Concrete with USP",2,"Medium",4,"< 300",2,"Poor",2,"Poor","0 to 10",0,10,-6,0.18,0,-7.5,0,-12,20]
[null,"1422422-10",1232,1,"<130mph",4,"45,000 - 65,000",2,"Concrete with USP",2,"Medium",4,"< 300",2,"Poor",2,"Poor","10 to 20",10,20,-6,0.1782,0,-9.6800000000000015,0,-15,20]
[null,"1422422-20",1233,1,"<130mph",4,"45,000 - 65,000",2,"Concrete with USP",2,"Medium",4,"< 300",2,"Poor",2,"Poor","20 to 30",20,30,-6,0.21779999999999999,0,-14.520000000000003,0,-20,20]
[null,"1422422-30",1234,1,"<130mph",4,"45,000 - 65,000",2,"Concrete with USP",2,"Medium",4,"< 300",2,"Poor",2,"Poor","30 to 40",30,40,-6,0.23759999999999998,0,-18.150000000000002,0,-25,20]
[null,"1422422-40",1235,1,"<130mph",4,"45,000 - 65,000",2,"Concrete with USP",2,"Medium",4,"< 300",2,"Poor",2,"Poor","40 to 50",40,50,-6,0.25740000000000002,0,-21.780000000000005,0,-25,20]
[null,"1422422-50",1236,1,"<130mph",4,"45,000 - 65,000",2,"Concrete with USP",2,"Medium",4,"< 300",2,"Poor",2,"Poor","Above 50",50,1000,-6,0.25740000000000002,0,-24.200000000000003,-0.5,-25,20]
[null,"1421422-0",1237,1,"<130mph",4,"45,000 - 65,000",2,"Concrete with USP",1,"Hard",4,"< 300",2,"Poor",2,"Poor","0 to 10",0,10,-6,0.12599999999999997,0,-6.75,0,-12,20]
[null,"1421422-10",1238,1,"<130mph",4,"45,000 - 65,000",2,"Concrete with USP",1,"Hard",4,"< 300",2,"Poor",2,"Poor","10 to 20",10,20,-6,0.12473999999999999,0,-8.7120000000000015,0,-15,20]
[null,"1421422-20",1239,1,"<130mph",4,"45,000 - 65,000",2,"Concrete with USP",1,"Hard",4,"< 300",2,"Poor",2,"Poor","20 to 30",20,30,-6,0.15245999999999998,0,-13.068000000000001,0,-20,20]
[null,"1421422-30",1240,1,"<130mph",4,"45,000 - 65,000",2,"Concrete with USP",1,"Hard",4,"< 300",2,"Poor",2,"Poor","30 to 40",30,40,-6,0.16631999999999997,0,-16.335000000000004,0,-25,20]
[null,"1421422-40",1241,1,"<130mph",4,"45,000 - 65,000",2,"Concrete with USP",1,"Hard",4,"< 300",2,"Poor",2,"Poor","40 to 50",40,50,-6,0.18018000000000001,0,-19.602000000000004,0,-25,20]
[null,"1421422-50",1242,1,"<130mph",4,"45,000 - 65,000",2,"Concrete with USP",1,"Hard",4,"< 300",2,"Poor",2,"Poor","Above 50",50,1000,-6,0.18018000000000001,0,-21.780000000000005,-0.5,-25,20]
[null,"1423422-0",1243,1,"<130mph",4,"45,000 - 65,000",2,"Concrete with USP",3,"Soft",4,"< 300",2,"Poor",2,"Poor","0 to 10",0,10,-6,0.21599999999999997,0,-8.25,0,-12,20]
[null,"1423422-10",1244,1,"<130mph",4,"45,000 - 65,000",2,"Concrete with USP",3,"Soft",4,"< 300",2,"Poor",2,"Poor","10 to 20",10,20,-6,0.21383999999999997,0,-10.648000000000003,0,-15,20]
[null,"1423422-20",1245,1,"<130mph",4,"45,000 - 65,000",2,"Concrete with USP",3,"Soft",4,"< 300",2,"Poor",2,"Poor","20 to 30",20,30,-6,0.26135999999999998,0,-15.972000000000005,0,-20,20]
[null,"1423422-30",1246,1,"<130mph",4,"45,000 - 65,000",2,"Concrete with USP",3,"Soft",4,"< 300",2,"Poor",2,"Poor","30 to 40",30,40,-6,0.28511999999999998,0,-19.965000000000007,0,-25,20]
[null,"1423422-40",1247,1,"<130mph",4,"45,000 - 65,000",2,"Concrete with USP",3,"Soft",4,"< 300",2,"Poor",2,"Poor","40 to 50",40,50,-6,0.30887999999999999,0,-23.958000000000006,0,-25,20]
[null,"1423422-50",1248,1,"<130mph",4,"45,000 - 65,000",2,"Concrete with USP",3,"Soft",4,"< 300",2,"Poor",2,"Poor","Above 50",50,1000,-6,0.30887999999999999,0,-26.620000000000008,-0.5,-25,20]
[null,"1322111-0",1249,1,"<130mph",3,"30,000 - 45,000",2,"Concrete with USP",2,"Medium",1,"> 600",1,"Good",1,"Good","0 to 10",0,10,-6,8.3076923076923076E-2,0,-7.5,0,-12,50]
[null,"1322111-10",1250,1,"<130mph",3,"30,000 - 45,000",2,"Concrete with USP",2,"Medium",1,"> 600",1,"Good",1,"Good","10 to 20",10,20,-6,6.2307692307692307E-2,0,-8,0,-15,50]
[null,"1322111-20",1251,1,"<130mph",3,"30,000 - 45,000",2,"Concrete with USP",2,"Medium",1,"> 600",1,"Good",1,"Good","20 to 30",20,30,-6,7.6153846153846155E-2,0,-12,0,-20,50]
[null,"1322111-30",1252,1,"<130mph",3,"30,000 - 45,000",2,"Concrete with USP",2,"Medium",1,"> 600",1,"Good",1,"Good","30 to 40",30,40,-6,8.3076923076923076E-2,0,-15,0,-25,50]
[null,"1322111-40",1253,1,"<130mph",3,"30,000 - 45,000",2,"Concrete with USP",2,"Medium",1,"> 600",1,"Good",1,"Good","40 to 50",40,50,-6,0.09,0,-18,0,-25,50]
[null,"1322111-50",1254,1,"<130mph",3,"30,000 - 45,000",2,"Concrete with USP",2,"Medium",1,"> 600",1,"Good",1,"Good","Above 50",50,1000,-6,0.09,0,-20,-0.5,-25,50]
[null,"1321111-0",1255,1,"<130mph",3,"30,000 - 45,000",2,"Concrete with USP",1,"Hard",1,"> 600",1,"Good",1,"Good","0 to 10",0,10,-6,5.8153846153846146E-2,0,-6.75,0,-12,50]
[null,"1321111-10",1256,1,"<130mph",3,"30,000 - 45,000",2,"Concrete with USP",1,"Hard",1,"> 600",1,"Good",1,"Good","10 to 20",10,20,-6,4.3615384615384611E-2,0,-7.2,0,-15,50]
[null,"1321111-20",1257,1,"<130mph",3,"30,000 - 45,000",2,"Concrete with USP",1,"Hard",1,"> 600",1,"Good",1,"Good","20 to 30",20,30,-6,5.3307692307692299E-2,0,-10.8,0,-20,50]
[null,"1321111-30",1258,1,"<130mph",3,"30,000 - 45,000",2,"Concrete with USP",1,"Hard",1,"> 600",1,"Good",1,"Good","30 to 40",30,40,-6,5.8153846153846146E-2,0,-13.5,0,-25,50]
[null,"1321111-40",1259,1,"<130mph",3,"30,000 - 45,000",2,"Concrete with USP",1,"Hard",1,"> 600",1,"Good",1,"Good","40 to 50",40,50,-6,6.3E-2,0,-16.2,0,-25,50]
[null,"1321111-50",1260,1,"<130mph",3,"30,000 - 45,000",2,"Concrete with USP",1,"Hard",1,"> 600",1,"Good",1,"Good","Above 50",50,1000,-6,6.3E-2,0,-18,-0.5,-25,50]
[null,"1323111-0",1261,1,"<130mph",3,"30,000 - 45,000",2,"Concrete with USP",3,"Soft",1,"> 600",1,"Good",1,"Good","0 to 10",0,10,-6,9.9692307692307677E-2,0,-8.25,0,-12,50]
[null,"1323111-10",1262,1,"<130mph",3,"30,000 - 45,000",2,"Concrete with USP",3,"Soft",1,"> 600",1,"Good",1,"Good","10 to 20",10,20,-6,7.4769230769230755E-2,0,-8.8000000000000007,0,-15,50]
[null,"1323111-20",1263,1,"<130mph",3,"30,000 - 45,000",2,"Concrete with USP",3,"Soft",1,"> 600",1,"Good",1,"Good","20 to 30",20,30,-6,9.1384615384615384E-2,0,-13.200000000000001,0,-20,50]
[null,"1323111-30",1264,1,"<130mph",3,"30,000 - 45,000",2,"Concrete with USP",3,"Soft",1,"> 600",1,"Good",1,"Good","30 to 40",30,40,-6,9.9692307692307677E-2,0,-16.5,0,-25,50]
[null,"1323111-40",1265,1,"<130mph",3,"30,000 - 45,000",2,"Concrete with USP",3,"Soft",1,"> 600",1,"Good",1,"Good","40 to 50",40,50,-6,0.108,0,-19.8,0,-25,50]
[null,"1323111-50",1266,1,"<130mph",3,"30,000 - 45,000",2,"Concrete with USP",3,"Soft",1,"> 600",1,"Good",1,"Good","Above 50",50,1000,-6,0.108,0,-22,-0.5,-25,50]
[null,"1322121-0",1267,1,"<130mph",3,"30,000 - 45,000",2,"Concrete with USP",2,"Medium",1,"> 600",2,"Poor",1,"Good","0 to 10",0,10,-6,8.3076923076923076E-2,0,-7.5,0,-12,50]
[null,"1322121-10",1268,1,"<130mph",3,"30,000 - 45,000",2,"Concrete with USP",2,"Medium",1,"> 600",2,"Poor",1,"Good","10 to 20",10,20,-6,7.4769230769230755E-2,0,-8.8000000000000007,0,-15,50]
[null,"1322121-20",1269,1,"<130mph",3,"30,000 - 45,000",2,"Concrete with USP",2,"Medium",1,"> 600",2,"Poor",1,"Good","20 to 30",20,30,-6,9.1384615384615384E-2,0,-13.200000000000001,0,-20,50]
[null,"1322121-30",1270,1,"<130mph",3,"30,000 - 45,000",2,"Concrete with USP",2,"Medium",1,"> 600",2,"Poor",1,"Good","30 to 40",30,40,-6,9.9692307692307677E-2,0,-16.5,0,-25,50]
[null,"1322121-40",1271,1,"<130mph",3,"30,000 - 45,000",2,"Concrete with USP",2,"Medium",1,"> 600",2,"Poor",1,"Good","40 to 50",40,50,-6,0.108,0,-19.8,0,-25,50]
[null,"1322121-50",1272,1,"<130mph",3,"30,000 - 45,000",2,"Concrete with USP",2,"Medium",1,"> 600",2,"Poor",1,"Good","Above 50",50,1000,-6,0.108,0,-22,-0.5,-25,50]
[null,"1321121-0",1273,1,"<130mph",3,"30,000 - 45,000",2,"Concrete with USP",1,"Hard",1,"> 600",2,"Poor",1,"Good","0 to 10",0,10,-6,5.8153846153846146E-2,0,-6.75,0,-12,50]
[null,"1321121-10",1274,1,"<130mph",3,"30,000 - 45,000",2,"Concrete with USP",1,"Hard",1,"> 600",2,"Poor",1,"Good","10 to 20",10,20,-6,5.2338461538461528E-2,0,-7.9200000000000008,0,-15,50]
[null,"1321121-20",1275,1,"<130mph",3,"30,000 - 45,000",2,"Concrete with USP",1,"Hard",1,"> 600",2,"Poor",1,"Good","20 to 30",20,30,-6,6.3969230769230764E-2,0,-11.88,0,-20,50]
[null,"1321121-30",1276,1,"<130mph",3,"30,000 - 45,000",2,"Concrete with USP",1,"Hard",1,"> 600",2,"Poor",1,"Good","30 to 40",30,40,-6,6.9784615384615375E-2,0,-14.850000000000001,0,-25,50]
[null,"1321121-40",1277,1,"<130mph",3,"30,000 - 45,000",2,"Concrete with USP",1,"Hard",1,"> 600",2,"Poor",1,"Good","40 to 50",40,50,-6,7.5599999999999987E-2,0,-17.82,0,-25,50]
[null,"1321121-50",1278,1,"<130mph",3,"30,000 - 45,000",2,"Concrete with USP",1,"Hard",1,"> 600",2,"Poor",1,"Good","Above 50",50,1000,-6,7.5599999999999987E-2,0,-19.8,-0.5,-25,50]
[null,"1323121-0",1279,1,"<130mph",3,"30,000 - 45,000",2,"Concrete with USP",3,"Soft",1,"> 600",2,"Poor",1,"Good","0 to 10",0,10,-6,9.9692307692307677E-2,0,-8.25,0,-12,50]
[null,"1323121-10",1280,1,"<130mph",3,"30,000 - 45,000",2,"Concrete with USP",3,"Soft",1,"> 600",2,"Poor",1,"Good","10 to 20",10,20,-6,8.9723076923076919E-2,0,-9.6800000000000015,0,-15,50]
[null,"1323121-20",1281,1,"<130mph",3,"30,000 - 45,000",2,"Concrete with USP",3,"Soft",1,"> 600",2,"Poor",1,"Good","20 to 30",20,30,-6,0.10966153846153846,0,-14.520000000000003,0,-20,50]
[null,{"$f":"D1300&F1300&H1300&J1300&L1300&N1300&P1300&\"-\"&S1300","v":"1323121-30"},1282,1,"<130mph",3,"30,000 - 45,000",2,"Concrete with USP",3,"Soft",1,"> 600",2,"Poor",1,"Good","30 to 40",30,40,-6,0.11963076923076922,0,-18.150000000000002,0,-25,50]
[null,"1323121-40",1283,1,"<130mph",3,"30,000 - 45,000",2,"Concrete with USP",3,"Soft",1,"> 600",2,"Poor",1,"Good","40 to 50",40,50,-6,0.12959999999999999,0,-21.780000000000005,0,-25,50]
[null,"1323121-50",1284,1,"<130mph",3,"30,000 - 45,000",2,"Concrete with USP",3,"Soft",1,"> 600",2,"Poor",1,"Good","Above 50",50,1000,-6,0.12959999999999999,0,-24.200000000000003,-0.5,-25,50]
[null,"1322112-0",1285,1,"<130mph",3,"30,000 - 45,000",2,"Concrete with USP",2,"Medium",1,"> 600",1,"Good",2,"Poor","0 to 10",0,10,-6,8.3076923076923076E-2,0,-7.5,0,-12,50]
[null,"1322112-10",1286,1,"<130mph",3,"30,000 - 45,000",2,"Concrete with USP",2,"Medium",1,"> 600",1,"Good",2,"Poor","10 to 20",10,20,-6,6.8538461538461548E-2,0,-8.8000000000000007,0,-15,50]
[null,"1322112-20",1287,1,"<130mph",3,"30,000 - 45,000",2,"Concrete with USP",2,"Medium",1,"> 600",1,"Good",2,"Poor","20 to 30",20,30,-6,8.3769230769230776E-2,0,-13.200000000000001,0,-20,50]
[null,"1322112-30",1288,1,"<130mph",3,"30,000 - 45,000",2,"Concrete with USP",2,"Medium",1,"> 600",1,"Good",2,"Poor","30 to 40",30,40,-6,9.1384615384615384E-2,0,-16.5,0,-25,50]
[null,"1322112-40",1289,1,"<130mph",3,"30,000 - 45,000",2,"Concrete with USP",2,"Medium",1,"> 600",1,"Good",2,"Poor","40 to 50",40,50,-6,9.9000000000000019E-2,0,-19.8,0,-25,50]
[null,"1322112-50",1290,1,"<130mph",3,"30,000 - 45,000",2,"Concrete with USP",2,"Medium",1,"> 600",1,"Good",2,"Poor","Above 50",50,1000,-6,9.9000000000000019E-2,0,-22,-0.5,-25,50]
[null,"1321112-0",1291,1,"<130mph",3,"30,000 - 45,000",2,"Concrete with USP",1,"Hard",1,"> 600",1,"Good",2,"Poor","0 to 10",0,10,-6,5.8153846153846146E-2,0,-6.75,0,-12,50]
[null,"1321112-10",1292,1,"<130mph",3,"30,000 - 45,000",2,"Concrete with USP",1,"Hard",1,"> 600",1,"Good",2,"Poor","10 to 20",10,20,-6,4.7976923076923077E-2,0,-7.9200000000000008,0,-15,50]
[null,"1321112-20",1293,1,"<130mph",3,"30,000 - 45,000",2,"Concrete with USP",1,"Hard",1,"> 600",1,"Good",2,"Poor","20 to 30",20,30,-6,5.8638461538461542E-2,0,-11.88,0,-20,50]
[null,"1321112-30",1294,1,"<130mph",3,"30,000 - 45,000",2,"Concrete with USP",1,"Hard",1,"> 600",1,"Good",2,"Poor","30 to 40",30,40,-6,6.3969230769230778E-2,0,-14.850000000000001,0,-25,50]
[null,"1321112-40",1295,1,"<130mph",3,"30,000 - 45,000",2,"Concrete with USP",1,"Hard",1,"> 600",1,"Good",2,"Poor","40 to 50",40,50,-6,6.93E-2,0,-17.82,0,-25,50]
[null,"1321112-50",1296,1,"<130mph",3,"30,000 - 45,000",2,"Concrete with USP",1,"Hard",1,"> 600",1,"Good",2,"Poor","Above 50",50,1000,-6,6.93E-2,0,-19.8,-0.5,-25,50]
[null,"1323112-0",1297,1,"<130mph",3,"30,000 - 45,000",2,"Concrete with USP",3,"Soft",1,"> 600",1,"Good",2,"Poor","0 to 10",0,10,-6,9.9692307692307677E-2,0,-8.25,0,-12,50]
[null,"1323112-10",1298,1,"<130mph",3,"30,000 - 45,000",2,"Concrete with USP",3,"Soft",1,"> 600",1,"Good",2,"Poor","10 to 20",10,20,-6,8.2246153846153844E-2,0,-9.6800000000000015,0,-15,50]
[null,"1323112-20",1299,1,"<130mph",3,"30,000 - 45,000",2,"Concrete with USP",3,"Soft",1,"> 600",1,"Good",2,"Poor","20 to 30",20,30,-6,0.10052307692307692,0,-14.520000000000003,0,-20,50]
[null,"1323112-30",1300,1,"<130mph",3,"30,000 - 45,000",2,"Concrete with USP",3,"Soft",1,"> 600",1,"Good",2,"Poor","30 to 40",30,40,-6,0.10966153846153846,0,-18.150000000000002,0,-25,50]
[null,"1323112-40",1301,1,"<130mph",3,"30,000 - 45,000",2,"Concrete with USP",3,"Soft",1,"> 600",1,"Good",2,"Poor","40 to 50",40,50,-6,0.1188,0,-21.780000000000005,0,-25,50]
[null,"1323112-50",1302,1,"<130mph",3,"30,000 - 45,000",2,"Concrete with USP",3,"Soft",1,"> 600",1,"Good",2,"Poor","Above 50",50,1000,-6,0.1188,0,-24.200000000000003,-0.5,-25,50]
[null,"1322122-0",1303,1,"<130mph",3,"30,000 - 45,000",2,"Concrete with USP",2,"Medium",1,"> 600",2,"Poor",2,"Poor","0 to 10",0,10,-6,8.3076923076923076E-2,0,-7.5,0,-12,50]
[null,"1322122-10",1304,1,"<130mph",3,"30,000 - 45,000",2,"Concrete with USP",2,"Medium",1,"> 600",2,"Poor",2,"Poor","10 to 20",10,20,-6,8.2246153846153844E-2,0,-9.6800000000000015,0,-15,50]
[null,"1322122-20",1305,1,"<130mph",3,"30,000 - 45,000",2,"Concrete with USP",2,"Medium",1,"> 600",2,"Poor",2,"Poor","20 to 30",20,30,-6,0.10052307692307692,0,-14.520000000000003,0,-20,50]
[null,"1322122-30",1306,1,"<130mph",3,"30,000 - 45,000",2,"Concrete with USP",2,"Medium",1,"> 600",2,"Poor",2,"Poor","30 to 40",30,40,-6,0.10966153846153846,0,-18.150000000000002,0,-25,50]
[null,"1322122-40",1307,1,"<130mph",3,"30,000 - 45,000",2,"Concrete with USP",2,"Medium",1,"> 600",2,"Poor",2,"Poor","40 to 50",40,50,-6,0.1188,0,-21.780000000000005,0,-25,50]
[null,"1322122-50",1308,1,"<130mph",3,"30,000 - 45,000",2,"Concrete with USP",2,"Medium",1,"> 600",2,"Poor",2,"Poor","Above 50",50,1000,-6,0.1188,0,-24.200000000000003,-0.5,-25,50]
[null,"1321122-0",1309,1,"<130mph",3,"30,000 - 45,000",2,"Concrete with USP",1,"Hard",1,"> 600",2,"Poor",2,"Poor","0 to 10",0,10,-6,5.8153846153846146E-2,0,-6.75,0,-12,50]
[null,"1321122-10",1310,1,"<130mph",3,"30,000 - 45,000",2,"Concrete with USP",1,"Hard",1,"> 600",2,"Poor",2,"Poor","10 to 20",10,20,-6,5.7572307692307687E-2,0,-8.7120000000000015,0,-15,50]
[null,"1321122-20",1311,1,"<130mph",3,"30,000 - 45,000",2,"Concrete with USP",1,"Hard",1,"> 600",2,"Poor",2,"Poor","20 to 30",20,30,-6,7.0366153846153842E-2,0,-13.068000000000001,0,-20,50]
[null,"1321122-30",1312,1,"<130mph",3,"30,000 - 45,000",2,"Concrete with USP",1,"Hard",1,"> 600",2,"Poor",2,"Poor","30 to 40",30,40,-6,7.676307692307692E-2,0,-16.335000000000004,0,-25,50]
[null,"1321122-40",1313,1,"<130mph",3,"30,000 - 45,000",2,"Concrete with USP",1,"Hard",1,"> 600",2,"Poor",2,"Poor","40 to 50",40,50,-6,8.3159999999999998E-2,0,-19.602000000000004,0,-25,50]
[null,"1321122-50",1314,1,"<130mph",3,"30,000 - 45,000",2,"Concrete with USP",1,"Hard",1,"> 600",2,"Poor",2,"Poor","Above 50",50,1000,-6,8.3159999999999998E-2,0,-21.780000000000005,-0.5,-25,50]
[null,"1323122-0",1315,1,"<130mph",3,"30,000 - 45,000",2,"Concrete with USP",3,"Soft",1,"> 600",2,"Poor",2,"Poor","0 to 10",0,10,-6,9.9692307692307677E-2,0,-8.25,0,-12,50]
[null,"1323122-10",1316,1,"<130mph",3,"30,000 - 45,000",2,"Concrete with USP",3,"Soft",1,"> 600",2,"Poor",2,"Poor","10 to 20",10,20,-6,9.8695384615384602E-2,0,-10.648000000000003,0,-15,50]
[null,"1323122-20",1317,1,"<130mph",3,"30,000 - 45,000",2,"Concrete with USP",3,"Soft",1,"> 600",2,"Poor",2,"Poor","20 to 30",20,30,-6,0.1206276923076923,0,-15.972000000000005,0,-20,50]
[null,"1323122-30",1318,1,"<130mph",3,"30,000 - 45,000",2,"Concrete with USP",3,"Soft",1,"> 600",2,"Poor",2,"Poor","30 to 40",30,40,-6,0.13159384615384614,0,-19.965000000000007,0,-25,50]
[null,"1323122-40",1319,1,"<130mph",3,"30,000 - 45,000",2,"Concrete with USP",3,"Soft",1,"> 600",2,"Poor",2,"Poor","40 to 50",40,50,-6,0.14255999999999999,0,-23.958000000000006,0,-25,50]
[null,"1323122-50",1320,1,"<130mph",3,"30,000 - 45,000",2,"Concrete with USP",3,"Soft",1,"> 600",2,"Poor",2,"Poor","Above 50",50,1000,-6,0.14255999999999999,0,-26.620000000000008,-0.5,-25,50]
[null,"1322211-0",1321,1,"<130mph",3,"30,000 - 45,000",2,"Concrete with USP",2,"Medium",2,"400 < R < 600",1,"Good",1,"Good","0 to 10",0,10,-6,9.1384615384615384E-2,0,-7.5,0,-12,50]
[null,"1322211-10",1322,1,"<130mph",3,"30,000 - 45,000",2,"Concrete with USP",2,"Medium",2,"400 < R < 600",1,"Good",1,"Good","10 to 20",10,20,-6,6.8538461538461548E-2,0,-8,0,-15,50]
[null,"1322211-20",1323,1,"<130mph",3,"30,000 - 45,000",2,"Concrete with USP",2,"Medium",2,"400 < R < 600",1,"Good",1,"Good","20 to 30",20,30,-6,8.3769230769230776E-2,0,-12,0,-20,50]
[null,"1322211-30",1324,1,"<130mph",3,"30,000 - 45,000",2,"Concrete with USP",2,"Medium",2,"400 < R < 600",1,"Good",1,"Good","30 to 40",30,40,-6,9.1384615384615384E-2,0,-15,0,-25,50]
[null,"1322211-40",1325,1,"<130mph",3,"30,000 - 45,000",2,"Concrete with USP",2,"Medium",2,"400 < R < 600",1,"Good",1,"Good","40 to 50",40,50,-6,9.9000000000000019E-2,0,-18,0,-25,50]
[null,"1322211-50",1326,1,"<130mph",3,"30,000 - 45,000",2,"Concrete with USP",2,"Medium",2,"400 < R < 600",1,"Good",1,"Good","Above 50",50,1000,-6,9.9000000000000019E-2,0,-20,-0.5,-25,50]
[null,"1321211-0",1327,1,"<130mph",3,"30,000 - 45,000",2,"Concrete with USP",1,"Hard",2,"400 < R < 600",1,"Good",1,"Good","0 to 10",0,10,-6,6.3969230769230778E-2,0,-6.75,0,-12,50]
[null,"1321211-10",1328,1,"<130mph",3,"30,000 - 45,000",2,"Concrete with USP",1,"Hard",2,"400 < R < 600",1,"Good",1,"Good","10 to 20",10,20,-6,4.7976923076923077E-2,0,-7.2,0,-15,50]
[null,"1321211-20",1329,1,"<130mph",3,"30,000 - 45,000",2,"Concrete with USP",1,"Hard",2,"400 < R < 600",1,"Good",1,"Good","20 to 30",20,30,-6,5.8638461538461542E-2,0,-10.8,0,-20,50]
[null,"1321211-30",1330,1,"<130mph",3,"30,000 - 45,000",2,"Concrete with USP",1,"Hard",2,"400 < R < 600",1,"Good",1,"Good","30 to 40",30,40,-6,6.3969230769230778E-2,0,-13.5,0,-25,50]
[null,"1321211-40",1331,1,"<130mph",3,"30,000 - 45,000",2,"Concrete with USP",1,"Hard",2,"400 < R < 600",1,"Good",1,"Good","40 to 50",40,50,-6,6.93E-2,0,-16.2,0,-25,50]
[null,"1321211-50",1332,1,"<130mph",3,"30,000 - 45,000",2,"Concrete with USP",1,"Hard",2,"400 < R < 600",1,"Good",1,"Good","Above 50",50,1000,-6,6.93E-2,0,-18,-0.5,-25,50]
[null,"1323211-0",1333,1,"<130mph",3,"30,000 - 45,000",2,"Concrete with USP",3,"Soft",2,"400 < R < 600",1,"Good",1,"Good","0 to 10",0,10,-6,0.10966153846153846,0,-8.25,0,-12,50]
[null,"1323211-10",1334,1,"<130mph",3,"30,000 - 45,000",2,"Concrete with USP",3,"Soft",2,"400 < R < 600",1,"Good",1,"Good","10 to 20",10,20,-6,8.2246153846153844E-2,0,-8.8000000000000007,0,-15,50]
[null,"1323211-20",1335,1,"<130mph",3,"30,000 - 45,000",2,"Concrete with USP",3,"Soft",2,"400 < R < 600",1,"Good",1,"Good","20 to 30",20,30,-6,0.10052307692307692,0,-13.200000000000001,0,-20,50]
[null,"1323211-30",1336,1,"<130mph",3,"30,000 - 45,000",2,"Concrete with USP",3,"Soft",2,"400 < R < 600",1,"Good",1,"Good","30 to 40",30,40,-6,0.10966153846153846,0,-16.5,0,-25,50]
[null,"1323211-40",1337,1,"<130mph",3,"30,000 - 45,000",2,"Concrete with USP",3,"Soft",2,"400 < R < 600",1,"Good",1,"Good","40 to 50",40,50,-6,0.1188,0,-19.8,0,-25,50]
[null,"1323211-50",1338,1,"<130mph",3,"30,000 - 45,000",2,"Concrete with USP",3,"Soft",2,"400 < R < 600",1,"Good",1,"Good","Above 50",50,1000,-6,0.1188,0,-22,-0.5,-25,50]
[null,"1322221-0",1339,1,"<130mph",3,"30,000 - 45,000",2,"Concrete with USP",2,"Medium",2,"400 < R < 600",2,"Poor",1,"Good","0 to 10",0,10,-6,9.1384615384615384E-2,0,-7.5,0,-12,50]
[null,"1322221-10",1340,1,"<130mph",3,"30,000 - 45,000",2,"Concrete with USP",2,"Medium",2,"400 < R < 600",2,"Poor",1,"Good","10 to 20",10,20,-6,8.2246153846153844E-2,0,-8.8000000000000007,0,-15,50]
[null,"1322221-20",1341,1,"<130mph",3,"30,000 - 45,000",2,"Concrete with USP",2,"Medium",2,"400 < R < 600",2,"Poor",1,"Good","20 to 30",20,30,-6,0.10052307692307692,0,-13.200000000000001,0,-20,50]
[null,"1322221-30",1342,1,"<130mph",3,"30,000 - 45,000",2,"Concrete with USP",2,"Medium",2,"400 < R < 600",2,"Poor",1,"Good","30 to 40",30,40,-6,0.10966153846153846,0,-16.5,0,-25,50]
[null,"1322221-40",1343,1,"<130mph",3,"30,000 - 45,000",2,"Concrete with USP",2,"Medium",2,"400 < R < 600",2,"Poor",1,"Good","40 to 50",40,50,-6,0.1188,0,-19.8,0,-25,50]
[null,"1322221-50",1344,1,"<130mph",3,"30,000 - 45,000",2,"Concrete with USP",2,"Medium",2,"400 < R < 600",2,"Poor",1,"Good","Above 50",50,1000,-6,0.1188,0,-22,-0.5,-25,50]
[null,"1321221-0",1345,1,"<130mph",3,"30,000 - 45,000",2,"Concrete with USP",1,"Hard",2,"400 < R < 600",2,"Poor",1,"Good","0 to 10",0,10,-6,6.3969230769230778E-2,0,-6.75,0,-12,50]
[null,{"$f":"D1364&F1364&H1364&J1364&L1364&N1364&P1364&\"-\"&S1364","v":"1321221-10"},1346,1,"<130mph",3,"30,000 - 45,000",2,"Concrete with USP",1,"Hard",2,"400 < R < 600",2,"Poor",1,"Good","10 to 20",10,20,-6,5.7572307692307687E-2,0,-7.9200000000000008,0,-15,50]
[null,"1321221-20",1347,1,"<130mph",3,"30,000 - 45,000",2,"Concrete with USP",1,"Hard",2,"400 < R < 600",2,"Poor",1,"Good","20 to 30",20,30,-6,7.0366153846153842E-2,0,-11.88,0,-20,50]
[null,"1321221-30",1348,1,"<130mph",3,"30,000 - 45,000",2,"Concrete with USP",1,"Hard",2,"400 < R < 600",2,"Poor",1,"Good","30 to 40",30,40,-6,7.676307692307692E-2,0,-14.850000000000001,0,-25,50]
[null,"1321221-40",1349,1,"<130mph",3,"30,000 - 45,000",2,"Concrete with USP",1,"Hard",2,"400 < R < 600",2,"Poor",1,"Good","40 to 50",40,50,-6,8.3159999999999998E-2,0,-17.82,0,-25,50]
[null,"1321221-50",1350,1,"<130mph",3,"30,000 - 45,000",2,"Concrete with USP",1,"Hard",2,"400 < R < 600",2,"Poor",1,"Good","Above 50",50,1000,-6,8.3159999999999998E-2,0,-19.8,-0.5,-25,50]
[null,"1323221-0",1351,1,"<130mph",3,"30,000 - 45,000",2,"Concrete with USP",3,"Soft",2,"400 < R < 600",2,"Poor",1,"Good","0 to 10",0,10,-6,0.10966153846153846,0,-8.25,0,-12,50]
[null,"1323221-10",1352,1,"<130mph",3,"30,000 - 45,000",2,"Concrete with USP",3,"Soft",2,"400 < R < 600",2,"Poor",1,"Good","10 to 20",10,20,-6,9.8695384615384602E-2,0,-9.6800000000000015,0,-15,50]
[null,"1323221-20",1353,1,"<130mph",3,"30,000 - 45,000",2,"Concrete with USP",3,"Soft",2,"400 < R < 600",2,"Poor",1,"Good","20 to 30",20,30,-6,0.1206276923076923,0,-14.520000000000003,0,-20,50]
[null,"1323221-30",1354,1,"<130mph",3,"30,000 - 45,000",2,"Concrete with USP",3,"Soft",2,"400 < R < 600",2,"Poor",1,"Good","30 to 40",30,40,-6,0.13159384615384614,0,-18.150000000000002,0,-25,50]
[null,"1323221-40",1355,1,"<130mph",3,"30,000 - 45,000",2,"Concrete with USP",3,"Soft",2,"400 < R < 600",2,"Poor",1,"Good","40 to 50",40,50,-6,0.14255999999999999,0,-21.780000000000005,0,-25,50]
[null,"1323221-50",1356,1,"<130mph",3,"30,000 - 45,000",2,"Concrete with USP",3,"Soft",2,"400 < R < 600",2,"Poor",1,"Good","Above 50",50,1000,-6,0.14255999999999999,0,-24.200000000000003,-0.5,-25,50]
[null,"1322212-0",1357,1,"<130mph",3,"30,000 - 45,000",2,"Concrete with USP",2,"Medium",2,"400 < R < 600",1,"Good",2,"Poor","0 to 10",0,10,-6,9.1384615384615384E-2,0,-7.5,0,-12,50]
[null,"1322212-10",1358,1,"<130mph",3,"30,000 - 45,000",2,"Concrete with USP",2,"Medium",2,"400 < R < 600",1,"Good",2,"Poor","10 to 20",10,20,-6,7.5392307692307703E-2,0,-8.8000000000000007,0,-15,50]
[null,"1322212-20",1359,1,"<130mph",3,"30,000 - 45,000",2,"Concrete with USP",2,"Medium",2,"400 < R < 600",1,"Good",2,"Poor","20 to 30",20,30,-6,9.2146153846153864E-2,0,-13.200000000000001,0,-20,50]
[null,"1322212-30",1360,1,"<130mph",3,"30,000 - 45,000",2,"Concrete with USP",2,"Medium",2,"400 < R < 600",1,"Good",2,"Poor","30 to 40",30,40,-6,0.10052307692307694,0,-16.5,0,-25,50]
[null,"1322212-40",1361,1,"<130mph",3,"30,000 - 45,000",2,"Concrete with USP",2,"Medium",2,"400 < R < 600",1,"Good",2,"Poor","40 to 50",40,50,-6,0.10890000000000002,0,-19.8,0,-25,50]
[null,"1322212-50",1362,1,"<130mph",3,"30,000 - 45,000",2,"Concrete with USP",2,"Medium",2,"400 < R < 600",1,"Good",2,"Poor","Above 50",50,1000,-6,0.10890000000000002,0,-22,-0.5,-25,50]
[null,"1321212-0",1363,1,"<130mph",3,"30,000 - 45,000",2,"Concrete with USP",1,"Hard",2,"400 < R < 600",1,"Good",2,"Poor","0 to 10",0,10,-6,6.3969230769230778E-2,0,-6.75,0,-12,50]
[null,"1321212-10",1364,1,"<130mph",3,"30,000 - 45,000",2,"Concrete with USP",1,"Hard",2,"400 < R < 600",1,"Good",2,"Poor","10 to 20",10,20,-6,5.2774615384615385E-2,0,-7.9200000000000008,0,-15,50]
[null,"1321212-20",1365,1,"<130mph",3,"30,000 - 45,000",2,"Concrete with USP",1,"Hard",2,"400 < R < 600",1,"Good",2,"Poor","20 to 30",20,30,-6,6.4502307692307692E-2,0,-11.88,0,-20,50]
[null,"1321212-30",1366,1,"<130mph",3,"30,000 - 45,000",2,"Concrete with USP",1,"Hard",2,"400 < R < 600",1,"Good",2,"Poor","30 to 40",30,40,-6,7.0366153846153842E-2,0,-14.850000000000001,0,-25,50]
[null,"1321212-40",1367,1,"<130mph",3,"30,000 - 45,000",2,"Concrete with USP",1,"Hard",2,"400 < R < 600",1,"Good",2,"Poor","40 to 50",40,50,-6,7.6230000000000006E-2,0,-17.82,0,-25,50]
[null,"1321212-50",1368,1,"<130mph",3,"30,000 - 45,000",2,"Concrete with USP",1,"Hard",2,"400 < R < 600",1,"Good",2,"Poor","Above 50",50,1000,-6,7.6230000000000006E-2,0,-19.8,-0.5,-25,50]
[null,"1323212-0",1369,1,"<130mph",3,"30,000 - 45,000",2,"Concrete with USP",3,"Soft",2,"400 < R < 600",1,"Good",2,"Poor","0 to 10",0,10,-6,0.10966153846153846,0,-8.25,0,-12,50]
[null,"1323212-10",1370,1,"<130mph",3,"30,000 - 45,000",2,"Concrete with USP",3,"Soft",2,"400 < R < 600",1,"Good",2,"Poor","10 to 20",10,20,-6,9.0470769230769243E-2,0,-9.6800000000000015,0,-15,50]
[null,"1323212-20",1371,1,"<130mph",3,"30,000 - 45,000",2,"Concrete with USP",3,"Soft",2,"400 < R < 600",1,"Good",2,"Poor","20 to 30",20,30,-6,0.11057538461538463,0,-14.520000000000003,0,-20,50]
[null,"1323212-30",1372,1,"<130mph",3,"30,000 - 45,000",2,"Concrete with USP",3,"Soft",2,"400 < R < 600",1,"Good",2,"Poor","30 to 40",30,40,-6,0.12062769230769232,0,-18.150000000000002,0,-25,50]
[null,"1323212-40",1373,1,"<130mph",3,"30,000 - 45,000",2,"Concrete with USP",3,"Soft",2,"400 < R < 600",1,"Good",2,"Poor","40 to 50",40,50,-6,0.13068000000000002,0,-21.780000000000005,0,-25,50]
[null,"1323212-50",1374,1,"<130mph",3,"30,000 - 45,000",2,"Concrete with USP",3,"Soft",2,"400 < R < 600",1,"Good",2,"Poor","Above 50",50,1000,-6,0.13068000000000002,0,-24.200000000000003,-0.5,-25,50]
[null,"1322222-0",1375,1,"<130mph",3,"30,000 - 45,000",2,"Concrete with USP",2,"Medium",2,"400 < R < 600",2,"Poor",2,"Poor","0 to 10",0,10,-6,9.1384615384615384E-2,0,-7.5,0,-12,50]
[null,"1322222-10",1376,1,"<130mph",3,"30,000 - 45,000",2,"Concrete with USP",2,"Medium",2,"400 < R < 600",2,"Poor",2,"Poor","10 to 20",10,20,-6,9.0470769230769243E-2,0,-9.6800000000000015,0,-15,50]
[null,"1322222-20",1377,1,"<130mph",3,"30,000 - 45,000",2,"Concrete with USP",2,"Medium",2,"400 < R < 600",2,"Poor",2,"Poor","20 to 30",20,30,-6,0.11057538461538463,0,-14.520000000000003,0,-20,50]
[null,"1322222-30",1378,1,"<130mph",3,"30,000 - 45,000",2,"Concrete with USP",2,"Medium",2,"400 < R < 600",2,"Poor",2,"Poor","30 to 40",30,40,-6,0.12062769230769232,0,-18.150000000000002,0,-25,50]
[null,"1322222-40",1379,1,"<130mph",3,"30,000 - 45,000",2,"Concrete with USP",2,"Medium",2,"400 < R < 600",2,"Poor",2,"Poor","40 to 50",40,50,-6,0.13068000000000002,0,-21.780000000000005,0,-25,50]
[null,"1322222-50",1380,1,"<130mph",3,"30,000 - 45,000",2,"Concrete with USP",2,"Medium",2,"400 < R < 600",2,"Poor",2,"Poor","Above 50",50,1000,-6,0.13068000000000002,0,-24.200000000000003,-0.5,-25,50]
[null,"1321222-0",1381,1,"<130mph",3,"30,000 - 45,000",2,"Concrete with USP",1,"Hard",2,"400 < R < 600",2,"Poor",2,"Poor","0 to 10",0,10,-6,6.3969230769230778E-2,0,-6.75,0,-12,50]
[null,"1321222-10",1382,1,"<130mph",3,"30,000 - 45,000",2,"Concrete with USP",1,"Hard",2,"400 < R < 600",2,"Poor",2,"Poor","10 to 20",10,20,-6,6.3329538461538465E-2,0,-8.7120000000000015,0,-15,50]
[null,"1321222-20",1383,1,"<130mph",3,"30,000 - 45,000",2,"Concrete with USP",1,"Hard",2,"400 < R < 600",2,"Poor",2,"Poor","20 to 30",20,30,-6,7.7402769230769233E-2,0,-13.068000000000001,0,-20,50]
[null,"1321222-30",1384,1,"<130mph",3,"30,000 - 45,000",2,"Concrete with USP",1,"Hard",2,"400 < R < 600",2,"Poor",2,"Poor","30 to 40",30,40,-6,8.4439384615384611E-2,0,-16.335000000000004,0,-25,50]
[null,"1321222-40",1385,1,"<130mph",3,"30,000 - 45,000",2,"Concrete with USP",1,"Hard",2,"400 < R < 600",2,"Poor",2,"Poor","40 to 50",40,50,-6,9.1476000000000002E-2,0,-19.602000000000004,0,-25,50]
[null,"1321222-50",1386,1,"<130mph",3,"30,000 - 45,000",2,"Concrete with USP",1,"Hard",2,"400 < R < 600",2,"Poor",2,"Poor","Above 50",50,1000,-6,9.1476000000000002E-2,0,-21.780000000000005,-0.5,-25,50]
[null,"1323222-0",1387,1,"<130mph",3,"30,000 - 45,000",2,"Concrete with USP",3,"Soft",2,"400 < R < 600",2,"Poor",2,"Poor","0 to 10",0,10,-6,0.10966153846153846,0,-8.25,0,-12,50]
[null,"1323222-10",1388,1,"<130mph",3,"30,000 - 45,000",2,"Concrete with USP",3,"Soft",2,"400 < R < 600",2,"Poor",2,"Poor","10 to 20",10,20,-6,0.10856492307692309,0,-10.648000000000003,0,-15,50]
[null,"1323222-20",1389,1,"<130mph",3,"30,000 - 45,000",2,"Concrete with USP",3,"Soft",2,"400 < R < 600",2,"Poor",2,"Poor","20 to 30",20,30,-6,0.13269046153846156,0,-15.972000000000005,0,-20,50]
[null,"1323222-30",1390,1,"<130mph",3,"30,000 - 45,000",2,"Concrete with USP",3,"Soft",2,"400 < R < 600",2,"Poor",2,"Poor","30 to 40",30,40,-6,0.14475323076923077,0,-19.965000000000007,0,-25,50]
[null,"1323222-40",1391,1,"<130mph",3,"30,000 - 45,000",2,"Concrete with USP",3,"Soft",2,"400 < R < 600",2,"Poor",2,"Poor","40 to 50",40,50,-6,0.15681600000000004,0,-23.958000000000006,0,-25,50]
[null,"1323222-50",1392,1,"<130mph",3,"30,000 - 45,000",2,"Concrete with USP",3,"Soft",2,"400 < R < 600",2,"Poor",2,"Poor","Above 50",50,1000,-6,0.15681600000000004,0,-26.620000000000008,-0.5,-25,50]
[null,"1322311-0",1393,1,"<130mph",3,"30,000 - 45,000",2,"Concrete with USP",2,"Medium",3,"300 < R < 400",1,"Good",1,"Good","0 to 10",0,10,-6,9.1384615384615384E-2,0,-7.5,0,-12,25]
[null,"1322311-10",1394,1,"<130mph",3,"30,000 - 45,000",2,"Concrete with USP",2,"Medium",3,"300 < R < 400",1,"Good",1,"Good","10 to 20",10,20,-6,6.8538461538461548E-2,0,-8,0,-15,25]
[null,"1322311-20",1395,1,"<130mph",3,"30,000 - 45,000",2,"Concrete with USP",2,"Medium",3,"300 < R < 400",1,"Good",1,"Good","20 to 30",20,30,-6,8.3769230769230776E-2,0,-12,0,-20,25]
[null,"1322311-30",1396,1,"<130mph",3,"30,000 - 45,000",2,"Concrete with USP",2,"Medium",3,"300 < R < 400",1,"Good",1,"Good","30 to 40",30,40,-6,9.1384615384615384E-2,0,-15,0,-25,25]
[null,"1322311-40",1397,1,"<130mph",3,"30,000 - 45,000",2,"Concrete with USP",2,"Medium",3,"300 < R < 400",1,"Good",1,"Good","40 to 50",40,50,-6,9.9000000000000019E-2,0,-18,0,-25,25]
[null,"1322311-50",1398,1,"<130mph",3,"30,000 - 45,000",2,"Concrete with USP",2,"Medium",3,"300 < R < 400",1,"Good",1,"Good","Above 50",50,1000,-6,9.9000000000000019E-2,0,-20,-0.5,-25,25]
[null,"1321311-0",1399,1,"<130mph",3,"30,000 - 45,000",2,"Concrete with USP",1,"Hard",3,"300 < R < 400",1,"Good",1,"Good","0 to 10",0,10,-6,6.3969230769230778E-2,0,-6.75,0,-12,25]
[null,"1321311-10",1400,1,"<130mph",3,"30,000 - 45,000",2,"Concrete with USP",1,"Hard",3,"300 < R < 400",1,"Good",1,"Good","10 to 20",10,20,-6,4.7976923076923077E-2,0,-7.2,0,-15,25]
[null,"1321311-20",1401,1,"<130mph",3,"30,000 - 45,000",2,"Concrete with USP",1,"Hard",3,"300 < R < 400",1,"Good",1,"Good","20 to 30",20,30,-6,5.8638461538461542E-2,0,-10.8,0,-20,25]
[null,"1321311-30",1402,1,"<130mph",3,"30,000 - 45,000",2,"Concrete with USP",1,"Hard",3,"300 < R < 400",1,"Good",1,"Good","30 to 40",30,40,-6,6.3969230769230778E-2,0,-13.5,0,-25,25]
[null,"1321311-40",1403,1,"<130mph",3,"30,000 - 45,000",2,"Concrete with USP",1,"Hard",3,"300 < R < 400",1,"Good",1,"Good","40 to 50",40,50,-6,6.93E-2,0,-16.2,0,-25,25]
[null,"1321311-50",1404,1,"<130mph",3,"30,000 - 45,000",2,"Concrete with USP",1,"Hard",3,"300 < R < 400",1,"Good",1,"Good","Above 50",50,1000,-6,6.93E-2,0,-18,-0.5,-25,25]
[null,"1323311-0",1405,1,"<130mph",3,"30,000 - 45,000",2,"Concrete with USP",3,"Soft",3,"300 < R < 400",1,"Good",1,"Good","0 to 10",0,10,-6,0.10966153846153846,0,-8.25,0,-12,25]
[null,"1323311-10",1406,1,"<130mph",3,"30,000 - 45,000",2,"Concrete with USP",3,"Soft",3,"300 < R < 400",1,"Good",1,"Good","10 to 20",10,20,-6,8.2246153846153844E-2,0,-8.8000000000000007,0,-15,25]
[null,"1323311-20",1407,1,"<130mph",3,"30,000 - 45,000",2,"Concrete with USP",3,"Soft",3,"300 < R < 400",1,"Good",1,"Good","20 to 30",20,30,-6,0.10052307692307692,0,-13.200000000000001,0,-20,25]
[null,"1323311-30",1408,1,"<130mph",3,"30,000 - 45,000",2,"Concrete with USP",3,"Soft",3,"300 < R < 400",1,"Good",1,"Good","30 to 40",30,40,-6,0.10966153846153846,0,-16.5,0,-25,25]
[null,"1323311-40",1409,1,"<130mph",3,"30,000 - 45,000",2,"Concrete with USP",3,"Soft",3,"300 < R < 400",1,"Good",1,"Good","40 to 50",40,50,-6,0.1188,0,-19.8,0,-25,25]
[null,{"$f":"D1428&F1428&H1428&J1428&L1428&N1428&P1428&\"-\"&S1428","v":"1323311-50"},1410,1,"<130mph",3,"30,000 - 45,000",2,"Concrete with USP",3,"Soft",3,"300 < R < 400",1,"Good",1,"Good","Above 50",50,1000,-6,0.1188,0,-22,-0.5,-25,25]
[null,"1322321-0",1411,1,"<130mph",3,"30,000 - 45,000",2,"Concrete with USP",2,"Medium",3,"300 < R < 400",2,"Poor",1,"Good","0 to 10",0,10,-6,9.1384615384615384E-2,0,-7.5,0,-12,25]
[null,"1322321-10",1412,1,"<130mph",3,"30,000 - 45,000",2,"Concrete with USP",2,"Medium",3,"300 < R < 400",2,"Poor",1,"Good","10 to 20",10,20,-6,8.2246153846153844E-2,0,-8.8000000000000007,0,-15,25]
[null,"1322321-20",1413,1,"<130mph",3,"30,000 - 45,000",2,"Concrete with USP",2,"Medium",3,"300 < R < 400",2,"Poor",1,"Good","20 to 30",20,30,-6,0.10052307692307692,0,-13.200000000000001,0,-20,25]
[null,"1322321-30",1414,1,"<130mph",3,"30,000 - 45,000",2,"Concrete with USP",2,"Medium",3,"300 < R < 400",2,"Poor",1,"Good","30 to 40",30,40,-6,0.10966153846153846,0,-16.5,0,-25,25]
[null,"1322321-40",1415,1,"<130mph",3,"30,000 - 45,000",2,"Concrete with USP",2,"Medium",3,"300 < R < 400",2,"Poor",1,"Good","40 to 50",40,50,-6,0.1188,0,-19.8,0,-25,25]
[null,"1322321-50",1416,1,"<130mph",3,"30,000 - 45,000",2,"Concrete with USP",2,"Medium",3,"300 < R < 400",2,"Poor",1,"Good","Above 50",50,1000,-6,0.1188,0,-22,-0.5,-25,25]
[null,"1321321-0",1417,1,"<130mph",3,"30,000 - 45,000",2,"Concrete with USP",1,"Hard",3,"300 < R < 400",2,"Poor",1,"Good","0 to 10",0,10,-6,6.3969230769230778E-2,0,-6.75,0,-12,25]
[null,"1321321-10",1418,1,"<130mph",3,"30,000 - 45,000",2,"Concrete with USP",1,"Hard",3,"300 < R < 400",2,"Poor",1,"Good","10 to 20",10,20,-6,5.7572307692307687E-2,0,-7.9200000000000008,0,-15,25]
[null,"1321321-20",1419,1,"<130mph",3,"30,000 - 45,000",2,"Concrete with USP",1,"Hard",3,"300 < R < 400",2,"Poor",1,"Good","20 to 30",20,30,-6,7.0366153846153842E-2,0,-11.88,0,-20,25]
[null,"1321321-30",1420,1,"<130mph",3,"30,000 - 45,000",2,"Concrete with USP",1,"Hard",3,"300 < R < 400",2,"Poor",1,"Good","30 to 40",30,40,-6,7.676307692307692E-2,0,-14.850000000000001,0,-25,25]
[null,"1321321-40",1421,1,"<130mph",3,"30,000 - 45,000",2,"Concrete with USP",1,"Hard",3,"300 < R < 400",2,"Poor",1,"Good","40 to 50",40,50,-6,8.3159999999999998E-2,0,-17.82,0,-25,25]
[null,"1321321-50",1422,1,"<130mph",3,"30,000 - 45,000",2,"Concrete with USP",1,"Hard",3,"300 < R < 400",2,"Poor",1,"Good","Above 50",50,1000,-6,8.3159999999999998E-2,0,-19.8,-0.5,-25,25]
[null,"1323321-0",1423,1,"<130mph",3,"30,000 - 45,000",2,"Concrete with USP",3,"Soft",3,"300 < R < 400",2,"Poor",1,"Good","0 to 10",0,10,-6,0.10966153846153846,0,-8.25,0,-12,25]
[null,"1323321-10",1424,1,"<130mph",3,"30,000 - 45,000",2,"Concrete with USP",3,"Soft",3,"300 < R < 400",2,"Poor",1,"Good","10 to 20",10,20,-6,9.8695384615384602E-2,0,-9.6800000000000015,0,-15,25]
[null,"1323321-20",1425,1,"<130mph",3,"30,000 - 45,000",2,"Concrete with USP",3,"Soft",3,"300 < R < 400",2,"Poor",1,"Good","20 to 30",20,30,-6,0.1206276923076923,0,-14.520000000000003,0,-20,25]
[null,"1323321-30",1426,1,"<130mph",3,"30,000 - 45,000",2,"Concrete with USP",3,"Soft",3,"300 < R < 400",2,"Poor",1,"Good","30 to 40",30,40,-6,0.13159384615384614,0,-18.150000000000002,0,-25,25]
[null,"1323321-40",1427,1,"<130mph",3,"30,000 - 45,000",2,"Concrete with USP",3,"Soft",3,"300 < R < 400",2,"Poor",1,"Good","40 to 50",40,50,-6,0.14255999999999999,0,-21.780000000000005,0,-25,25]
[null,"1323321-50",1428,1,"<130mph",3,"30,000 - 45,000",2,"Concrete with USP",3,"Soft",3,"300 < R < 400",2,"Poor",1,"Good","Above 50",50,1000,-6,0.14255999999999999,0,-24.200000000000003,-0.5,-25,25]
[null,"1322312-0",1429,1,"<130mph",3,"30,000 - 45,000",2,"Concrete with USP",2,"Medium",3,"300 < R < 400",1,"Good",2,"Poor","0 to 10",0,10,-6,9.1384615384615384E-2,0,-7.5,0,-12,25]
[null,"1322312-10",1430,1,"<130mph",3,"30,000 - 45,000",2,"Concrete with USP",2,"Medium",3,"300 < R < 400",1,"Good",2,"Poor","10 to 20",10,20,-6,7.5392307692307703E-2,0,-8.8000000000000007,0,-15,25]
[null,"1322312-20",1431,1,"<130mph",3,"30,000 - 45,000",2,"Concrete with USP",2,"Medium",3,"300 < R < 400",1,"Good",2,"Poor","20 to 30",20,30,-6,9.2146153846153864E-2,0,-13.200000000000001,0,-20,25]
[null,"1322312-30",1432,1,"<130mph",3,"30,000 - 45,000",2,"Concrete with USP",2,"Medium",3,"300 < R < 400",1,"Good",2,"Poor","30 to 40",30,40,-6,0.10052307692307694,0,-16.5,0,-25,25]
[null,"1322312-40",1433,1,"<130mph",3,"30,000 - 45,000",2,"Concrete with USP",2,"Medium",3,"300 < R < 400",1,"Good",2,"Poor","40 to 50",40,50,-6,0.10890000000000002,0,-19.8,0,-25,25]
[null,"1322312-50",1434,1,"<130mph",3,"30,000 - 45,000",2,"Concrete with USP",2,"Medium",3,"300 < R < 400",1,"Good",2,"Poor","Above 50",50,1000,-6,0.10890000000000002,0,-22,-0.5,-25,25]
[null,"1321312-0",1435,1,"<130mph",3,"30,000 - 45,000",2,"Concrete with USP",1,"Hard",3,"300 < R < 400",1,"Good",2,"Poor","0 to 10",0,10,-6,6.3969230769230778E-2,0,-6.75,0,-12,25]
[null,"1321312-10",1436,1,"<130mph",3,"30,000 - 45,000",2,"Concrete with USP",1,"Hard",3,"300 < R < 400",1,"Good",2,"Poor","10 to 20",10,20,-6,5.2774615384615385E-2,0,-7.9200000000000008,0,-15,25]
[null,"1321312-20",1437,1,"<130mph",3,"30,000 - 45,000",2,"Concrete with USP",1,"Hard",3,"300 < R < 400",1,"Good",2,"Poor","20 to 30",20,30,-6,6.4502307692307692E-2,0,-11.88,0,-20,25]
[null,"1321312-30",1438,1,"<130mph",3,"30,000 - 45,000",2,"Concrete with USP",1,"Hard",3,"300 < R < 400",1,"Good",2,"Poor","30 to 40",30,40,-6,7.0366153846153842E-2,0,-14.850000000000001,0,-25,25]
[null,"1321312-40",1439,1,"<130mph",3,"30,000 - 45,000",2,"Concrete with USP",1,"Hard",3,"300 < R < 400",1,"Good",2,"Poor","40 to 50",40,50,-6,7.6230000000000006E-2,0,-17.82,0,-25,25]
[null,"1321312-50",1440,1,"<130mph",3,"30,000 - 45,000",2,"Concrete with USP",1,"Hard",3,"300 < R < 400",1,"Good",2,"Poor","Above 50",50,1000,-6,7.6230000000000006E-2,0,-19.8,-0.5,-25,25]
[null,"1323312-0",1441,1,"<130mph",3,"30,000 - 45,000",2,"Concrete with USP",3,"Soft",3,"300 < R < 400",1,"Good",2,"Poor","0 to 10",0,10,-6,0.10966153846153846,0,-8.25,0,-12,25]
[null,"1323312-10",1442,1,"<130mph",3,"30,000 - 45,000",2,"Concrete with USP",3,"Soft",3,"300 < R < 400",1,"Good",2,"Poor","10 to 20",10,20,-6,9.0470769230769243E-2,0,-9.6800000000000015,0,-15,25]
[null,"1323312-20",1443,1,"<130mph",3,"30,000 - 45,000",2,"Concrete with USP",3,"Soft",3,"300 < R < 400",1,"Good",2,"Poor","20 to 30",20,30,-6,0.11057538461538463,0,-14.520000000000003,0,-20,25]
[null,"1323312-30",1444,1,"<130mph",3,"30,000 - 45,000",2,"Concrete with USP",3,"Soft",3,"300 < R < 400",1,"Good",2,"Poor","30 to 40",30,40,-6,0.12062769230769232,0,-18.150000000000002,0,-25,25]
[null,"1323312-40",1445,1,"<130mph",3,"30,000 - 45,000",2,"Concrete with USP",3,"Soft",3,"300 < R < 400",1,"Good",2,"Poor","40 to 50",40,50,-6,0.13068000000000002,0,-21.780000000000005,0,-25,25]
[null,"1323312-50",1446,1,"<130mph",3,"30,000 - 45,000",2,"Concrete with USP",3,"Soft",3,"300 < R < 400",1,"Good",2,"Poor","Above 50",50,1000,-6,0.13068000000000002,0,-24.200000000000003,-0.5,-25,25]
[null,"1322322-0",1447,1,"<130mph",3,"30,000 - 45,000",2,"Concrete with USP",2,"Medium",3,"300 < R < 400",2,"Poor",2,"Poor","0 to 10",0,10,-6,9.1384615384615384E-2,0,-7.5,0,-12,25]
[null,"1322322-10",1448,1,"<130mph",3,"30,000 - 45,000",2,"Concrete with USP",2,"Medium",3,"300 < R < 400",2,"Poor",2,"Poor","10 to 20",10,20,-6,9.0470769230769243E-2,0,-9.6800000000000015,0,-15,25]
[null,"1322322-20",1449,1,"<130mph",3,"30,000 - 45,000",2,"Concrete with USP",2,"Medium",3,"300 < R < 400",2,"Poor",2,"Poor","20 to 30",20,30,-6,0.11057538461538463,0,-14.520000000000003,0,-20,25]
[null,"1322322-30",1450,1,"<130mph",3,"30,000 - 45,000",2,"Concrete with USP",2,"Medium",3,"300 < R < 400",2,"Poor",2,"Poor","30 to 40",30,40,-6,0.12062769230769232,0,-18.150000000000002,0,-25,25]
[null,"1322322-40",1451,1,"<130mph",3,"30,000 - 45,000",2,"Concrete with USP",2,"Medium",3,"300 < R < 400",2,"Poor",2,"Poor","40 to 50",40,50,-6,0.13068000000000002,0,-21.780000000000005,0,-25,25]
[null,"1322322-50",1452,1,"<130mph",3,"30,000 - 45,000",2,"Concrete with USP",2,"Medium",3,"300 < R < 400",2,"Poor",2,"Poor","Above 50",50,1000,-6,0.13068000000000002,0,-24.200000000000003,-0.5,-25,25]
[null,"1321322-0",1453,1,"<130mph",3,"30,000 - 45,000",2,"Concrete with USP",1,"Hard",3,"300 < R < 400",2,"Poor",2,"Poor","0 to 10",0,10,-6,6.3969230769230778E-2,0,-6.75,0,-12,25]
[null,"1321322-10",1454,1,"<130mph",3,"30,000 - 45,000",2,"Concrete with USP",1,"Hard",3,"300 < R < 400",2,"Poor",2,"Poor","10 to 20",10,20,-6,6.3329538461538465E-2,0,-8.7120000000000015,0,-15,25]
[null,"1321322-20",1455,1,"<130mph",3,"30,000 - 45,000",2,"Concrete with USP",1,"Hard",3,"300 < R < 400",2,"Poor",2,"Poor","20 to 30",20,30,-6,7.7402769230769233E-2,0,-13.068000000000001,0,-20,25]
[null,"1321322-30",1456,1,"<130mph",3,"30,000 - 45,000",2,"Concrete with USP",1,"Hard",3,"300 < R < 400",2,"Poor",2,"Poor","30 to 40",30,40,-6,8.4439384615384611E-2,0,-16.335000000000004,0,-25,25]
[null,"1321322-40",1457,1,"<130mph",3,"30,000 - 45,000",2,"Concrete with USP",1,"Hard",3,"300 < R < 400",2,"Poor",2,"Poor","40 to 50",40,50,-6,9.1476000000000002E-2,0,-19.602000000000004,0,-25,25]
[null,"1321322-50",1458,1,"<130mph",3,"30,000 - 45,000",2,"Concrete with USP",1,"Hard",3,"300 < R < 400",2,"Poor",2,"Poor","Above 50",50,1000,-6,9.1476000000000002E-2,0,-21.780000000000005,-0.5,-25,25]
[null,"1323322-0",1459,1,"<130mph",3,"30,000 - 45,000",2,"Concrete with USP",3,"Soft",3,"300 < R < 400",2,"Poor",2,"Poor","0 to 10",0,10,-6,0.10966153846153846,0,-8.25,0,-12,25]
[null,"1323322-10",1460,1,"<130mph",3,"30,000 - 45,000",2,"Concrete with USP",3,"Soft",3,"300 < R < 400",2,"Poor",2,"Poor","10 to 20",10,20,-6,0.10856492307692309,0,-10.648000000000003,0,-15,25]
[null,"1323322-20",1461,1,"<130mph",3,"30,000 - 45,000",2,"Concrete with USP",3,"Soft",3,"300 < R < 400",2,"Poor",2,"Poor","20 to 30",20,30,-6,0.13269046153846156,0,-15.972000000000005,0,-20,25]
[null,"1323322-30",1462,1,"<130mph",3,"30,000 - 45,000",2,"Concrete with USP",3,"Soft",3,"300 < R < 400",2,"Poor",2,"Poor","30 to 40",30,40,-6,0.14475323076923077,0,-19.965000000000007,0,-25,25]
[null,"1323322-40",1463,1,"<130mph",3,"30,000 - 45,000",2,"Concrete with USP",3,"Soft",3,"300 < R < 400",2,"Poor",2,"Poor","40 to 50",40,50,-6,0.15681600000000004,0,-23.958000000000006,0,-25,25]
[null,"1323322-50",1464,1,"<130mph",3,"30,000 - 45,000",2,"Concrete with USP",3,"Soft",3,"300 < R < 400",2,"Poor",2,"Poor","Above 50",50,1000,-6,0.15681600000000004,0,-26.620000000000008,-0.5,-25,25]
[null,"1322411-0",1465,1,"<130mph",3,"30,000 - 45,000",2,"Concrete with USP",2,"Medium",4,"< 300",1,"Good",1,"Good","0 to 10",0,10,-6,0.1246153846153846,0,-7.5,0,-12,20]
[null,"1322411-10",1466,1,"<130mph",3,"30,000 - 45,000",2,"Concrete with USP",2,"Medium",4,"< 300",1,"Good",1,"Good","10 to 20",10,20,-6,9.3461538461538443E-2,0,-8,0,-15,20]
[null,"1322411-20",1467,1,"<130mph",3,"30,000 - 45,000",2,"Concrete with USP",2,"Medium",4,"< 300",1,"Good",1,"Good","20 to 30",20,30,-6,0.11423076923076922,0,-12,0,-20,20]
[null,"1322411-30",1468,1,"<130mph",3,"30,000 - 45,000",2,"Concrete with USP",2,"Medium",4,"< 300",1,"Good",1,"Good","30 to 40",30,40,-6,0.1246153846153846,0,-15,0,-25,20]
[null,"1322411-40",1469,1,"<130mph",3,"30,000 - 45,000",2,"Concrete with USP",2,"Medium",4,"< 300",1,"Good",1,"Good","40 to 50",40,50,-6,0.13499999999999998,0,-18,0,-25,20]
[null,"1322411-50",1470,1,"<130mph",3,"30,000 - 45,000",2,"Concrete with USP",2,"Medium",4,"< 300",1,"Good",1,"Good","Above 50",50,1000,-6,0.13499999999999998,0,-20,-0.5,-25,20]
[null,"1321411-0",1471,1,"<130mph",3,"30,000 - 45,000",2,"Concrete with USP",1,"Hard",4,"< 300",1,"Good",1,"Good","0 to 10",0,10,-6,8.7230769230769209E-2,0,-6.75,0,-12,20]
[null,"1321411-10",1472,1,"<130mph",3,"30,000 - 45,000",2,"Concrete with USP",1,"Hard",4,"< 300",1,"Good",1,"Good","10 to 20",10,20,-6,6.5423076923076903E-2,0,-7.2,0,-15,20]
[null,"1321411-20",1473,1,"<130mph",3,"30,000 - 45,000",2,"Concrete with USP",1,"Hard",4,"< 300",1,"Good",1,"Good","20 to 30",20,30,-6,7.9961538461538445E-2,0,-10.8,0,-20,20]
[null,{"$f":"D1492&F1492&H1492&J1492&L1492&N1492&P1492&\"-\"&S1492","v":"1321411-30"},1474,1,"<130mph",3,"30,000 - 45,000",2,"Concrete with USP",1,"Hard",4,"< 300",1,"Good",1,"Good","30 to 40",30,40,-6,8.7230769230769209E-2,0,-13.5,0,-25,20]
[null,"1321411-40",1475,1,"<130mph",3,"30,000 - 45,000",2,"Concrete with USP",1,"Hard",4,"< 300",1,"Good",1,"Good","40 to 50",40,50,-6,9.4499999999999987E-2,0,-16.2,0,-25,20]
[null,"1321411-50",1476,1,"<130mph",3,"30,000 - 45,000",2,"Concrete with USP",1,"Hard",4,"< 300",1,"Good",1,"Good","Above 50",50,1000,-6,9.4499999999999987E-2,0,-18,-0.5,-25,20]
[null,"1323411-0",1477,1,"<130mph",3,"30,000 - 45,000",2,"Concrete with USP",3,"Soft",4,"< 300",1,"Good",1,"Good","0 to 10",0,10,-6,0.14953846153846151,0,-8.25,0,-12,20]
[null,"1323411-10",1478,1,"<130mph",3,"30,000 - 45,000",2,"Concrete with USP",3,"Soft",4,"< 300",1,"Good",1,"Good","10 to 20",10,20,-6,0.11215384615384613,0,-8.8000000000000007,0,-15,20]
[null,"1323411-20",1479,1,"<130mph",3,"30,000 - 45,000",2,"Concrete with USP",3,"Soft",4,"< 300",1,"Good",1,"Good","20 to 30",20,30,-6,0.13707692307692307,0,-13.200000000000001,0,-20,20]
[null,"1323411-30",1480,1,"<130mph",3,"30,000 - 45,000",2,"Concrete with USP",3,"Soft",4,"< 300",1,"Good",1,"Good","30 to 40",30,40,-6,0.14953846153846151,0,-16.5,0,-25,20]
[null,"1323411-40",1481,1,"<130mph",3,"30,000 - 45,000",2,"Concrete with USP",3,"Soft",4,"< 300",1,"Good",1,"Good","40 to 50",40,50,-6,0.16199999999999998,0,-19.8,0,-25,20]
[null,"1323411-50",1482,1,"<130mph",3,"30,000 - 45,000",2,"Concrete with USP",3,"Soft",4,"< 300",1,"Good",1,"Good","Above 50",50,1000,-6,0.16199999999999998,0,-22,-0.5,-25,20]
[null,"1322421-0",1483,1,"<130mph",3,"30,000 - 45,000",2,"Concrete with USP",2,"Medium",4,"< 300",2,"Poor",1,"Good","0 to 10",0,10,-6,0.1246153846153846,0,-7.5,0,-12,20]
[null,"1322421-10",1484,1,"<130mph",3,"30,000 - 45,000",2,"Concrete with USP",2,"Medium",4,"< 300",2,"Poor",1,"Good","10 to 20",10,20,-6,0.11215384615384613,0,-8.8000000000000007,0,-15,20]
[null,"1322421-20",1485,1,"<130mph",3,"30,000 - 45,000",2,"Concrete with USP",2,"Medium",4,"< 300",2,"Poor",1,"Good","20 to 30",20,30,-6,0.13707692307692307,0,-13.200000000000001,0,-20,20]
[null,"1322421-30",1486,1,"<130mph",3,"30,000 - 45,000",2,"Concrete with USP",2,"Medium",4,"< 300",2,"Poor",1,"Good","30 to 40",30,40,-6,0.14953846153846151,0,-16.5,0,-25,20]
[null,"1322421-40",1487,1,"<130mph",3,"30,000 - 45,000",2,"Concrete with USP",2,"Medium",4,"< 300",2,"Poor",1,"Good","40 to 50",40,50,-6,0.16199999999999998,0,-19.8,0,-25,20]
[null,"1322421-50",1488,1,"<130mph",3,"30,000 - 45,000",2,"Concrete with USP",2,"Medium",4,"< 300",2,"Poor",1,"Good","Above 50",50,1000,-6,0.16199999999999998,0,-22,-0.5,-25,20]
[null,"1321421-0",1489,1,"<130mph",3,"30,000 - 45,000",2,"Concrete with USP",1,"Hard",4,"< 300",2,"Poor",1,"Good","0 to 10",0,10,-6,8.7230769230769209E-2,0,-6.75,0,-12,20]
[null,"1321421-10",1490,1,"<130mph",3,"30,000 - 45,000",2,"Concrete with USP",1,"Hard",4,"< 300",2,"Poor",1,"Good","10 to 20",10,20,-6,7.8507692307692292E-2,0,-7.9200000000000008,0,-15,20]
[null,"1321421-20",1491,1,"<130mph",3,"30,000 - 45,000",2,"Concrete with USP",1,"Hard",4,"< 300",2,"Poor",1,"Good","20 to 30",20,30,-6,9.595384615384614E-2,0,-11.88,0,-20,20]
[null,"1321421-30",1492,1,"<130mph",3,"30,000 - 45,000",2,"Concrete with USP",1,"Hard",4,"< 300",2,"Poor",1,"Good","30 to 40",30,40,-6,0.10467692307692306,0,-14.850000000000001,0,-25,20]
[null,"1321421-40",1493,1,"<130mph",3,"30,000 - 45,000",2,"Concrete with USP",1,"Hard",4,"< 300",2,"Poor",1,"Good","40 to 50",40,50,-6,0.11339999999999997,0,-17.82,0,-25,20]
[null,"1321421-50",1494,1,"<130mph",3,"30,000 - 45,000",2,"Concrete with USP",1,"Hard",4,"< 300",2,"Poor",1,"Good","Above 50",50,1000,-6,0.11339999999999997,0,-19.8,-0.5,-25,20]
[null,"1323421-0",1495,1,"<130mph",3,"30,000 - 45,000",2,"Concrete with USP",3,"Soft",4,"< 300",2,"Poor",1,"Good","0 to 10",0,10,-6,0.14953846153846151,0,-8.25,0,-12,20]
[null,"1323421-10",1496,1,"<130mph",3,"30,000 - 45,000",2,"Concrete with USP",3,"Soft",4,"< 300",2,"Poor",1,"Good","10 to 20",10,20,-6,0.13458461538461536,0,-9.6800000000000015,0,-15,20]
[null,"1323421-20",1497,1,"<130mph",3,"30,000 - 45,000",2,"Concrete with USP",3,"Soft",4,"< 300",2,"Poor",1,"Good","20 to 30",20,30,-6,0.16449230769230766,0,-14.520000000000003,0,-20,20]
[null,"1323421-30",1498,1,"<130mph",3,"30,000 - 45,000",2,"Concrete with USP",3,"Soft",4,"< 300",2,"Poor",1,"Good","30 to 40",30,40,-6,0.17944615384615381,0,-18.150000000000002,0,-25,20]
[null,"1323421-40",1499,1,"<130mph",3,"30,000 - 45,000",2,"Concrete with USP",3,"Soft",4,"< 300",2,"Poor",1,"Good","40 to 50",40,50,-6,0.19439999999999996,0,-21.780000000000005,0,-25,20]
[null,"1323421-50",1500,1,"<130mph",3,"30,000 - 45,000",2,"Concrete with USP",3,"Soft",4,"< 300",2,"Poor",1,"Good","Above 50",50,1000,-6,0.19439999999999996,0,-24.200000000000003,-0.5,-25,20]
[null,"1322412-0",1501,1,"<130mph",3,"30,000 - 45,000",2,"Concrete with USP",2,"Medium",4,"< 300",1,"Good",2,"Poor","0 to 10",0,10,-6,0.1246153846153846,0,-7.5,0,-12,20]
[null,"1322412-10",1502,1,"<130mph",3,"30,000 - 45,000",2,"Concrete with USP",2,"Medium",4,"< 300",1,"Good",2,"Poor","10 to 20",10,20,-6,0.10280769230769232,0,-8.8000000000000007,0,-15,20]
[null,"1322412-20",1503,1,"<130mph",3,"30,000 - 45,000",2,"Concrete with USP",2,"Medium",4,"< 300",1,"Good",2,"Poor","20 to 30",20,30,-6,0.12565384615384617,0,-13.200000000000001,0,-20,20]
[null,"1322412-30",1504,1,"<130mph",3,"30,000 - 45,000",2,"Concrete with USP",2,"Medium",4,"< 300",1,"Good",2,"Poor","30 to 40",30,40,-6,0.1370769230769231,0,-16.5,0,-25,20]
[null,"1322412-40",1505,1,"<130mph",3,"30,000 - 45,000",2,"Concrete with USP",2,"Medium",4,"< 300",1,"Good",2,"Poor","40 to 50",40,50,-6,0.14850000000000002,0,-19.8,0,-25,20]
[null,"1322412-50",1506,1,"<130mph",3,"30,000 - 45,000",2,"Concrete with USP",2,"Medium",4,"< 300",1,"Good",2,"Poor","Above 50",50,1000,-6,0.14850000000000002,0,-22,-0.5,-25,20]
[null,"1321412-0",1507,1,"<130mph",3,"30,000 - 45,000",2,"Concrete with USP",1,"Hard",4,"< 300",1,"Good",2,"Poor","0 to 10",0,10,-6,8.7230769230769209E-2,0,-6.75,0,-12,20]
[null,"1321412-10",1508,1,"<130mph",3,"30,000 - 45,000",2,"Concrete with USP",1,"Hard",4,"< 300",1,"Good",2,"Poor","10 to 20",10,20,-6,7.1965384615384598E-2,0,-7.9200000000000008,0,-15,20]
[null,"1321412-20",1509,1,"<130mph",3,"30,000 - 45,000",2,"Concrete with USP",1,"Hard",4,"< 300",1,"Good",2,"Poor","20 to 30",20,30,-6,8.7957692307692292E-2,0,-11.88,0,-20,20]
[null,"1321412-30",1510,1,"<130mph",3,"30,000 - 45,000",2,"Concrete with USP",1,"Hard",4,"< 300",1,"Good",2,"Poor","30 to 40",30,40,-6,9.595384615384614E-2,0,-14.850000000000001,0,-25,20]
[null,"1321412-40",1511,1,"<130mph",3,"30,000 - 45,000",2,"Concrete with USP",1,"Hard",4,"< 300",1,"Good",2,"Poor","40 to 50",40,50,-6,0.10394999999999999,0,-17.82,0,-25,20]
[null,"1321412-50",1512,1,"<130mph",3,"30,000 - 45,000",2,"Concrete with USP",1,"Hard",4,"< 300",1,"Good",2,"Poor","Above 50",50,1000,-6,0.10394999999999999,0,-19.8,-0.5,-25,20]
[null,"1323412-0",1513,1,"<130mph",3,"30,000 - 45,000",2,"Concrete with USP",3,"Soft",4,"< 300",1,"Good",2,"Poor","0 to 10",0,10,-6,0.14953846153846151,0,-8.25,0,-12,20]
[null,"1323412-10",1514,1,"<130mph",3,"30,000 - 45,000",2,"Concrete with USP",3,"Soft",4,"< 300",1,"Good",2,"Poor","10 to 20",10,20,-6,0.12336923076923076,0,-9.6800000000000015,0,-15,20]
[null,"1323412-20",1515,1,"<130mph",3,"30,000 - 45,000",2,"Concrete with USP",3,"Soft",4,"< 300",1,"Good",2,"Poor","20 to 30",20,30,-6,0.15078461538461538,0,-14.520000000000003,0,-20,20]
[null,"1323412-30",1516,1,"<130mph",3,"30,000 - 45,000",2,"Concrete with USP",3,"Soft",4,"< 300",1,"Good",2,"Poor","30 to 40",30,40,-6,0.16449230769230769,0,-18.150000000000002,0,-25,20]
[null,"1323412-40",1517,1,"<130mph",3,"30,000 - 45,000",2,"Concrete with USP",3,"Soft",4,"< 300",1,"Good",2,"Poor","40 to 50",40,50,-6,0.1782,0,-21.780000000000005,0,-25,20]
[null,"1323412-50",1518,1,"<130mph",3,"30,000 - 45,000",2,"Concrete with USP",3,"Soft",4,"< 300",1,"Good",2,"Poor","Above 50",50,1000,-6,0.1782,0,-24.200000000000003,-0.5,-25,20]
[null,"1322422-0",1519,1,"<130mph",3,"30,000 - 45,000",2,"Concrete with USP",2,"Medium",4,"< 300",2,"Poor",2,"Poor","0 to 10",0,10,-6,0.1246153846153846,0,-7.5,0,-12,20]
[null,"1322422-10",1520,1,"<130mph",3,"30,000 - 45,000",2,"Concrete with USP",2,"Medium",4,"< 300",2,"Poor",2,"Poor","10 to 20",10,20,-6,0.12336923076923076,0,-9.6800000000000015,0,-15,20]
[null,"1322422-20",1521,1,"<130mph",3,"30,000 - 45,000",2,"Concrete with USP",2,"Medium",4,"< 300",2,"Poor",2,"Poor","20 to 30",20,30,-6,0.15078461538461538,0,-14.520000000000003,0,-20,20]
[null,"1322422-30",1522,1,"<130mph",3,"30,000 - 45,000",2,"Concrete with USP",2,"Medium",4,"< 300",2,"Poor",2,"Poor","30 to 40",30,40,-6,0.16449230769230769,0,-18.150000000000002,0,-25,20]
[null,"1322422-40",1523,1,"<130mph",3,"30,000 - 45,000",2,"Concrete with USP",2,"Medium",4,"< 300",2,"Poor",2,"Poor","40 to 50",40,50,-6,0.1782,0,-21.780000000000005,0,-25,20]
[null,"1322422-50",1524,1,"<130mph",3,"30,000 - 45,000",2,"Concrete with USP",2,"Medium",4,"< 300",2,"Poor",2,"Poor","Above 50",50,1000,-6,0.1782,0,-24.200000000000003,-0.5,-25,20]
[null,"1321422-0",1525,1,"<130mph",3,"30,000 - 45,000",2,"Concrete with USP",1,"Hard",4,"< 300",2,"Poor",2,"Poor","0 to 10",0,10,-6,8.7230769230769209E-2,0,-6.75,0,-12,20]
[null,"1321422-10",1526,1,"<130mph",3,"30,000 - 45,000",2,"Concrete with USP",1,"Hard",4,"< 300",2,"Poor",2,"Poor","10 to 20",10,20,-6,8.6358461538461523E-2,0,-8.7120000000000015,0,-15,20]
[null,"1321422-20",1527,1,"<130mph",3,"30,000 - 45,000",2,"Concrete with USP",1,"Hard",4,"< 300",2,"Poor",2,"Poor","20 to 30",20,30,-6,0.10554923076923076,0,-13.068000000000001,0,-20,20]
[null,"1321422-30",1528,1,"<130mph",3,"30,000 - 45,000",2,"Concrete with USP",1,"Hard",4,"< 300",2,"Poor",2,"Poor","30 to 40",30,40,-6,0.11514461538461537,0,-16.335000000000004,0,-25,20]
[null,"1321422-40",1529,1,"<130mph",3,"30,000 - 45,000",2,"Concrete with USP",1,"Hard",4,"< 300",2,"Poor",2,"Poor","40 to 50",40,50,-6,0.12473999999999999,0,-19.602000000000004,0,-25,20]
[null,"1321422-50",1530,1,"<130mph",3,"30,000 - 45,000",2,"Concrete with USP",1,"Hard",4,"< 300",2,"Poor",2,"Poor","Above 50",50,1000,-6,0.12473999999999999,0,-21.780000000000005,-0.5,-25,20]
[null,"1323422-0",1531,1,"<130mph",3,"30,000 - 45,000",2,"Concrete with USP",3,"Soft",4,"< 300",2,"Poor",2,"Poor","0 to 10",0,10,-6,0.14953846153846151,0,-8.25,0,-12,20]
[null,"1323422-10",1532,1,"<130mph",3,"30,000 - 45,000",2,"Concrete with USP",3,"Soft",4,"< 300",2,"Poor",2,"Poor","10 to 20",10,20,-6,0.14804307692307689,0,-10.648000000000003,0,-15,20]
[null,"1323422-20",1533,1,"<130mph",3,"30,000 - 45,000",2,"Concrete with USP",3,"Soft",4,"< 300",2,"Poor",2,"Poor","20 to 30",20,30,-6,0.18094153846153843,0,-15.972000000000005,0,-20,20]
[null,"1323422-30",1534,1,"<130mph",3,"30,000 - 45,000",2,"Concrete with USP",3,"Soft",4,"< 300",2,"Poor",2,"Poor","30 to 40",30,40,-6,0.1973907692307692,0,-19.965000000000007,0,-25,20]
[null,"1323422-40",1535,1,"<130mph",3,"30,000 - 45,000",2,"Concrete with USP",3,"Soft",4,"< 300",2,"Poor",2,"Poor","40 to 50",40,50,-6,0.21383999999999997,0,-23.958000000000006,0,-25,20]
[null,"1323422-50",1536,1,"<130mph",3,"30,000 - 45,000",2,"Concrete with USP",3,"Soft",4,"< 300",2,"Poor",2,"Poor","Above 50",50,1000,-6,0.21383999999999997,0,-26.620000000000008,-0.5,-25,20]
[null,"1222111-0",1537,1,"<130mph",2,"15,000 - 30,000",2,"Concrete with USP",2,"Medium",1,"> 600",1,"Good",1,"Good","0 to 10",0,10,-6,5.5384615384615386E-2,0,-7.5,0,-12,50]
[null,{"$f":"D1556&F1556&H1556&J1556&L1556&N1556&P1556&\"-\"&S1556","v":"1222111-10"},1538,1,"<130mph",2,"15,000 - 30,000",2,"Concrete with USP",2,"Medium",1,"> 600",1,"Good",1,"Good","10 to 20",10,20,-6,4.1538461538461538E-2,0,-8,0,-15,50]
[null,"1222111-20",1539,1,"<130mph",2,"15,000 - 30,000",2,"Concrete with USP",2,"Medium",1,"> 600",1,"Good",1,"Good","20 to 30",20,30,-6,5.0769230769230775E-2,0,-12,0,-20,50]
[null,"1222111-30",1540,1,"<130mph",2,"15,000 - 30,000",2,"Concrete with USP",2,"Medium",1,"> 600",1,"Good",1,"Good","30 to 40",30,40,-6,5.5384615384615386E-2,0,-15,0,-25,50]
[null,"1222111-40",1541,1,"<130mph",2,"15,000 - 30,000",2,"Concrete with USP",2,"Medium",1,"> 600",1,"Good",1,"Good","40 to 50",40,50,-6,6.0000000000000005E-2,0,-18,0,-25,50]
[null,"1222111-50",1542,1,"<130mph",2,"15,000 - 30,000",2,"Concrete with USP",2,"Medium",1,"> 600",1,"Good",1,"Good","Above 50",50,1000,-6,6.0000000000000005E-2,0,-20,-0.5,-25,50]
[null,"1221111-0",1543,1,"<130mph",2,"15,000 - 30,000",2,"Concrete with USP",1,"Hard",1,"> 600",1,"Good",1,"Good","0 to 10",0,10,-6,3.8769230769230771E-2,0,-6.75,0,-12,50]
[null,"1221111-10",1544,1,"<130mph",2,"15,000 - 30,000",2,"Concrete with USP",1,"Hard",1,"> 600",1,"Good",1,"Good","10 to 20",10,20,-6,2.9076923076923077E-2,0,-7.2,0,-15,50]
[null,"1221111-20",1545,1,"<130mph",2,"15,000 - 30,000",2,"Concrete with USP",1,"Hard",1,"> 600",1,"Good",1,"Good","20 to 30",20,30,-6,3.553846153846154E-2,0,-10.8,0,-20,50]
[null,"1221111-30",1546,1,"<130mph",2,"15,000 - 30,000",2,"Concrete with USP",1,"Hard",1,"> 600",1,"Good",1,"Good","30 to 40",30,40,-6,3.8769230769230771E-2,0,-13.5,0,-25,50]
[null,"1221111-40",1547,1,"<130mph",2,"15,000 - 30,000",2,"Concrete with USP",1,"Hard",1,"> 600",1,"Good",1,"Good","40 to 50",40,50,-6,4.2000000000000003E-2,0,-16.2,0,-25,50]
[null,"1221111-50",1548,1,"<130mph",2,"15,000 - 30,000",2,"Concrete with USP",1,"Hard",1,"> 600",1,"Good",1,"Good","Above 50",50,1000,-6,4.2000000000000003E-2,0,-18,-0.5,-25,50]
[null,"1223111-0",1549,1,"<130mph",2,"15,000 - 30,000",2,"Concrete with USP",3,"Soft",1,"> 600",1,"Good",1,"Good","0 to 10",0,10,-6,6.6461538461538461E-2,0,-8.25,0,-12,50]
[null,"1223111-10",1550,1,"<130mph",2,"15,000 - 30,000",2,"Concrete with USP",3,"Soft",1,"> 600",1,"Good",1,"Good","10 to 20",10,20,-6,4.9846153846153846E-2,0,-8.8000000000000007,0,-15,50]
[null,"1223111-20",1551,1,"<130mph",2,"15,000 - 30,000",2,"Concrete with USP",3,"Soft",1,"> 600",1,"Good",1,"Good","20 to 30",20,30,-6,6.0923076923076927E-2,0,-13.200000000000001,0,-20,50]
[null,"1223111-30",1552,1,"<130mph",2,"15,000 - 30,000",2,"Concrete with USP",3,"Soft",1,"> 600",1,"Good",1,"Good","30 to 40",30,40,-6,6.6461538461538461E-2,0,-16.5,0,-25,50]
[null,"1223111-40",1553,1,"<130mph",2,"15,000 - 30,000",2,"Concrete with USP",3,"Soft",1,"> 600",1,"Good",1,"Good","40 to 50",40,50,-6,7.2000000000000008E-2,0,-19.8,0,-25,50]
[null,"1223111-50",1554,1,"<130mph",2,"15,000 - 30,000",2,"Concrete with USP",3,"Soft",1,"> 600",1,"Good",1,"Good","Above 50",50,1000,-6,7.2000000000000008E-2,0,-22,-0.5,-25,50]
[null,"1222121-0",1555,1,"<130mph",2,"15,000 - 30,000",2,"Concrete with USP",2,"Medium",1,"> 600",2,"Poor",1,"Good","0 to 10",0,10,-6,5.5384615384615386E-2,0,-7.5,0,-12,50]
[null,"1222121-10",1556,1,"<130mph",2,"15,000 - 30,000",2,"Concrete with USP",2,"Medium",1,"> 600",2,"Poor",1,"Good","10 to 20",10,20,-6,4.9846153846153846E-2,0,-8.8000000000000007,0,-15,50]
[null,"1222121-20",1557,1,"<130mph",2,"15,000 - 30,000",2,"Concrete with USP",2,"Medium",1,"> 600",2,"Poor",1,"Good","20 to 30",20,30,-6,6.0923076923076927E-2,0,-13.200000000000001,0,-20,50]
[null,"1222121-30",1558,1,"<130mph",2,"15,000 - 30,000",2,"Concrete with USP",2,"Medium",1,"> 600",2,"Poor",1,"Good","30 to 40",30,40,-6,6.6461538461538461E-2,0,-16.5,0,-25,50]
[null,"1222121-40",1559,1,"<130mph",2,"15,000 - 30,000",2,"Concrete with USP",2,"Medium",1,"> 600",2,"Poor",1,"Good","40 to 50",40,50,-6,7.2000000000000008E-2,0,-19.8,0,-25,50]
[null,"1222121-50",1560,1,"<130mph",2,"15,000 - 30,000",2,"Concrete with USP",2,"Medium",1,"> 600",2,"Poor",1,"Good","Above 50",50,1000,-6,7.2000000000000008E-2,0,-22,-0.5,-25,50]
[null,"1221121-0",1561,1,"<130mph",2,"15,000 - 30,000",2,"Concrete with USP",1,"Hard",1,"> 600",2,"Poor",1,"Good","0 to 10",0,10,-6,3.8769230769230771E-2,0,-6.75,0,-12,50]
[null,"1221121-10",1562,1,"<130mph",2,"15,000 - 30,000",2,"Concrete with USP",1,"Hard",1,"> 600",2,"Poor",1,"Good","10 to 20",10,20,-6,3.4892307692307695E-2,0,-7.9200000000000008,0,-15,50]
[null,"1221121-20",1563,1,"<130mph",2,"15,000 - 30,000",2,"Concrete with USP",1,"Hard",1,"> 600",2,"Poor",1,"Good","20 to 30",20,30,-6,4.2646153846153848E-2,0,-11.88,0,-20,50]
[null,"1221121-30",1564,1,"<130mph",2,"15,000 - 30,000",2,"Concrete with USP",1,"Hard",1,"> 600",2,"Poor",1,"Good","30 to 40",30,40,-6,4.6523076923076924E-2,0,-14.850000000000001,0,-25,50]
[null,"1221121-40",1565,1,"<130mph",2,"15,000 - 30,000",2,"Concrete with USP",1,"Hard",1,"> 600",2,"Poor",1,"Good","40 to 50",40,50,-6,5.0400000000000007E-2,0,-17.82,0,-25,50]
[null,"1221121-50",1566,1,"<130mph",2,"15,000 - 30,000",2,"Concrete with USP",1,"Hard",1,"> 600",2,"Poor",1,"Good","Above 50",50,1000,-6,5.0400000000000007E-2,0,-19.8,-0.5,-25,50]
[null,"1223121-0",1567,1,"<130mph",2,"15,000 - 30,000",2,"Concrete with USP",3,"Soft",1,"> 600",2,"Poor",1,"Good","0 to 10",0,10,-6,6.6461538461538461E-2,0,-8.25,0,-12,50]
[null,"1223121-10",1568,1,"<130mph",2,"15,000 - 30,000",2,"Concrete with USP",3,"Soft",1,"> 600",2,"Poor",1,"Good","10 to 20",10,20,-6,5.9815384615384611E-2,0,-9.6800000000000015,0,-15,50]
[null,"1223121-20",1569,1,"<130mph",2,"15,000 - 30,000",2,"Concrete with USP",3,"Soft",1,"> 600",2,"Poor",1,"Good","20 to 30",20,30,-6,7.3107692307692304E-2,0,-14.520000000000003,0,-20,50]
[null,"1223121-30",1570,1,"<130mph",2,"15,000 - 30,000",2,"Concrete with USP",3,"Soft",1,"> 600",2,"Poor",1,"Good","30 to 40",30,40,-6,7.9753846153846147E-2,0,-18.150000000000002,0,-25,50]
[null,"1223121-40",1571,1,"<130mph",2,"15,000 - 30,000",2,"Concrete with USP",3,"Soft",1,"> 600",2,"Poor",1,"Good","40 to 50",40,50,-6,8.6400000000000005E-2,0,-21.780000000000005,0,-25,50]
[null,"1223121-50",1572,1,"<130mph",2,"15,000 - 30,000",2,"Concrete with USP",3,"Soft",1,"> 600",2,"Poor",1,"Good","Above 50",50,1000,-6,8.6400000000000005E-2,0,-24.200000000000003,-0.5,-25,50]
[null,"1222112-0",1573,1,"<130mph",2,"15,000 - 30,000",2,"Concrete with USP",2,"Medium",1,"> 600",1,"Good",2,"Poor","0 to 10",0,10,-6,5.5384615384615386E-2,0,-7.5,0,-12,50]
[null,"1222112-10",1574,1,"<130mph",2,"15,000 - 30,000",2,"Concrete with USP",2,"Medium",1,"> 600",1,"Good",2,"Poor","10 to 20",10,20,-6,4.5692307692307699E-2,0,-8.8000000000000007,0,-15,50]
[null,"1222112-20",1575,1,"<130mph",2,"15,000 - 30,000",2,"Concrete with USP",2,"Medium",1,"> 600",1,"Good",2,"Poor","20 to 30",20,30,-6,5.5846153846153858E-2,0,-13.200000000000001,0,-20,50]
[null,"1222112-30",1576,1,"<130mph",2,"15,000 - 30,000",2,"Concrete with USP",2,"Medium",1,"> 600",1,"Good",2,"Poor","30 to 40",30,40,-6,6.0923076923076934E-2,0,-16.5,0,-25,50]
[null,"1222112-40",1577,1,"<130mph",2,"15,000 - 30,000",2,"Concrete with USP",2,"Medium",1,"> 600",1,"Good",2,"Poor","40 to 50",40,50,-6,6.6000000000000017E-2,0,-19.8,0,-25,50]
[null,"1222112-50",1578,1,"<130mph",2,"15,000 - 30,000",2,"Concrete with USP",2,"Medium",1,"> 600",1,"Good",2,"Poor","Above 50",50,1000,-6,6.6000000000000017E-2,0,-22,-0.5,-25,50]
[null,"1221112-0",1579,1,"<130mph",2,"15,000 - 30,000",2,"Concrete with USP",1,"Hard",1,"> 600",1,"Good",2,"Poor","0 to 10",0,10,-6,3.8769230769230771E-2,0,-6.75,0,-12,50]
[null,"1221112-10",1580,1,"<130mph",2,"15,000 - 30,000",2,"Concrete with USP",1,"Hard",1,"> 600",1,"Good",2,"Poor","10 to 20",10,20,-6,3.1984615384615389E-2,0,-7.9200000000000008,0,-15,50]
[null,"1221112-20",1581,1,"<130mph",2,"15,000 - 30,000",2,"Concrete with USP",1,"Hard",1,"> 600",1,"Good",2,"Poor","20 to 30",20,30,-6,3.9092307692307697E-2,0,-11.88,0,-20,50]
[null,"1221112-30",1582,1,"<130mph",2,"15,000 - 30,000",2,"Concrete with USP",1,"Hard",1,"> 600",1,"Good",2,"Poor","30 to 40",30,40,-6,4.2646153846153848E-2,0,-14.850000000000001,0,-25,50]
[null,"1221112-40",1583,1,"<130mph",2,"15,000 - 30,000",2,"Concrete with USP",1,"Hard",1,"> 600",1,"Good",2,"Poor","40 to 50",40,50,-6,4.6200000000000005E-2,0,-17.82,0,-25,50]
[null,"1221112-50",1584,1,"<130mph",2,"15,000 - 30,000",2,"Concrete with USP",1,"Hard",1,"> 600",1,"Good",2,"Poor","Above 50",50,1000,-6,4.6200000000000005E-2,0,-19.8,-0.5,-25,50]
[null,"1223112-0",1585,1,"<130mph",2,"15,000 - 30,000",2,"Concrete with USP",3,"Soft",1,"> 600",1,"Good",2,"Poor","0 to 10",0,10,-6,6.6461538461538461E-2,0,-8.25,0,-12,50]
[null,"1223112-10",1586,1,"<130mph",2,"15,000 - 30,000",2,"Concrete with USP",3,"Soft",1,"> 600",1,"Good",2,"Poor","10 to 20",10,20,-6,5.4830769230769232E-2,0,-9.6800000000000015,0,-15,50]
[null,"1223112-20",1587,1,"<130mph",2,"15,000 - 30,000",2,"Concrete with USP",3,"Soft",1,"> 600",1,"Good",2,"Poor","20 to 30",20,30,-6,6.7015384615384616E-2,0,-14.520000000000003,0,-20,50]
[null,"1223112-30",1588,1,"<130mph",2,"15,000 - 30,000",2,"Concrete with USP",3,"Soft",1,"> 600",1,"Good",2,"Poor","30 to 40",30,40,-6,7.3107692307692304E-2,0,-18.150000000000002,0,-25,50]
[null,"1223112-40",1589,1,"<130mph",2,"15,000 - 30,000",2,"Concrete with USP",3,"Soft",1,"> 600",1,"Good",2,"Poor","40 to 50",40,50,-6,7.9200000000000007E-2,0,-21.780000000000005,0,-25,50]
[null,"1223112-50",1590,1,"<130mph",2,"15,000 - 30,000",2,"Concrete with USP",3,"Soft",1,"> 600",1,"Good",2,"Poor","Above 50",50,1000,-6,7.9200000000000007E-2,0,-24.200000000000003,-0.5,-25,50]
[null,"1222122-0",1591,1,"<130mph",2,"15,000 - 30,000",2,"Concrete with USP",2,"Medium",1,"> 600",2,"Poor",2,"Poor","0 to 10",0,10,-6,5.5384615384615386E-2,0,-7.5,0,-12,50]
[null,"1222122-10",1592,1,"<130mph",2,"15,000 - 30,000",2,"Concrete with USP",2,"Medium",1,"> 600",2,"Poor",2,"Poor","10 to 20",10,20,-6,5.4830769230769232E-2,0,-9.6800000000000015,0,-15,50]
[null,"1222122-20",1593,1,"<130mph",2,"15,000 - 30,000",2,"Concrete with USP",2,"Medium",1,"> 600",2,"Poor",2,"Poor","20 to 30",20,30,-6,6.7015384615384616E-2,0,-14.520000000000003,0,-20,50]
[null,"1222122-30",1594,1,"<130mph",2,"15,000 - 30,000",2,"Concrete with USP",2,"Medium",1,"> 600",2,"Poor",2,"Poor","30 to 40",30,40,-6,7.3107692307692304E-2,0,-18.150000000000002,0,-25,50]
[null,"1222122-40",1595,1,"<130mph",2,"15,000 - 30,000",2,"Concrete with USP",2,"Medium",1,"> 600",2,"Poor",2,"Poor","40 to 50",40,50,-6,7.9200000000000007E-2,0,-21.780000000000005,0,-25,50]
[null,"1222122-50",1596,1,"<130mph",2,"15,000 - 30,000",2,"Concrete with USP",2,"Medium",1,"> 600",2,"Poor",2,"Poor","Above 50",50,1000,-6,7.9200000000000007E-2,0,-24.200000000000003,-0.5,-25,50]
[null,"1221122-0",1597,1,"<130mph",2,"15,000 - 30,000",2,"Concrete with USP",1,"Hard",1,"> 600",2,"Poor",2,"Poor","0 to 10",0,10,-6,3.8769230769230771E-2,0,-6.75,0,-12,50]
[null,"1221122-10",1598,1,"<130mph",2,"15,000 - 30,000",2,"Concrete with USP",1,"Hard",1,"> 600",2,"Poor",2,"Poor","10 to 20",10,20,-6,3.8381538461538467E-2,0,-8.7120000000000015,0,-15,50]
[null,"1221122-20",1599,1,"<130mph",2,"15,000 - 30,000",2,"Concrete with USP",1,"Hard",1,"> 600",2,"Poor",2,"Poor","20 to 30",20,30,-6,4.6910769230769235E-2,0,-13.068000000000001,0,-20,50]
[null,"1221122-30",1600,1,"<130mph",2,"15,000 - 30,000",2,"Concrete with USP",1,"Hard",1,"> 600",2,"Poor",2,"Poor","30 to 40",30,40,-6,5.1175384615384616E-2,0,-16.335000000000004,0,-25,50]
[null,"1221122-40",1601,1,"<130mph",2,"15,000 - 30,000",2,"Concrete with USP",1,"Hard",1,"> 600",2,"Poor",2,"Poor","40 to 50",40,50,-6,5.544000000000001E-2,0,-19.602000000000004,0,-25,50]
[null,{"$f":"D1620&F1620&H1620&J1620&L1620&N1620&P1620&\"-\"&S1620","v":"1221122-50"},1602,1,"<130mph",2,"15,000 - 30,000",2,"Concrete with USP",1,"Hard",1,"> 600",2,"Poor",2,"Poor","Above 50",50,1000,-6,5.544000000000001E-2,0,-21.780000000000005,-0.5,-25,50]
[null,"1223122-0",1603,1,"<130mph",2,"15,000 - 30,000",2,"Concrete with USP",3,"Soft",1,"> 600",2,"Poor",2,"Poor","0 to 10",0,10,-6,6.6461538461538461E-2,0,-8.25,0,-12,50]
[null,"1223122-10",1604,1,"<130mph",2,"15,000 - 30,000",2,"Concrete with USP",3,"Soft",1,"> 600",2,"Poor",2,"Poor","10 to 20",10,20,-6,6.5796923076923086E-2,0,-10.648000000000003,0,-15,50]
[null,"1223122-20",1605,1,"<130mph",2,"15,000 - 30,000",2,"Concrete with USP",3,"Soft",1,"> 600",2,"Poor",2,"Poor","20 to 30",20,30,-6,8.041846153846155E-2,0,-15.972000000000005,0,-20,50]
[null,"1223122-30",1606,1,"<130mph",2,"15,000 - 30,000",2,"Concrete with USP",3,"Soft",1,"> 600",2,"Poor",2,"Poor","30 to 40",30,40,-6,8.7729230769230782E-2,0,-19.965000000000007,0,-25,50]
[null,"1223122-40",1607,1,"<130mph",2,"15,000 - 30,000",2,"Concrete with USP",3,"Soft",1,"> 600",2,"Poor",2,"Poor","40 to 50",40,50,-6,9.5040000000000013E-2,0,-23.958000000000006,0,-25,50]
[null,"1223122-50",1608,1,"<130mph",2,"15,000 - 30,000",2,"Concrete with USP",3,"Soft",1,"> 600",2,"Poor",2,"Poor","Above 50",50,1000,-6,9.5040000000000013E-2,0,-26.620000000000008,-0.5,-25,50]
[null,"1222211-0",1609,1,"<130mph",2,"15,000 - 30,000",2,"Concrete with USP",2,"Medium",2,"400 < R < 600",1,"Good",1,"Good","0 to 10",0,10,-6,6.0923076923076934E-2,0,-7.5,0,-12,50]
[null,"1222211-10",1610,1,"<130mph",2,"15,000 - 30,000",2,"Concrete with USP",2,"Medium",2,"400 < R < 600",1,"Good",1,"Good","10 to 20",10,20,-6,4.5692307692307699E-2,0,-8,0,-15,50]
[null,"1222211-20",1611,1,"<130mph",2,"15,000 - 30,000",2,"Concrete with USP",2,"Medium",2,"400 < R < 600",1,"Good",1,"Good","20 to 30",20,30,-6,5.5846153846153858E-2,0,-12,0,-20,50]
[null,"1222211-30",1612,1,"<130mph",2,"15,000 - 30,000",2,"Concrete with USP",2,"Medium",2,"400 < R < 600",1,"Good",1,"Good","30 to 40",30,40,-6,6.0923076923076934E-2,0,-15,0,-25,50]
[null,"1222211-40",1613,1,"<130mph",2,"15,000 - 30,000",2,"Concrete with USP",2,"Medium",2,"400 < R < 600",1,"Good",1,"Good","40 to 50",40,50,-6,6.6000000000000017E-2,0,-18,0,-25,50]
[null,"1222211-50",1614,1,"<130mph",2,"15,000 - 30,000",2,"Concrete with USP",2,"Medium",2,"400 < R < 600",1,"Good",1,"Good","Above 50",50,1000,-6,6.6000000000000017E-2,0,-20,-0.5,-25,50]
[null,"1221211-0",1615,1,"<130mph",2,"15,000 - 30,000",2,"Concrete with USP",1,"Hard",2,"400 < R < 600",1,"Good",1,"Good","0 to 10",0,10,-6,4.2646153846153848E-2,0,-6.75,0,-12,50]
[null,"1221211-10",1616,1,"<130mph",2,"15,000 - 30,000",2,"Concrete with USP",1,"Hard",2,"400 < R < 600",1,"Good",1,"Good","10 to 20",10,20,-6,3.1984615384615389E-2,0,-7.2,0,-15,50]
[null,"1221211-20",1617,1,"<130mph",2,"15,000 - 30,000",2,"Concrete with USP",1,"Hard",2,"400 < R < 600",1,"Good",1,"Good","20 to 30",20,30,-6,3.9092307692307697E-2,0,-10.8,0,-20,50]
[null,"1221211-30",1618,1,"<130mph",2,"15,000 - 30,000",2,"Concrete with USP",1,"Hard",2,"400 < R < 600",1,"Good",1,"Good","30 to 40",30,40,-6,4.2646153846153848E-2,0,-13.5,0,-25,50]
[null,"1221211-40",1619,1,"<130mph",2,"15,000 - 30,000",2,"Concrete with USP",1,"Hard",2,"400 < R < 600",1,"Good",1,"Good","40 to 50",40,50,-6,4.6200000000000005E-2,0,-16.2,0,-25,50]
[null,"1221211-50",1620,1,"<130mph",2,"15,000 - 30,000",2,"Concrete with USP",1,"Hard",2,"400 < R < 600",1,"Good",1,"Good","Above 50",50,1000,-6,4.6200000000000005E-2,0,-18,-0.5,-25,50]
[null,"1223211-0",1621,1,"<130mph",2,"15,000 - 30,000",2,"Concrete with USP",3,"Soft",2,"400 < R < 600",1,"Good",1,"Good","0 to 10",0,10,-6,7.3107692307692304E-2,0,-8.25,0,-12,50]
[null,"1223211-10",1622,1,"<130mph",2,"15,000 - 30,000",2,"Concrete with USP",3,"Soft",2,"400 < R < 600",1,"Good",1,"Good","10 to 20",10,20,-6,5.4830769230769232E-2,0,-8.8000000000000007,0,-15,50]
[null,"1223211-20",1623,1,"<130mph",2,"15,000 - 30,000",2,"Concrete with USP",3,"Soft",2,"400 < R < 600",1,"Good",1,"Good","20 to 30",20,30,-6,6.7015384615384616E-2,0,-13.200000000000001,0,-20,50]
[null,"1223211-30",1624,1,"<130mph",2,"15,000 - 30,000",2,"Concrete with USP",3,"Soft",2,"400 < R < 600",1,"Good",1,"Good","30 to 40",30,40,-6,7.3107692307692304E-2,0,-16.5,0,-25,50]
[null,"1223211-40",1625,1,"<130mph",2,"15,000 - 30,000",2,"Concrete with USP",3,"Soft",2,"400 < R < 600",1,"Good",1,"Good","40 to 50",40,50,-6,7.9200000000000007E-2,0,-19.8,0,-25,50]
[null,"1223211-50",1626,1,"<130mph",2,"15,000 - 30,000",2,"Concrete with USP",3,"Soft",2,"400 < R < 600",1,"Good",1,"Good","Above 50",50,1000,-6,7.9200000000000007E-2,0,-22,-0.5,-25,50]
[null,"1222221-0",1627,1,"<130mph",2,"15,000 - 30,000",2,"Concrete with USP",2,"Medium",2,"400 < R < 600",2,"Poor",1,"Good","0 to 10",0,10,-6,6.0923076923076934E-2,0,-7.5,0,-12,50]
[null,"1222221-10",1628,1,"<130mph",2,"15,000 - 30,000",2,"Concrete with USP",2,"Medium",2,"400 < R < 600",2,"Poor",1,"Good","10 to 20",10,20,-6,5.4830769230769232E-2,0,-8.8000000000000007,0,-15,50]
[null,"1222221-20",1629,1,"<130mph",2,"15,000 - 30,000",2,"Concrete with USP",2,"Medium",2,"400 < R < 600",2,"Poor",1,"Good","20 to 30",20,30,-6,6.7015384615384616E-2,0,-13.200000000000001,0,-20,50]
[null,"1222221-30",1630,1,"<130mph",2,"15,000 - 30,000",2,"Concrete with USP",2,"Medium",2,"400 < R < 600",2,"Poor",1,"Good","30 to 40",30,40,-6,7.3107692307692304E-2,0,-16.5,0,-25,50]
[null,"1222221-40",1631,1,"<130mph",2,"15,000 - 30,000",2,"Concrete with USP",2,"Medium",2,"400 < R < 600",2,"Poor",1,"Good","40 to 50",40,50,-6,7.9200000000000007E-2,0,-19.8,0,-25,50]
[null,"1222221-50",1632,1,"<130mph",2,"15,000 - 30,000",2,"Concrete with USP",2,"Medium",2,"400 < R < 600",2,"Poor",1,"Good","Above 50",50,1000,-6,7.9200000000000007E-2,0,-22,-0.5,-25,50]
[null,"1221221-0",1633,1,"<130mph",2,"15,000 - 30,000",2,"Concrete with USP",1,"Hard",2,"400 < R < 600",2,"Poor",1,"Good","0 to 10",0,10,-6,4.2646153846153848E-2,0,-6.75,0,-12,50]
[null,"1221221-10",1634,1,"<130mph",2,"15,000 - 30,000",2,"Concrete with USP",1,"Hard",2,"400 < R < 600",2,"Poor",1,"Good","10 to 20",10,20,-6,3.838153846153846E-2,0,-7.9200000000000008,0,-15,50]
[null,"1221221-20",1635,1,"<130mph",2,"15,000 - 30,000",2,"Concrete with USP",1,"Hard",2,"400 < R < 600",2,"Poor",1,"Good","20 to 30",20,30,-6,4.6910769230769228E-2,0,-11.88,0,-20,50]
[null,"1221221-30",1636,1,"<130mph",2,"15,000 - 30,000",2,"Concrete with USP",1,"Hard",2,"400 < R < 600",2,"Poor",1,"Good","30 to 40",30,40,-6,5.1175384615384609E-2,0,-14.850000000000001,0,-25,50]
[null,"1221221-40",1637,1,"<130mph",2,"15,000 - 30,000",2,"Concrete with USP",1,"Hard",2,"400 < R < 600",2,"Poor",1,"Good","40 to 50",40,50,-6,5.5440000000000003E-2,0,-17.82,0,-25,50]
[null,"1221221-50",1638,1,"<130mph",2,"15,000 - 30,000",2,"Concrete with USP",1,"Hard",2,"400 < R < 600",2,"Poor",1,"Good","Above 50",50,1000,-6,5.5440000000000003E-2,0,-19.8,-0.5,-25,50]
[null,"1223221-0",1639,1,"<130mph",2,"15,000 - 30,000",2,"Concrete with USP",3,"Soft",2,"400 < R < 600",2,"Poor",1,"Good","0 to 10",0,10,-6,7.3107692307692304E-2,0,-8.25,0,-12,50]
[null,"1223221-10",1640,1,"<130mph",2,"15,000 - 30,000",2,"Concrete with USP",3,"Soft",2,"400 < R < 600",2,"Poor",1,"Good","10 to 20",10,20,-6,6.5796923076923086E-2,0,-9.6800000000000015,0,-15,50]
[null,"1223221-20",1641,1,"<130mph",2,"15,000 - 30,000",2,"Concrete with USP",3,"Soft",2,"400 < R < 600",2,"Poor",1,"Good","20 to 30",20,30,-6,8.041846153846155E-2,0,-14.520000000000003,0,-20,50]
[null,"1223221-30",1642,1,"<130mph",2,"15,000 - 30,000",2,"Concrete with USP",3,"Soft",2,"400 < R < 600",2,"Poor",1,"Good","30 to 40",30,40,-6,8.7729230769230782E-2,0,-18.150000000000002,0,-25,50]
[null,"1223221-40",1643,1,"<130mph",2,"15,000 - 30,000",2,"Concrete with USP",3,"Soft",2,"400 < R < 600",2,"Poor",1,"Good","40 to 50",40,50,-6,9.5040000000000013E-2,0,-21.780000000000005,0,-25,50]
[null,"1223221-50",1644,1,"<130mph",2,"15,000 - 30,000",2,"Concrete with USP",3,"Soft",2,"400 < R < 600",2,"Poor",1,"Good","Above 50",50,1000,-6,9.5040000000000013E-2,0,-24.200000000000003,-0.5,-25,50]
[null,"1222212-0",1645,1,"<130mph",2,"15,000 - 30,000",2,"Concrete with USP",2,"Medium",2,"400 < R < 600",1,"Good",2,"Poor","0 to 10",0,10,-6,6.0923076923076934E-2,0,-7.5,0,-12,50]
[null,"1222212-10",1646,1,"<130mph",2,"15,000 - 30,000",2,"Concrete with USP",2,"Medium",2,"400 < R < 600",1,"Good",2,"Poor","10 to 20",10,20,-6,5.0261538461538469E-2,0,-8.8000000000000007,0,-15,50]
[null,"1222212-20",1647,1,"<130mph",2,"15,000 - 30,000",2,"Concrete with USP",2,"Medium",2,"400 < R < 600",1,"Good",2,"Poor","20 to 30",20,30,-6,6.143076923076924E-2,0,-13.200000000000001,0,-20,50]
[null,"1222212-30",1648,1,"<130mph",2,"15,000 - 30,000",2,"Concrete with USP",2,"Medium",2,"400 < R < 600",1,"Good",2,"Poor","30 to 40",30,40,-6,6.7015384615384629E-2,0,-16.5,0,-25,50]
[null,"1222212-40",1649,1,"<130mph",2,"15,000 - 30,000",2,"Concrete with USP",2,"Medium",2,"400 < R < 600",1,"Good",2,"Poor","40 to 50",40,50,-6,7.2600000000000012E-2,0,-19.8,0,-25,50]
[null,"1222212-50",1650,1,"<130mph",2,"15,000 - 30,000",2,"Concrete with USP",2,"Medium",2,"400 < R < 600",1,"Good",2,"Poor","Above 50",50,1000,-6,7.2600000000000012E-2,0,-22,-0.5,-25,50]
[null,"1221212-0",1651,1,"<130mph",2,"15,000 - 30,000",2,"Concrete with USP",1,"Hard",2,"400 < R < 600",1,"Good",2,"Poor","0 to 10",0,10,-6,4.2646153846153848E-2,0,-6.75,0,-12,50]
[null,"1221212-10",1652,1,"<130mph",2,"15,000 - 30,000",2,"Concrete with USP",1,"Hard",2,"400 < R < 600",1,"Good",2,"Poor","10 to 20",10,20,-6,3.5183076923076928E-2,0,-7.9200000000000008,0,-15,50]
[null,"1221212-20",1653,1,"<130mph",2,"15,000 - 30,000",2,"Concrete with USP",1,"Hard",2,"400 < R < 600",1,"Good",2,"Poor","20 to 30",20,30,-6,4.3001538461538466E-2,0,-11.88,0,-20,50]
[null,"1221212-30",1654,1,"<130mph",2,"15,000 - 30,000",2,"Concrete with USP",1,"Hard",2,"400 < R < 600",1,"Good",2,"Poor","30 to 40",30,40,-6,4.6910769230769235E-2,0,-14.850000000000001,0,-25,50]
[null,"1221212-40",1655,1,"<130mph",2,"15,000 - 30,000",2,"Concrete with USP",1,"Hard",2,"400 < R < 600",1,"Good",2,"Poor","40 to 50",40,50,-6,5.0820000000000011E-2,0,-17.82,0,-25,50]
[null,"1221212-50",1656,1,"<130mph",2,"15,000 - 30,000",2,"Concrete with USP",1,"Hard",2,"400 < R < 600",1,"Good",2,"Poor","Above 50",50,1000,-6,5.0820000000000011E-2,0,-19.8,-0.5,-25,50]
[null,"1223212-0",1657,1,"<130mph",2,"15,000 - 30,000",2,"Concrete with USP",3,"Soft",2,"400 < R < 600",1,"Good",2,"Poor","0 to 10",0,10,-6,7.3107692307692304E-2,0,-8.25,0,-12,50]
[null,"1223212-10",1658,1,"<130mph",2,"15,000 - 30,000",2,"Concrete with USP",3,"Soft",2,"400 < R < 600",1,"Good",2,"Poor","10 to 20",10,20,-6,6.0313846153846169E-2,0,-9.6800000000000015,0,-15,50]
[null,"1223212-20",1659,1,"<130mph",2,"15,000 - 30,000",2,"Concrete with USP",3,"Soft",2,"400 < R < 600",1,"Good",2,"Poor","20 to 30",20,30,-6,7.3716923076923097E-2,0,-14.520000000000003,0,-20,50]
[null,"1223212-30",1660,1,"<130mph",2,"15,000 - 30,000",2,"Concrete with USP",3,"Soft",2,"400 < R < 600",1,"Good",2,"Poor","30 to 40",30,40,-6,8.041846153846155E-2,0,-18.150000000000002,0,-25,50]
[null,"1223212-40",1661,1,"<130mph",2,"15,000 - 30,000",2,"Concrete with USP",3,"Soft",2,"400 < R < 600",1,"Good",2,"Poor","40 to 50",40,50,-6,8.7120000000000031E-2,0,-21.780000000000005,0,-25,50]
[null,"1223212-50",1662,1,"<130mph",2,"15,000 - 30,000",2,"Concrete with USP",3,"Soft",2,"400 < R < 600",1,"Good",2,"Poor","Above 50",50,1000,-6,8.7120000000000031E-2,0,-24.200000000000003,-0.5,-25,50]
[null,"1222222-0",1663,1,"<130mph",2,"15,000 - 30,000",2,"Concrete with USP",2,"Medium",2,"400 < R < 600",2,"Poor",2,"Poor","0 to 10",0,10,-6,6.0923076923076934E-2,0,-7.5,0,-12,50]
[null,"1222222-10",1664,1,"<130mph",2,"15,000 - 30,000",2,"Concrete with USP",2,"Medium",2,"400 < R < 600",2,"Poor",2,"Poor","10 to 20",10,20,-6,6.0313846153846169E-2,0,-9.6800000000000015,0,-15,50]
[null,"1222222-20",1665,1,"<130mph",2,"15,000 - 30,000",2,"Concrete with USP",2,"Medium",2,"400 < R < 600",2,"Poor",2,"Poor","20 to 30",20,30,-6,7.3716923076923097E-2,0,-14.520000000000003,0,-20,50]
[null,{"$f":"D1684&F1684&H1684&J1684&L1684&N1684&P1684&\"-\"&S1684","v":"1222222-30"},1666,1,"<130mph",2,"15,000 - 30,000",2,"Concrete with USP",2,"Medium",2,"400 < R < 600",2,"Poor",2,"Poor","30 to 40",30,40,-6,8.041846153846155E-2,0,-18.150000000000002,0,-25,50]
[null,"1222222-40",1667,1,"<130mph",2,"15,000 - 30,000",2,"Concrete with USP",2,"Medium",2,"400 < R < 600",2,"Poor",2,"Poor","40 to 50",40,50,-6,8.7120000000000031E-2,0,-21.780000000000005,0,-25,50]
[null,"1222222-50",1668,1,"<130mph",2,"15,000 - 30,000",2,"Concrete with USP",2,"Medium",2,"400 < R < 600",2,"Poor",2,"Poor","Above 50",50,1000,-6,8.7120000000000031E-2,0,-24.200000000000003,-0.5,-25,50]
[null,"1221222-0",1669,1,"<130mph",2,"15,000 - 30,000",2,"Concrete with USP",1,"Hard",2,"400 < R < 600",2,"Poor",2,"Poor","0 to 10",0,10,-6,4.2646153846153848E-2,0,-6.75,0,-12,50]
[null,"1221222-10",1670,1,"<130mph",2,"15,000 - 30,000",2,"Concrete with USP",1,"Hard",2,"400 < R < 600",2,"Poor",2,"Poor","10 to 20",10,20,-6,4.2219692307692305E-2,0,-8.7120000000000015,0,-15,50]
[null,"1221222-20",1671,1,"<130mph",2,"15,000 - 30,000",2,"Concrete with USP",1,"Hard",2,"400 < R < 600",2,"Poor",2,"Poor","20 to 30",20,30,-6,5.1601846153846158E-2,0,-13.068000000000001,0,-20,50]
[null,"1221222-30",1672,1,"<130mph",2,"15,000 - 30,000",2,"Concrete with USP",1,"Hard",2,"400 < R < 600",2,"Poor",2,"Poor","30 to 40",30,40,-6,5.6292923076923081E-2,0,-16.335000000000004,0,-25,50]
[null,"1221222-40",1673,1,"<130mph",2,"15,000 - 30,000",2,"Concrete with USP",1,"Hard",2,"400 < R < 600",2,"Poor",2,"Poor","40 to 50",40,50,-6,6.0984000000000003E-2,0,-19.602000000000004,0,-25,50]
[null,"1221222-50",1674,1,"<130mph",2,"15,000 - 30,000",2,"Concrete with USP",1,"Hard",2,"400 < R < 600",2,"Poor",2,"Poor","Above 50",50,1000,-6,6.0984000000000003E-2,0,-21.780000000000005,-0.5,-25,50]
[null,"1223222-0",1675,1,"<130mph",2,"15,000 - 30,000",2,"Concrete with USP",3,"Soft",2,"400 < R < 600",2,"Poor",2,"Poor","0 to 10",0,10,-6,7.3107692307692304E-2,0,-8.25,0,-12,50]
[null,"1223222-10",1676,1,"<130mph",2,"15,000 - 30,000",2,"Concrete with USP",3,"Soft",2,"400 < R < 600",2,"Poor",2,"Poor","10 to 20",10,20,-6,7.2376615384615386E-2,0,-10.648000000000003,0,-15,50]
[null,"1223222-20",1677,1,"<130mph",2,"15,000 - 30,000",2,"Concrete with USP",3,"Soft",2,"400 < R < 600",2,"Poor",2,"Poor","20 to 30",20,30,-6,8.8460307692307699E-2,0,-15.972000000000005,0,-20,50]
[null,"1223222-30",1678,1,"<130mph",2,"15,000 - 30,000",2,"Concrete with USP",3,"Soft",2,"400 < R < 600",2,"Poor",2,"Poor","30 to 40",30,40,-6,9.6502153846153862E-2,0,-19.965000000000007,0,-25,50]
[null,"1223222-40",1679,1,"<130mph",2,"15,000 - 30,000",2,"Concrete with USP",3,"Soft",2,"400 < R < 600",2,"Poor",2,"Poor","40 to 50",40,50,-6,0.10454400000000001,0,-23.958000000000006,0,-25,50]
[null,"1223222-50",1680,1,"<130mph",2,"15,000 - 30,000",2,"Concrete with USP",3,"Soft",2,"400 < R < 600",2,"Poor",2,"Poor","Above 50",50,1000,-6,0.10454400000000001,0,-26.620000000000008,-0.5,-25,50]
[null,"1222311-0",1681,1,"<130mph",2,"15,000 - 30,000",2,"Concrete with USP",2,"Medium",3,"300 < R < 400",1,"Good",1,"Good","0 to 10",0,10,-6,6.0923076923076934E-2,0,-7.5,0,-12,25]
[null,"1222311-10",1682,1,"<130mph",2,"15,000 - 30,000",2,"Concrete with USP",2,"Medium",3,"300 < R < 400",1,"Good",1,"Good","10 to 20",10,20,-6,4.5692307692307699E-2,0,-8,0,-15,25]
[null,"1222311-20",1683,1,"<130mph",2,"15,000 - 30,000",2,"Concrete with USP",2,"Medium",3,"300 < R < 400",1,"Good",1,"Good","20 to 30",20,30,-6,5.5846153846153858E-2,0,-12,0,-20,25]
[null,"1222311-30",1684,1,"<130mph",2,"15,000 - 30,000",2,"Concrete with USP",2,"Medium",3,"300 < R < 400",1,"Good",1,"Good","30 to 40",30,40,-6,6.0923076923076934E-2,0,-15,0,-25,25]
[null,"1222311-40",1685,1,"<130mph",2,"15,000 - 30,000",2,"Concrete with USP",2,"Medium",3,"300 < R < 400",1,"Good",1,"Good","40 to 50",40,50,-6,6.6000000000000017E-2,0,-18,0,-25,25]
[null,"1222311-50",1686,1,"<130mph",2,"15,000 - 30,000",2,"Concrete with USP",2,"Medium",3,"300 < R < 400",1,"Good",1,"Good","Above 50",50,1000,-6,6.6000000000000017E-2,0,-20,-0.5,-25,25]
[null,"1221311-0",1687,1,"<130mph",2,"15,000 - 30,000",2,"Concrete with USP",1,"Hard",3,"300 < R < 400",1,"Good",1,"Good","0 to 10",0,10,-6,4.2646153846153848E-2,0,-6.75,0,-12,25]
[null,"1221311-10",1688,1,"<130mph",2,"15,000 - 30,000",2,"Concrete with USP",1,"Hard",3,"300 < R < 400",1,"Good",1,"Good","10 to 20",10,20,-6,3.1984615384615389E-2,0,-7.2,0,-15,25]
[null,"1221311-20",1689,1,"<130mph",2,"15,000 - 30,000",2,"Concrete with USP",1,"Hard",3,"300 < R < 400",1,"Good",1,"Good","20 to 30",20,30,-6,3.9092307692307697E-2,0,-10.8,0,-20,25]
[null,"1221311-30",1690,1,"<130mph",2,"15,000 - 30,000",2,"Concrete with USP",1,"Hard",3,"300 < R < 400",1,"Good",1,"Good","30 to 40",30,40,-6,4.2646153846153848E-2,0,-13.5,0,-25,25]
[null,"1221311-40",1691,1,"<130mph",2,"15,000 - 30,000",2,"Concrete with USP",1,"Hard",3,"300 < R < 400",1,"Good",1,"Good","40 to 50",40,50,-6,4.6200000000000005E-2,0,-16.2,0,-25,25]
[null,"1221311-50",1692,1,"<130mph",2,"15,000 - 30,000",2,"Concrete with USP",1,"Hard",3,"300 < R < 400",1,"Good",1,"Good","Above 50",50,1000,-6,4.6200000000000005E-2,0,-18,-0.5,-25,25]
[null,"1223311-0",1693,1,"<130mph",2,"15,000 - 30,000",2,"Concrete with USP",3,"Soft",3,"300 < R < 400",1,"Good",1,"Good","0 to 10",0,10,-6,7.3107692307692304E-2,0,-8.25,0,-12,25]
[null,"1223311-10",1694,1,"<130mph",2,"15,000 - 30,000",2,"Concrete with USP",3,"Soft",3,"300 < R < 400",1,"Good",1,"Good","10 to 20",10,20,-6,5.4830769230769232E-2,0,-8.8000000000000007,0,-15,25]
[null,"1223311-20",1695,1,"<130mph",2,"15,000 - 30,000",2,"Concrete with USP",3,"Soft",3,"300 < R < 400",1,"Good",1,"Good","20 to 30",20,30,-6,6.7015384615384616E-2,0,-13.200000000000001,0,-20,25]
[null,"1223311-30",1696,1,"<130mph",2,"15,000 - 30,000",2,"Concrete with USP",3,"Soft",3,"300 < R < 400",1,"Good",1,"Good","30 to 40",30,40,-6,7.3107692307692304E-2,0,-16.5,0,-25,25]
[null,"1223311-40",1697,1,"<130mph",2,"15,000 - 30,000",2,"Concrete with USP",3,"Soft",3,"300 < R < 400",1,"Good",1,"Good","40 to 50",40,50,-6,7.9200000000000007E-2,0,-19.8,0,-25,25]
[null,"1223311-50",1698,1,"<130mph",2,"15,000 - 30,000",2,"Concrete with USP",3,"Soft",3,"300 < R < 400",1,"Good",1,"Good","Above 50",50,1000,-6,7.9200000000000007E-2,0,-22,-0.5,-25,25]
[null,"1222321-0",1699,1,"<130mph",2,"15,000 - 30,000",2,"Concrete with USP",2,"Medium",3,"300 < R < 400",2,"Poor",1,"Good","0 to 10",0,10,-6,6.0923076923076934E-2,0,-7.5,0,-12,25]
[null,"1222321-10",1700,1,"<130mph",2,"15,000 - 30,000",2,"Concrete with USP",2,"Medium",3,"300 < R < 400",2,"Poor",1,"Good","10 to 20",10,20,-6,5.4830769230769232E-2,0,-8.8000000000000007,0,-15,25]
[null,"1222321-20",1701,1,"<130mph",2,"15,000 - 30,000",2,"Concrete with USP",2,"Medium",3,"300 < R < 400",2,"Poor",1,"Good","20 to 30",20,30,-6,6.7015384615384616E-2,0,-13.200000000000001,0,-20,25]
[null,"1222321-30",1702,1,"<130mph",2,"15,000 - 30,000",2,"Concrete with USP",2,"Medium",3,"300 < R < 400",2,"Poor",1,"Good","30 to 40",30,40,-6,7.3107692307692304E-2,0,-16.5,0,-25,25]
[null,"1222321-40",1703,1,"<130mph",2,"15,000 - 30,000",2,"Concrete with USP",2,"Medium",3,"300 < R < 400",2,"Poor",1,"Good","40 to 50",40,50,-6,7.9200000000000007E-2,0,-19.8,0,-25,25]
[null,"1222321-50",1704,1,"<130mph",2,"15,000 - 30,000",2,"Concrete with USP",2,"Medium",3,"300 < R < 400",2,"Poor",1,"Good","Above 50",50,1000,-6,7.9200000000000007E-2,0,-22,-0.5,-25,25]
[null,"1221321-0",1705,1,"<130mph",2,"15,000 - 30,000",2,"Concrete with USP",1,"Hard",3,"300 < R < 400",2,"Poor",1,"Good","0 to 10",0,10,-6,4.2646153846153848E-2,0,-6.75,0,-12,25]
[null,"1221321-10",1706,1,"<130mph",2,"15,000 - 30,000",2,"Concrete with USP",1,"Hard",3,"300 < R < 400",2,"Poor",1,"Good","10 to 20",10,20,-6,3.838153846153846E-2,0,-7.9200000000000008,0,-15,25]
[null,"1221321-20",1707,1,"<130mph",2,"15,000 - 30,000",2,"Concrete with USP",1,"Hard",3,"300 < R < 400",2,"Poor",1,"Good","20 to 30",20,30,-6,4.6910769230769228E-2,0,-11.88,0,-20,25]
[null,"1221321-30",1708,1,"<130mph",2,"15,000 - 30,000",2,"Concrete with USP",1,"Hard",3,"300 < R < 400",2,"Poor",1,"Good","30 to 40",30,40,-6,5.1175384615384609E-2,0,-14.850000000000001,0,-25,25]
[null,"1221321-40",1709,1,"<130mph",2,"15,000 - 30,000",2,"Concrete with USP",1,"Hard",3,"300 < R < 400",2,"Poor",1,"Good","40 to 50",40,50,-6,5.5440000000000003E-2,0,-17.82,0,-25,25]
[null,"1221321-50",1710,1,"<130mph",2,"15,000 - 30,000",2,"Concrete with USP",1,"Hard",3,"300 < R < 400",2,"Poor",1,"Good","Above 50",50,1000,-6,5.5440000000000003E-2,0,-19.8,-0.5,-25,25]
[null,"1223321-0",1711,1,"<130mph",2,"15,000 - 30,000",2,"Concrete with USP",3,"Soft",3,"300 < R < 400",2,"Poor",1,"Good","0 to 10",0,10,-6,7.3107692307692304E-2,0,-8.25,0,-12,25]
[null,"1223321-10",1712,1,"<130mph",2,"15,000 - 30,000",2,"Concrete with USP",3,"Soft",3,"300 < R < 400",2,"Poor",1,"Good","10 to 20",10,20,-6,6.5796923076923086E-2,0,-9.6800000000000015,0,-15,25]
[null,"1223321-20",1713,1,"<130mph",2,"15,000 - 30,000",2,"Concrete with USP",3,"Soft",3,"300 < R < 400",2,"Poor",1,"Good","20 to 30",20,30,-6,8.041846153846155E-2,0,-14.520000000000003,0,-20,25]
[null,"1223321-30",1714,1,"<130mph",2,"15,000 - 30,000",2,"Concrete with USP",3,"Soft",3,"300 < R < 400",2,"Poor",1,"Good","30 to 40",30,40,-6,8.7729230769230782E-2,0,-18.150000000000002,0,-25,25]
[null,"1223321-40",1715,1,"<130mph",2,"15,000 - 30,000",2,"Concrete with USP",3,"Soft",3,"300 < R < 400",2,"Poor",1,"Good","40 to 50",40,50,-6,9.5040000000000013E-2,0,-21.780000000000005,0,-25,25]
[null,"1223321-50",1716,1,"<130mph",2,"15,000 - 30,000",2,"Concrete with USP",3,"Soft",3,"300 < R < 400",2,"Poor",1,"Good","Above 50",50,1000,-6,9.5040000000000013E-2,0,-24.200000000000003,-0.5,-25,25]
[null,"1222312-0",1717,1,"<130mph",2,"15,000 - 30,000",2,"Concrete with USP",2,"Medium",3,"300 < R < 400",1,"Good",2,"Poor","0 to 10",0,10,-6,6.0923076923076934E-2,0,-7.5,0,-12,25]
[null,"1222312-10",1718,1,"<130mph",2,"15,000 - 30,000",2,"Concrete with USP",2,"Medium",3,"300 < R < 400",1,"Good",2,"Poor","10 to 20",10,20,-6,5.0261538461538469E-2,0,-8.8000000000000007,0,-15,25]
[null,"1222312-20",1719,1,"<130mph",2,"15,000 - 30,000",2,"Concrete with USP",2,"Medium",3,"300 < R < 400",1,"Good",2,"Poor","20 to 30",20,30,-6,6.143076923076924E-2,0,-13.200000000000001,0,-20,25]
[null,"1222312-30",1720,1,"<130mph",2,"15,000 - 30,000",2,"Concrete with USP",2,"Medium",3,"300 < R < 400",1,"Good",2,"Poor","30 to 40",30,40,-6,6.7015384615384629E-2,0,-16.5,0,-25,25]
[null,"1222312-40",1721,1,"<130mph",2,"15,000 - 30,000",2,"Concrete with USP",2,"Medium",3,"300 < R < 400",1,"Good",2,"Poor","40 to 50",40,50,-6,7.2600000000000012E-2,0,-19.8,0,-25,25]
[null,"1222312-50",1722,1,"<130mph",2,"15,000 - 30,000",2,"Concrete with USP",2,"Medium",3,"300 < R < 400",1,"Good",2,"Poor","Above 50",50,1000,-6,7.2600000000000012E-2,0,-22,-0.5,-25,25]
[null,"1221312-0",1723,1,"<130mph",2,"15,000 - 30,000",2,"Concrete with USP",1,"Hard",3,"300 < R < 400",1,"Good",2,"Poor","0 to 10",0,10,-6,4.2646153846153848E-2,0,-6.75,0,-12,25]
[null,"1221312-10",1724,1,"<130mph",2,"15,000 - 30,000",2,"Concrete with USP",1,"Hard",3,"300 < R < 400",1,"Good",2,"Poor","10 to 20",10,20,-6,3.5183076923076928E-2,0,-7.9200000000000008,0,-15,25]
[null,"1221312-20",1725,1,"<130mph",2,"15,000 - 30,000",2,"Concrete with USP",1,"Hard",3,"300 < R < 400",1,"Good",2,"Poor","20 to 30",20,30,-6,4.3001538461538466E-2,0,-11.88,0,-20,25]
[null,"1221312-30",1726,1,"<130mph",2,"15,000 - 30,000",2,"Concrete with USP",1,"Hard",3,"300 < R < 400",1,"Good",2,"Poor","30 to 40",30,40,-6,4.6910769230769235E-2,0,-14.850000000000001,0,-25,25]
[null,"1221312-40",1727,1,"<130mph",2,"15,000 - 30,000",2,"Concrete with USP",1,"Hard",3,"300 < R < 400",1,"Good",2,"Poor","40 to 50",40,50,-6,5.0820000000000011E-2,0,-17.82,0,-25,25]
[null,"1221312-50",1728,1,"<130mph",2,"15,000 - 30,000",2,"Concrete with USP",1,"Hard",3,"300 < R < 400",1,"Good",2,"Poor","Above 50",50,1000,-6,5.0820000000000011E-2,0,-19.8,-0.5,-25,25]
[null,"1223312-0",1729,1,"<130mph",2,"15,000 - 30,000",2,"Concrete with USP",3,"Soft",3,"300 < R < 400",1,"Good",2,"Poor","0 to 10",0,10,-6,7.3107692307692304E-2,0,-8.25,0,-12,25]
[null,{"$f":"D1748&F1748&H1748&J1748&L1748&N1748&P1748&\"-\"&S1748","v":"1223312-10"},1730,1,"<130mph",2,"15,000 - 30,000",2,"Concrete with USP",3,"Soft",3,"300 < R < 400",1,"Good",2,"Poor","10 to 20",10,20,-6,6.0313846153846169E-2,0,-9.6800000000000015,0,-15,25]
[null,"1223312-20",1731,1,"<130mph",2,"15,000 - 30,000",2,"Concrete with USP",3,"Soft",3,"300 < R < 400",1,"Good",2,"Poor","20 to 30",20,30,-6,7.3716923076923097E-2,0,-14.520000000000003,0,-20,25]
[null,"1223312-30",1732,1,"<130mph",2,"15,000 - 30,000",2,"Concrete with USP",3,"Soft",3,"300 < R < 400",1,"Good",2,"Poor","30 to 40",30,40,-6,8.041846153846155E-2,0,-18.150000000000002,0,-25,25]
[null,"1223312-40",1733,1,"<130mph",2,"15,000 - 30,000",2,"Concrete with USP",3,"Soft",3,"300 < R < 400",1,"Good",2,"Poor","40 to 50",40,50,-6,8.7120000000000031E-2,0,-21.780000000000005,0,-25,25]
[null,"1223312-50",1734,1,"<130mph",2,"15,000 - 30,000",2,"Concrete with USP",3,"Soft",3,"300 < R < 400",1,"Good",2,"Poor","Above 50",50,1000,-6,8.7120000000000031E-2,0,-24.200000000000003,-0.5,-25,25]
[null,"1222322-0",1735,1,"<130mph",2,"15,000 - 30,000",2,"Concrete with USP",2,"Medium",3,"300 < R < 400",2,"Poor",2,"Poor","0 to 10",0,10,-6,6.0923076923076934E-2,0,-7.5,0,-12,25]
[null,"1222322-10",1736,1,"<130mph",2,"15,000 - 30,000",2,"Concrete with USP",2,"Medium",3,"300 < R < 400",2,"Poor",2,"Poor","10 to 20",10,20,-6,6.0313846153846169E-2,0,-9.6800000000000015,0,-15,25]
[null,"1222322-20",1737,1,"<130mph",2,"15,000 - 30,000",2,"Concrete with USP",2,"Medium",3,"300 < R < 400",2,"Poor",2,"Poor","20 to 30",20,30,-6,7.3716923076923097E-2,0,-14.520000000000003,0,-20,25]
[null,"1222322-30",1738,1,"<130mph",2,"15,000 - 30,000",2,"Concrete with USP",2,"Medium",3,"300 < R < 400",2,"Poor",2,"Poor","30 to 40",30,40,-6,8.041846153846155E-2,0,-18.150000000000002,0,-25,25]
[null,"1222322-40",1739,1,"<130mph",2,"15,000 - 30,000",2,"Concrete with USP",2,"Medium",3,"300 < R < 400",2,"Poor",2,"Poor","40 to 50",40,50,-6,8.7120000000000031E-2,0,-21.780000000000005,0,-25,25]
[null,"1222322-50",1740,1,"<130mph",2,"15,000 - 30,000",2,"Concrete with USP",2,"Medium",3,"300 < R < 400",2,"Poor",2,"Poor","Above 50",50,1000,-6,8.7120000000000031E-2,0,-24.200000000000003,-0.5,-25,25]
[null,"1221322-0",1741,1,"<130mph",2,"15,000 - 30,000",2,"Concrete with USP",1,"Hard",3,"300 < R < 400",2,"Poor",2,"Poor","0 to 10",0,10,-6,4.2646153846153848E-2,0,-6.75,0,-12,25]
[null,"1221322-10",1742,1,"<130mph",2,"15,000 - 30,000",2,"Concrete with USP",1,"Hard",3,"300 < R < 400",2,"Poor",2,"Poor","10 to 20",10,20,-6,4.2219692307692305E-2,0,-8.7120000000000015,0,-15,25]
[null,"1221322-20",1743,1,"<130mph",2,"15,000 - 30,000",2,"Concrete with USP",1,"Hard",3,"300 < R < 400",2,"Poor",2,"Poor","20 to 30",20,30,-6,5.1601846153846158E-2,0,-13.068000000000001,0,-20,25]
[null,"1221322-30",1744,1,"<130mph",2,"15,000 - 30,000",2,"Concrete with USP",1,"Hard",3,"300 < R < 400",2,"Poor",2,"Poor","30 to 40",30,40,-6,5.6292923076923081E-2,0,-16.335000000000004,0,-25,25]
[null,"1221322-40",1745,1,"<130mph",2,"15,000 - 30,000",2,"Concrete with USP",1,"Hard",3,"300 < R < 400",2,"Poor",2,"Poor","40 to 50",40,50,-6,6.0984000000000003E-2,0,-19.602000000000004,0,-25,25]
[null,"1221322-50",1746,1,"<130mph",2,"15,000 - 30,000",2,"Concrete with USP",1,"Hard",3,"300 < R < 400",2,"Poor",2,"Poor","Above 50",50,1000,-6,6.0984000000000003E-2,0,-21.780000000000005,-0.5,-25,25]
[null,"1223322-0",1747,1,"<130mph",2,"15,000 - 30,000",2,"Concrete with USP",3,"Soft",3,"300 < R < 400",2,"Poor",2,"Poor","0 to 10",0,10,-6,7.3107692307692304E-2,0,-8.25,0,-12,25]
[null,"1223322-10",1748,1,"<130mph",2,"15,000 - 30,000",2,"Concrete with USP",3,"Soft",3,"300 < R < 400",2,"Poor",2,"Poor","10 to 20",10,20,-6,7.2376615384615386E-2,0,-10.648000000000003,0,-15,25]
[null,"1223322-20",1749,1,"<130mph",2,"15,000 - 30,000",2,"Concrete with USP",3,"Soft",3,"300 < R < 400",2,"Poor",2,"Poor","20 to 30",20,30,-6,8.8460307692307699E-2,0,-15.972000000000005,0,-20,25]
[null,"1223322-30",1750,1,"<130mph",2,"15,000 - 30,000",2,"Concrete with USP",3,"Soft",3,"300 < R < 400",2,"Poor",2,"Poor","30 to 40",30,40,-6,9.6502153846153862E-2,0,-19.965000000000007,0,-25,25]
[null,"1223322-40",1751,1,"<130mph",2,"15,000 - 30,000",2,"Concrete with USP",3,"Soft",3,"300 < R < 400",2,"Poor",2,"Poor","40 to 50",40,50,-6,0.10454400000000001,0,-23.958000000000006,0,-25,25]
[null,"1223322-50",1752,1,"<130mph",2,"15,000 - 30,000",2,"Concrete with USP",3,"Soft",3,"300 < R < 400",2,"Poor",2,"Poor","Above 50",50,1000,-6,0.10454400000000001,0,-26.620000000000008,-0.5,-25,25]
[null,"1222411-0",1753,1,"<130mph",2,"15,000 - 30,000",2,"Concrete with USP",2,"Medium",4,"< 300",1,"Good",1,"Good","0 to 10",0,10,-6,8.3076923076923076E-2,0,-7.5,0,-12,20]
[null,"1222411-10",1754,1,"<130mph",2,"15,000 - 30,000",2,"Concrete with USP",2,"Medium",4,"< 300",1,"Good",1,"Good","10 to 20",10,20,-6,6.2307692307692307E-2,0,-8,0,-15,20]
[null,"1222411-20",1755,1,"<130mph",2,"15,000 - 30,000",2,"Concrete with USP",2,"Medium",4,"< 300",1,"Good",1,"Good","20 to 30",20,30,-6,7.6153846153846155E-2,0,-12,0,-20,20]
[null,"1222411-30",1756,1,"<130mph",2,"15,000 - 30,000",2,"Concrete with USP",2,"Medium",4,"< 300",1,"Good",1,"Good","30 to 40",30,40,-6,8.3076923076923076E-2,0,-15,0,-25,20]
[null,"1222411-40",1757,1,"<130mph",2,"15,000 - 30,000",2,"Concrete with USP",2,"Medium",4,"< 300",1,"Good",1,"Good","40 to 50",40,50,-6,0.09,0,-18,0,-25,20]
[null,"1222411-50",1758,1,"<130mph",2,"15,000 - 30,000",2,"Concrete with USP",2,"Medium",4,"< 300",1,"Good",1,"Good","Above 50",50,1000,-6,0.09,0,-20,-0.5,-25,20]
[null,"1221411-0",1759,1,"<130mph",2,"15,000 - 30,000",2,"Concrete with USP",1,"Hard",4,"< 300",1,"Good",1,"Good","0 to 10",0,10,-6,5.8153846153846146E-2,0,-6.75,0,-12,20]
[null,"1221411-10",1760,1,"<130mph",2,"15,000 - 30,000",2,"Concrete with USP",1,"Hard",4,"< 300",1,"Good",1,"Good","10 to 20",10,20,-6,4.3615384615384611E-2,0,-7.2,0,-15,20]
[null,"1221411-20",1761,1,"<130mph",2,"15,000 - 30,000",2,"Concrete with USP",1,"Hard",4,"< 300",1,"Good",1,"Good","20 to 30",20,30,-6,5.3307692307692299E-2,0,-10.8,0,-20,20]
[null,"1221411-30",1762,1,"<130mph",2,"15,000 - 30,000",2,"Concrete with USP",1,"Hard",4,"< 300",1,"Good",1,"Good","30 to 40",30,40,-6,5.8153846153846146E-2,0,-13.5,0,-25,20]
[null,"1221411-40",1763,1,"<130mph",2,"15,000 - 30,000",2,"Concrete with USP",1,"Hard",4,"< 300",1,"Good",1,"Good","40 to 50",40,50,-6,6.3E-2,0,-16.2,0,-25,20]
[null,"1221411-50",1764,1,"<130mph",2,"15,000 - 30,000",2,"Concrete with USP",1,"Hard",4,"< 300",1,"Good",1,"Good","Above 50",50,1000,-6,6.3E-2,0,-18,-0.5,-25,20]
[null,"1223411-0",1765,1,"<130mph",2,"15,000 - 30,000",2,"Concrete with USP",3,"Soft",4,"< 300",1,"Good",1,"Good","0 to 10",0,10,-6,9.9692307692307677E-2,0,-8.25,0,-12,20]
[null,"1223411-10",1766,1,"<130mph",2,"15,000 - 30,000",2,"Concrete with USP",3,"Soft",4,"< 300",1,"Good",1,"Good","10 to 20",10,20,-6,7.4769230769230755E-2,0,-8.8000000000000007,0,-15,20]
[null,"1223411-20",1767,1,"<130mph",2,"15,000 - 30,000",2,"Concrete with USP",3,"Soft",4,"< 300",1,"Good",1,"Good","20 to 30",20,30,-6,9.1384615384615384E-2,0,-13.200000000000001,0,-20,20]
[null,"1223411-30",1768,1,"<130mph",2,"15,000 - 30,000",2,"Concrete with USP",3,"Soft",4,"< 300",1,"Good",1,"Good","30 to 40",30,40,-6,9.9692307692307677E-2,0,-16.5,0,-25,20]
[null,"1223411-40",1769,1,"<130mph",2,"15,000 - 30,000",2,"Concrete with USP",3,"Soft",4,"< 300",1,"Good",1,"Good","40 to 50",40,50,-6,0.108,0,-19.8,0,-25,20]
[null,"1223411-50",1770,1,"<130mph",2,"15,000 - 30,000",2,"Concrete with USP",3,"Soft",4,"< 300",1,"Good",1,"Good","Above 50",50,1000,-6,0.108,0,-22,-0.5,-25,20]
[null,"1222421-0",1771,1,"<130mph",2,"15,000 - 30,000",2,"Concrete with USP",2,"Medium",4,"< 300",2,"Poor",1,"Good","0 to 10",0,10,-6,8.3076923076923076E-2,0,-7.5,0,-12,20]
[null,"1222421-10",1772,1,"<130mph",2,"15,000 - 30,000",2,"Concrete with USP",2,"Medium",4,"< 300",2,"Poor",1,"Good","10 to 20",10,20,-6,7.4769230769230755E-2,0,-8.8000000000000007,0,-15,20]
[null,"1222421-20",1773,1,"<130mph",2,"15,000 - 30,000",2,"Concrete with USP",2,"Medium",4,"< 300",2,"Poor",1,"Good","20 to 30",20,30,-6,9.1384615384615384E-2,0,-13.200000000000001,0,-20,20]
[null,"1222421-30",1774,1,"<130mph",2,"15,000 - 30,000",2,"Concrete with USP",2,"Medium",4,"< 300",2,"Poor",1,"Good","30 to 40",30,40,-6,9.9692307692307677E-2,0,-16.5,0,-25,20]
[null,"1222421-40",1775,1,"<130mph",2,"15,000 - 30,000",2,"Concrete with USP",2,"Medium",4,"< 300",2,"Poor",1,"Good","40 to 50",40,50,-6,0.108,0,-19.8,0,-25,20]
[null,"1222421-50",1776,1,"<130mph",2,"15,000 - 30,000",2,"Concrete with USP",2,"Medium",4,"< 300",2,"Poor",1,"Good","Above 50",50,1000,-6,0.108,0,-22,-0.5,-25,20]
[null,"1221421-0",1777,1,"<130mph",2,"15,000 - 30,000",2,"Concrete with USP",1,"Hard",4,"< 300",2,"Poor",1,"Good","0 to 10",0,10,-6,5.8153846153846146E-2,0,-6.75,0,-12,20]
[null,"1221421-10",1778,1,"<130mph",2,"15,000 - 30,000",2,"Concrete with USP",1,"Hard",4,"< 300",2,"Poor",1,"Good","10 to 20",10,20,-6,5.2338461538461528E-2,0,-7.9200000000000008,0,-15,20]
[null,"1221421-20",1779,1,"<130mph",2,"15,000 - 30,000",2,"Concrete with USP",1,"Hard",4,"< 300",2,"Poor",1,"Good","20 to 30",20,30,-6,6.3969230769230764E-2,0,-11.88,0,-20,20]
[null,"1221421-30",1780,1,"<130mph",2,"15,000 - 30,000",2,"Concrete with USP",1,"Hard",4,"< 300",2,"Poor",1,"Good","30 to 40",30,40,-6,6.9784615384615375E-2,0,-14.850000000000001,0,-25,20]
[null,"1221421-40",1781,1,"<130mph",2,"15,000 - 30,000",2,"Concrete with USP",1,"Hard",4,"< 300",2,"Poor",1,"Good","40 to 50",40,50,-6,7.5599999999999987E-2,0,-17.82,0,-25,20]
[null,"1221421-50",1782,1,"<130mph",2,"15,000 - 30,000",2,"Concrete with USP",1,"Hard",4,"< 300",2,"Poor",1,"Good","Above 50",50,1000,-6,7.5599999999999987E-2,0,-19.8,-0.5,-25,20]
[null,"1223421-0",1783,1,"<130mph",2,"15,000 - 30,000",2,"Concrete with USP",3,"Soft",4,"< 300",2,"Poor",1,"Good","0 to 10",0,10,-6,9.9692307692307677E-2,0,-8.25,0,-12,20]
[null,"1223421-10",1784,1,"<130mph",2,"15,000 - 30,000",2,"Concrete with USP",3,"Soft",4,"< 300",2,"Poor",1,"Good","10 to 20",10,20,-6,8.9723076923076905E-2,0,-9.6800000000000015,0,-15,20]
[null,"1223421-20",1785,1,"<130mph",2,"15,000 - 30,000",2,"Concrete with USP",3,"Soft",4,"< 300",2,"Poor",1,"Good","20 to 30",20,30,-6,0.10966153846153845,0,-14.520000000000003,0,-20,20]
[null,"1223421-30",1786,1,"<130mph",2,"15,000 - 30,000",2,"Concrete with USP",3,"Soft",4,"< 300",2,"Poor",1,"Good","30 to 40",30,40,-6,0.11963076923076921,0,-18.150000000000002,0,-25,20]
[null,"1223421-40",1787,1,"<130mph",2,"15,000 - 30,000",2,"Concrete with USP",3,"Soft",4,"< 300",2,"Poor",1,"Good","40 to 50",40,50,-6,0.12959999999999999,0,-21.780000000000005,0,-25,20]
[null,"1223421-50",1788,1,"<130mph",2,"15,000 - 30,000",2,"Concrete with USP",3,"Soft",4,"< 300",2,"Poor",1,"Good","Above 50",50,1000,-6,0.12959999999999999,0,-24.200000000000003,-0.5,-25,20]
[null,"1222412-0",1789,1,"<130mph",2,"15,000 - 30,000",2,"Concrete with USP",2,"Medium",4,"< 300",1,"Good",2,"Poor","0 to 10",0,10,-6,8.3076923076923076E-2,0,-7.5,0,-12,20]
[null,"1222412-10",1790,1,"<130mph",2,"15,000 - 30,000",2,"Concrete with USP",2,"Medium",4,"< 300",1,"Good",2,"Poor","10 to 20",10,20,-6,6.8538461538461548E-2,0,-8.8000000000000007,0,-15,20]
[null,"1222412-20",1791,1,"<130mph",2,"15,000 - 30,000",2,"Concrete with USP",2,"Medium",4,"< 300",1,"Good",2,"Poor","20 to 30",20,30,-6,8.3769230769230776E-2,0,-13.200000000000001,0,-20,20]
[null,"1222412-30",1792,1,"<130mph",2,"15,000 - 30,000",2,"Concrete with USP",2,"Medium",4,"< 300",1,"Good",2,"Poor","30 to 40",30,40,-6,9.1384615384615384E-2,0,-16.5,0,-25,20]
[null,"1222412-40",1793,1,"<130mph",2,"15,000 - 30,000",2,"Concrete with USP",2,"Medium",4,"< 300",1,"Good",2,"Poor","40 to 50",40,50,-6,9.9000000000000019E-2,0,-19.8,0,-25,20]
[null,{"$f":"D1812&F1812&H1812&J1812&L1812&N1812&P1812&\"-\"&S1812","v":"1222412-50"},1794,1,"<130mph",2,"15,000 - 30,000",2,"Concrete with USP",2,"Medium",4,"< 300",1,"Good",2,"Poor","Above 50",50,1000,-6,9.9000000000000019E-2,0,-22,-0.5,-25,20]
[null,"1221412-0",1795,1,"<130mph",2,"15,000 - 30,000",2,"Concrete with USP",1,"Hard",4,"< 300",1,"Good",2,"Poor","0 to 10",0,10,-6,5.8153846153846146E-2,0,-6.75,0,-12,20]
[null,"1221412-10",1796,1,"<130mph",2,"15,000 - 30,000",2,"Concrete with USP",1,"Hard",4,"< 300",1,"Good",2,"Poor","10 to 20",10,20,-6,4.797692307692307E-2,0,-7.9200000000000008,0,-15,20]
[null,"1221412-20",1797,1,"<130mph",2,"15,000 - 30,000",2,"Concrete with USP",1,"Hard",4,"< 300",1,"Good",2,"Poor","20 to 30",20,30,-6,5.8638461538461528E-2,0,-11.88,0,-20,20]
[null,"1221412-30",1798,1,"<130mph",2,"15,000 - 30,000",2,"Concrete with USP",1,"Hard",4,"< 300",1,"Good",2,"Poor","30 to 40",30,40,-6,6.3969230769230764E-2,0,-14.850000000000001,0,-25,20]
[null,"1221412-40",1799,1,"<130mph",2,"15,000 - 30,000",2,"Concrete with USP",1,"Hard",4,"< 300",1,"Good",2,"Poor","40 to 50",40,50,-6,6.9299999999999987E-2,0,-17.82,0,-25,20]
[null,"1221412-50",1800,1,"<130mph",2,"15,000 - 30,000",2,"Concrete with USP",1,"Hard",4,"< 300",1,"Good",2,"Poor","Above 50",50,1000,-6,6.9299999999999987E-2,0,-19.8,-0.5,-25,20]
[null,"1223412-0",1801,1,"<130mph",2,"15,000 - 30,000",2,"Concrete with USP",3,"Soft",4,"< 300",1,"Good",2,"Poor","0 to 10",0,10,-6,9.9692307692307677E-2,0,-8.25,0,-12,20]
[null,"1223412-10",1802,1,"<130mph",2,"15,000 - 30,000",2,"Concrete with USP",3,"Soft",4,"< 300",1,"Good",2,"Poor","10 to 20",10,20,-6,8.2246153846153844E-2,0,-9.6800000000000015,0,-15,20]
[null,"1223412-20",1803,1,"<130mph",2,"15,000 - 30,000",2,"Concrete with USP",3,"Soft",4,"< 300",1,"Good",2,"Poor","20 to 30",20,30,-6,0.10052307692307692,0,-14.520000000000003,0,-20,20]
[null,"1223412-30",1804,1,"<130mph",2,"15,000 - 30,000",2,"Concrete with USP",3,"Soft",4,"< 300",1,"Good",2,"Poor","30 to 40",30,40,-6,0.10966153846153846,0,-18.150000000000002,0,-25,20]
[null,"1223412-40",1805,1,"<130mph",2,"15,000 - 30,000",2,"Concrete with USP",3,"Soft",4,"< 300",1,"Good",2,"Poor","40 to 50",40,50,-6,0.1188,0,-21.780000000000005,0,-25,20]
[null,"1223412-50",1806,1,"<130mph",2,"15,000 - 30,000",2,"Concrete with USP",3,"Soft",4,"< 300",1,"Good",2,"Poor","Above 50",50,1000,-6,0.1188,0,-24.200000000000003,-0.5,-25,20]
[null,"1222422-0",1807,1,"<130mph",2,"15,000 - 30,000",2,"Concrete with USP",2,"Medium",4,"< 300",2,"Poor",2,"Poor","0 to 10",0,10,-6,8.3076923076923076E-2,0,-7.5,0,-12,20]
[null,"1222422-10",1808,1,"<130mph",2,"15,000 - 30,000",2,"Concrete with USP",2,"Medium",4,"< 300",2,"Poor",2,"Poor","10 to 20",10,20,-6,8.2246153846153844E-2,0,-9.6800000000000015,0,-15,20]
[null,"1222422-20",1809,1,"<130mph",2,"15,000 - 30,000",2,"Concrete with USP",2,"Medium",4,"< 300",2,"Poor",2,"Poor","20 to 30",20,30,-6,0.10052307692307692,0,-14.520000000000003,0,-20,20]
[null,"1222422-30",1810,1,"<130mph",2,"15,000 - 30,000",2,"Concrete with USP",2,"Medium",4,"< 300",2,"Poor",2,"Poor","30 to 40",30,40,-6,0.10966153846153846,0,-18.150000000000002,0,-25,20]
[null,"1222422-40",1811,1,"<130mph",2,"15,000 - 30,000",2,"Concrete with USP",2,"Medium",4,"< 300",2,"Poor",2,"Poor","40 to 50",40,50,-6,0.1188,0,-21.780000000000005,0,-25,20]
[null,"1222422-50",1812,1,"<130mph",2,"15,000 - 30,000",2,"Concrete with USP",2,"Medium",4,"< 300",2,"Poor",2,"Poor","Above 50",50,1000,-6,0.1188,0,-24.200000000000003,-0.5,-25,20]
[null,"1221422-0",1813,1,"<130mph",2,"15,000 - 30,000",2,"Concrete with USP",1,"Hard",4,"< 300",2,"Poor",2,"Poor","0 to 10",0,10,-6,5.8153846153846146E-2,0,-6.75,0,-12,20]
[null,"1221422-10",1814,1,"<130mph",2,"15,000 - 30,000",2,"Concrete with USP",1,"Hard",4,"< 300",2,"Poor",2,"Poor","10 to 20",10,20,-6,5.7572307692307687E-2,0,-8.7120000000000015,0,-15,20]
[null,"1221422-20",1815,1,"<130mph",2,"15,000 - 30,000",2,"Concrete with USP",1,"Hard",4,"< 300",2,"Poor",2,"Poor","20 to 30",20,30,-6,7.0366153846153842E-2,0,-13.068000000000001,0,-20,20]
[null,"1221422-30",1816,1,"<130mph",2,"15,000 - 30,000",2,"Concrete with USP",1,"Hard",4,"< 300",2,"Poor",2,"Poor","30 to 40",30,40,-6,7.676307692307692E-2,0,-16.335000000000004,0,-25,20]
[null,"1221422-40",1817,1,"<130mph",2,"15,000 - 30,000",2,"Concrete with USP",1,"Hard",4,"< 300",2,"Poor",2,"Poor","40 to 50",40,50,-6,8.3159999999999998E-2,0,-19.602000000000004,0,-25,20]
[null,"1221422-50",1818,1,"<130mph",2,"15,000 - 30,000",2,"Concrete with USP",1,"Hard",4,"< 300",2,"Poor",2,"Poor","Above 50",50,1000,-6,8.3159999999999998E-2,0,-21.780000000000005,-0.5,-25,20]
[null,"1223422-0",1819,1,"<130mph",2,"15,000 - 30,000",2,"Concrete with USP",3,"Soft",4,"< 300",2,"Poor",2,"Poor","0 to 10",0,10,-6,9.9692307692307677E-2,0,-8.25,0,-12,20]
[null,"1223422-10",1820,1,"<130mph",2,"15,000 - 30,000",2,"Concrete with USP",3,"Soft",4,"< 300",2,"Poor",2,"Poor","10 to 20",10,20,-6,9.8695384615384602E-2,0,-10.648000000000003,0,-15,20]
[null,"1223422-20",1821,1,"<130mph",2,"15,000 - 30,000",2,"Concrete with USP",3,"Soft",4,"< 300",2,"Poor",2,"Poor","20 to 30",20,30,-6,0.1206276923076923,0,-15.972000000000005,0,-20,20]
[null,"1223422-30",1822,1,"<130mph",2,"15,000 - 30,000",2,"Concrete with USP",3,"Soft",4,"< 300",2,"Poor",2,"Poor","30 to 40",30,40,-6,0.13159384615384614,0,-19.965000000000007,0,-25,20]
[null,"1223422-40",1823,1,"<130mph",2,"15,000 - 30,000",2,"Concrete with USP",3,"Soft",4,"< 300",2,"Poor",2,"Poor","40 to 50",40,50,-6,0.14255999999999999,0,-23.958000000000006,0,-25,20]
[null,"1223422-50",1824,1,"<130mph",2,"15,000 - 30,000",2,"Concrete with USP",3,"Soft",4,"< 300",2,"Poor",2,"Poor","Above 50",50,1000,-6,0.14255999999999999,0,-26.620000000000008,-0.5,-25,20]
[null,"1122111-0",1825,1,"<130mph",1,"< 15,000",2,"Concrete with USP",2,"Medium",1,"> 600",1,"Good",1,"Good","0 to 10",0,10,-6,2.76923076923077E-2,0,-7.5,0,-12,50]
[null,"1122111-10",1826,1,"<130mph",1,"< 15,000",2,"Concrete with USP",2,"Medium",1,"> 600",1,"Good",1,"Good","10 to 20",10,20,-6,2.0769230769230776E-2,0,-8,0,-15,50]
[null,"1122111-20",1827,1,"<130mph",1,"< 15,000",2,"Concrete with USP",2,"Medium",1,"> 600",1,"Good",1,"Good","20 to 30",20,30,-6,2.5384615384615391E-2,0,-12,0,-20,50]
[null,"1122111-30",1828,1,"<130mph",1,"< 15,000",2,"Concrete with USP",2,"Medium",1,"> 600",1,"Good",1,"Good","30 to 40",30,40,-6,2.76923076923077E-2,0,-15,0,-25,50]
[null,"1122111-40",1829,1,"<130mph",1,"< 15,000",2,"Concrete with USP",2,"Medium",1,"> 600",1,"Good",1,"Good","40 to 50",40,50,-6,3.0000000000000009E-2,0,-18,0,-25,50]
[null,"1122111-50",1830,1,"<130mph",1,"< 15,000",2,"Concrete with USP",2,"Medium",1,"> 600",1,"Good",1,"Good","Above 50",50,1000,-6,3.0000000000000009E-2,0,-20,-0.5,-25,50]
[null,"1121111-0",1831,1,"<130mph",1,"< 15,000",2,"Concrete with USP",1,"Hard",1,"> 600",1,"Good",1,"Good","0 to 10",0,10,-6,1.9384615384615389E-2,0,-6.75,0,-12,50]
[null,"1121111-10",1832,1,"<130mph",1,"< 15,000",2,"Concrete with USP",1,"Hard",1,"> 600",1,"Good",1,"Good","10 to 20",10,20,-6,1.4538461538461542E-2,0,-7.2,0,-15,50]
[null,"1121111-20",1833,1,"<130mph",1,"< 15,000",2,"Concrete with USP",1,"Hard",1,"> 600",1,"Good",1,"Good","20 to 30",20,30,-6,1.7769230769230773E-2,0,-10.8,0,-20,50]
[null,"1121111-30",1834,1,"<130mph",1,"< 15,000",2,"Concrete with USP",1,"Hard",1,"> 600",1,"Good",1,"Good","30 to 40",30,40,-6,1.9384615384615389E-2,0,-13.5,0,-25,50]
[null,"1121111-40",1835,1,"<130mph",1,"< 15,000",2,"Concrete with USP",1,"Hard",1,"> 600",1,"Good",1,"Good","40 to 50",40,50,-6,2.1000000000000005E-2,0,-16.2,0,-25,50]
[null,"1121111-50",1836,1,"<130mph",1,"< 15,000",2,"Concrete with USP",1,"Hard",1,"> 600",1,"Good",1,"Good","Above 50",50,1000,-6,2.1000000000000005E-2,0,-18,-0.5,-25,50]
[null,"1123111-0",1837,1,"<130mph",1,"< 15,000",2,"Concrete with USP",3,"Soft",1,"> 600",1,"Good",1,"Good","0 to 10",0,10,-6,3.3230769230769237E-2,0,-8.25,0,-12,50]
[null,"1123111-10",1838,1,"<130mph",1,"< 15,000",2,"Concrete with USP",3,"Soft",1,"> 600",1,"Good",1,"Good","10 to 20",10,20,-6,2.492307692307693E-2,0,-8.8000000000000007,0,-15,50]
[null,"1123111-20",1839,1,"<130mph",1,"< 15,000",2,"Concrete with USP",3,"Soft",1,"> 600",1,"Good",1,"Good","20 to 30",20,30,-6,3.046153846153847E-2,0,-13.200000000000001,0,-20,50]
[null,"1123111-30",1840,1,"<130mph",1,"< 15,000",2,"Concrete with USP",3,"Soft",1,"> 600",1,"Good",1,"Good","30 to 40",30,40,-6,3.3230769230769237E-2,0,-16.5,0,-25,50]
[null,"1123111-40",1841,1,"<130mph",1,"< 15,000",2,"Concrete with USP",3,"Soft",1,"> 600",1,"Good",1,"Good","40 to 50",40,50,-6,3.6000000000000011E-2,0,-19.8,0,-25,50]
[null,"1123111-50",1842,1,"<130mph",1,"< 15,000",2,"Concrete with USP",3,"Soft",1,"> 600",1,"Good",1,"Good","Above 50",50,1000,-6,3.6000000000000011E-2,0,-22,-0.5,-25,50]
[null,"1122121-0",1843,1,"<130mph",1,"< 15,000",2,"Concrete with USP",2,"Medium",1,"> 600",2,"Poor",1,"Good","0 to 10",0,10,-6,2.76923076923077E-2,0,-7.5,0,-12,50]
[null,"1122121-10",1844,1,"<130mph",1,"< 15,000",2,"Concrete with USP",2,"Medium",1,"> 600",2,"Poor",1,"Good","10 to 20",10,20,-6,2.492307692307693E-2,0,-8.8000000000000007,0,-15,50]
[null,"1122121-20",1845,1,"<130mph",1,"< 15,000",2,"Concrete with USP",2,"Medium",1,"> 600",2,"Poor",1,"Good","20 to 30",20,30,-6,3.046153846153847E-2,0,-13.200000000000001,0,-20,50]
[null,"1122121-30",1846,1,"<130mph",1,"< 15,000",2,"Concrete with USP",2,"Medium",1,"> 600",2,"Poor",1,"Good","30 to 40",30,40,-6,3.3230769230769237E-2,0,-16.5,0,-25,50]
[null,"1122121-40",1847,1,"<130mph",1,"< 15,000",2,"Concrete with USP",2,"Medium",1,"> 600",2,"Poor",1,"Good","40 to 50",40,50,-6,3.6000000000000011E-2,0,-19.8,0,-25,50]
[null,"1122121-50",1848,1,"<130mph",1,"< 15,000",2,"Concrete with USP",2,"Medium",1,"> 600",2,"Poor",1,"Good","Above 50",50,1000,-6,3.6000000000000011E-2,0,-22,-0.5,-25,50]
[null,"1121121-0",1849,1,"<130mph",1,"< 15,000",2,"Concrete with USP",1,"Hard",1,"> 600",2,"Poor",1,"Good","0 to 10",0,10,-6,1.9384615384615389E-2,0,-6.75,0,-12,50]
[null,"1121121-10",1850,1,"<130mph",1,"< 15,000",2,"Concrete with USP",1,"Hard",1,"> 600",2,"Poor",1,"Good","10 to 20",10,20,-6,1.7446153846153851E-2,0,-7.9200000000000008,0,-15,50]
[null,"1121121-20",1851,1,"<130mph",1,"< 15,000",2,"Concrete with USP",1,"Hard",1,"> 600",2,"Poor",1,"Good","20 to 30",20,30,-6,2.1323076923076927E-2,0,-11.88,0,-20,50]
[null,"1121121-30",1852,1,"<130mph",1,"< 15,000",2,"Concrete with USP",1,"Hard",1,"> 600",2,"Poor",1,"Good","30 to 40",30,40,-6,2.3261538461538465E-2,0,-14.850000000000001,0,-25,50]
[null,"1121121-40",1853,1,"<130mph",1,"< 15,000",2,"Concrete with USP",1,"Hard",1,"> 600",2,"Poor",1,"Good","40 to 50",40,50,-6,2.5200000000000007E-2,0,-17.82,0,-25,50]
[null,"1121121-50",1854,1,"<130mph",1,"< 15,000",2,"Concrete with USP",1,"Hard",1,"> 600",2,"Poor",1,"Good","Above 50",50,1000,-6,2.5200000000000007E-2,0,-19.8,-0.5,-25,50]
[null,"1123121-0",1855,1,"<130mph",1,"< 15,000",2,"Concrete with USP",3,"Soft",1,"> 600",2,"Poor",1,"Good","0 to 10",0,10,-6,3.3230769230769237E-2,0,-8.25,0,-12,50]
[null,"1123121-10",1856,1,"<130mph",1,"< 15,000",2,"Concrete with USP",3,"Soft",1,"> 600",2,"Poor",1,"Good","10 to 20",10,20,-6,2.9907692307692316E-2,0,-9.6800000000000015,0,-15,50]
[null,"1123121-20",1857,1,"<130mph",1,"< 15,000",2,"Concrete with USP",3,"Soft",1,"> 600",2,"Poor",1,"Good","20 to 30",20,30,-6,3.6553846153846166E-2,0,-14.520000000000003,0,-20,50]
[null,{"$f":"D1876&F1876&H1876&J1876&L1876&N1876&P1876&\"-\"&S1876","v":"1123121-30"},1858,1,"<130mph",1,"< 15,000",2,"Concrete with USP",3,"Soft",1,"> 600",2,"Poor",1,"Good","30 to 40",30,40,-6,3.9876923076923088E-2,0,-18.150000000000002,0,-25,50]
[null,"1123121-40",1859,1,"<130mph",1,"< 15,000",2,"Concrete with USP",3,"Soft",1,"> 600",2,"Poor",1,"Good","40 to 50",40,50,-6,4.3200000000000016E-2,0,-21.780000000000005,0,-25,50]
[null,"1123121-50",1860,1,"<130mph",1,"< 15,000",2,"Concrete with USP",3,"Soft",1,"> 600",2,"Poor",1,"Good","Above 50",50,1000,-6,4.3200000000000016E-2,0,-24.200000000000003,-0.5,-25,50]
[null,"1122112-0",1861,1,"<130mph",1,"< 15,000",2,"Concrete with USP",2,"Medium",1,"> 600",1,"Good",2,"Poor","0 to 10",0,10,-6,2.76923076923077E-2,0,-7.5,0,-12,50]
[null,"1122112-10",1862,1,"<130mph",1,"< 15,000",2,"Concrete with USP",2,"Medium",1,"> 600",1,"Good",2,"Poor","10 to 20",10,20,-6,2.2846153846153853E-2,0,-8.8000000000000007,0,-15,50]
[null,"1122112-20",1863,1,"<130mph",1,"< 15,000",2,"Concrete with USP",2,"Medium",1,"> 600",1,"Good",2,"Poor","20 to 30",20,30,-6,2.7923076923076932E-2,0,-13.200000000000001,0,-20,50]
[null,"1122112-30",1864,1,"<130mph",1,"< 15,000",2,"Concrete with USP",2,"Medium",1,"> 600",1,"Good",2,"Poor","30 to 40",30,40,-6,3.046153846153847E-2,0,-16.5,0,-25,50]
[null,"1122112-40",1865,1,"<130mph",1,"< 15,000",2,"Concrete with USP",2,"Medium",1,"> 600",1,"Good",2,"Poor","40 to 50",40,50,-6,3.3000000000000015E-2,0,-19.8,0,-25,50]
[null,"1122112-50",1866,1,"<130mph",1,"< 15,000",2,"Concrete with USP",2,"Medium",1,"> 600",1,"Good",2,"Poor","Above 50",50,1000,-6,3.3000000000000015E-2,0,-22,-0.5,-25,50]
[null,"1121112-0",1867,1,"<130mph",1,"< 15,000",2,"Concrete with USP",1,"Hard",1,"> 600",1,"Good",2,"Poor","0 to 10",0,10,-6,1.9384615384615389E-2,0,-6.75,0,-12,50]
[null,"1121112-10",1868,1,"<130mph",1,"< 15,000",2,"Concrete with USP",1,"Hard",1,"> 600",1,"Good",2,"Poor","10 to 20",10,20,-6,1.5992307692307698E-2,0,-7.9200000000000008,0,-15,50]
[null,"1121112-20",1869,1,"<130mph",1,"< 15,000",2,"Concrete with USP",1,"Hard",1,"> 600",1,"Good",2,"Poor","20 to 30",20,30,-6,1.9546153846153855E-2,0,-11.88,0,-20,50]
[null,"1121112-30",1870,1,"<130mph",1,"< 15,000",2,"Concrete with USP",1,"Hard",1,"> 600",1,"Good",2,"Poor","30 to 40",30,40,-6,2.1323076923076931E-2,0,-14.850000000000001,0,-25,50]
[null,"1121112-40",1871,1,"<130mph",1,"< 15,000",2,"Concrete with USP",1,"Hard",1,"> 600",1,"Good",2,"Poor","40 to 50",40,50,-6,2.3100000000000009E-2,0,-17.82,0,-25,50]
[null,"1121112-50",1872,1,"<130mph",1,"< 15,000",2,"Concrete with USP",1,"Hard",1,"> 600",1,"Good",2,"Poor","Above 50",50,1000,-6,2.3100000000000009E-2,0,-19.8,-0.5,-25,50]
[null,"1123112-0",1873,1,"<130mph",1,"< 15,000",2,"Concrete with USP",3,"Soft",1,"> 600",1,"Good",2,"Poor","0 to 10",0,10,-6,3.3230769230769237E-2,0,-8.25,0,-12,50]
[null,"1123112-10",1874,1,"<130mph",1,"< 15,000",2,"Concrete with USP",3,"Soft",1,"> 600",1,"Good",2,"Poor","10 to 20",10,20,-6,2.7415384615384626E-2,0,-9.6800000000000015,0,-15,50]
[null,"1123112-20",1875,1,"<130mph",1,"< 15,000",2,"Concrete with USP",3,"Soft",1,"> 600",1,"Good",2,"Poor","20 to 30",20,30,-6,3.3507692307692322E-2,0,-14.520000000000003,0,-20,50]
[null,"1123112-30",1876,1,"<130mph",1,"< 15,000",2,"Concrete with USP",3,"Soft",1,"> 600",1,"Good",2,"Poor","30 to 40",30,40,-6,3.6553846153846166E-2,0,-18.150000000000002,0,-25,50]
[null,"1123112-40",1877,1,"<130mph",1,"< 15,000",2,"Concrete with USP",3,"Soft",1,"> 600",1,"Good",2,"Poor","40 to 50",40,50,-6,3.9600000000000017E-2,0,-21.780000000000005,0,-25,50]
[null,"1123112-50",1878,1,"<130mph",1,"< 15,000",2,"Concrete with USP",3,"Soft",1,"> 600",1,"Good",2,"Poor","Above 50",50,1000,-6,3.9600000000000017E-2,0,-24.200000000000003,-0.5,-25,50]
[null,"1122122-0",1879,1,"<130mph",1,"< 15,000",2,"Concrete with USP",2,"Medium",1,"> 600",2,"Poor",2,"Poor","0 to 10",0,10,-6,2.76923076923077E-2,0,-7.5,0,-12,50]
[null,"1122122-10",1880,1,"<130mph",1,"< 15,000",2,"Concrete with USP",2,"Medium",1,"> 600",2,"Poor",2,"Poor","10 to 20",10,20,-6,2.7415384615384626E-2,0,-9.6800000000000015,0,-15,50]
[null,"1122122-20",1881,1,"<130mph",1,"< 15,000",2,"Concrete with USP",2,"Medium",1,"> 600",2,"Poor",2,"Poor","20 to 30",20,30,-6,3.3507692307692322E-2,0,-14.520000000000003,0,-20,50]
[null,"1122122-30",1882,1,"<130mph",1,"< 15,000",2,"Concrete with USP",2,"Medium",1,"> 600",2,"Poor",2,"Poor","30 to 40",30,40,-6,3.6553846153846166E-2,0,-18.150000000000002,0,-25,50]
[null,"1122122-40",1883,1,"<130mph",1,"< 15,000",2,"Concrete with USP",2,"Medium",1,"> 600",2,"Poor",2,"Poor","40 to 50",40,50,-6,3.9600000000000017E-2,0,-21.780000000000005,0,-25,50]
[null,"1122122-50",1884,1,"<130mph",1,"< 15,000",2,"Concrete with USP",2,"Medium",1,"> 600",2,"Poor",2,"Poor","Above 50",50,1000,-6,3.9600000000000017E-2,0,-24.200000000000003,-0.5,-25,50]
[null,"1121122-0",1885,1,"<130mph",1,"< 15,000",2,"Concrete with USP",1,"Hard",1,"> 600",2,"Poor",2,"Poor","0 to 10",0,10,-6,1.9384615384615389E-2,0,-6.75,0,-12,50]
[null,"1121122-10",1886,1,"<130mph",1,"< 15,000",2,"Concrete with USP",1,"Hard",1,"> 600",2,"Poor",2,"Poor","10 to 20",10,20,-6,1.9190769230769237E-2,0,-8.7120000000000015,0,-15,50]
[null,"1121122-20",1887,1,"<130mph",1,"< 15,000",2,"Concrete with USP",1,"Hard",1,"> 600",2,"Poor",2,"Poor","20 to 30",20,30,-6,2.3455384615384624E-2,0,-13.068000000000001,0,-20,50]
[null,"1121122-30",1888,1,"<130mph",1,"< 15,000",2,"Concrete with USP",1,"Hard",1,"> 600",2,"Poor",2,"Poor","30 to 40",30,40,-6,2.5587692307692315E-2,0,-16.335000000000004,0,-25,50]
[null,"1121122-40",1889,1,"<130mph",1,"< 15,000",2,"Concrete with USP",1,"Hard",1,"> 600",2,"Poor",2,"Poor","40 to 50",40,50,-6,2.7720000000000012E-2,0,-19.602000000000004,0,-25,50]
[null,"1121122-50",1890,1,"<130mph",1,"< 15,000",2,"Concrete with USP",1,"Hard",1,"> 600",2,"Poor",2,"Poor","Above 50",50,1000,-6,2.7720000000000012E-2,0,-21.780000000000005,-0.5,-25,50]
[null,"1123122-0",1891,1,"<130mph",1,"< 15,000",2,"Concrete with USP",3,"Soft",1,"> 600",2,"Poor",2,"Poor","0 to 10",0,10,-6,3.3230769230769237E-2,0,-8.25,0,-12,50]
[null,"1123122-10",1892,1,"<130mph",1,"< 15,000",2,"Concrete with USP",3,"Soft",1,"> 600",2,"Poor",2,"Poor","10 to 20",10,20,-6,3.289846153846155E-2,0,-10.648000000000003,0,-15,50]
[null,"1123122-20",1893,1,"<130mph",1,"< 15,000",2,"Concrete with USP",3,"Soft",1,"> 600",2,"Poor",2,"Poor","20 to 30",20,30,-6,4.0209230769230782E-2,0,-15.972000000000005,0,-20,50]
[null,"1123122-30",1894,1,"<130mph",1,"< 15,000",2,"Concrete with USP",3,"Soft",1,"> 600",2,"Poor",2,"Poor","30 to 40",30,40,-6,4.3864615384615398E-2,0,-19.965000000000007,0,-25,50]
[null,"1123122-40",1895,1,"<130mph",1,"< 15,000",2,"Concrete with USP",3,"Soft",1,"> 600",2,"Poor",2,"Poor","40 to 50",40,50,-6,4.7520000000000014E-2,0,-23.958000000000006,0,-25,50]
[null,"1123122-50",1896,1,"<130mph",1,"< 15,000",2,"Concrete with USP",3,"Soft",1,"> 600",2,"Poor",2,"Poor","Above 50",50,1000,-6,4.7520000000000014E-2,0,-26.620000000000008,-0.5,-25,50]
[null,"1122211-0",1897,1,"<130mph",1,"< 15,000",2,"Concrete with USP",2,"Medium",2,"400 < R < 600",1,"Good",1,"Good","0 to 10",0,10,-6,3.046153846153847E-2,0,-7.5,0,-12,50]
[null,"1122211-10",1898,1,"<130mph",1,"< 15,000",2,"Concrete with USP",2,"Medium",2,"400 < R < 600",1,"Good",1,"Good","10 to 20",10,20,-6,2.2846153846153853E-2,0,-8,0,-15,50]
[null,"1122211-20",1899,1,"<130mph",1,"< 15,000",2,"Concrete with USP",2,"Medium",2,"400 < R < 600",1,"Good",1,"Good","20 to 30",20,30,-6,2.7923076923076932E-2,0,-12,0,-20,50]
[null,"1122211-30",1900,1,"<130mph",1,"< 15,000",2,"Concrete with USP",2,"Medium",2,"400 < R < 600",1,"Good",1,"Good","30 to 40",30,40,-6,3.046153846153847E-2,0,-15,0,-25,50]
[null,"1122211-40",1901,1,"<130mph",1,"< 15,000",2,"Concrete with USP",2,"Medium",2,"400 < R < 600",1,"Good",1,"Good","40 to 50",40,50,-6,3.3000000000000015E-2,0,-18,0,-25,50]
[null,"1122211-50",1902,1,"<130mph",1,"< 15,000",2,"Concrete with USP",2,"Medium",2,"400 < R < 600",1,"Good",1,"Good","Above 50",50,1000,-6,3.3000000000000015E-2,0,-20,-0.5,-25,50]
[null,"1121211-0",1903,1,"<130mph",1,"< 15,000",2,"Concrete with USP",1,"Hard",2,"400 < R < 600",1,"Good",1,"Good","0 to 10",0,10,-6,2.1323076923076931E-2,0,-6.75,0,-12,50]
[null,"1121211-10",1904,1,"<130mph",1,"< 15,000",2,"Concrete with USP",1,"Hard",2,"400 < R < 600",1,"Good",1,"Good","10 to 20",10,20,-6,1.5992307692307698E-2,0,-7.2,0,-15,50]
[null,"1121211-20",1905,1,"<130mph",1,"< 15,000",2,"Concrete with USP",1,"Hard",2,"400 < R < 600",1,"Good",1,"Good","20 to 30",20,30,-6,1.9546153846153855E-2,0,-10.8,0,-20,50]
[null,"1121211-30",1906,1,"<130mph",1,"< 15,000",2,"Concrete with USP",1,"Hard",2,"400 < R < 600",1,"Good",1,"Good","30 to 40",30,40,-6,2.1323076923076931E-2,0,-13.5,0,-25,50]
[null,"1121211-40",1907,1,"<130mph",1,"< 15,000",2,"Concrete with USP",1,"Hard",2,"400 < R < 600",1,"Good",1,"Good","40 to 50",40,50,-6,2.3100000000000009E-2,0,-16.2,0,-25,50]
[null,"1121211-50",1908,1,"<130mph",1,"< 15,000",2,"Concrete with USP",1,"Hard",2,"400 < R < 600",1,"Good",1,"Good","Above 50",50,1000,-6,2.3100000000000009E-2,0,-18,-0.5,-25,50]
[null,"1123211-0",1909,1,"<130mph",1,"< 15,000",2,"Concrete with USP",3,"Soft",2,"400 < R < 600",1,"Good",1,"Good","0 to 10",0,10,-6,3.6553846153846166E-2,0,-8.25,0,-12,50]
[null,"1123211-10",1910,1,"<130mph",1,"< 15,000",2,"Concrete with USP",3,"Soft",2,"400 < R < 600",1,"Good",1,"Good","10 to 20",10,20,-6,2.7415384615384626E-2,0,-8.8000000000000007,0,-15,50]
[null,"1123211-20",1911,1,"<130mph",1,"< 15,000",2,"Concrete with USP",3,"Soft",2,"400 < R < 600",1,"Good",1,"Good","20 to 30",20,30,-6,3.3507692307692322E-2,0,-13.200000000000001,0,-20,50]
[null,"1123211-30",1912,1,"<130mph",1,"< 15,000",2,"Concrete with USP",3,"Soft",2,"400 < R < 600",1,"Good",1,"Good","30 to 40",30,40,-6,3.6553846153846166E-2,0,-16.5,0,-25,50]
[null,"1123211-40",1913,1,"<130mph",1,"< 15,000",2,"Concrete with USP",3,"Soft",2,"400 < R < 600",1,"Good",1,"Good","40 to 50",40,50,-6,3.9600000000000017E-2,0,-19.8,0,-25,50]
[null,"1123211-50",1914,1,"<130mph",1,"< 15,000",2,"Concrete with USP",3,"Soft",2,"400 < R < 600",1,"Good",1,"Good","Above 50",50,1000,-6,3.9600000000000017E-2,0,-22,-0.5,-25,50]
[null,"1122221-0",1915,1,"<130mph",1,"< 15,000",2,"Concrete with USP",2,"Medium",2,"400 < R < 600",2,"Poor",1,"Good","0 to 10",0,10,-6,3.046153846153847E-2,0,-7.5,0,-12,50]
[null,"1122221-10",1916,1,"<130mph",1,"< 15,000",2,"Concrete with USP",2,"Medium",2,"400 < R < 600",2,"Poor",1,"Good","10 to 20",10,20,-6,2.7415384615384626E-2,0,-8.8000000000000007,0,-15,50]
[null,"1122221-20",1917,1,"<130mph",1,"< 15,000",2,"Concrete with USP",2,"Medium",2,"400 < R < 600",2,"Poor",1,"Good","20 to 30",20,30,-6,3.3507692307692322E-2,0,-13.200000000000001,0,-20,50]
[null,"1122221-30",1918,1,"<130mph",1,"< 15,000",2,"Concrete with USP",2,"Medium",2,"400 < R < 600",2,"Poor",1,"Good","30 to 40",30,40,-6,3.6553846153846166E-2,0,-16.5,0,-25,50]
[null,"1122221-40",1919,1,"<130mph",1,"< 15,000",2,"Concrete with USP",2,"Medium",2,"400 < R < 600",2,"Poor",1,"Good","40 to 50",40,50,-6,3.9600000000000017E-2,0,-19.8,0,-25,50]
[null,"1122221-50",1920,1,"<130mph",1,"< 15,000",2,"Concrete with USP",2,"Medium",2,"400 < R < 600",2,"Poor",1,"Good","Above 50",50,1000,-6,3.9600000000000017E-2,0,-22,-0.5,-25,50]
[null,"1121221-0",1921,1,"<130mph",1,"< 15,000",2,"Concrete with USP",1,"Hard",2,"400 < R < 600",2,"Poor",1,"Good","0 to 10",0,10,-6,2.1323076923076931E-2,0,-6.75,0,-12,50]
[null,{"$f":"D1940&F1940&H1940&J1940&L1940&N1940&P1940&\"-\"&S1940","v":"1121221-10"},1922,1,"<130mph",1,"< 15,000",2,"Concrete with USP",1,"Hard",2,"400 < R < 600",2,"Poor",1,"Good","10 to 20",10,20,-6,1.9190769230769233E-2,0,-7.9200000000000008,0,-15,50]
[null,"1121221-20",1923,1,"<130mph",1,"< 15,000",2,"Concrete with USP",1,"Hard",2,"400 < R < 600",2,"Poor",1,"Good","20 to 30",20,30,-6,2.3455384615384621E-2,0,-11.88,0,-20,50]
[null,"1121221-30",1924,1,"<130mph",1,"< 15,000",2,"Concrete with USP",1,"Hard",2,"400 < R < 600",2,"Poor",1,"Good","30 to 40",30,40,-6,2.5587692307692311E-2,0,-14.850000000000001,0,-25,50]
[null,"1121221-40",1925,1,"<130mph",1,"< 15,000",2,"Concrete with USP",1,"Hard",2,"400 < R < 600",2,"Poor",1,"Good","40 to 50",40,50,-6,2.7720000000000009E-2,0,-17.82,0,-25,50]
[null,"1121221-50",1926,1,"<130mph",1,"< 15,000",2,"Concrete with USP",1,"Hard",2,"400 < R < 600",2,"Poor",1,"Good","Above 50",50,1000,-6,2.7720000000000009E-2,0,-19.8,-0.5,-25,50]
[null,"1123221-0",1927,1,"<130mph",1,"< 15,000",2,"Concrete with USP",3,"Soft",2,"400 < R < 600",2,"Poor",1,"Good","0 to 10",0,10,-6,3.6553846153846166E-2,0,-8.25,0,-12,50]
[null,"1123221-10",1928,1,"<130mph",1,"< 15,000",2,"Concrete with USP",3,"Soft",2,"400 < R < 600",2,"Poor",1,"Good","10 to 20",10,20,-6,3.289846153846155E-2,0,-9.6800000000000015,0,-15,50]
[null,"1123221-20",1929,1,"<130mph",1,"< 15,000",2,"Concrete with USP",3,"Soft",2,"400 < R < 600",2,"Poor",1,"Good","20 to 30",20,30,-6,4.0209230769230782E-2,0,-14.520000000000003,0,-20,50]
[null,"1123221-30",1930,1,"<130mph",1,"< 15,000",2,"Concrete with USP",3,"Soft",2,"400 < R < 600",2,"Poor",1,"Good","30 to 40",30,40,-6,4.3864615384615398E-2,0,-18.150000000000002,0,-25,50]
[null,"1123221-40",1931,1,"<130mph",1,"< 15,000",2,"Concrete with USP",3,"Soft",2,"400 < R < 600",2,"Poor",1,"Good","40 to 50",40,50,-6,4.7520000000000014E-2,0,-21.780000000000005,0,-25,50]
[null,"1123221-50",1932,1,"<130mph",1,"< 15,000",2,"Concrete with USP",3,"Soft",2,"400 < R < 600",2,"Poor",1,"Good","Above 50",50,1000,-6,4.7520000000000014E-2,0,-24.200000000000003,-0.5,-25,50]
[null,"1122212-0",1933,1,"<130mph",1,"< 15,000",2,"Concrete with USP",2,"Medium",2,"400 < R < 600",1,"Good",2,"Poor","0 to 10",0,10,-6,3.046153846153847E-2,0,-7.5,0,-12,50]
[null,"1122212-10",1934,1,"<130mph",1,"< 15,000",2,"Concrete with USP",2,"Medium",2,"400 < R < 600",1,"Good",2,"Poor","10 to 20",10,20,-6,2.5130769230769238E-2,0,-8.8000000000000007,0,-15,50]
[null,"1122212-20",1935,1,"<130mph",1,"< 15,000",2,"Concrete with USP",2,"Medium",2,"400 < R < 600",1,"Good",2,"Poor","20 to 30",20,30,-6,3.0715384615384627E-2,0,-13.200000000000001,0,-20,50]
[null,"1122212-30",1936,1,"<130mph",1,"< 15,000",2,"Concrete with USP",2,"Medium",2,"400 < R < 600",1,"Good",2,"Poor","30 to 40",30,40,-6,3.3507692307692322E-2,0,-16.5,0,-25,50]
[null,"1122212-40",1937,1,"<130mph",1,"< 15,000",2,"Concrete with USP",2,"Medium",2,"400 < R < 600",1,"Good",2,"Poor","40 to 50",40,50,-6,3.6300000000000013E-2,0,-19.8,0,-25,50]
[null,"1122212-50",1938,1,"<130mph",1,"< 15,000",2,"Concrete with USP",2,"Medium",2,"400 < R < 600",1,"Good",2,"Poor","Above 50",50,1000,-6,3.6300000000000013E-2,0,-22,-0.5,-25,50]
[null,"1121212-0",1939,1,"<130mph",1,"< 15,000",2,"Concrete with USP",1,"Hard",2,"400 < R < 600",1,"Good",2,"Poor","0 to 10",0,10,-6,2.1323076923076931E-2,0,-6.75,0,-12,50]
[null,"1121212-10",1940,1,"<130mph",1,"< 15,000",2,"Concrete with USP",1,"Hard",2,"400 < R < 600",1,"Good",2,"Poor","10 to 20",10,20,-6,1.7591538461538467E-2,0,-7.9200000000000008,0,-15,50]
[null,"1121212-20",1941,1,"<130mph",1,"< 15,000",2,"Concrete with USP",1,"Hard",2,"400 < R < 600",1,"Good",2,"Poor","20 to 30",20,30,-6,2.150076923076924E-2,0,-11.88,0,-20,50]
[null,"1121212-30",1942,1,"<130mph",1,"< 15,000",2,"Concrete with USP",1,"Hard",2,"400 < R < 600",1,"Good",2,"Poor","30 to 40",30,40,-6,2.3455384615384624E-2,0,-14.850000000000001,0,-25,50]
[null,"1121212-40",1943,1,"<130mph",1,"< 15,000",2,"Concrete with USP",1,"Hard",2,"400 < R < 600",1,"Good",2,"Poor","40 to 50",40,50,-6,2.5410000000000012E-2,0,-17.82,0,-25,50]
[null,"1121212-50",1944,1,"<130mph",1,"< 15,000",2,"Concrete with USP",1,"Hard",2,"400 < R < 600",1,"Good",2,"Poor","Above 50",50,1000,-6,2.5410000000000012E-2,0,-19.8,-0.5,-25,50]
[null,"1123212-0",1945,1,"<130mph",1,"< 15,000",2,"Concrete with USP",3,"Soft",2,"400 < R < 600",1,"Good",2,"Poor","0 to 10",0,10,-6,3.6553846153846166E-2,0,-8.25,0,-12,50]
[null,"1123212-10",1946,1,"<130mph",1,"< 15,000",2,"Concrete with USP",3,"Soft",2,"400 < R < 600",1,"Good",2,"Poor","10 to 20",10,20,-6,3.0156923076923088E-2,0,-9.6800000000000015,0,-15,50]
[null,"1123212-20",1947,1,"<130mph",1,"< 15,000",2,"Concrete with USP",3,"Soft",2,"400 < R < 600",1,"Good",2,"Poor","20 to 30",20,30,-6,3.6858461538461555E-2,0,-14.520000000000003,0,-20,50]
[null,"1123212-30",1948,1,"<130mph",1,"< 15,000",2,"Concrete with USP",3,"Soft",2,"400 < R < 600",1,"Good",2,"Poor","30 to 40",30,40,-6,4.0209230769230782E-2,0,-18.150000000000002,0,-25,50]
[null,"1123212-40",1949,1,"<130mph",1,"< 15,000",2,"Concrete with USP",3,"Soft",2,"400 < R < 600",1,"Good",2,"Poor","40 to 50",40,50,-6,4.3560000000000022E-2,0,-21.780000000000005,0,-25,50]
[null,"1123212-50",1950,1,"<130mph",1,"< 15,000",2,"Concrete with USP",3,"Soft",2,"400 < R < 600",1,"Good",2,"Poor","Above 50",50,1000,-6,4.3560000000000022E-2,0,-24.200000000000003,-0.5,-25,50]
[null,"1122222-0",1951,1,"<130mph",1,"< 15,000",2,"Concrete with USP",2,"Medium",2,"400 < R < 600",2,"Poor",2,"Poor","0 to 10",0,10,-6,3.046153846153847E-2,0,-7.5,0,-12,50]
[null,"1122222-10",1952,1,"<130mph",1,"< 15,000",2,"Concrete with USP",2,"Medium",2,"400 < R < 600",2,"Poor",2,"Poor","10 to 20",10,20,-6,3.0156923076923088E-2,0,-9.6800000000000015,0,-15,50]
[null,"1122222-20",1953,1,"<130mph",1,"< 15,000",2,"Concrete with USP",2,"Medium",2,"400 < R < 600",2,"Poor",2,"Poor","20 to 30",20,30,-6,3.6858461538461555E-2,0,-14.520000000000003,0,-20,50]
[null,"1122222-30",1954,1,"<130mph",1,"< 15,000",2,"Concrete with USP",2,"Medium",2,"400 < R < 600",2,"Poor",2,"Poor","30 to 40",30,40,-6,4.0209230769230782E-2,0,-18.150000000000002,0,-25,50]
[null,"1122222-40",1955,1,"<130mph",1,"< 15,000",2,"Concrete with USP",2,"Medium",2,"400 < R < 600",2,"Poor",2,"Poor","40 to 50",40,50,-6,4.3560000000000022E-2,0,-21.780000000000005,0,-25,50]
[null,"1122222-50",1956,1,"<130mph",1,"< 15,000",2,"Concrete with USP",2,"Medium",2,"400 < R < 600",2,"Poor",2,"Poor","Above 50",50,1000,-6,4.3560000000000022E-2,0,-24.200000000000003,-0.5,-25,50]
[null,"1121222-0",1957,1,"<130mph",1,"< 15,000",2,"Concrete with USP",1,"Hard",2,"400 < R < 600",2,"Poor",2,"Poor","0 to 10",0,10,-6,2.1323076923076931E-2,0,-6.75,0,-12,50]
[null,"1121222-10",1958,1,"<130mph",1,"< 15,000",2,"Concrete with USP",1,"Hard",2,"400 < R < 600",2,"Poor",2,"Poor","10 to 20",10,20,-6,2.110984615384616E-2,0,-8.7120000000000015,0,-15,50]
[null,"1121222-20",1959,1,"<130mph",1,"< 15,000",2,"Concrete with USP",1,"Hard",2,"400 < R < 600",2,"Poor",2,"Poor","20 to 30",20,30,-6,2.5800923076923086E-2,0,-13.068000000000001,0,-20,50]
[null,"1121222-30",1960,1,"<130mph",1,"< 15,000",2,"Concrete with USP",1,"Hard",2,"400 < R < 600",2,"Poor",2,"Poor","30 to 40",30,40,-6,2.8146461538461547E-2,0,-16.335000000000004,0,-25,50]
[null,"1121222-40",1961,1,"<130mph",1,"< 15,000",2,"Concrete with USP",1,"Hard",2,"400 < R < 600",2,"Poor",2,"Poor","40 to 50",40,50,-6,3.0492000000000009E-2,0,-19.602000000000004,0,-25,50]
[null,"1121222-50",1962,1,"<130mph",1,"< 15,000",2,"Concrete with USP",1,"Hard",2,"400 < R < 600",2,"Poor",2,"Poor","Above 50",50,1000,-6,3.0492000000000009E-2,0,-21.780000000000005,-0.5,-25,50]
[null,"1123222-0",1963,1,"<130mph",1,"< 15,000",2,"Concrete with USP",3,"Soft",2,"400 < R < 600",2,"Poor",2,"Poor","0 to 10",0,10,-6,3.6553846153846166E-2,0,-8.25,0,-12,50]
[null,"1123222-10",1964,1,"<130mph",1,"< 15,000",2,"Concrete with USP",3,"Soft",2,"400 < R < 600",2,"Poor",2,"Poor","10 to 20",10,20,-6,3.6188307692307707E-2,0,-10.648000000000003,0,-15,50]
[null,"1123222-20",1965,1,"<130mph",1,"< 15,000",2,"Concrete with USP",3,"Soft",2,"400 < R < 600",2,"Poor",2,"Poor","20 to 30",20,30,-6,4.4230153846153863E-2,0,-15.972000000000005,0,-20,50]
[null,"1123222-30",1966,1,"<130mph",1,"< 15,000",2,"Concrete with USP",3,"Soft",2,"400 < R < 600",2,"Poor",2,"Poor","30 to 40",30,40,-6,4.8251076923076938E-2,0,-19.965000000000007,0,-25,50]
[null,"1123222-40",1967,1,"<130mph",1,"< 15,000",2,"Concrete with USP",3,"Soft",2,"400 < R < 600",2,"Poor",2,"Poor","40 to 50",40,50,-6,5.2272000000000027E-2,0,-23.958000000000006,0,-25,50]
[null,"1123222-50",1968,1,"<130mph",1,"< 15,000",2,"Concrete with USP",3,"Soft",2,"400 < R < 600",2,"Poor",2,"Poor","Above 50",50,1000,-6,5.2272000000000027E-2,0,-26.620000000000008,-0.5,-25,50]
[null,"1122311-0",1969,1,"<130mph",1,"< 15,000",2,"Concrete with USP",2,"Medium",3,"300 < R < 400",1,"Good",1,"Good","0 to 10",0,10,-6,3.046153846153847E-2,0,-7.5,0,-12,25]
[null,"1122311-10",1970,1,"<130mph",1,"< 15,000",2,"Concrete with USP",2,"Medium",3,"300 < R < 400",1,"Good",1,"Good","10 to 20",10,20,-6,2.2846153846153853E-2,0,-8,0,-15,25]
[null,"1122311-20",1971,1,"<130mph",1,"< 15,000",2,"Concrete with USP",2,"Medium",3,"300 < R < 400",1,"Good",1,"Good","20 to 30",20,30,-6,2.7923076923076932E-2,0,-12,0,-20,25]
[null,"1122311-30",1972,1,"<130mph",1,"< 15,000",2,"Concrete with USP",2,"Medium",3,"300 < R < 400",1,"Good",1,"Good","30 to 40",30,40,-6,3.046153846153847E-2,0,-15,0,-25,25]
[null,"1122311-40",1973,1,"<130mph",1,"< 15,000",2,"Concrete with USP",2,"Medium",3,"300 < R < 400",1,"Good",1,"Good","40 to 50",40,50,-6,3.3000000000000015E-2,0,-18,0,-25,25]
[null,"1122311-50",1974,1,"<130mph",1,"< 15,000",2,"Concrete with USP",2,"Medium",3,"300 < R < 400",1,"Good",1,"Good","Above 50",50,1000,-6,3.3000000000000015E-2,0,-20,-0.5,-25,25]
[null,"1121311-0",1975,1,"<130mph",1,"< 15,000",2,"Concrete with USP",1,"Hard",3,"300 < R < 400",1,"Good",1,"Good","0 to 10",0,10,-6,2.1323076923076931E-2,0,-6.75,0,-12,25]
[null,"1121311-10",1976,1,"<130mph",1,"< 15,000",2,"Concrete with USP",1,"Hard",3,"300 < R < 400",1,"Good",1,"Good","10 to 20",10,20,-6,1.5992307692307698E-2,0,-7.2,0,-15,25]
[null,"1121311-20",1977,1,"<130mph",1,"< 15,000",2,"Concrete with USP",1,"Hard",3,"300 < R < 400",1,"Good",1,"Good","20 to 30",20,30,-6,1.9546153846153855E-2,0,-10.8,0,-20,25]
[null,"1121311-30",1978,1,"<130mph",1,"< 15,000",2,"Concrete with USP",1,"Hard",3,"300 < R < 400",1,"Good",1,"Good","30 to 40",30,40,-6,2.1323076923076931E-2,0,-13.5,0,-25,25]
[null,"1121311-40",1979,1,"<130mph",1,"< 15,000",2,"Concrete with USP",1,"Hard",3,"300 < R < 400",1,"Good",1,"Good","40 to 50",40,50,-6,2.3100000000000009E-2,0,-16.2,0,-25,25]
[null,"1121311-50",1980,1,"<130mph",1,"< 15,000",2,"Concrete with USP",1,"Hard",3,"300 < R < 400",1,"Good",1,"Good","Above 50",50,1000,-6,2.3100000000000009E-2,0,-18,-0.5,-25,25]
[null,"1123311-0",1981,1,"<130mph",1,"< 15,000",2,"Concrete with USP",3,"Soft",3,"300 < R < 400",1,"Good",1,"Good","0 to 10",0,10,-6,3.6553846153846166E-2,0,-8.25,0,-12,25]
[null,"1123311-10",1982,1,"<130mph",1,"< 15,000",2,"Concrete with USP",3,"Soft",3,"300 < R < 400",1,"Good",1,"Good","10 to 20",10,20,-6,2.7415384615384626E-2,0,-8.8000000000000007,0,-15,25]
[null,"1123311-20",1983,1,"<130mph",1,"< 15,000",2,"Concrete with USP",3,"Soft",3,"300 < R < 400",1,"Good",1,"Good","20 to 30",20,30,-6,3.3507692307692322E-2,0,-13.200000000000001,0,-20,25]
[null,"1123311-30",1984,1,"<130mph",1,"< 15,000",2,"Concrete with USP",3,"Soft",3,"300 < R < 400",1,"Good",1,"Good","30 to 40",30,40,-6,3.6553846153846166E-2,0,-16.5,0,-25,25]
[null,"1123311-40",1985,1,"<130mph",1,"< 15,000",2,"Concrete with USP",3,"Soft",3,"300 < R < 400",1,"Good",1,"Good","40 to 50",40,50,-6,3.9600000000000017E-2,0,-19.8,0,-25,25]
[null,{"$f":"D2004&F2004&H2004&J2004&L2004&N2004&P2004&\"-\"&S2004","v":"1123311-50"},1986,1,"<130mph",1,"< 15,000",2,"Concrete with USP",3,"Soft",3,"300 < R < 400",1,"Good",1,"Good","Above 50",50,1000,-6,3.9600000000000017E-2,0,-22,-0.5,-25,25]
[null,"1122321-0",1987,1,"<130mph",1,"< 15,000",2,"Concrete with USP",2,"Medium",3,"300 < R < 400",2,"Poor",1,"Good","0 to 10",0,10,-6,3.046153846153847E-2,0,-7.5,0,-12,25]
[null,"1122321-10",1988,1,"<130mph",1,"< 15,000",2,"Concrete with USP",2,"Medium",3,"300 < R < 400",2,"Poor",1,"Good","10 to 20",10,20,-6,2.7415384615384626E-2,0,-8.8000000000000007,0,-15,25]
[null,"1122321-20",1989,1,"<130mph",1,"< 15,000",2,"Concrete with USP",2,"Medium",3,"300 < R < 400",2,"Poor",1,"Good","20 to 30",20,30,-6,3.3507692307692322E-2,0,-13.200000000000001,0,-20,25]
[null,"1122321-30",1990,1,"<130mph",1,"< 15,000",2,"Concrete with USP",2,"Medium",3,"300 < R < 400",2,"Poor",1,"Good","30 to 40",30,40,-6,3.6553846153846166E-2,0,-16.5,0,-25,25]
[null,"1122321-40",1991,1,"<130mph",1,"< 15,000",2,"Concrete with USP",2,"Medium",3,"300 < R < 400",2,"Poor",1,"Good","40 to 50",40,50,-6,3.9600000000000017E-2,0,-19.8,0,-25,25]
[null,"1122321-50",1992,1,"<130mph",1,"< 15,000",2,"Concrete with USP",2,"Medium",3,"300 < R < 400",2,"Poor",1,"Good","Above 50",50,1000,-6,3.9600000000000017E-2,0,-22,-0.5,-25,25]
[null,"1121321-0",1993,1,"<130mph",1,"< 15,000",2,"Concrete with USP",1,"Hard",3,"300 < R < 400",2,"Poor",1,"Good","0 to 10",0,10,-6,2.1323076923076931E-2,0,-6.75,0,-12,25]
[null,"1121321-10",1994,1,"<130mph",1,"< 15,000",2,"Concrete with USP",1,"Hard",3,"300 < R < 400",2,"Poor",1,"Good","10 to 20",10,20,-6,1.9190769230769233E-2,0,-7.9200000000000008,0,-15,25]
[null,"1121321-20",1995,1,"<130mph",1,"< 15,000",2,"Concrete with USP",1,"Hard",3,"300 < R < 400",2,"Poor",1,"Good","20 to 30",20,30,-6,2.3455384615384621E-2,0,-11.88,0,-20,25]
[null,"1121321-30",1996,1,"<130mph",1,"< 15,000",2,"Concrete with USP",1,"Hard",3,"300 < R < 400",2,"Poor",1,"Good","30 to 40",30,40,-6,2.5587692307692311E-2,0,-14.850000000000001,0,-25,25]
[null,"1121321-40",1997,1,"<130mph",1,"< 15,000",2,"Concrete with USP",1,"Hard",3,"300 < R < 400",2,"Poor",1,"Good","40 to 50",40,50,-6,2.7720000000000009E-2,0,-17.82,0,-25,25]
[null,"1121321-50",1998,1,"<130mph",1,"< 15,000",2,"Concrete with USP",1,"Hard",3,"300 < R < 400",2,"Poor",1,"Good","Above 50",50,1000,-6,2.7720000000000009E-2,0,-19.8,-0.5,-25,25]
[null,"1123321-0",1999,1,"<130mph",1,"< 15,000",2,"Concrete with USP",3,"Soft",3,"300 < R < 400",2,"Poor",1,"Good","0 to 10",0,10,-6,3.6553846153846166E-2,0,-8.25,0,-12,25]
[null,"1123321-10",2000,1,"<130mph",1,"< 15,000",2,"Concrete with USP",3,"Soft",3,"300 < R < 400",2,"Poor",1,"Good","10 to 20",10,20,-6,3.289846153846155E-2,0,-9.6800000000000015,0,-15,25]
[null,"1123321-20",2001,1,"<130mph",1,"< 15,000",2,"Concrete with USP",3,"Soft",3,"300 < R < 400",2,"Poor",1,"Good","20 to 30",20,30,-6,4.0209230769230782E-2,0,-14.520000000000003,0,-20,25]
[null,"1123321-30",2002,1,"<130mph",1,"< 15,000",2,"Concrete with USP",3,"Soft",3,"300 < R < 400",2,"Poor",1,"Good","30 to 40",30,40,-6,4.3864615384615398E-2,0,-18.150000000000002,0,-25,25]
[null,"1123321-40",2003,1,"<130mph",1,"< 15,000",2,"Concrete with USP",3,"Soft",3,"300 < R < 400",2,"Poor",1,"Good","40 to 50",40,50,-6,4.7520000000000014E-2,0,-21.780000000000005,0,-25,25]
[null,"1123321-50",2004,1,"<130mph",1,"< 15,000",2,"Concrete with USP",3,"Soft",3,"300 < R < 400",2,"Poor",1,"Good","Above 50",50,1000,-6,4.7520000000000014E-2,0,-24.200000000000003,-0.5,-25,25]
[null,"1122312-0",2005,1,"<130mph",1,"< 15,000",2,"Concrete with USP",2,"Medium",3,"300 < R < 400",1,"Good",2,"Poor","0 to 10",0,10,-6,3.046153846153847E-2,0,-7.5,0,-12,25]
[null,"1122312-10",2006,1,"<130mph",1,"< 15,000",2,"Concrete with USP",2,"Medium",3,"300 < R < 400",1,"Good",2,"Poor","10 to 20",10,20,-6,2.5130769230769238E-2,0,-8.8000000000000007,0,-15,25]
[null,"1122312-20",2007,1,"<130mph",1,"< 15,000",2,"Concrete with USP",2,"Medium",3,"300 < R < 400",1,"Good",2,"Poor","20 to 30",20,30,-6,3.0715384615384627E-2,0,-13.200000000000001,0,-20,25]
[null,"1122312-30",2008,1,"<130mph",1,"< 15,000",2,"Concrete with USP",2,"Medium",3,"300 < R < 400",1,"Good",2,"Poor","30 to 40",30,40,-6,3.3507692307692322E-2,0,-16.5,0,-25,25]
[null,"1122312-40",2009,1,"<130mph",1,"< 15,000",2,"Concrete with USP",2,"Medium",3,"300 < R < 400",1,"Good",2,"Poor","40 to 50",40,50,-6,3.6300000000000013E-2,0,-19.8,0,-25,25]
[null,"1122312-50",2010,1,"<130mph",1,"< 15,000",2,"Concrete with USP",2,"Medium",3,"300 < R < 400",1,"Good",2,"Poor","Above 50",50,1000,-6,3.6300000000000013E-2,0,-22,-0.5,-25,25]
[null,"1121312-0",2011,1,"<130mph",1,"< 15,000",2,"Concrete with USP",1,"Hard",3,"300 < R < 400",1,"Good",2,"Poor","0 to 10",0,10,-6,2.1323076923076931E-2,0,-6.75,0,-12,25]
[null,"1121312-10",2012,1,"<130mph",1,"< 15,000",2,"Concrete with USP",1,"Hard",3,"300 < R < 400",1,"Good",2,"Poor","10 to 20",10,20,-6,1.7591538461538467E-2,0,-7.9200000000000008,0,-15,25]
[null,"1121312-20",2013,1,"<130mph",1,"< 15,000",2,"Concrete with USP",1,"Hard",3,"300 < R < 400",1,"Good",2,"Poor","20 to 30",20,30,-6,2.150076923076924E-2,0,-11.88,0,-20,25]
[null,"1121312-30",2014,1,"<130mph",1,"< 15,000",2,"Concrete with USP",1,"Hard",3,"300 < R < 400",1,"Good",2,"Poor","30 to 40",30,40,-6,2.3455384615384624E-2,0,-14.850000000000001,0,-25,25]
[null,"1121312-40",2015,1,"<130mph",1,"< 15,000",2,"Concrete with USP",1,"Hard",3,"300 < R < 400",1,"Good",2,"Poor","40 to 50",40,50,-6,2.5410000000000012E-2,0,-17.82,0,-25,25]
[null,"1121312-50",2016,1,"<130mph",1,"< 15,000",2,"Concrete with USP",1,"Hard",3,"300 < R < 400",1,"Good",2,"Poor","Above 50",50,1000,-6,2.5410000000000012E-2,0,-19.8,-0.5,-25,25]
[null,"1123312-0",2017,1,"<130mph",1,"< 15,000",2,"Concrete with USP",3,"Soft",3,"300 < R < 400",1,"Good",2,"Poor","0 to 10",0,10,-6,3.6553846153846166E-2,0,-8.25,0,-12,25]
[null,"1123312-10",2018,1,"<130mph",1,"< 15,000",2,"Concrete with USP",3,"Soft",3,"300 < R < 400",1,"Good",2,"Poor","10 to 20",10,20,-6,3.0156923076923088E-2,0,-9.6800000000000015,0,-15,25]
[null,"1123312-20",2019,1,"<130mph",1,"< 15,000",2,"Concrete with USP",3,"Soft",3,"300 < R < 400",1,"Good",2,"Poor","20 to 30",20,30,-6,3.6858461538461555E-2,0,-14.520000000000003,0,-20,25]
[null,"1123312-30",2020,1,"<130mph",1,"< 15,000",2,"Concrete with USP",3,"Soft",3,"300 < R < 400",1,"Good",2,"Poor","30 to 40",30,40,-6,4.0209230769230782E-2,0,-18.150000000000002,0,-25,25]
[null,"1123312-40",2021,1,"<130mph",1,"< 15,000",2,"Concrete with USP",3,"Soft",3,"300 < R < 400",1,"Good",2,"Poor","40 to 50",40,50,-6,4.3560000000000022E-2,0,-21.780000000000005,0,-25,25]
[null,"1123312-50",2022,1,"<130mph",1,"< 15,000",2,"Concrete with USP",3,"Soft",3,"300 < R < 400",1,"Good",2,"Poor","Above 50",50,1000,-6,4.3560000000000022E-2,0,-24.200000000000003,-0.5,-25,25]
[null,"1122322-0",2023,1,"<130mph",1,"< 15,000",2,"Concrete with USP",2,"Medium",3,"300 < R < 400",2,"Poor",2,"Poor","0 to 10",0,10,-6,3.046153846153847E-2,0,-7.5,0,-12,25]
[null,"1122322-10",2024,1,"<130mph",1,"< 15,000",2,"Concrete with USP",2,"Medium",3,"300 < R < 400",2,"Poor",2,"Poor","10 to 20",10,20,-6,3.0156923076923088E-2,0,-9.6800000000000015,0,-15,25]
[null,"1122322-20",2025,1,"<130mph",1,"< 15,000",2,"Concrete with USP",2,"Medium",3,"300 < R < 400",2,"Poor",2,"Poor","20 to 30",20,30,-6,3.6858461538461555E-2,0,-14.520000000000003,0,-20,25]
[null,"1122322-30",2026,1,"<130mph",1,"< 15,000",2,"Concrete with USP",2,"Medium",3,"300 < R < 400",2,"Poor",2,"Poor","30 to 40",30,40,-6,4.0209230769230782E-2,0,-18.150000000000002,0,-25,25]
[null,"1122322-40",2027,1,"<130mph",1,"< 15,000",2,"Concrete with USP",2,"Medium",3,"300 < R < 400",2,"Poor",2,"Poor","40 to 50",40,50,-6,4.3560000000000022E-2,0,-21.780000000000005,0,-25,25]
[null,"1122322-50",2028,1,"<130mph",1,"< 15,000",2,"Concrete with USP",2,"Medium",3,"300 < R < 400",2,"Poor",2,"Poor","Above 50",50,1000,-6,4.3560000000000022E-2,0,-24.200000000000003,-0.5,-25,25]
[null,"1121322-0",2029,1,"<130mph",1,"< 15,000",2,"Concrete with USP",1,"Hard",3,"300 < R < 400",2,"Poor",2,"Poor","0 to 10",0,10,-6,2.1323076923076931E-2,0,-6.75,0,-12,25]
[null,"1121322-10",2030,1,"<130mph",1,"< 15,000",2,"Concrete with USP",1,"Hard",3,"300 < R < 400",2,"Poor",2,"Poor","10 to 20",10,20,-6,2.110984615384616E-2,0,-8.7120000000000015,0,-15,25]
[null,"1121322-20",2031,1,"<130mph",1,"< 15,000",2,"Concrete with USP",1,"Hard",3,"300 < R < 400",2,"Poor",2,"Poor","20 to 30",20,30,-6,2.5800923076923086E-2,0,-13.068000000000001,0,-20,25]
[null,"1121322-30",2032,1,"<130mph",1,"< 15,000",2,"Concrete with USP",1,"Hard",3,"300 < R < 400",2,"Poor",2,"Poor","30 to 40",30,40,-6,2.8146461538461547E-2,0,-16.335000000000004,0,-25,25]
[null,"1121322-40",2033,1,"<130mph",1,"< 15,000",2,"Concrete with USP",1,"Hard",3,"300 < R < 400",2,"Poor",2,"Poor","40 to 50",40,50,-6,3.0492000000000009E-2,0,-19.602000000000004,0,-25,25]
[null,"1121322-50",2034,1,"<130mph",1,"< 15,000",2,"Concrete with USP",1,"Hard",3,"300 < R < 400",2,"Poor",2,"Poor","Above 50",50,1000,-6,3.0492000000000009E-2,0,-21.780000000000005,-0.5,-25,25]
[null,"1123322-0",2035,1,"<130mph",1,"< 15,000",2,"Concrete with USP",3,"Soft",3,"300 < R < 400",2,"Poor",2,"Poor","0 to 10",0,10,-6,3.6553846153846166E-2,0,-8.25,0,-12,25]
[null,"1123322-10",2036,1,"<130mph",1,"< 15,000",2,"Concrete with USP",3,"Soft",3,"300 < R < 400",2,"Poor",2,"Poor","10 to 20",10,20,-6,3.6188307692307707E-2,0,-10.648000000000003,0,-15,25]
[null,"1123322-20",2037,1,"<130mph",1,"< 15,000",2,"Concrete with USP",3,"Soft",3,"300 < R < 400",2,"Poor",2,"Poor","20 to 30",20,30,-6,4.4230153846153863E-2,0,-15.972000000000005,0,-20,25]
[null,"1123322-30",2038,1,"<130mph",1,"< 15,000",2,"Concrete with USP",3,"Soft",3,"300 < R < 400",2,"Poor",2,"Poor","30 to 40",30,40,-6,4.8251076923076938E-2,0,-19.965000000000007,0,-25,25]
[null,"1123322-40",2039,1,"<130mph",1,"< 15,000",2,"Concrete with USP",3,"Soft",3,"300 < R < 400",2,"Poor",2,"Poor","40 to 50",40,50,-6,5.2272000000000027E-2,0,-23.958000000000006,0,-25,25]
[null,"1123322-50",2040,1,"<130mph",1,"< 15,000",2,"Concrete with USP",3,"Soft",3,"300 < R < 400",2,"Poor",2,"Poor","Above 50",50,1000,-6,5.2272000000000027E-2,0,-26.620000000000008,-0.5,-25,25]
[null,"1122411-0",2041,1,"<130mph",1,"< 15,000",2,"Concrete with USP",2,"Medium",4,"< 300",1,"Good",1,"Good","0 to 10",0,10,-6,4.1538461538461552E-2,0,-7.5,0,-12,20]
[null,"1122411-10",2042,1,"<130mph",1,"< 15,000",2,"Concrete with USP",2,"Medium",4,"< 300",1,"Good",1,"Good","10 to 20",10,20,-6,3.115384615384616E-2,0,-8,0,-15,20]
[null,"1122411-20",2043,1,"<130mph",1,"< 15,000",2,"Concrete with USP",2,"Medium",4,"< 300",1,"Good",1,"Good","20 to 30",20,30,-6,3.8076923076923092E-2,0,-12,0,-20,20]
[null,"1122411-30",2044,1,"<130mph",1,"< 15,000",2,"Concrete with USP",2,"Medium",4,"< 300",1,"Good",1,"Good","30 to 40",30,40,-6,4.1538461538461552E-2,0,-15,0,-25,20]
[null,"1122411-40",2045,1,"<130mph",1,"< 15,000",2,"Concrete with USP",2,"Medium",4,"< 300",1,"Good",1,"Good","40 to 50",40,50,-6,4.5000000000000012E-2,0,-18,0,-25,20]
[null,"1122411-50",2046,1,"<130mph",1,"< 15,000",2,"Concrete with USP",2,"Medium",4,"< 300",1,"Good",1,"Good","Above 50",50,1000,-6,4.5000000000000012E-2,0,-20,-0.5,-25,20]
[null,"1121411-0",2047,1,"<130mph",1,"< 15,000",2,"Concrete with USP",1,"Hard",4,"< 300",1,"Good",1,"Good","0 to 10",0,10,-6,2.907692307692308E-2,0,-6.75,0,-12,20]
[null,"1121411-10",2048,1,"<130mph",1,"< 15,000",2,"Concrete with USP",1,"Hard",4,"< 300",1,"Good",1,"Good","10 to 20",10,20,-6,2.1807692307692309E-2,0,-7.2,0,-15,20]
[null,"1121411-20",2049,1,"<130mph",1,"< 15,000",2,"Concrete with USP",1,"Hard",4,"< 300",1,"Good",1,"Good","20 to 30",20,30,-6,2.6653846153846156E-2,0,-10.8,0,-20,20]
[null,{"$f":"D2068&F2068&H2068&J2068&L2068&N2068&P2068&\"-\"&S2068","v":"1121411-30"},2050,1,"<130mph",1,"< 15,000",2,"Concrete with USP",1,"Hard",4,"< 300",1,"Good",1,"Good","30 to 40",30,40,-6,2.907692307692308E-2,0,-13.5,0,-25,20]
[null,"1121411-40",2051,1,"<130mph",1,"< 15,000",2,"Concrete with USP",1,"Hard",4,"< 300",1,"Good",1,"Good","40 to 50",40,50,-6,3.1500000000000007E-2,0,-16.2,0,-25,20]
[null,"1121411-50",2052,1,"<130mph",1,"< 15,000",2,"Concrete with USP",1,"Hard",4,"< 300",1,"Good",1,"Good","Above 50",50,1000,-6,3.1500000000000007E-2,0,-18,-0.5,-25,20]
[null,"1123411-0",2053,1,"<130mph",1,"< 15,000",2,"Concrete with USP",3,"Soft",4,"< 300",1,"Good",1,"Good","0 to 10",0,10,-6,4.9846153846153853E-2,0,-8.25,0,-12,20]
[null,"1123411-10",2054,1,"<130mph",1,"< 15,000",2,"Concrete with USP",3,"Soft",4,"< 300",1,"Good",1,"Good","10 to 20",10,20,-6,3.7384615384615391E-2,0,-8.8000000000000007,0,-15,20]
[null,"1123411-20",2055,1,"<130mph",1,"< 15,000",2,"Concrete with USP",3,"Soft",4,"< 300",1,"Good",1,"Good","20 to 30",20,30,-6,4.5692307692307699E-2,0,-13.200000000000001,0,-20,20]
[null,"1123411-30",2056,1,"<130mph",1,"< 15,000",2,"Concrete with USP",3,"Soft",4,"< 300",1,"Good",1,"Good","30 to 40",30,40,-6,4.9846153846153853E-2,0,-16.5,0,-25,20]
[null,"1123411-40",2057,1,"<130mph",1,"< 15,000",2,"Concrete with USP",3,"Soft",4,"< 300",1,"Good",1,"Good","40 to 50",40,50,-6,5.4000000000000013E-2,0,-19.8,0,-25,20]
[null,"1123411-50",2058,1,"<130mph",1,"< 15,000",2,"Concrete with USP",3,"Soft",4,"< 300",1,"Good",1,"Good","Above 50",50,1000,-6,5.4000000000000013E-2,0,-22,-0.5,-25,20]
[null,"1122421-0",2059,1,"<130mph",1,"< 15,000",2,"Concrete with USP",2,"Medium",4,"< 300",2,"Poor",1,"Good","0 to 10",0,10,-6,4.1538461538461552E-2,0,-7.5,0,-12,20]
[null,"1122421-10",2060,1,"<130mph",1,"< 15,000",2,"Concrete with USP",2,"Medium",4,"< 300",2,"Poor",1,"Good","10 to 20",10,20,-6,3.7384615384615391E-2,0,-8.8000000000000007,0,-15,20]
[null,"1122421-20",2061,1,"<130mph",1,"< 15,000",2,"Concrete with USP",2,"Medium",4,"< 300",2,"Poor",1,"Good","20 to 30",20,30,-6,4.5692307692307699E-2,0,-13.200000000000001,0,-20,20]
[null,"1122421-30",2062,1,"<130mph",1,"< 15,000",2,"Concrete with USP",2,"Medium",4,"< 300",2,"Poor",1,"Good","30 to 40",30,40,-6,4.9846153846153853E-2,0,-16.5,0,-25,20]
[null,"1122421-40",2063,1,"<130mph",1,"< 15,000",2,"Concrete with USP",2,"Medium",4,"< 300",2,"Poor",1,"Good","40 to 50",40,50,-6,5.4000000000000013E-2,0,-19.8,0,-25,20]
[null,"1122421-50",2064,1,"<130mph",1,"< 15,000",2,"Concrete with USP",2,"Medium",4,"< 300",2,"Poor",1,"Good","Above 50",50,1000,-6,5.4000000000000013E-2,0,-22,-0.5,-25,20]
[null,"1121421-0",2065,1,"<130mph",1,"< 15,000",2,"Concrete with USP",1,"Hard",4,"< 300",2,"Poor",1,"Good","0 to 10",0,10,-6,2.907692307692308E-2,0,-6.75,0,-12,20]
[null,"1121421-10",2066,1,"<130mph",1,"< 15,000",2,"Concrete with USP",1,"Hard",4,"< 300",2,"Poor",1,"Good","10 to 20",10,20,-6,2.6169230769230768E-2,0,-7.9200000000000008,0,-15,20]
[null,"1121421-20",2067,1,"<130mph",1,"< 15,000",2,"Concrete with USP",1,"Hard",4,"< 300",2,"Poor",1,"Good","20 to 30",20,30,-6,3.1984615384615389E-2,0,-11.88,0,-20,20]
[null,"1121421-30",2068,1,"<130mph",1,"< 15,000",2,"Concrete with USP",1,"Hard",4,"< 300",2,"Poor",1,"Good","30 to 40",30,40,-6,3.4892307692307695E-2,0,-14.850000000000001,0,-25,20]
[null,"1121421-40",2069,1,"<130mph",1,"< 15,000",2,"Concrete with USP",1,"Hard",4,"< 300",2,"Poor",1,"Good","40 to 50",40,50,-6,3.78E-2,0,-17.82,0,-25,20]
[null,"1121421-50",2070,1,"<130mph",1,"< 15,000",2,"Concrete with USP",1,"Hard",4,"< 300",2,"Poor",1,"Good","Above 50",50,1000,-6,3.78E-2,0,-19.8,-0.5,-25,20]
[null,"1123421-0",2071,1,"<130mph",1,"< 15,000",2,"Concrete with USP",3,"Soft",4,"< 300",2,"Poor",1,"Good","0 to 10",0,10,-6,4.9846153846153853E-2,0,-8.25,0,-12,20]
[null,"1123421-10",2072,1,"<130mph",1,"< 15,000",2,"Concrete with USP",3,"Soft",4,"< 300",2,"Poor",1,"Good","10 to 20",10,20,-6,4.4861538461538467E-2,0,-9.6800000000000015,0,-15,20]
[null,"1123421-20",2073,1,"<130mph",1,"< 15,000",2,"Concrete with USP",3,"Soft",4,"< 300",2,"Poor",1,"Good","20 to 30",20,30,-6,5.4830769230769245E-2,0,-14.520000000000003,0,-20,20]
[null,"1123421-30",2074,1,"<130mph",1,"< 15,000",2,"Concrete with USP",3,"Soft",4,"< 300",2,"Poor",1,"Good","30 to 40",30,40,-6,5.9815384615384624E-2,0,-18.150000000000002,0,-25,20]
[null,"1123421-40",2075,1,"<130mph",1,"< 15,000",2,"Concrete with USP",3,"Soft",4,"< 300",2,"Poor",1,"Good","40 to 50",40,50,-6,6.480000000000001E-2,0,-21.780000000000005,0,-25,20]
[null,"1123421-50",2076,1,"<130mph",1,"< 15,000",2,"Concrete with USP",3,"Soft",4,"< 300",2,"Poor",1,"Good","Above 50",50,1000,-6,6.480000000000001E-2,0,-24.200000000000003,-0.5,-25,20]
[null,"1122412-0",2077,1,"<130mph",1,"< 15,000",2,"Concrete with USP",2,"Medium",4,"< 300",1,"Good",2,"Poor","0 to 10",0,10,-6,4.1538461538461552E-2,0,-7.5,0,-12,20]
[null,"1122412-10",2078,1,"<130mph",1,"< 15,000",2,"Concrete with USP",2,"Medium",4,"< 300",1,"Good",2,"Poor","10 to 20",10,20,-6,3.4269230769230781E-2,0,-8.8000000000000007,0,-15,20]
[null,"1122412-20",2079,1,"<130mph",1,"< 15,000",2,"Concrete with USP",2,"Medium",4,"< 300",1,"Good",2,"Poor","20 to 30",20,30,-6,4.1884615384615402E-2,0,-13.200000000000001,0,-20,20]
[null,"1122412-30",2080,1,"<130mph",1,"< 15,000",2,"Concrete with USP",2,"Medium",4,"< 300",1,"Good",2,"Poor","30 to 40",30,40,-6,4.5692307692307706E-2,0,-16.5,0,-25,20]
[null,"1122412-40",2081,1,"<130mph",1,"< 15,000",2,"Concrete with USP",2,"Medium",4,"< 300",1,"Good",2,"Poor","40 to 50",40,50,-6,4.9500000000000023E-2,0,-19.8,0,-25,20]
[null,"1122412-50",2082,1,"<130mph",1,"< 15,000",2,"Concrete with USP",2,"Medium",4,"< 300",1,"Good",2,"Poor","Above 50",50,1000,-6,4.9500000000000023E-2,0,-22,-0.5,-25,20]
[null,"1121412-0",2083,1,"<130mph",1,"< 15,000",2,"Concrete with USP",1,"Hard",4,"< 300",1,"Good",2,"Poor","0 to 10",0,10,-6,2.907692307692308E-2,0,-6.75,0,-12,20]
[null,"1121412-10",2084,1,"<130mph",1,"< 15,000",2,"Concrete with USP",1,"Hard",4,"< 300",1,"Good",2,"Poor","10 to 20",10,20,-6,2.3988461538461538E-2,0,-7.9200000000000008,0,-15,20]
[null,"1121412-20",2085,1,"<130mph",1,"< 15,000",2,"Concrete with USP",1,"Hard",4,"< 300",1,"Good",2,"Poor","20 to 30",20,30,-6,2.9319230769230771E-2,0,-11.88,0,-20,20]
[null,"1121412-30",2086,1,"<130mph",1,"< 15,000",2,"Concrete with USP",1,"Hard",4,"< 300",1,"Good",2,"Poor","30 to 40",30,40,-6,3.1984615384615389E-2,0,-14.850000000000001,0,-25,20]
[null,"1121412-40",2087,1,"<130mph",1,"< 15,000",2,"Concrete with USP",1,"Hard",4,"< 300",1,"Good",2,"Poor","40 to 50",40,50,-6,3.465E-2,0,-17.82,0,-25,20]
[null,"1121412-50",2088,1,"<130mph",1,"< 15,000",2,"Concrete with USP",1,"Hard",4,"< 300",1,"Good",2,"Poor","Above 50",50,1000,-6,3.465E-2,0,-19.8,-0.5,-25,20]
[null,"1123412-0",2089,1,"<130mph",1,"< 15,000",2,"Concrete with USP",3,"Soft",4,"< 300",1,"Good",2,"Poor","0 to 10",0,10,-6,4.9846153846153853E-2,0,-8.25,0,-12,20]
[null,"1123412-10",2090,1,"<130mph",1,"< 15,000",2,"Concrete with USP",3,"Soft",4,"< 300",1,"Good",2,"Poor","10 to 20",10,20,-6,4.1123076923076936E-2,0,-9.6800000000000015,0,-15,20]
[null,"1123412-20",2091,1,"<130mph",1,"< 15,000",2,"Concrete with USP",3,"Soft",4,"< 300",1,"Good",2,"Poor","20 to 30",20,30,-6,5.0261538461538476E-2,0,-14.520000000000003,0,-20,20]
[null,"1123412-30",2092,1,"<130mph",1,"< 15,000",2,"Concrete with USP",3,"Soft",4,"< 300",1,"Good",2,"Poor","30 to 40",30,40,-6,5.4830769230769245E-2,0,-18.150000000000002,0,-25,20]
[null,"1123412-40",2093,1,"<130mph",1,"< 15,000",2,"Concrete with USP",3,"Soft",4,"< 300",1,"Good",2,"Poor","40 to 50",40,50,-6,5.9400000000000015E-2,0,-21.780000000000005,0,-25,20]
[null,"1123412-50",2094,1,"<130mph",1,"< 15,000",2,"Concrete with USP",3,"Soft",4,"< 300",1,"Good",2,"Poor","Above 50",50,1000,-6,5.9400000000000015E-2,0,-24.200000000000003,-0.5,-25,20]
[null,"1122422-0",2095,1,"<130mph",1,"< 15,000",2,"Concrete with USP",2,"Medium",4,"< 300",2,"Poor",2,"Poor","0 to 10",0,10,-6,4.1538461538461552E-2,0,-7.5,0,-12,20]
[null,"1122422-10",2096,1,"<130mph",1,"< 15,000",2,"Concrete with USP",2,"Medium",4,"< 300",2,"Poor",2,"Poor","10 to 20",10,20,-6,4.1123076923076936E-2,0,-9.6800000000000015,0,-15,20]
[null,"1122422-20",2097,1,"<130mph",1,"< 15,000",2,"Concrete with USP",2,"Medium",4,"< 300",2,"Poor",2,"Poor","20 to 30",20,30,-6,5.0261538461538476E-2,0,-14.520000000000003,0,-20,20]
[null,"1122422-30",2098,1,"<130mph",1,"< 15,000",2,"Concrete with USP",2,"Medium",4,"< 300",2,"Poor",2,"Poor","30 to 40",30,40,-6,5.4830769230769245E-2,0,-18.150000000000002,0,-25,20]
[null,"1122422-40",2099,1,"<130mph",1,"< 15,000",2,"Concrete with USP",2,"Medium",4,"< 300",2,"Poor",2,"Poor","40 to 50",40,50,-6,5.9400000000000015E-2,0,-21.780000000000005,0,-25,20]
[null,"1122422-50",2100,1,"<130mph",1,"< 15,000",2,"Concrete with USP",2,"Medium",4,"< 300",2,"Poor",2,"Poor","Above 50",50,1000,-6,5.9400000000000015E-2,0,-24.200000000000003,-0.5,-25,20]
[null,"1121422-0",2101,1,"<130mph",1,"< 15,000",2,"Concrete with USP",1,"Hard",4,"< 300",2,"Poor",2,"Poor","0 to 10",0,10,-6,2.907692307692308E-2,0,-6.75,0,-12,20]
[null,"1121422-10",2102,1,"<130mph",1,"< 15,000",2,"Concrete with USP",1,"Hard",4,"< 300",2,"Poor",2,"Poor","10 to 20",10,20,-6,2.878615384615385E-2,0,-8.7120000000000015,0,-15,20]
[null,"1121422-20",2103,1,"<130mph",1,"< 15,000",2,"Concrete with USP",1,"Hard",4,"< 300",2,"Poor",2,"Poor","20 to 30",20,30,-6,3.5183076923076928E-2,0,-13.068000000000001,0,-20,20]
[null,"1121422-30",2104,1,"<130mph",1,"< 15,000",2,"Concrete with USP",1,"Hard",4,"< 300",2,"Poor",2,"Poor","30 to 40",30,40,-6,3.8381538461538467E-2,0,-16.335000000000004,0,-25,20]
[null,"1121422-40",2105,1,"<130mph",1,"< 15,000",2,"Concrete with USP",1,"Hard",4,"< 300",2,"Poor",2,"Poor","40 to 50",40,50,-6,4.1580000000000006E-2,0,-19.602000000000004,0,-25,20]
[null,"1121422-50",2106,1,"<130mph",1,"< 15,000",2,"Concrete with USP",1,"Hard",4,"< 300",2,"Poor",2,"Poor","Above 50",50,1000,-6,4.1580000000000006E-2,0,-21.780000000000005,-0.5,-25,20]
[null,"1123422-0",2107,1,"<130mph",1,"< 15,000",2,"Concrete with USP",3,"Soft",4,"< 300",2,"Poor",2,"Poor","0 to 10",0,10,-6,4.9846153846153853E-2,0,-8.25,0,-12,20]
[null,"1123422-10",2108,1,"<130mph",1,"< 15,000",2,"Concrete with USP",3,"Soft",4,"< 300",2,"Poor",2,"Poor","10 to 20",10,20,-6,4.9347692307692322E-2,0,-10.648000000000003,0,-15,20]
[null,"1123422-20",2109,1,"<130mph",1,"< 15,000",2,"Concrete with USP",3,"Soft",4,"< 300",2,"Poor",2,"Poor","20 to 30",20,30,-6,6.0313846153846176E-2,0,-15.972000000000005,0,-20,20]
[null,"1123422-30",2110,1,"<130mph",1,"< 15,000",2,"Concrete with USP",3,"Soft",4,"< 300",2,"Poor",2,"Poor","30 to 40",30,40,-6,6.57969230769231E-2,0,-19.965000000000007,0,-25,20]
[null,"1123422-40",2111,1,"<130mph",1,"< 15,000",2,"Concrete with USP",3,"Soft",4,"< 300",2,"Poor",2,"Poor","40 to 50",40,50,-6,7.1280000000000024E-2,0,-23.958000000000006,0,-25,20]
[null,"1123422-50",2112,1,"<130mph",1,"< 15,000",2,"Concrete with USP",3,"Soft",4,"< 300",2,"Poor",2,"Poor","Above 50",50,1000,-6,7.1280000000000024E-2,0,-26.620000000000008,-0.5,-25,20]
[null,"1522111-0",2113,1,"<130mph",5,"65,000 - 100,000",2,"Concrete with USP",2,"Medium",1,"> 600",1,"Good",1,"Good","0 to 10",0,10,-6,0.18461538461538463,0,-7.5,0,-12,50]
[null,{"$f":"D2132&F2132&H2132&J2132&L2132&N2132&P2132&\"-\"&S2132","v":"1522111-10"},2114,1,"<130mph",5,"65,000 - 100,000",2,"Concrete with USP",2,"Medium",1,"> 600",1,"Good",1,"Good","10 to 20",10,20,-6,0.13846153846153847,0,-8,0,-15,50]
[null,"1522111-20",2115,1,"<130mph",5,"65,000 - 100,000",2,"Concrete with USP",2,"Medium",1,"> 600",1,"Good",1,"Good","20 to 30",20,30,-6,0.16923076923076924,0,-12,0,-20,50]
[null,"1522111-30",2116,1,"<130mph",5,"65,000 - 100,000",2,"Concrete with USP",2,"Medium",1,"> 600",1,"Good",1,"Good","30 to 40",30,40,-6,0.18461538461538463,0,-15,0,-25,50]
[null,"1522111-40",2117,1,"<130mph",5,"65,000 - 100,000",2,"Concrete with USP",2,"Medium",1,"> 600",1,"Good",1,"Good","40 to 50",40,50,-6,0.2,0,-18,0,-25,50]
[null,"1522111-50",2118,1,"<130mph",5,"65,000 - 100,000",2,"Concrete with USP",2,"Medium",1,"> 600",1,"Good",1,"Good","Above 50",50,1000,-6,0.2,0,-20,-0.5,-25,50]
[null,"1521111-0",2119,1,"<130mph",5,"65,000 - 100,000",2,"Concrete with USP",1,"Hard",1,"> 600",1,"Good",1,"Good","0 to 10",0,10,-6,0.12923076923076923,0,-6.75,0,-12,50]
[null,"1521111-10",2120,1,"<130mph",5,"65,000 - 100,000",2,"Concrete with USP",1,"Hard",1,"> 600",1,"Good",1,"Good","10 to 20",10,20,-6,9.6923076923076917E-2,0,-7.2,0,-15,50]
[null,"1521111-20",2121,1,"<130mph",5,"65,000 - 100,000",2,"Concrete with USP",1,"Hard",1,"> 600",1,"Good",1,"Good","20 to 30",20,30,-6,0.11846153846153845,0,-10.8,0,-20,50]
[null,"1521111-30",2122,1,"<130mph",5,"65,000 - 100,000",2,"Concrete with USP",1,"Hard",1,"> 600",1,"Good",1,"Good","30 to 40",30,40,-6,0.12923076923076923,0,-13.5,0,-25,50]
[null,"1521111-40",2123,1,"<130mph",5,"65,000 - 100,000",2,"Concrete with USP",1,"Hard",1,"> 600",1,"Good",1,"Good","40 to 50",40,50,-6,0.13999999999999999,0,-16.2,0,-25,50]
[null,"1521111-50",2124,1,"<130mph",5,"65,000 - 100,000",2,"Concrete with USP",1,"Hard",1,"> 600",1,"Good",1,"Good","Above 50",50,1000,-6,0.13999999999999999,0,-18,-0.5,-25,50]
[null,"1523111-0",2125,1,"<130mph",5,"65,000 - 100,000",2,"Concrete with USP",3,"Soft",1,"> 600",1,"Good",1,"Good","0 to 10",0,10,-6,0.22153846153846155,0,-8.25,0,-12,50]
[null,"1523111-10",2126,1,"<130mph",5,"65,000 - 100,000",2,"Concrete with USP",3,"Soft",1,"> 600",1,"Good",1,"Good","10 to 20",10,20,-6,0.16615384615384615,0,-8.8000000000000007,0,-15,50]
[null,"1523111-20",2127,1,"<130mph",5,"65,000 - 100,000",2,"Concrete with USP",3,"Soft",1,"> 600",1,"Good",1,"Good","20 to 30",20,30,-6,0.2030769230769231,0,-13.200000000000001,0,-20,50]
[null,"1523111-30",2128,1,"<130mph",5,"65,000 - 100,000",2,"Concrete with USP",3,"Soft",1,"> 600",1,"Good",1,"Good","30 to 40",30,40,-6,0.22153846153846155,0,-16.5,0,-25,50]
[null,"1523111-40",2129,1,"<130mph",5,"65,000 - 100,000",2,"Concrete with USP",3,"Soft",1,"> 600",1,"Good",1,"Good","40 to 50",40,50,-6,0.24000000000000002,0,-19.8,0,-25,50]
[null,"1523111-50",2130,1,"<130mph",5,"65,000 - 100,000",2,"Concrete with USP",3,"Soft",1,"> 600",1,"Good",1,"Good","Above 50",50,1000,-6,0.24000000000000002,0,-22,-0.5,-25,50]
[null,"1522121-0",2131,1,"<130mph",5,"65,000 - 100,000",2,"Concrete with USP",2,"Medium",1,"> 600",2,"Poor",1,"Good","0 to 10",0,10,-6,0.18461538461538463,0,-7.5,0,-12,50]
[null,"1522121-10",2132,1,"<130mph",5,"65,000 - 100,000",2,"Concrete with USP",2,"Medium",1,"> 600",2,"Poor",1,"Good","10 to 20",10,20,-6,0.16615384615384615,0,-8.8000000000000007,0,-15,50]
[null,"1522121-20",2133,1,"<130mph",5,"65,000 - 100,000",2,"Concrete with USP",2,"Medium",1,"> 600",2,"Poor",1,"Good","20 to 30",20,30,-6,0.2030769230769231,0,-13.200000000000001,0,-20,50]
[null,"1522121-30",2134,1,"<130mph",5,"65,000 - 100,000",2,"Concrete with USP",2,"Medium",1,"> 600",2,"Poor",1,"Good","30 to 40",30,40,-6,0.22153846153846155,0,-16.5,0,-25,50]
[null,"1522121-40",2135,1,"<130mph",5,"65,000 - 100,000",2,"Concrete with USP",2,"Medium",1,"> 600",2,"Poor",1,"Good","40 to 50",40,50,-6,0.24000000000000002,0,-19.8,0,-25,50]
[null,"1522121-50",2136,1,"<130mph",5,"65,000 - 100,000",2,"Concrete with USP",2,"Medium",1,"> 600",2,"Poor",1,"Good","Above 50",50,1000,-6,0.24000000000000002,0,-22,-0.5,-25,50]
[null,"1521121-0",2137,1,"<130mph",5,"65,000 - 100,000",2,"Concrete with USP",1,"Hard",1,"> 600",2,"Poor",1,"Good","0 to 10",0,10,-6,0.12923076923076923,0,-6.75,0,-12,50]
[null,"1521121-10",2138,1,"<130mph",5,"65,000 - 100,000",2,"Concrete with USP",1,"Hard",1,"> 600",2,"Poor",1,"Good","10 to 20",10,20,-6,0.11630769230769231,0,-7.9200000000000008,0,-15,50]
[null,"1521121-20",2139,1,"<130mph",5,"65,000 - 100,000",2,"Concrete with USP",1,"Hard",1,"> 600",2,"Poor",1,"Good","20 to 30",20,30,-6,0.14215384615384616,0,-11.88,0,-20,50]
[null,"1521121-30",2140,1,"<130mph",5,"65,000 - 100,000",2,"Concrete with USP",1,"Hard",1,"> 600",2,"Poor",1,"Good","30 to 40",30,40,-6,0.15507692307692308,0,-14.850000000000001,0,-25,50]
[null,"1521121-40",2141,1,"<130mph",5,"65,000 - 100,000",2,"Concrete with USP",1,"Hard",1,"> 600",2,"Poor",1,"Good","40 to 50",40,50,-6,0.16800000000000001,0,-17.82,0,-25,50]
[null,"1521121-50",2142,1,"<130mph",5,"65,000 - 100,000",2,"Concrete with USP",1,"Hard",1,"> 600",2,"Poor",1,"Good","Above 50",50,1000,-6,0.16800000000000001,0,-19.8,-0.5,-25,50]
[null,"1523121-0",2143,1,"<130mph",5,"65,000 - 100,000",2,"Concrete with USP",3,"Soft",1,"> 600",2,"Poor",1,"Good","0 to 10",0,10,-6,0.22153846153846155,0,-8.25,0,-12,50]
[null,"1523121-10",2144,1,"<130mph",5,"65,000 - 100,000",2,"Concrete with USP",3,"Soft",1,"> 600",2,"Poor",1,"Good","10 to 20",10,20,-6,0.19938461538461538,0,-9.6800000000000015,0,-15,50]
[null,"1523121-20",2145,1,"<130mph",5,"65,000 - 100,000",2,"Concrete with USP",3,"Soft",1,"> 600",2,"Poor",1,"Good","20 to 30",20,30,-6,0.24369230769230771,0,-14.520000000000003,0,-20,50]
[null,"1523121-30",2146,1,"<130mph",5,"65,000 - 100,000",2,"Concrete with USP",3,"Soft",1,"> 600",2,"Poor",1,"Good","30 to 40",30,40,-6,0.26584615384615384,0,-18.150000000000002,0,-25,50]
[null,"1523121-40",2147,1,"<130mph",5,"65,000 - 100,000",2,"Concrete with USP",3,"Soft",1,"> 600",2,"Poor",1,"Good","40 to 50",40,50,-6,0.28800000000000003,0,-21.780000000000005,0,-25,50]
[null,"1523121-50",2148,1,"<130mph",5,"65,000 - 100,000",2,"Concrete with USP",3,"Soft",1,"> 600",2,"Poor",1,"Good","Above 50",50,1000,-6,0.28800000000000003,0,-24.200000000000003,-0.5,-25,50]
[null,"1522112-0",2149,1,"<130mph",5,"65,000 - 100,000",2,"Concrete with USP",2,"Medium",1,"> 600",1,"Good",2,"Poor","0 to 10",0,10,-6,0.18461538461538463,0,-7.5,0,-12,50]
[null,"1522112-10",2150,1,"<130mph",5,"65,000 - 100,000",2,"Concrete with USP",2,"Medium",1,"> 600",1,"Good",2,"Poor","10 to 20",10,20,-6,0.15230769230769231,0,-8.8000000000000007,0,-15,50]
[null,"1522112-20",2151,1,"<130mph",5,"65,000 - 100,000",2,"Concrete with USP",2,"Medium",1,"> 600",1,"Good",2,"Poor","20 to 30",20,30,-6,0.18615384615384617,0,-13.200000000000001,0,-20,50]
[null,"1522112-30",2152,1,"<130mph",5,"65,000 - 100,000",2,"Concrete with USP",2,"Medium",1,"> 600",1,"Good",2,"Poor","30 to 40",30,40,-6,0.2030769230769231,0,-16.5,0,-25,50]
[null,"1522112-40",2153,1,"<130mph",5,"65,000 - 100,000",2,"Concrete with USP",2,"Medium",1,"> 600",1,"Good",2,"Poor","40 to 50",40,50,-6,0.22000000000000003,0,-19.8,0,-25,50]
[null,"1522112-50",2154,1,"<130mph",5,"65,000 - 100,000",2,"Concrete with USP",2,"Medium",1,"> 600",1,"Good",2,"Poor","Above 50",50,1000,-6,0.22000000000000003,0,-22,-0.5,-25,50]
[null,"1521112-0",2155,1,"<130mph",5,"65,000 - 100,000",2,"Concrete with USP",1,"Hard",1,"> 600",1,"Good",2,"Poor","0 to 10",0,10,-6,0.12923076923076923,0,-6.75,0,-12,50]
[null,"1521112-10",2156,1,"<130mph",5,"65,000 - 100,000",2,"Concrete with USP",1,"Hard",1,"> 600",1,"Good",2,"Poor","10 to 20",10,20,-6,0.10661538461538461,0,-7.9200000000000008,0,-15,50]
[null,"1521112-20",2157,1,"<130mph",5,"65,000 - 100,000",2,"Concrete with USP",1,"Hard",1,"> 600",1,"Good",2,"Poor","20 to 30",20,30,-6,0.13030769230769232,0,-11.88,0,-20,50]
[null,"1521112-30",2158,1,"<130mph",5,"65,000 - 100,000",2,"Concrete with USP",1,"Hard",1,"> 600",1,"Good",2,"Poor","30 to 40",30,40,-6,0.14215384615384616,0,-14.850000000000001,0,-25,50]
[null,"1521112-40",2159,1,"<130mph",5,"65,000 - 100,000",2,"Concrete with USP",1,"Hard",1,"> 600",1,"Good",2,"Poor","40 to 50",40,50,-6,0.154,0,-17.82,0,-25,50]
[null,"1521112-50",2160,1,"<130mph",5,"65,000 - 100,000",2,"Concrete with USP",1,"Hard",1,"> 600",1,"Good",2,"Poor","Above 50",50,1000,-6,0.154,0,-19.8,-0.5,-25,50]
[null,"1523112-0",2161,1,"<130mph",5,"65,000 - 100,000",2,"Concrete with USP",3,"Soft",1,"> 600",1,"Good",2,"Poor","0 to 10",0,10,-6,0.22153846153846155,0,-8.25,0,-12,50]
[null,"1523112-10",2162,1,"<130mph",5,"65,000 - 100,000",2,"Concrete with USP",3,"Soft",1,"> 600",1,"Good",2,"Poor","10 to 20",10,20,-6,0.18276923076923079,0,-9.6800000000000015,0,-15,50]
[null,"1523112-20",2163,1,"<130mph",5,"65,000 - 100,000",2,"Concrete with USP",3,"Soft",1,"> 600",1,"Good",2,"Poor","20 to 30",20,30,-6,0.22338461538461543,0,-14.520000000000003,0,-20,50]
[null,"1523112-30",2164,1,"<130mph",5,"65,000 - 100,000",2,"Concrete with USP",3,"Soft",1,"> 600",1,"Good",2,"Poor","30 to 40",30,40,-6,0.24369230769230774,0,-18.150000000000002,0,-25,50]
[null,"1523112-40",2165,1,"<130mph",5,"65,000 - 100,000",2,"Concrete with USP",3,"Soft",1,"> 600",1,"Good",2,"Poor","40 to 50",40,50,-6,0.26400000000000007,0,-21.780000000000005,0,-25,50]
[null,"1523112-50",2166,1,"<130mph",5,"65,000 - 100,000",2,"Concrete with USP",3,"Soft",1,"> 600",1,"Good",2,"Poor","Above 50",50,1000,-6,0.26400000000000007,0,-24.200000000000003,-0.5,-25,50]
[null,"1522122-0",2167,1,"<130mph",5,"65,000 - 100,000",2,"Concrete with USP",2,"Medium",1,"> 600",2,"Poor",2,"Poor","0 to 10",0,10,-6,0.18461538461538463,0,-7.5,0,-12,50]
[null,"1522122-10",2168,1,"<130mph",5,"65,000 - 100,000",2,"Concrete with USP",2,"Medium",1,"> 600",2,"Poor",2,"Poor","10 to 20",10,20,-6,0.18276923076923079,0,-9.6800000000000015,0,-15,50]
[null,"1522122-20",2169,1,"<130mph",5,"65,000 - 100,000",2,"Concrete with USP",2,"Medium",1,"> 600",2,"Poor",2,"Poor","20 to 30",20,30,-6,0.22338461538461543,0,-14.520000000000003,0,-20,50]
[null,"1522122-30",2170,1,"<130mph",5,"65,000 - 100,000",2,"Concrete with USP",2,"Medium",1,"> 600",2,"Poor",2,"Poor","30 to 40",30,40,-6,0.24369230769230774,0,-18.150000000000002,0,-25,50]
[null,"1522122-40",2171,1,"<130mph",5,"65,000 - 100,000",2,"Concrete with USP",2,"Medium",1,"> 600",2,"Poor",2,"Poor","40 to 50",40,50,-6,0.26400000000000007,0,-21.780000000000005,0,-25,50]
[null,"1522122-50",2172,1,"<130mph",5,"65,000 - 100,000",2,"Concrete with USP",2,"Medium",1,"> 600",2,"Poor",2,"Poor","Above 50",50,1000,-6,0.26400000000000007,0,-24.200000000000003,-0.5,-25,50]
[null,"1521122-0",2173,1,"<130mph",5,"65,000 - 100,000",2,"Concrete with USP",1,"Hard",1,"> 600",2,"Poor",2,"Poor","0 to 10",0,10,-6,0.12923076923076923,0,-6.75,0,-12,50]
[null,"1521122-10",2174,1,"<130mph",5,"65,000 - 100,000",2,"Concrete with USP",1,"Hard",1,"> 600",2,"Poor",2,"Poor","10 to 20",10,20,-6,0.12793846153846156,0,-8.7120000000000015,0,-15,50]
[null,"1521122-20",2175,1,"<130mph",5,"65,000 - 100,000",2,"Concrete with USP",1,"Hard",1,"> 600",2,"Poor",2,"Poor","20 to 30",20,30,-6,0.15636923076923079,0,-13.068000000000001,0,-20,50]
[null,"1521122-30",2176,1,"<130mph",5,"65,000 - 100,000",2,"Concrete with USP",1,"Hard",1,"> 600",2,"Poor",2,"Poor","30 to 40",30,40,-6,0.17058461538461539,0,-16.335000000000004,0,-25,50]
[null,"1521122-40",2177,1,"<130mph",5,"65,000 - 100,000",2,"Concrete with USP",1,"Hard",1,"> 600",2,"Poor",2,"Poor","40 to 50",40,50,-6,0.18480000000000002,0,-19.602000000000004,0,-25,50]
[null,{"$f":"D2196&F2196&H2196&J2196&L2196&N2196&P2196&\"-\"&S2196","v":"1521122-50"},2178,1,"<130mph",5,"65,000 - 100,000",2,"Concrete with USP",1,"Hard",1,"> 600",2,"Poor",2,"Poor","Above 50",50,1000,-6,0.18480000000000002,0,-21.780000000000005,-0.5,-25,50]
[null,"1523122-0",2179,1,"<130mph",5,"65,000 - 100,000",2,"Concrete with USP",3,"Soft",1,"> 600",2,"Poor",2,"Poor","0 to 10",0,10,-6,0.22153846153846155,0,-8.25,0,-12,50]
[null,"1523122-10",2180,1,"<130mph",5,"65,000 - 100,000",2,"Concrete with USP",3,"Soft",1,"> 600",2,"Poor",2,"Poor","10 to 20",10,20,-6,0.21932307692307693,0,-10.648000000000003,0,-15,50]
[null,"1523122-20",2181,1,"<130mph",5,"65,000 - 100,000",2,"Concrete with USP",3,"Soft",1,"> 600",2,"Poor",2,"Poor","20 to 30",20,30,-6,0.26806153846153846,0,-15.972000000000005,0,-20,50]
[null,"1523122-30",2182,1,"<130mph",5,"65,000 - 100,000",2,"Concrete with USP",3,"Soft",1,"> 600",2,"Poor",2,"Poor","30 to 40",30,40,-6,0.29243076923076922,0,-19.965000000000007,0,-25,50]
[null,"1523122-40",2183,1,"<130mph",5,"65,000 - 100,000",2,"Concrete with USP",3,"Soft",1,"> 600",2,"Poor",2,"Poor","40 to 50",40,50,-6,0.31680000000000003,0,-23.958000000000006,0,-25,50]
[null,"1523122-50",2184,1,"<130mph",5,"65,000 - 100,000",2,"Concrete with USP",3,"Soft",1,"> 600",2,"Poor",2,"Poor","Above 50",50,1000,-6,0.31680000000000003,0,-26.620000000000008,-0.5,-25,50]
[null,"1522211-0",2185,1,"<130mph",5,"65,000 - 100,000",2,"Concrete with USP",2,"Medium",2,"400 < R < 600",1,"Good",1,"Good","0 to 10",0,10,-6,0.2030769230769231,0,-7.5,0,-12,50]
[null,"1522211-10",2186,1,"<130mph",5,"65,000 - 100,000",2,"Concrete with USP",2,"Medium",2,"400 < R < 600",1,"Good",1,"Good","10 to 20",10,20,-6,0.15230769230769231,0,-8,0,-15,50]
[null,"1522211-20",2187,1,"<130mph",5,"65,000 - 100,000",2,"Concrete with USP",2,"Medium",2,"400 < R < 600",1,"Good",1,"Good","20 to 30",20,30,-6,0.18615384615384617,0,-12,0,-20,50]
[null,"1522211-30",2188,1,"<130mph",5,"65,000 - 100,000",2,"Concrete with USP",2,"Medium",2,"400 < R < 600",1,"Good",1,"Good","30 to 40",30,40,-6,0.2030769230769231,0,-15,0,-25,50]
[null,"1522211-40",2189,1,"<130mph",5,"65,000 - 100,000",2,"Concrete with USP",2,"Medium",2,"400 < R < 600",1,"Good",1,"Good","40 to 50",40,50,-6,0.22000000000000003,0,-18,0,-25,50]
[null,"1522211-50",2190,1,"<130mph",5,"65,000 - 100,000",2,"Concrete with USP",2,"Medium",2,"400 < R < 600",1,"Good",1,"Good","Above 50",50,1000,-6,0.22000000000000003,0,-20,-0.5,-25,50]
[null,"1521211-0",2191,1,"<130mph",5,"65,000 - 100,000",2,"Concrete with USP",1,"Hard",2,"400 < R < 600",1,"Good",1,"Good","0 to 10",0,10,-6,0.14215384615384616,0,-6.75,0,-12,50]
[null,"1521211-10",2192,1,"<130mph",5,"65,000 - 100,000",2,"Concrete with USP",1,"Hard",2,"400 < R < 600",1,"Good",1,"Good","10 to 20",10,20,-6,0.10661538461538461,0,-7.2,0,-15,50]
[null,"1521211-20",2193,1,"<130mph",5,"65,000 - 100,000",2,"Concrete with USP",1,"Hard",2,"400 < R < 600",1,"Good",1,"Good","20 to 30",20,30,-6,0.13030769230769232,0,-10.8,0,-20,50]
[null,"1521211-30",2194,1,"<130mph",5,"65,000 - 100,000",2,"Concrete with USP",1,"Hard",2,"400 < R < 600",1,"Good",1,"Good","30 to 40",30,40,-6,0.14215384615384616,0,-13.5,0,-25,50]
[null,"1521211-40",2195,1,"<130mph",5,"65,000 - 100,000",2,"Concrete with USP",1,"Hard",2,"400 < R < 600",1,"Good",1,"Good","40 to 50",40,50,-6,0.154,0,-16.2,0,-25,50]
[null,"1521211-50",2196,1,"<130mph",5,"65,000 - 100,000",2,"Concrete with USP",1,"Hard",2,"400 < R < 600",1,"Good",1,"Good","Above 50",50,1000,-6,0.154,0,-18,-0.5,-25,50]
[null,"1523211-0",2197,1,"<130mph",5,"65,000 - 100,000",2,"Concrete with USP",3,"Soft",2,"400 < R < 600",1,"Good",1,"Good","0 to 10",0,10,-6,0.24369230769230774,0,-8.25,0,-12,50]
[null,"1523211-10",2198,1,"<130mph",5,"65,000 - 100,000",2,"Concrete with USP",3,"Soft",2,"400 < R < 600",1,"Good",1,"Good","10 to 20",10,20,-6,0.18276923076923079,0,-8.8000000000000007,0,-15,50]
[null,"1523211-20",2199,1,"<130mph",5,"65,000 - 100,000",2,"Concrete with USP",3,"Soft",2,"400 < R < 600",1,"Good",1,"Good","20 to 30",20,30,-6,0.22338461538461543,0,-13.200000000000001,0,-20,50]
[null,"1523211-30",2200,1,"<130mph",5,"65,000 - 100,000",2,"Concrete with USP",3,"Soft",2,"400 < R < 600",1,"Good",1,"Good","30 to 40",30,40,-6,0.24369230769230774,0,-16.5,0,-25,50]
[null,"1523211-40",2201,1,"<130mph",5,"65,000 - 100,000",2,"Concrete with USP",3,"Soft",2,"400 < R < 600",1,"Good",1,"Good","40 to 50",40,50,-6,0.26400000000000007,0,-19.8,0,-25,50]
[null,"1523211-50",2202,1,"<130mph",5,"65,000 - 100,000",2,"Concrete with USP",3,"Soft",2,"400 < R < 600",1,"Good",1,"Good","Above 50",50,1000,-6,0.26400000000000007,0,-22,-0.5,-25,50]
[null,"1522221-0",2203,1,"<130mph",5,"65,000 - 100,000",2,"Concrete with USP",2,"Medium",2,"400 < R < 600",2,"Poor",1,"Good","0 to 10",0,10,-6,0.2030769230769231,0,-7.5,0,-12,50]
[null,"1522221-10",2204,1,"<130mph",5,"65,000 - 100,000",2,"Concrete with USP",2,"Medium",2,"400 < R < 600",2,"Poor",1,"Good","10 to 20",10,20,-6,0.18276923076923079,0,-8.8000000000000007,0,-15,50]
[null,"1522221-20",2205,1,"<130mph",5,"65,000 - 100,000",2,"Concrete with USP",2,"Medium",2,"400 < R < 600",2,"Poor",1,"Good","20 to 30",20,30,-6,0.22338461538461543,0,-13.200000000000001,0,-20,50]
[null,"1522221-30",2206,1,"<130mph",5,"65,000 - 100,000",2,"Concrete with USP",2,"Medium",2,"400 < R < 600",2,"Poor",1,"Good","30 to 40",30,40,-6,0.24369230769230774,0,-16.5,0,-25,50]
[null,"1522221-40",2207,1,"<130mph",5,"65,000 - 100,000",2,"Concrete with USP",2,"Medium",2,"400 < R < 600",2,"Poor",1,"Good","40 to 50",40,50,-6,0.26400000000000007,0,-19.8,0,-25,50]
[null,"1522221-50",2208,1,"<130mph",5,"65,000 - 100,000",2,"Concrete with USP",2,"Medium",2,"400 < R < 600",2,"Poor",1,"Good","Above 50",50,1000,-6,0.26400000000000007,0,-22,-0.5,-25,50]
[null,"1521221-0",2209,1,"<130mph",5,"65,000 - 100,000",2,"Concrete with USP",1,"Hard",2,"400 < R < 600",2,"Poor",1,"Good","0 to 10",0,10,-6,0.14215384615384616,0,-6.75,0,-12,50]
[null,"1521221-10",2210,1,"<130mph",5,"65,000 - 100,000",2,"Concrete with USP",1,"Hard",2,"400 < R < 600",2,"Poor",1,"Good","10 to 20",10,20,-6,0.12793846153846153,0,-7.9200000000000008,0,-15,50]
[null,"1521221-20",2211,1,"<130mph",5,"65,000 - 100,000",2,"Concrete with USP",1,"Hard",2,"400 < R < 600",2,"Poor",1,"Good","20 to 30",20,30,-6,0.15636923076923076,0,-11.88,0,-20,50]
[null,"1521221-30",2212,1,"<130mph",5,"65,000 - 100,000",2,"Concrete with USP",1,"Hard",2,"400 < R < 600",2,"Poor",1,"Good","30 to 40",30,40,-6,0.17058461538461536,0,-14.850000000000001,0,-25,50]
[null,"1521221-40",2213,1,"<130mph",5,"65,000 - 100,000",2,"Concrete with USP",1,"Hard",2,"400 < R < 600",2,"Poor",1,"Good","40 to 50",40,50,-6,0.18479999999999999,0,-17.82,0,-25,50]
[null,"1521221-50",2214,1,"<130mph",5,"65,000 - 100,000",2,"Concrete with USP",1,"Hard",2,"400 < R < 600",2,"Poor",1,"Good","Above 50",50,1000,-6,0.18479999999999999,0,-19.8,-0.5,-25,50]
[null,"1523221-0",2215,1,"<130mph",5,"65,000 - 100,000",2,"Concrete with USP",3,"Soft",2,"400 < R < 600",2,"Poor",1,"Good","0 to 10",0,10,-6,0.24369230769230774,0,-8.25,0,-12,50]
[null,"1523221-10",2216,1,"<130mph",5,"65,000 - 100,000",2,"Concrete with USP",3,"Soft",2,"400 < R < 600",2,"Poor",1,"Good","10 to 20",10,20,-6,0.21932307692307693,0,-9.6800000000000015,0,-15,50]
[null,"1523221-20",2217,1,"<130mph",5,"65,000 - 100,000",2,"Concrete with USP",3,"Soft",2,"400 < R < 600",2,"Poor",1,"Good","20 to 30",20,30,-6,0.26806153846153846,0,-14.520000000000003,0,-20,50]
[null,"1523221-30",2218,1,"<130mph",5,"65,000 - 100,000",2,"Concrete with USP",3,"Soft",2,"400 < R < 600",2,"Poor",1,"Good","30 to 40",30,40,-6,0.29243076923076922,0,-18.150000000000002,0,-25,50]
[null,"1523221-40",2219,1,"<130mph",5,"65,000 - 100,000",2,"Concrete with USP",3,"Soft",2,"400 < R < 600",2,"Poor",1,"Good","40 to 50",40,50,-6,0.31680000000000003,0,-21.780000000000005,0,-25,50]
[null,"1523221-50",2220,1,"<130mph",5,"65,000 - 100,000",2,"Concrete with USP",3,"Soft",2,"400 < R < 600",2,"Poor",1,"Good","Above 50",50,1000,-6,0.31680000000000003,0,-24.200000000000003,-0.5,-25,50]
[null,"1522212-0",2221,1,"<130mph",5,"65,000 - 100,000",2,"Concrete with USP",2,"Medium",2,"400 < R < 600",1,"Good",2,"Poor","0 to 10",0,10,-6,0.2030769230769231,0,-7.5,0,-12,50]
[null,"1522212-10",2222,1,"<130mph",5,"65,000 - 100,000",2,"Concrete with USP",2,"Medium",2,"400 < R < 600",1,"Good",2,"Poor","10 to 20",10,20,-6,0.16753846153846158,0,-8.8000000000000007,0,-15,50]
[null,"1522212-20",2223,1,"<130mph",5,"65,000 - 100,000",2,"Concrete with USP",2,"Medium",2,"400 < R < 600",1,"Good",2,"Poor","20 to 30",20,30,-6,0.20476923076923081,0,-13.200000000000001,0,-20,50]
[null,"1522212-30",2224,1,"<130mph",5,"65,000 - 100,000",2,"Concrete with USP",2,"Medium",2,"400 < R < 600",1,"Good",2,"Poor","30 to 40",30,40,-6,0.22338461538461543,0,-16.5,0,-25,50]
[null,"1522212-40",2225,1,"<130mph",5,"65,000 - 100,000",2,"Concrete with USP",2,"Medium",2,"400 < R < 600",1,"Good",2,"Poor","40 to 50",40,50,-6,0.24200000000000008,0,-19.8,0,-25,50]
[null,"1522212-50",2226,1,"<130mph",5,"65,000 - 100,000",2,"Concrete with USP",2,"Medium",2,"400 < R < 600",1,"Good",2,"Poor","Above 50",50,1000,-6,0.24200000000000008,0,-22,-0.5,-25,50]
[null,"1521212-0",2227,1,"<130mph",5,"65,000 - 100,000",2,"Concrete with USP",1,"Hard",2,"400 < R < 600",1,"Good",2,"Poor","0 to 10",0,10,-6,0.14215384615384616,0,-6.75,0,-12,50]
[null,"1521212-10",2228,1,"<130mph",5,"65,000 - 100,000",2,"Concrete with USP",1,"Hard",2,"400 < R < 600",1,"Good",2,"Poor","10 to 20",10,20,-6,0.11727692307692308,0,-7.9200000000000008,0,-15,50]
[null,"1521212-20",2229,1,"<130mph",5,"65,000 - 100,000",2,"Concrete with USP",1,"Hard",2,"400 < R < 600",1,"Good",2,"Poor","20 to 30",20,30,-6,0.14333846153846155,0,-11.88,0,-20,50]
[null,"1521212-30",2230,1,"<130mph",5,"65,000 - 100,000",2,"Concrete with USP",1,"Hard",2,"400 < R < 600",1,"Good",2,"Poor","30 to 40",30,40,-6,0.15636923076923079,0,-14.850000000000001,0,-25,50]
[null,"1521212-40",2231,1,"<130mph",5,"65,000 - 100,000",2,"Concrete with USP",1,"Hard",2,"400 < R < 600",1,"Good",2,"Poor","40 to 50",40,50,-6,0.16940000000000002,0,-17.82,0,-25,50]
[null,"1521212-50",2232,1,"<130mph",5,"65,000 - 100,000",2,"Concrete with USP",1,"Hard",2,"400 < R < 600",1,"Good",2,"Poor","Above 50",50,1000,-6,0.16940000000000002,0,-19.8,-0.5,-25,50]
[null,"1523212-0",2233,1,"<130mph",5,"65,000 - 100,000",2,"Concrete with USP",3,"Soft",2,"400 < R < 600",1,"Good",2,"Poor","0 to 10",0,10,-6,0.24369230769230774,0,-8.25,0,-12,50]
[null,"1523212-10",2234,1,"<130mph",5,"65,000 - 100,000",2,"Concrete with USP",3,"Soft",2,"400 < R < 600",1,"Good",2,"Poor","10 to 20",10,20,-6,0.20104615384615387,0,-9.6800000000000015,0,-15,50]
[null,"1523212-20",2235,1,"<130mph",5,"65,000 - 100,000",2,"Concrete with USP",3,"Soft",2,"400 < R < 600",1,"Good",2,"Poor","20 to 30",20,30,-6,0.24572307692307696,0,-14.520000000000003,0,-20,50]
[null,"1523212-30",2236,1,"<130mph",5,"65,000 - 100,000",2,"Concrete with USP",3,"Soft",2,"400 < R < 600",1,"Good",2,"Poor","30 to 40",30,40,-6,0.26806153846153852,0,-18.150000000000002,0,-25,50]
[null,"1523212-40",2237,1,"<130mph",5,"65,000 - 100,000",2,"Concrete with USP",3,"Soft",2,"400 < R < 600",1,"Good",2,"Poor","40 to 50",40,50,-6,0.29040000000000005,0,-21.780000000000005,0,-25,50]
[null,"1523212-50",2238,1,"<130mph",5,"65,000 - 100,000",2,"Concrete with USP",3,"Soft",2,"400 < R < 600",1,"Good",2,"Poor","Above 50",50,1000,-6,0.29040000000000005,0,-24.200000000000003,-0.5,-25,50]
[null,"1522222-0",2239,1,"<130mph",5,"65,000 - 100,000",2,"Concrete with USP",2,"Medium",2,"400 < R < 600",2,"Poor",2,"Poor","0 to 10",0,10,-6,0.2030769230769231,0,-7.5,0,-12,50]
[null,"1522222-10",2240,1,"<130mph",5,"65,000 - 100,000",2,"Concrete with USP",2,"Medium",2,"400 < R < 600",2,"Poor",2,"Poor","10 to 20",10,20,-6,0.20104615384615387,0,-9.6800000000000015,0,-15,50]
[null,"1522222-20",2241,1,"<130mph",5,"65,000 - 100,000",2,"Concrete with USP",2,"Medium",2,"400 < R < 600",2,"Poor",2,"Poor","20 to 30",20,30,-6,0.24572307692307696,0,-14.520000000000003,0,-20,50]
[null,{"$f":"D2260&F2260&H2260&J2260&L2260&N2260&P2260&\"-\"&S2260","v":"1522222-30"},2242,1,"<130mph",5,"65,000 - 100,000",2,"Concrete with USP",2,"Medium",2,"400 < R < 600",2,"Poor",2,"Poor","30 to 40",30,40,-6,0.26806153846153852,0,-18.150000000000002,0,-25,50]
[null,"1522222-40",2243,1,"<130mph",5,"65,000 - 100,000",2,"Concrete with USP",2,"Medium",2,"400 < R < 600",2,"Poor",2,"Poor","40 to 50",40,50,-6,0.29040000000000005,0,-21.780000000000005,0,-25,50]
[null,"1522222-50",2244,1,"<130mph",5,"65,000 - 100,000",2,"Concrete with USP",2,"Medium",2,"400 < R < 600",2,"Poor",2,"Poor","Above 50",50,1000,-6,0.29040000000000005,0,-24.200000000000003,-0.5,-25,50]
[null,"1521222-0",2245,1,"<130mph",5,"65,000 - 100,000",2,"Concrete with USP",1,"Hard",2,"400 < R < 600",2,"Poor",2,"Poor","0 to 10",0,10,-6,0.14215384615384616,0,-6.75,0,-12,50]
[null,"1521222-10",2246,1,"<130mph",5,"65,000 - 100,000",2,"Concrete with USP",1,"Hard",2,"400 < R < 600",2,"Poor",2,"Poor","10 to 20",10,20,-6,0.14073230769230768,0,-8.7120000000000015,0,-15,50]
[null,"1521222-20",2247,1,"<130mph",5,"65,000 - 100,000",2,"Concrete with USP",1,"Hard",2,"400 < R < 600",2,"Poor",2,"Poor","20 to 30",20,30,-6,0.17200615384615384,0,-13.068000000000001,0,-20,50]
[null,"1521222-30",2248,1,"<130mph",5,"65,000 - 100,000",2,"Concrete with USP",1,"Hard",2,"400 < R < 600",2,"Poor",2,"Poor","30 to 40",30,40,-6,0.18764307692307691,0,-16.335000000000004,0,-25,50]
[null,"1521222-40",2249,1,"<130mph",5,"65,000 - 100,000",2,"Concrete with USP",1,"Hard",2,"400 < R < 600",2,"Poor",2,"Poor","40 to 50",40,50,-6,0.20328000000000002,0,-19.602000000000004,0,-25,50]
[null,"1521222-50",2250,1,"<130mph",5,"65,000 - 100,000",2,"Concrete with USP",1,"Hard",2,"400 < R < 600",2,"Poor",2,"Poor","Above 50",50,1000,-6,0.20328000000000002,0,-21.780000000000005,-0.5,-25,50]
[null,"1523222-0",2251,1,"<130mph",5,"65,000 - 100,000",2,"Concrete with USP",3,"Soft",2,"400 < R < 600",2,"Poor",2,"Poor","0 to 10",0,10,-6,0.24369230769230774,0,-8.25,0,-12,50]
[null,"1523222-10",2252,1,"<130mph",5,"65,000 - 100,000",2,"Concrete with USP",3,"Soft",2,"400 < R < 600",2,"Poor",2,"Poor","10 to 20",10,20,-6,0.24125538461538462,0,-10.648000000000003,0,-15,50]
[null,"1523222-20",2253,1,"<130mph",5,"65,000 - 100,000",2,"Concrete with USP",3,"Soft",2,"400 < R < 600",2,"Poor",2,"Poor","20 to 30",20,30,-6,0.29486769230769233,0,-15.972000000000005,0,-20,50]
[null,"1523222-30",2254,1,"<130mph",5,"65,000 - 100,000",2,"Concrete with USP",3,"Soft",2,"400 < R < 600",2,"Poor",2,"Poor","30 to 40",30,40,-6,0.32167384615384614,0,-19.965000000000007,0,-25,50]
[null,"1523222-40",2255,1,"<130mph",5,"65,000 - 100,000",2,"Concrete with USP",3,"Soft",2,"400 < R < 600",2,"Poor",2,"Poor","40 to 50",40,50,-6,0.34848000000000007,0,-23.958000000000006,0,-25,50]
[null,"1523222-50",2256,1,"<130mph",5,"65,000 - 100,000",2,"Concrete with USP",3,"Soft",2,"400 < R < 600",2,"Poor",2,"Poor","Above 50",50,1000,-6,0.34848000000000007,0,-26.620000000000008,-0.5,-25,50]
[null,"1522311-0",2257,1,"<130mph",5,"65,000 - 100,000",2,"Concrete with USP",2,"Medium",3,"300 < R < 400",1,"Good",1,"Good","0 to 10",0,10,-6,0.2030769230769231,0,-7.5,0,-12,25]
[null,"1522311-10",2258,1,"<130mph",5,"65,000 - 100,000",2,"Concrete with USP",2,"Medium",3,"300 < R < 400",1,"Good",1,"Good","10 to 20",10,20,-6,0.15230769230769231,0,-8,0,-15,25]
[null,"1522311-20",2259,1,"<130mph",5,"65,000 - 100,000",2,"Concrete with USP",2,"Medium",3,"300 < R < 400",1,"Good",1,"Good","20 to 30",20,30,-6,0.18615384615384617,0,-12,0,-20,25]
[null,"1522311-30",2260,1,"<130mph",5,"65,000 - 100,000",2,"Concrete with USP",2,"Medium",3,"300 < R < 400",1,"Good",1,"Good","30 to 40",30,40,-6,0.2030769230769231,0,-15,0,-25,25]
[null,"1522311-40",2261,1,"<130mph",5,"65,000 - 100,000",2,"Concrete with USP",2,"Medium",3,"300 < R < 400",1,"Good",1,"Good","40 to 50",40,50,-6,0.22000000000000003,0,-18,0,-25,25]
[null,"1522311-50",2262,1,"<130mph",5,"65,000 - 100,000",2,"Concrete with USP",2,"Medium",3,"300 < R < 400",1,"Good",1,"Good","Above 50",50,1000,-6,0.22000000000000003,0,-20,-0.5,-25,25]
[null,"1521311-0",2263,1,"<130mph",5,"65,000 - 100,000",2,"Concrete with USP",1,"Hard",3,"300 < R < 400",1,"Good",1,"Good","0 to 10",0,10,-6,0.14215384615384616,0,-6.75,0,-12,25]
[null,"1521311-10",2264,1,"<130mph",5,"65,000 - 100,000",2,"Concrete with USP",1,"Hard",3,"300 < R < 400",1,"Good",1,"Good","10 to 20",10,20,-6,0.10661538461538461,0,-7.2,0,-15,25]
[null,"1521311-20",2265,1,"<130mph",5,"65,000 - 100,000",2,"Concrete with USP",1,"Hard",3,"300 < R < 400",1,"Good",1,"Good","20 to 30",20,30,-6,0.13030769230769232,0,-10.8,0,-20,25]
[null,"1521311-30",2266,1,"<130mph",5,"65,000 - 100,000",2,"Concrete with USP",1,"Hard",3,"300 < R < 400",1,"Good",1,"Good","30 to 40",30,40,-6,0.14215384615384616,0,-13.5,0,-25,25]
[null,"1521311-40",2267,1,"<130mph",5,"65,000 - 100,000",2,"Concrete with USP",1,"Hard",3,"300 < R < 400",1,"Good",1,"Good","40 to 50",40,50,-6,0.154,0,-16.2,0,-25,25]
[null,"1521311-50",2268,1,"<130mph",5,"65,000 - 100,000",2,"Concrete with USP",1,"Hard",3,"300 < R < 400",1,"Good",1,"Good","Above 50",50,1000,-6,0.154,0,-18,-0.5,-25,25]
[null,"1523311-0",2269,1,"<130mph",5,"65,000 - 100,000",2,"Concrete with USP",3,"Soft",3,"300 < R < 400",1,"Good",1,"Good","0 to 10",0,10,-6,0.24369230769230774,0,-8.25,0,-12,25]
[null,"1523311-10",2270,1,"<130mph",5,"65,000 - 100,000",2,"Concrete with USP",3,"Soft",3,"300 < R < 400",1,"Good",1,"Good","10 to 20",10,20,-6,0.18276923076923079,0,-8.8000000000000007,0,-15,25]
[null,"1523311-20",2271,1,"<130mph",5,"65,000 - 100,000",2,"Concrete with USP",3,"Soft",3,"300 < R < 400",1,"Good",1,"Good","20 to 30",20,30,-6,0.22338461538461543,0,-13.200000000000001,0,-20,25]
[null,"1523311-30",2272,1,"<130mph",5,"65,000 - 100,000",2,"Concrete with USP",3,"Soft",3,"300 < R < 400",1,"Good",1,"Good","30 to 40",30,40,-6,0.24369230769230774,0,-16.5,0,-25,25]
[null,"1523311-40",2273,1,"<130mph",5,"65,000 - 100,000",2,"Concrete with USP",3,"Soft",3,"300 < R < 400",1,"Good",1,"Good","40 to 50",40,50,-6,0.26400000000000007,0,-19.8,0,-25,25]
[null,"1523311-50",2274,1,"<130mph",5,"65,000 - 100,000",2,"Concrete with USP",3,"Soft",3,"300 < R < 400",1,"Good",1,"Good","Above 50",50,1000,-6,0.26400000000000007,0,-22,-0.5,-25,25]
[null,"1522321-0",2275,1,"<130mph",5,"65,000 - 100,000",2,"Concrete with USP",2,"Medium",3,"300 < R < 400",2,"Poor",1,"Good","0 to 10",0,10,-6,0.2030769230769231,0,-7.5,0,-12,25]
[null,"1522321-10",2276,1,"<130mph",5,"65,000 - 100,000",2,"Concrete with USP",2,"Medium",3,"300 < R < 400",2,"Poor",1,"Good","10 to 20",10,20,-6,0.18276923076923079,0,-8.8000000000000007,0,-15,25]
[null,"1522321-20",2277,1,"<130mph",5,"65,000 - 100,000",2,"Concrete with USP",2,"Medium",3,"300 < R < 400",2,"Poor",1,"Good","20 to 30",20,30,-6,0.22338461538461543,0,-13.200000000000001,0,-20,25]
[null,"1522321-30",2278,1,"<130mph",5,"65,000 - 100,000",2,"Concrete with USP",2,"Medium",3,"300 < R < 400",2,"Poor",1,"Good","30 to 40",30,40,-6,0.24369230769230774,0,-16.5,0,-25,25]
[null,"1522321-40",2279,1,"<130mph",5,"65,000 - 100,000",2,"Concrete with USP",2,"Medium",3,"300 < R < 400",2,"Poor",1,"Good","40 to 50",40,50,-6,0.26400000000000007,0,-19.8,0,-25,25]
[null,"1522321-50",2280,1,"<130mph",5,"65,000 - 100,000",2,"Concrete with USP",2,"Medium",3,"300 < R < 400",2,"Poor",1,"Good","Above 50",50,1000,-6,0.26400000000000007,0,-22,-0.5,-25,25]
[null,"1521321-0",2281,1,"<130mph",5,"65,000 - 100,000",2,"Concrete with USP",1,"Hard",3,"300 < R < 400",2,"Poor",1,"Good","0 to 10",0,10,-6,0.14215384615384616,0,-6.75,0,-12,25]
[null,"1521321-10",2282,1,"<130mph",5,"65,000 - 100,000",2,"Concrete with USP",1,"Hard",3,"300 < R < 400",2,"Poor",1,"Good","10 to 20",10,20,-6,0.12793846153846153,0,-7.9200000000000008,0,-15,25]
[null,"1521321-20",2283,1,"<130mph",5,"65,000 - 100,000",2,"Concrete with USP",1,"Hard",3,"300 < R < 400",2,"Poor",1,"Good","20 to 30",20,30,-6,0.15636923076923076,0,-11.88,0,-20,25]
[null,"1521321-30",2284,1,"<130mph",5,"65,000 - 100,000",2,"Concrete with USP",1,"Hard",3,"300 < R < 400",2,"Poor",1,"Good","30 to 40",30,40,-6,0.17058461538461536,0,-14.850000000000001,0,-25,25]
[null,"1521321-40",2285,1,"<130mph",5,"65,000 - 100,000",2,"Concrete with USP",1,"Hard",3,"300 < R < 400",2,"Poor",1,"Good","40 to 50",40,50,-6,0.18479999999999999,0,-17.82,0,-25,25]
[null,"1521321-50",2286,1,"<130mph",5,"65,000 - 100,000",2,"Concrete with USP",1,"Hard",3,"300 < R < 400",2,"Poor",1,"Good","Above 50",50,1000,-6,0.18479999999999999,0,-19.8,-0.5,-25,25]
[null,"1523321-0",2287,1,"<130mph",5,"65,000 - 100,000",2,"Concrete with USP",3,"Soft",3,"300 < R < 400",2,"Poor",1,"Good","0 to 10",0,10,-6,0.24369230769230774,0,-8.25,0,-12,25]
[null,"1523321-10",2288,1,"<130mph",5,"65,000 - 100,000",2,"Concrete with USP",3,"Soft",3,"300 < R < 400",2,"Poor",1,"Good","10 to 20",10,20,-6,0.21932307692307693,0,-9.6800000000000015,0,-15,25]
[null,"1523321-20",2289,1,"<130mph",5,"65,000 - 100,000",2,"Concrete with USP",3,"Soft",3,"300 < R < 400",2,"Poor",1,"Good","20 to 30",20,30,-6,0.26806153846153846,0,-14.520000000000003,0,-20,25]
[null,"1523321-30",2290,1,"<130mph",5,"65,000 - 100,000",2,"Concrete with USP",3,"Soft",3,"300 < R < 400",2,"Poor",1,"Good","30 to 40",30,40,-6,0.29243076923076922,0,-18.150000000000002,0,-25,25]
[null,"1523321-40",2291,1,"<130mph",5,"65,000 - 100,000",2,"Concrete with USP",3,"Soft",3,"300 < R < 400",2,"Poor",1,"Good","40 to 50",40,50,-6,0.31680000000000003,0,-21.780000000000005,0,-25,25]
[null,"1523321-50",2292,1,"<130mph",5,"65,000 - 100,000",2,"Concrete with USP",3,"Soft",3,"300 < R < 400",2,"Poor",1,"Good","Above 50",50,1000,-6,0.31680000000000003,0,-24.200000000000003,-0.5,-25,25]
[null,"1522312-0",2293,1,"<130mph",5,"65,000 - 100,000",2,"Concrete with USP",2,"Medium",3,"300 < R < 400",1,"Good",2,"Poor","0 to 10",0,10,-6,0.2030769230769231,0,-7.5,0,-12,25]
[null,"1522312-10",2294,1,"<130mph",5,"65,000 - 100,000",2,"Concrete with USP",2,"Medium",3,"300 < R < 400",1,"Good",2,"Poor","10 to 20",10,20,-6,0.16753846153846158,0,-8.8000000000000007,0,-15,25]
[null,"1522312-20",2295,1,"<130mph",5,"65,000 - 100,000",2,"Concrete with USP",2,"Medium",3,"300 < R < 400",1,"Good",2,"Poor","20 to 30",20,30,-6,0.20476923076923081,0,-13.200000000000001,0,-20,25]
[null,"1522312-30",2296,1,"<130mph",5,"65,000 - 100,000",2,"Concrete with USP",2,"Medium",3,"300 < R < 400",1,"Good",2,"Poor","30 to 40",30,40,-6,0.22338461538461543,0,-16.5,0,-25,25]
[null,"1522312-40",2297,1,"<130mph",5,"65,000 - 100,000",2,"Concrete with USP",2,"Medium",3,"300 < R < 400",1,"Good",2,"Poor","40 to 50",40,50,-6,0.24200000000000008,0,-19.8,0,-25,25]
[null,"1522312-50",2298,1,"<130mph",5,"65,000 - 100,000",2,"Concrete with USP",2,"Medium",3,"300 < R < 400",1,"Good",2,"Poor","Above 50",50,1000,-6,0.24200000000000008,0,-22,-0.5,-25,25]
[null,"1521312-0",2299,1,"<130mph",5,"65,000 - 100,000",2,"Concrete with USP",1,"Hard",3,"300 < R < 400",1,"Good",2,"Poor","0 to 10",0,10,-6,0.14215384615384616,0,-6.75,0,-12,25]
[null,"1521312-10",2300,1,"<130mph",5,"65,000 - 100,000",2,"Concrete with USP",1,"Hard",3,"300 < R < 400",1,"Good",2,"Poor","10 to 20",10,20,-6,0.11727692307692308,0,-7.9200000000000008,0,-15,25]
[null,"1521312-20",2301,1,"<130mph",5,"65,000 - 100,000",2,"Concrete with USP",1,"Hard",3,"300 < R < 400",1,"Good",2,"Poor","20 to 30",20,30,-6,0.14333846153846155,0,-11.88,0,-20,25]
[null,"1521312-30",2302,1,"<130mph",5,"65,000 - 100,000",2,"Concrete with USP",1,"Hard",3,"300 < R < 400",1,"Good",2,"Poor","30 to 40",30,40,-6,0.15636923076923079,0,-14.850000000000001,0,-25,25]
[null,"1521312-40",2303,1,"<130mph",5,"65,000 - 100,000",2,"Concrete with USP",1,"Hard",3,"300 < R < 400",1,"Good",2,"Poor","40 to 50",40,50,-6,0.16940000000000002,0,-17.82,0,-25,25]
[null,"1521312-50",2304,1,"<130mph",5,"65,000 - 100,000",2,"Concrete with USP",1,"Hard",3,"300 < R < 400",1,"Good",2,"Poor","Above 50",50,1000,-6,0.16940000000000002,0,-19.8,-0.5,-25,25]
[null,"1523312-0",2305,1,"<130mph",5,"65,000 - 100,000",2,"Concrete with USP",3,"Soft",3,"300 < R < 400",1,"Good",2,"Poor","0 to 10",0,10,-6,0.24369230769230774,0,-8.25,0,-12,25]
[null,{"$f":"D2324&F2324&H2324&J2324&L2324&N2324&P2324&\"-\"&S2324","v":"1523312-10"},2306,1,"<130mph",5,"65,000 - 100,000",2,"Concrete with USP",3,"Soft",3,"300 < R < 400",1,"Good",2,"Poor","10 to 20",10,20,-6,0.20104615384615387,0,-9.6800000000000015,0,-15,25]
[null,"1523312-20",2307,1,"<130mph",5,"65,000 - 100,000",2,"Concrete with USP",3,"Soft",3,"300 < R < 400",1,"Good",2,"Poor","20 to 30",20,30,-6,0.24572307692307696,0,-14.520000000000003,0,-20,25]
[null,"1523312-30",2308,1,"<130mph",5,"65,000 - 100,000",2,"Concrete with USP",3,"Soft",3,"300 < R < 400",1,"Good",2,"Poor","30 to 40",30,40,-6,0.26806153846153852,0,-18.150000000000002,0,-25,25]
[null,"1523312-40",2309,1,"<130mph",5,"65,000 - 100,000",2,"Concrete with USP",3,"Soft",3,"300 < R < 400",1,"Good",2,"Poor","40 to 50",40,50,-6,0.29040000000000005,0,-21.780000000000005,0,-25,25]
[null,"1523312-50",2310,1,"<130mph",5,"65,000 - 100,000",2,"Concrete with USP",3,"Soft",3,"300 < R < 400",1,"Good",2,"Poor","Above 50",50,1000,-6,0.29040000000000005,0,-24.200000000000003,-0.5,-25,25]
[null,"1522322-0",2311,1,"<130mph",5,"65,000 - 100,000",2,"Concrete with USP",2,"Medium",3,"300 < R < 400",2,"Poor",2,"Poor","0 to 10",0,10,-6,0.2030769230769231,0,-7.5,0,-12,25]
[null,"1522322-10",2312,1,"<130mph",5,"65,000 - 100,000",2,"Concrete with USP",2,"Medium",3,"300 < R < 400",2,"Poor",2,"Poor","10 to 20",10,20,-6,0.20104615384615387,0,-9.6800000000000015,0,-15,25]
[null,"1522322-20",2313,1,"<130mph",5,"65,000 - 100,000",2,"Concrete with USP",2,"Medium",3,"300 < R < 400",2,"Poor",2,"Poor","20 to 30",20,30,-6,0.24572307692307696,0,-14.520000000000003,0,-20,25]
[null,"1522322-30",2314,1,"<130mph",5,"65,000 - 100,000",2,"Concrete with USP",2,"Medium",3,"300 < R < 400",2,"Poor",2,"Poor","30 to 40",30,40,-6,0.26806153846153852,0,-18.150000000000002,0,-25,25]
[null,"1522322-40",2315,1,"<130mph",5,"65,000 - 100,000",2,"Concrete with USP",2,"Medium",3,"300 < R < 400",2,"Poor",2,"Poor","40 to 50",40,50,-6,0.29040000000000005,0,-21.780000000000005,0,-25,25]
[null,"1522322-50",2316,1,"<130mph",5,"65,000 - 100,000",2,"Concrete with USP",2,"Medium",3,"300 < R < 400",2,"Poor",2,"Poor","Above 50",50,1000,-6,0.29040000000000005,0,-24.200000000000003,-0.5,-25,25]
[null,"1521322-0",2317,1,"<130mph",5,"65,000 - 100,000",2,"Concrete with USP",1,"Hard",3,"300 < R < 400",2,"Poor",2,"Poor","0 to 10",0,10,-6,0.14215384615384616,0,-6.75,0,-12,25]
[null,"1521322-10",2318,1,"<130mph",5,"65,000 - 100,000",2,"Concrete with USP",1,"Hard",3,"300 < R < 400",2,"Poor",2,"Poor","10 to 20",10,20,-6,0.14073230769230768,0,-8.7120000000000015,0,-15,25]
[null,"1521322-20",2319,1,"<130mph",5,"65,000 - 100,000",2,"Concrete with USP",1,"Hard",3,"300 < R < 400",2,"Poor",2,"Poor","20 to 30",20,30,-6,0.17200615384615384,0,-13.068000000000001,0,-20,25]
[null,"1521322-30",2320,1,"<130mph",5,"65,000 - 100,000",2,"Concrete with USP",1,"Hard",3,"300 < R < 400",2,"Poor",2,"Poor","30 to 40",30,40,-6,0.18764307692307691,0,-16.335000000000004,0,-25,25]
[null,"1521322-40",2321,1,"<130mph",5,"65,000 - 100,000",2,"Concrete with USP",1,"Hard",3,"300 < R < 400",2,"Poor",2,"Poor","40 to 50",40,50,-6,0.20328000000000002,0,-19.602000000000004,0,-25,25]
[null,"1521322-50",2322,1,"<130mph",5,"65,000 - 100,000",2,"Concrete with USP",1,"Hard",3,"300 < R < 400",2,"Poor",2,"Poor","Above 50",50,1000,-6,0.20328000000000002,0,-21.780000000000005,-0.5,-25,25]
[null,"1523322-0",2323,1,"<130mph",5,"65,000 - 100,000",2,"Concrete with USP",3,"Soft",3,"300 < R < 400",2,"Poor",2,"Poor","0 to 10",0,10,-6,0.24369230769230774,0,-8.25,0,-12,25]
[null,"1523322-10",2324,1,"<130mph",5,"65,000 - 100,000",2,"Concrete with USP",3,"Soft",3,"300 < R < 400",2,"Poor",2,"Poor","10 to 20",10,20,-6,0.24125538461538462,0,-10.648000000000003,0,-15,25]
[null,"1523322-20",2325,1,"<130mph",5,"65,000 - 100,000",2,"Concrete with USP",3,"Soft",3,"300 < R < 400",2,"Poor",2,"Poor","20 to 30",20,30,-6,0.29486769230769233,0,-15.972000000000005,0,-20,25]
[null,"1523322-30",2326,1,"<130mph",5,"65,000 - 100,000",2,"Concrete with USP",3,"Soft",3,"300 < R < 400",2,"Poor",2,"Poor","30 to 40",30,40,-6,0.32167384615384614,0,-19.965000000000007,0,-25,25]
[null,"1523322-40",2327,1,"<130mph",5,"65,000 - 100,000",2,"Concrete with USP",3,"Soft",3,"300 < R < 400",2,"Poor",2,"Poor","40 to 50",40,50,-6,0.34848000000000007,0,-23.958000000000006,0,-25,25]
[null,"1523322-50",2328,1,"<130mph",5,"65,000 - 100,000",2,"Concrete with USP",3,"Soft",3,"300 < R < 400",2,"Poor",2,"Poor","Above 50",50,1000,-6,0.34848000000000007,0,-26.620000000000008,-0.5,-25,25]
[null,"1522411-0",2329,1,"<130mph",5,"65,000 - 100,000",2,"Concrete with USP",2,"Medium",4,"< 300",1,"Good",1,"Good","0 to 10",0,10,-6,0.27692307692307694,0,-7.5,0,-12,20]
[null,"1522411-10",2330,1,"<130mph",5,"65,000 - 100,000",2,"Concrete with USP",2,"Medium",4,"< 300",1,"Good",1,"Good","10 to 20",10,20,-6,0.2076923076923077,0,-8,0,-15,20]
[null,"1522411-20",2331,1,"<130mph",5,"65,000 - 100,000",2,"Concrete with USP",2,"Medium",4,"< 300",1,"Good",1,"Good","20 to 30",20,30,-6,0.25384615384615389,0,-12,0,-20,20]
[null,"1522411-30",2332,1,"<130mph",5,"65,000 - 100,000",2,"Concrete with USP",2,"Medium",4,"< 300",1,"Good",1,"Good","30 to 40",30,40,-6,0.27692307692307694,0,-15,0,-25,20]
[null,"1522411-40",2333,1,"<130mph",5,"65,000 - 100,000",2,"Concrete with USP",2,"Medium",4,"< 300",1,"Good",1,"Good","40 to 50",40,50,-6,0.30000000000000004,0,-18,0,-25,20]
[null,"1522411-50",2334,1,"<130mph",5,"65,000 - 100,000",2,"Concrete with USP",2,"Medium",4,"< 300",1,"Good",1,"Good","Above 50",50,1000,-6,0.30000000000000004,0,-20,-0.5,-25,20]
[null,"1521411-0",2335,1,"<130mph",5,"65,000 - 100,000",2,"Concrete with USP",1,"Hard",4,"< 300",1,"Good",1,"Good","0 to 10",0,10,-6,0.19384615384615381,0,-6.75,0,-12,20]
[null,"1521411-10",2336,1,"<130mph",5,"65,000 - 100,000",2,"Concrete with USP",1,"Hard",4,"< 300",1,"Good",1,"Good","10 to 20",10,20,-6,0.14538461538461536,0,-7.2,0,-15,20]
[null,"1521411-20",2337,1,"<130mph",5,"65,000 - 100,000",2,"Concrete with USP",1,"Hard",4,"< 300",1,"Good",1,"Good","20 to 30",20,30,-6,0.17769230769230768,0,-10.8,0,-20,20]
[null,"1521411-30",2338,1,"<130mph",5,"65,000 - 100,000",2,"Concrete with USP",1,"Hard",4,"< 300",1,"Good",1,"Good","30 to 40",30,40,-6,0.19384615384615381,0,-13.5,0,-25,20]
[null,"1521411-40",2339,1,"<130mph",5,"65,000 - 100,000",2,"Concrete with USP",1,"Hard",4,"< 300",1,"Good",1,"Good","40 to 50",40,50,-6,0.21,0,-16.2,0,-25,20]
[null,"1521411-50",2340,1,"<130mph",5,"65,000 - 100,000",2,"Concrete with USP",1,"Hard",4,"< 300",1,"Good",1,"Good","Above 50",50,1000,-6,0.21,0,-18,-0.5,-25,20]
[null,"1523411-0",2341,1,"<130mph",5,"65,000 - 100,000",2,"Concrete with USP",3,"Soft",4,"< 300",1,"Good",1,"Good","0 to 10",0,10,-6,0.3323076923076923,0,-8.25,0,-12,20]
[null,"1523411-10",2342,1,"<130mph",5,"65,000 - 100,000",2,"Concrete with USP",3,"Soft",4,"< 300",1,"Good",1,"Good","10 to 20",10,20,-6,0.24923076923076923,0,-8.8000000000000007,0,-15,20]
[null,"1523411-20",2343,1,"<130mph",5,"65,000 - 100,000",2,"Concrete with USP",3,"Soft",4,"< 300",1,"Good",1,"Good","20 to 30",20,30,-6,0.30461538461538462,0,-13.200000000000001,0,-20,20]
[null,"1523411-30",2344,1,"<130mph",5,"65,000 - 100,000",2,"Concrete with USP",3,"Soft",4,"< 300",1,"Good",1,"Good","30 to 40",30,40,-6,0.3323076923076923,0,-16.5,0,-25,20]
[null,"1523411-40",2345,1,"<130mph",5,"65,000 - 100,000",2,"Concrete with USP",3,"Soft",4,"< 300",1,"Good",1,"Good","40 to 50",40,50,-6,0.36,0,-19.8,0,-25,20]
[null,"1523411-50",2346,1,"<130mph",5,"65,000 - 100,000",2,"Concrete with USP",3,"Soft",4,"< 300",1,"Good",1,"Good","Above 50",50,1000,-6,0.36,0,-22,-0.5,-25,20]
[null,"1522421-0",2347,1,"<130mph",5,"65,000 - 100,000",2,"Concrete with USP",2,"Medium",4,"< 300",2,"Poor",1,"Good","0 to 10",0,10,-6,0.27692307692307694,0,-7.5,0,-12,20]
[null,"1522421-10",2348,1,"<130mph",5,"65,000 - 100,000",2,"Concrete with USP",2,"Medium",4,"< 300",2,"Poor",1,"Good","10 to 20",10,20,-6,0.24923076923076923,0,-8.8000000000000007,0,-15,20]
[null,"1522421-20",2349,1,"<130mph",5,"65,000 - 100,000",2,"Concrete with USP",2,"Medium",4,"< 300",2,"Poor",1,"Good","20 to 30",20,30,-6,0.30461538461538462,0,-13.200000000000001,0,-20,20]
[null,"1522421-30",2350,1,"<130mph",5,"65,000 - 100,000",2,"Concrete with USP",2,"Medium",4,"< 300",2,"Poor",1,"Good","30 to 40",30,40,-6,0.3323076923076923,0,-16.5,0,-25,20]
[null,"1522421-40",2351,1,"<130mph",5,"65,000 - 100,000",2,"Concrete with USP",2,"Medium",4,"< 300",2,"Poor",1,"Good","40 to 50",40,50,-6,0.36,0,-19.8,0,-25,20]
[null,"1522421-50",2352,1,"<130mph",5,"65,000 - 100,000",2,"Concrete with USP",2,"Medium",4,"< 300",2,"Poor",1,"Good","Above 50",50,1000,-6,0.36,0,-22,-0.5,-25,20]
[null,"1521421-0",2353,1,"<130mph",5,"65,000 - 100,000",2,"Concrete with USP",1,"Hard",4,"< 300",2,"Poor",1,"Good","0 to 10",0,10,-6,0.19384615384615381,0,-6.75,0,-12,20]
[null,"1521421-10",2354,1,"<130mph",5,"65,000 - 100,000",2,"Concrete with USP",1,"Hard",4,"< 300",2,"Poor",1,"Good","10 to 20",10,20,-6,0.17446153846153845,0,-7.9200000000000008,0,-15,20]
[null,"1521421-20",2355,1,"<130mph",5,"65,000 - 100,000",2,"Concrete with USP",1,"Hard",4,"< 300",2,"Poor",1,"Good","20 to 30",20,30,-6,0.2132307692307692,0,-11.88,0,-20,20]
[null,"1521421-30",2356,1,"<130mph",5,"65,000 - 100,000",2,"Concrete with USP",1,"Hard",4,"< 300",2,"Poor",1,"Good","30 to 40",30,40,-6,0.23261538461538458,0,-14.850000000000001,0,-25,20]
[null,"1521421-40",2357,1,"<130mph",5,"65,000 - 100,000",2,"Concrete with USP",1,"Hard",4,"< 300",2,"Poor",1,"Good","40 to 50",40,50,-6,0.252,0,-17.82,0,-25,20]
[null,"1521421-50",2358,1,"<130mph",5,"65,000 - 100,000",2,"Concrete with USP",1,"Hard",4,"< 300",2,"Poor",1,"Good","Above 50",50,1000,-6,0.252,0,-19.8,-0.5,-25,20]
[null,"1523421-0",2359,1,"<130mph",5,"65,000 - 100,000",2,"Concrete with USP",3,"Soft",4,"< 300",2,"Poor",1,"Good","0 to 10",0,10,-6,0.3323076923076923,0,-8.25,0,-12,20]
[null,"1523421-10",2360,1,"<130mph",5,"65,000 - 100,000",2,"Concrete with USP",3,"Soft",4,"< 300",2,"Poor",1,"Good","10 to 20",10,20,-6,0.29907692307692302,0,-9.6800000000000015,0,-15,20]
[null,"1523421-20",2361,1,"<130mph",5,"65,000 - 100,000",2,"Concrete with USP",3,"Soft",4,"< 300",2,"Poor",1,"Good","20 to 30",20,30,-6,0.36553846153846153,0,-14.520000000000003,0,-20,20]
[null,"1523421-30",2362,1,"<130mph",5,"65,000 - 100,000",2,"Concrete with USP",3,"Soft",4,"< 300",2,"Poor",1,"Good","30 to 40",30,40,-6,0.39876923076923071,0,-18.150000000000002,0,-25,20]
[null,"1523421-40",2363,1,"<130mph",5,"65,000 - 100,000",2,"Concrete with USP",3,"Soft",4,"< 300",2,"Poor",1,"Good","40 to 50",40,50,-6,0.432,0,-21.780000000000005,0,-25,20]
[null,"1523421-50",2364,1,"<130mph",5,"65,000 - 100,000",2,"Concrete with USP",3,"Soft",4,"< 300",2,"Poor",1,"Good","Above 50",50,1000,-6,0.432,0,-24.200000000000003,-0.5,-25,20]
[null,"1522412-0",2365,1,"<130mph",5,"65,000 - 100,000",2,"Concrete with USP",2,"Medium",4,"< 300",1,"Good",2,"Poor","0 to 10",0,10,-6,0.27692307692307694,0,-7.5,0,-12,20]
[null,"1522412-10",2366,1,"<130mph",5,"65,000 - 100,000",2,"Concrete with USP",2,"Medium",4,"< 300",1,"Good",2,"Poor","10 to 20",10,20,-6,0.22846153846153849,0,-8.8000000000000007,0,-15,20]
[null,"1522412-20",2367,1,"<130mph",5,"65,000 - 100,000",2,"Concrete with USP",2,"Medium",4,"< 300",1,"Good",2,"Poor","20 to 30",20,30,-6,0.27923076923076928,0,-13.200000000000001,0,-20,20]
[null,"1522412-30",2368,1,"<130mph",5,"65,000 - 100,000",2,"Concrete with USP",2,"Medium",4,"< 300",1,"Good",2,"Poor","30 to 40",30,40,-6,0.30461538461538462,0,-16.5,0,-25,20]
[null,"1522412-40",2369,1,"<130mph",5,"65,000 - 100,000",2,"Concrete with USP",2,"Medium",4,"< 300",1,"Good",2,"Poor","40 to 50",40,50,-6,0.33000000000000007,0,-19.8,0,-25,20]
[null,{"$f":"D2388&F2388&H2388&J2388&L2388&N2388&P2388&\"-\"&S2388","v":"1522412-50"},2370,1,"<130mph",5,"65,000 - 100,000",2,"Concrete with USP",2,"Medium",4,"< 300",1,"Good",2,"Poor","Above 50",50,1000,-6,0.33000000000000007,0,-22,-0.5,-25,20]
[null,"1521412-0",2371,1,"<130mph",5,"65,000 - 100,000",2,"Concrete with USP",1,"Hard",4,"< 300",1,"Good",2,"Poor","0 to 10",0,10,-6,0.19384615384615381,0,-6.75,0,-12,20]
[null,"1521412-10",2372,1,"<130mph",5,"65,000 - 100,000",2,"Concrete with USP",1,"Hard",4,"< 300",1,"Good",2,"Poor","10 to 20",10,20,-6,0.15992307692307692,0,-7.9200000000000008,0,-15,20]
[null,"1521412-20",2373,1,"<130mph",5,"65,000 - 100,000",2,"Concrete with USP",1,"Hard",4,"< 300",1,"Good",2,"Poor","20 to 30",20,30,-6,0.19546153846153846,0,-11.88,0,-20,20]
[null,"1521412-30",2374,1,"<130mph",5,"65,000 - 100,000",2,"Concrete with USP",1,"Hard",4,"< 300",1,"Good",2,"Poor","30 to 40",30,40,-6,0.21323076923076922,0,-14.850000000000001,0,-25,20]
[null,"1521412-40",2375,1,"<130mph",5,"65,000 - 100,000",2,"Concrete with USP",1,"Hard",4,"< 300",1,"Good",2,"Poor","40 to 50",40,50,-6,0.23099999999999998,0,-17.82,0,-25,20]
[null,"1521412-50",2376,1,"<130mph",5,"65,000 - 100,000",2,"Concrete with USP",1,"Hard",4,"< 300",1,"Good",2,"Poor","Above 50",50,1000,-6,0.23099999999999998,0,-19.8,-0.5,-25,20]
[null,"1523412-0",2377,1,"<130mph",5,"65,000 - 100,000",2,"Concrete with USP",3,"Soft",4,"< 300",1,"Good",2,"Poor","0 to 10",0,10,-6,0.3323076923076923,0,-8.25,0,-12,20]
[null,"1523412-10",2378,1,"<130mph",5,"65,000 - 100,000",2,"Concrete with USP",3,"Soft",4,"< 300",1,"Good",2,"Poor","10 to 20",10,20,-6,0.27415384615384619,0,-9.6800000000000015,0,-15,20]
[null,"1523412-20",2379,1,"<130mph",5,"65,000 - 100,000",2,"Concrete with USP",3,"Soft",4,"< 300",1,"Good",2,"Poor","20 to 30",20,30,-6,0.33507692307692311,0,-14.520000000000003,0,-20,20]
[null,"1523412-30",2380,1,"<130mph",5,"65,000 - 100,000",2,"Concrete with USP",3,"Soft",4,"< 300",1,"Good",2,"Poor","30 to 40",30,40,-6,0.36553846153846153,0,-18.150000000000002,0,-25,20]
[null,"1523412-40",2381,1,"<130mph",5,"65,000 - 100,000",2,"Concrete with USP",3,"Soft",4,"< 300",1,"Good",2,"Poor","40 to 50",40,50,-6,0.39600000000000007,0,-21.780000000000005,0,-25,20]
[null,"1523412-50",2382,1,"<130mph",5,"65,000 - 100,000",2,"Concrete with USP",3,"Soft",4,"< 300",1,"Good",2,"Poor","Above 50",50,1000,-6,0.39600000000000007,0,-24.200000000000003,-0.5,-25,20]
[null,"1522422-0",2383,1,"<130mph",5,"65,000 - 100,000",2,"Concrete with USP",2,"Medium",4,"< 300",2,"Poor",2,"Poor","0 to 10",0,10,-6,0.27692307692307694,0,-7.5,0,-12,20]
[null,"1522422-10",2384,1,"<130mph",5,"65,000 - 100,000",2,"Concrete with USP",2,"Medium",4,"< 300",2,"Poor",2,"Poor","10 to 20",10,20,-6,0.27415384615384619,0,-9.6800000000000015,0,-15,20]
[null,"1522422-20",2385,1,"<130mph",5,"65,000 - 100,000",2,"Concrete with USP",2,"Medium",4,"< 300",2,"Poor",2,"Poor","20 to 30",20,30,-6,0.33507692307692311,0,-14.520000000000003,0,-20,20]
[null,"1522422-30",2386,1,"<130mph",5,"65,000 - 100,000",2,"Concrete with USP",2,"Medium",4,"< 300",2,"Poor",2,"Poor","30 to 40",30,40,-6,0.36553846153846153,0,-18.150000000000002,0,-25,20]
[null,"1522422-40",2387,1,"<130mph",5,"65,000 - 100,000",2,"Concrete with USP",2,"Medium",4,"< 300",2,"Poor",2,"Poor","40 to 50",40,50,-6,0.39600000000000007,0,-21.780000000000005,0,-25,20]
[null,"1522422-50",2388,1,"<130mph",5,"65,000 - 100,000",2,"Concrete with USP",2,"Medium",4,"< 300",2,"Poor",2,"Poor","Above 50",50,1000,-6,0.39600000000000007,0,-24.200000000000003,-0.5,-25,20]
[null,"1521422-0",2389,1,"<130mph",5,"65,000 - 100,000",2,"Concrete with USP",1,"Hard",4,"< 300",2,"Poor",2,"Poor","0 to 10",0,10,-6,0.19384615384615381,0,-6.75,0,-12,20]
[null,"1521422-10",2390,1,"<130mph",5,"65,000 - 100,000",2,"Concrete with USP",1,"Hard",4,"< 300",2,"Poor",2,"Poor","10 to 20",10,20,-6,0.19190769230769231,0,-8.7120000000000015,0,-15,20]
[null,"1521422-20",2391,1,"<130mph",5,"65,000 - 100,000",2,"Concrete with USP",1,"Hard",4,"< 300",2,"Poor",2,"Poor","20 to 30",20,30,-6,0.23455384615384617,0,-13.068000000000001,0,-20,20]
[null,"1521422-30",2392,1,"<130mph",5,"65,000 - 100,000",2,"Concrete with USP",1,"Hard",4,"< 300",2,"Poor",2,"Poor","30 to 40",30,40,-6,0.25587692307692311,0,-16.335000000000004,0,-25,20]
[null,"1521422-40",2393,1,"<130mph",5,"65,000 - 100,000",2,"Concrete with USP",1,"Hard",4,"< 300",2,"Poor",2,"Poor","40 to 50",40,50,-6,0.2772,0,-19.602000000000004,0,-25,20]
[null,"1521422-50",2394,1,"<130mph",5,"65,000 - 100,000",2,"Concrete with USP",1,"Hard",4,"< 300",2,"Poor",2,"Poor","Above 50",50,1000,-6,0.2772,0,-21.780000000000005,-0.5,-25,20]
[null,"1523422-0",2395,1,"<130mph",5,"65,000 - 100,000",2,"Concrete with USP",3,"Soft",4,"< 300",2,"Poor",2,"Poor","0 to 10",0,10,-6,0.3323076923076923,0,-8.25,0,-12,20]
[null,"1523422-10",2396,1,"<130mph",5,"65,000 - 100,000",2,"Concrete with USP",3,"Soft",4,"< 300",2,"Poor",2,"Poor","10 to 20",10,20,-6,0.32898461538461538,0,-10.648000000000003,0,-15,20]
[null,"1523422-20",2397,1,"<130mph",5,"65,000 - 100,000",2,"Concrete with USP",3,"Soft",4,"< 300",2,"Poor",2,"Poor","20 to 30",20,30,-6,0.40209230769230769,0,-15.972000000000005,0,-20,20]
[null,"1523422-30",2398,1,"<130mph",5,"65,000 - 100,000",2,"Concrete with USP",3,"Soft",4,"< 300",2,"Poor",2,"Poor","30 to 40",30,40,-6,0.43864615384615385,0,-19.965000000000007,0,-25,20]
[null,"1523422-40",2399,1,"<130mph",5,"65,000 - 100,000",2,"Concrete with USP",3,"Soft",4,"< 300",2,"Poor",2,"Poor","40 to 50",40,50,-6,0.47520000000000001,0,-23.958000000000006,0,-25,20]
[null,"1523422-50",2400,1,"<130mph",5,"65,000 - 100,000",2,"Concrete with USP",3,"Soft",4,"< 300",2,"Poor",2,"Poor","Above 50",50,1000,-6,0.47520000000000001,0,-26.620000000000008,-0.5,-25,20]
[null,"1232111-0",2401,1,"<130mph",2,"15,000 - 30,000",3,"Wooden",2,"Medium",1,"> 600",1,"Good",1,"Good","0 to 10",0,10,-6,0.1,0,-6,0,-12,40]
[null,"1232111-10",2402,1,"<130mph",2,"15,000 - 30,000",3,"Wooden",2,"Medium",1,"> 600",1,"Good",1,"Good","10 to 20",10,20,-6,0.08,0,-8,0,-15,40]
[null,"1232111-20",2403,1,"<130mph",2,"15,000 - 30,000",3,"Wooden",2,"Medium",1,"> 600",1,"Good",1,"Good","Above 20",20,1000,-6,0.1,0,-11,0,-18,40]
[null,"1231111-0",2404,1,"<130mph",2,"15,000 - 30,000",3,"Wooden",1,"Hard",1,"> 600",1,"Good",1,"Good","0 to 10",0,10,-6,6.9999999999999993E-2,0,-5.4,0,-12,40]
[null,"1231111-10",2405,1,"<130mph",2,"15,000 - 30,000",3,"Wooden",1,"Hard",1,"> 600",1,"Good",1,"Good","10 to 20",10,20,-6,5.5999999999999994E-2,0,-7.2,0,-15,40]
[null,"1231111-20",2406,1,"<130mph",2,"15,000 - 30,000",3,"Wooden",1,"Hard",1,"> 600",1,"Good",1,"Good","Above 20",20,1000,-6,6.9999999999999993E-2,0,-9.9,0,-18,40]
[null,"1233111-0",2407,1,"<130mph",2,"15,000 - 30,000",3,"Wooden",3,"Soft",1,"> 600",1,"Good",1,"Good","0 to 10",0,10,-6,0.12,0,-6.6000000000000005,0,-12,40]
[null,"1233111-10",2408,1,"<130mph",2,"15,000 - 30,000",3,"Wooden",3,"Soft",1,"> 600",1,"Good",1,"Good","10 to 20",10,20,-6,9.6000000000000002E-2,0,-8.8000000000000007,0,-15,40]
[null,"1233111-20",2409,1,"<130mph",2,"15,000 - 30,000",3,"Wooden",3,"Soft",1,"> 600",1,"Good",1,"Good","Above 20",20,1000,-6,0.12,0,-12.100000000000001,0,-18,40]
[null,"1232121-0",2410,1,"<130mph",2,"15,000 - 30,000",3,"Wooden",2,"Medium",1,"> 600",2,"Poor",1,"Good","0 to 10",0,10,-6,0.1,0,-6,0,-12,40]
[null,"1232121-10",2411,1,"<130mph",2,"15,000 - 30,000",3,"Wooden",2,"Medium",1,"> 600",2,"Poor",1,"Good","10 to 20",10,20,-6,9.6000000000000002E-2,0,-8.8000000000000007,0,-15,40]
[null,"1232121-20",2412,1,"<130mph",2,"15,000 - 30,000",3,"Wooden",2,"Medium",1,"> 600",2,"Poor",1,"Good","Above 20",20,1000,-6,0.12,0,-12.100000000000001,0,-18,40]
[null,"1231121-0",2413,1,"<130mph",2,"15,000 - 30,000",3,"Wooden",1,"Hard",1,"> 600",2,"Poor",1,"Good","0 to 10",0,10,-6,6.9999999999999993E-2,0,-5.4,0,-12,40]
[null,"1231121-10",2414,1,"<130mph",2,"15,000 - 30,000",3,"Wooden",1,"Hard",1,"> 600",2,"Poor",1,"Good","10 to 20",10,20,-6,6.7199999999999996E-2,0,-7.9200000000000008,0,-15,40]
[null,"1231121-20",2415,1,"<130mph",2,"15,000 - 30,000",3,"Wooden",1,"Hard",1,"> 600",2,"Poor",1,"Good","Above 20",20,1000,-6,8.4000000000000005E-2,0,-10.89,0,-18,40]
[null,"1233121-0",2416,1,"<130mph",2,"15,000 - 30,000",3,"Wooden",3,"Soft",1,"> 600",2,"Poor",1,"Good","0 to 10",0,10,-6,0.12,0,-6.6000000000000005,0,-12,40]
[null,"1233121-10",2417,1,"<130mph",2,"15,000 - 30,000",3,"Wooden",3,"Soft",1,"> 600",2,"Poor",1,"Good","10 to 20",10,20,-6,0.1152,0,-9.6800000000000015,0,-15,40]
[null,"1233121-20",2418,1,"<130mph",2,"15,000 - 30,000",3,"Wooden",3,"Soft",1,"> 600",2,"Poor",1,"Good","Above 20",20,1000,-6,0.14399999999999999,0,-13.310000000000002,0,-18,40]
[null,"1232112-0",2419,1,"<130mph",2,"15,000 - 30,000",3,"Wooden",2,"Medium",1,"> 600",1,"Good",2,"Poor","0 to 10",0,10,-6,0.1,0,-6,0,-12,40]
[null,"1232112-10",2420,1,"<130mph",2,"15,000 - 30,000",3,"Wooden",2,"Medium",1,"> 600",1,"Good",2,"Poor","10 to 20",10,20,-6,8.8000000000000009E-2,0,-8.8000000000000007,0,-15,40]
[null,"1232112-20",2421,1,"<130mph",2,"15,000 - 30,000",3,"Wooden",2,"Medium",1,"> 600",1,"Good",2,"Poor","Above 20",20,1000,-6,0.11000000000000001,0,-12.100000000000001,0,-18,40]
[null,"1231112-0",2422,1,"<130mph",2,"15,000 - 30,000",3,"Wooden",1,"Hard",1,"> 600",1,"Good",2,"Poor","0 to 10",0,10,-6,6.9999999999999993E-2,0,-5.4,0,-12,40]
[null,"1231112-10",2423,1,"<130mph",2,"15,000 - 30,000",3,"Wooden",1,"Hard",1,"> 600",1,"Good",2,"Poor","10 to 20",10,20,-6,6.1600000000000002E-2,0,-7.9200000000000008,0,-15,40]
[null,"1231112-20",2424,1,"<130mph",2,"15,000 - 30,000",3,"Wooden",1,"Hard",1,"> 600",1,"Good",2,"Poor","Above 20",20,1000,-6,7.7000000000000013E-2,0,-10.89,0,-18,40]
[null,"1233112-0",2425,1,"<130mph",2,"15,000 - 30,000",3,"Wooden",3,"Soft",1,"> 600",1,"Good",2,"Poor","0 to 10",0,10,-6,0.12,0,-6.6000000000000005,0,-12,40]
[null,"1233112-10",2426,1,"<130mph",2,"15,000 - 30,000",3,"Wooden",3,"Soft",1,"> 600",1,"Good",2,"Poor","10 to 20",10,20,-6,0.10560000000000001,0,-9.6800000000000015,0,-15,40]
[null,"1233112-20",2427,1,"<130mph",2,"15,000 - 30,000",3,"Wooden",3,"Soft",1,"> 600",1,"Good",2,"Poor","Above 20",20,1000,-6,0.13200000000000001,0,-13.310000000000002,0,-18,40]
[null,"1232122-0",2428,1,"<130mph",2,"15,000 - 30,000",3,"Wooden",2,"Medium",1,"> 600",2,"Poor",2,"Poor","0 to 10",0,10,-6,0.1,0,-6,0,-12,40]
[null,"1232122-10",2429,1,"<130mph",2,"15,000 - 30,000",3,"Wooden",2,"Medium",1,"> 600",2,"Poor",2,"Poor","10 to 20",10,20,-6,0.10560000000000001,0,-9.6800000000000015,0,-15,40]
[null,"1232122-20",2430,1,"<130mph",2,"15,000 - 30,000",3,"Wooden",2,"Medium",1,"> 600",2,"Poor",2,"Poor","Above 20",20,1000,-6,0.13200000000000001,0,-13.310000000000002,0,-18,40]
[null,"1231122-0",2431,1,"<130mph",2,"15,000 - 30,000",3,"Wooden",1,"Hard",1,"> 600",2,"Poor",2,"Poor","0 to 10",0,10,-6,6.9999999999999993E-2,0,-5.4,0,-12,40]
[null,"1231122-10",2432,1,"<130mph",2,"15,000 - 30,000",3,"Wooden",1,"Hard",1,"> 600",2,"Poor",2,"Poor","10 to 20",10,20,-6,7.392E-2,0,-8.7120000000000015,0,-15,40]
[null,"1231122-20",2433,1,"<130mph",2,"15,000 - 30,000",3,"Wooden",1,"Hard",1,"> 600",2,"Poor",2,"Poor","Above 20",20,1000,-6,9.240000000000001E-2,0,-11.979000000000003,0,-18,40]
[null,{"$f":"D2452&F2452&H2452&J2452&L2452&N2452&P2452&\"-\"&S2452","v":"1233122-0"},2434,1,"<130mph",2,"15,000 - 30,000",3,"Wooden",3,"Soft",1,"> 600",2,"Poor",2,"Poor","0 to 10",0,10,-6,0.12,0,-6.6000000000000005,0,-12,40]
[null,"1233122-10",2435,1,"<130mph",2,"15,000 - 30,000",3,"Wooden",3,"Soft",1,"> 600",2,"Poor",2,"Poor","10 to 20",10,20,-6,0.12672,0,-10.648000000000003,0,-15,40]
[null,"1233122-20",2436,1,"<130mph",2,"15,000 - 30,000",3,"Wooden",3,"Soft",1,"> 600",2,"Poor",2,"Poor","Above 20",20,1000,-6,0.15840000000000001,0,-14.641000000000005,0,-18,40]
[null,"1232211-0",2437,1,"<130mph",2,"15,000 - 30,000",3,"Wooden",2,"Medium",2,"400 < R < 600",1,"Good",1,"Good","0 to 10",0,10,-6,0.11000000000000001,0,-6,0,-12,30]
[null,"1232211-10",2438,1,"<130mph",2,"15,000 - 30,000",3,"Wooden",2,"Medium",2,"400 < R < 600",1,"Good",1,"Good","10 to 20",10,20,-6,8.8000000000000009E-2,0,-8,0,-15,30]
[null,"1232211-20",2439,1,"<130mph",2,"15,000 - 30,000",3,"Wooden",2,"Medium",2,"400 < R < 600",1,"Good",1,"Good","Above 20",20,1000,-6,0.11000000000000001,0,-11,0,-18,30]
[null,"1231211-0",2440,1,"<130mph",2,"15,000 - 30,000",3,"Wooden",1,"Hard",2,"400 < R < 600",1,"Good",1,"Good","0 to 10",0,10,-6,7.7000000000000013E-2,0,-5.4,0,-12,30]
[null,"1231211-10",2441,1,"<130mph",2,"15,000 - 30,000",3,"Wooden",1,"Hard",2,"400 < R < 600",1,"Good",1,"Good","10 to 20",10,20,-6,6.1600000000000002E-2,0,-7.2,0,-15,30]
[null,"1231211-20",2442,1,"<130mph",2,"15,000 - 30,000",3,"Wooden",1,"Hard",2,"400 < R < 600",1,"Good",1,"Good","Above 20",20,1000,-6,7.7000000000000013E-2,0,-9.9,0,-18,30]
[null,"1233211-0",2443,1,"<130mph",2,"15,000 - 30,000",3,"Wooden",3,"Soft",2,"400 < R < 600",1,"Good",1,"Good","0 to 10",0,10,-6,0.13200000000000001,0,-6.6000000000000005,0,-12,30]
[null,"1233211-10",2444,1,"<130mph",2,"15,000 - 30,000",3,"Wooden",3,"Soft",2,"400 < R < 600",1,"Good",1,"Good","10 to 20",10,20,-6,0.10560000000000001,0,-8.8000000000000007,0,-15,30]
[null,"1233211-20",2445,1,"<130mph",2,"15,000 - 30,000",3,"Wooden",3,"Soft",2,"400 < R < 600",1,"Good",1,"Good","Above 20",20,1000,-6,0.13200000000000001,0,-12.100000000000001,0,-18,30]
[null,"1232221-0",2446,1,"<130mph",2,"15,000 - 30,000",3,"Wooden",2,"Medium",2,"400 < R < 600",2,"Poor",1,"Good","0 to 10",0,10,-6,0.11000000000000001,0,-6,0,-12,30]
[null,"1232221-10",2447,1,"<130mph",2,"15,000 - 30,000",3,"Wooden",2,"Medium",2,"400 < R < 600",2,"Poor",1,"Good","10 to 20",10,20,-6,0.10560000000000001,0,-8.8000000000000007,0,-15,30]
[null,"1232221-20",2448,1,"<130mph",2,"15,000 - 30,000",3,"Wooden",2,"Medium",2,"400 < R < 600",2,"Poor",1,"Good","Above 20",20,1000,-6,0.13200000000000001,0,-12.100000000000001,0,-18,30]
[null,"1231221-0",2449,1,"<130mph",2,"15,000 - 30,000",3,"Wooden",1,"Hard",2,"400 < R < 600",2,"Poor",1,"Good","0 to 10",0,10,-6,7.7000000000000013E-2,0,-5.4,0,-12,30]
[null,"1231221-10",2450,1,"<130mph",2,"15,000 - 30,000",3,"Wooden",1,"Hard",2,"400 < R < 600",2,"Poor",1,"Good","10 to 20",10,20,-6,7.392E-2,0,-7.9200000000000008,0,-15,30]
[null,"1231221-20",2451,1,"<130mph",2,"15,000 - 30,000",3,"Wooden",1,"Hard",2,"400 < R < 600",2,"Poor",1,"Good","Above 20",20,1000,-6,9.2399999999999996E-2,0,-10.89,0,-18,30]
[null,"1233221-0",2452,1,"<130mph",2,"15,000 - 30,000",3,"Wooden",3,"Soft",2,"400 < R < 600",2,"Poor",1,"Good","0 to 10",0,10,-6,0.13200000000000001,0,-6.6000000000000005,0,-12,30]
[null,"1233221-10",2453,1,"<130mph",2,"15,000 - 30,000",3,"Wooden",3,"Soft",2,"400 < R < 600",2,"Poor",1,"Good","10 to 20",10,20,-6,0.12672,0,-9.6800000000000015,0,-15,30]
[null,"1233221-20",2454,1,"<130mph",2,"15,000 - 30,000",3,"Wooden",3,"Soft",2,"400 < R < 600",2,"Poor",1,"Good","Above 20",20,1000,-6,0.15840000000000001,0,-13.310000000000002,0,-18,30]
[null,"1232212-0",2455,1,"<130mph",2,"15,000 - 30,000",3,"Wooden",2,"Medium",2,"400 < R < 600",1,"Good",2,"Poor","0 to 10",0,10,-6,0.11000000000000001,0,-6,0,-12,30]
[null,"1232212-10",2456,1,"<130mph",2,"15,000 - 30,000",3,"Wooden",2,"Medium",2,"400 < R < 600",1,"Good",2,"Poor","10 to 20",10,20,-6,9.6800000000000011E-2,0,-8.8000000000000007,0,-15,30]
[null,"1232212-20",2457,1,"<130mph",2,"15,000 - 30,000",3,"Wooden",2,"Medium",2,"400 < R < 600",1,"Good",2,"Poor","Above 20",20,1000,-6,0.12100000000000002,0,-12.100000000000001,0,-18,30]
[null,"1231212-0",2458,1,"<130mph",2,"15,000 - 30,000",3,"Wooden",1,"Hard",2,"400 < R < 600",1,"Good",2,"Poor","0 to 10",0,10,-6,7.7000000000000013E-2,0,-5.4,0,-12,30]
[null,"1231212-10",2459,1,"<130mph",2,"15,000 - 30,000",3,"Wooden",1,"Hard",2,"400 < R < 600",1,"Good",2,"Poor","10 to 20",10,20,-6,6.7760000000000015E-2,0,-7.9200000000000008,0,-15,30]
[null,"1231212-20",2460,1,"<130mph",2,"15,000 - 30,000",3,"Wooden",1,"Hard",2,"400 < R < 600",1,"Good",2,"Poor","Above 20",20,1000,-6,8.4700000000000011E-2,0,-10.89,0,-18,30]
[null,"1233212-0",2461,1,"<130mph",2,"15,000 - 30,000",3,"Wooden",3,"Soft",2,"400 < R < 600",1,"Good",2,"Poor","0 to 10",0,10,-6,0.13200000000000001,0,-6.6000000000000005,0,-12,30]
[null,"1233212-10",2462,1,"<130mph",2,"15,000 - 30,000",3,"Wooden",3,"Soft",2,"400 < R < 600",1,"Good",2,"Poor","10 to 20",10,20,-6,0.11616000000000001,0,-9.6800000000000015,0,-15,30]
[null,"1233212-20",2463,1,"<130mph",2,"15,000 - 30,000",3,"Wooden",3,"Soft",2,"400 < R < 600",1,"Good",2,"Poor","Above 20",20,1000,-6,0.14520000000000002,0,-13.310000000000002,0,-18,30]
[null,"1232222-0",2464,1,"<130mph",2,"15,000 - 30,000",3,"Wooden",2,"Medium",2,"400 < R < 600",2,"Poor",2,"Poor","0 to 10",0,10,-6,0.11000000000000001,0,-6,0,-12,30]
[null,"1232222-10",2465,1,"<130mph",2,"15,000 - 30,000",3,"Wooden",2,"Medium",2,"400 < R < 600",2,"Poor",2,"Poor","10 to 20",10,20,-6,0.11616000000000001,0,-9.6800000000000015,0,-15,30]
[null,"1232222-20",2466,1,"<130mph",2,"15,000 - 30,000",3,"Wooden",2,"Medium",2,"400 < R < 600",2,"Poor",2,"Poor","Above 20",20,1000,-6,0.14520000000000002,0,-13.310000000000002,0,-18,30]
[null,"1231222-0",2467,1,"<130mph",2,"15,000 - 30,000",3,"Wooden",1,"Hard",2,"400 < R < 600",2,"Poor",2,"Poor","0 to 10",0,10,-6,7.7000000000000013E-2,0,-5.4,0,-12,30]
[null,"1231222-10",2468,1,"<130mph",2,"15,000 - 30,000",3,"Wooden",1,"Hard",2,"400 < R < 600",2,"Poor",2,"Poor","10 to 20",10,20,-6,8.1311999999999995E-2,0,-8.7120000000000015,0,-15,30]
[null,"1231222-20",2469,1,"<130mph",2,"15,000 - 30,000",3,"Wooden",1,"Hard",2,"400 < R < 600",2,"Poor",2,"Poor","Above 20",20,1000,-6,0.10164000000000001,0,-11.979000000000003,0,-18,30]
[null,"1233222-0",2470,1,"<130mph",2,"15,000 - 30,000",3,"Wooden",3,"Soft",2,"400 < R < 600",2,"Poor",2,"Poor","0 to 10",0,10,-6,0.13200000000000001,0,-6.6000000000000005,0,-12,30]
[null,"1233222-10",2471,1,"<130mph",2,"15,000 - 30,000",3,"Wooden",3,"Soft",2,"400 < R < 600",2,"Poor",2,"Poor","10 to 20",10,20,-6,0.13939200000000002,0,-10.648000000000003,0,-15,30]
[null,"1233222-20",2472,1,"<130mph",2,"15,000 - 30,000",3,"Wooden",3,"Soft",2,"400 < R < 600",2,"Poor",2,"Poor","Above 20",20,1000,-6,0.17424000000000003,0,-14.641000000000005,0,-18,30]
[null,"1232311-0",2473,1,"<130mph",2,"15,000 - 30,000",3,"Wooden",2,"Medium",3,"300 < R < 400",1,"Good",1,"Good","0 to 10",0,10,-6,0.11000000000000001,0,-6,0,-12,22]
[null,"1232311-10",2474,1,"<130mph",2,"15,000 - 30,000",3,"Wooden",2,"Medium",3,"300 < R < 400",1,"Good",1,"Good","10 to 20",10,20,-6,8.8000000000000009E-2,0,-8,0,-15,22]
[null,"1232311-20",2475,1,"<130mph",2,"15,000 - 30,000",3,"Wooden",2,"Medium",3,"300 < R < 400",1,"Good",1,"Good","Above 20",20,1000,-6,0.11000000000000001,0,-11,0,-18,22]
[null,"1231311-0",2476,1,"<130mph",2,"15,000 - 30,000",3,"Wooden",1,"Hard",3,"300 < R < 400",1,"Good",1,"Good","0 to 10",0,10,-6,7.7000000000000013E-2,0,-5.4,0,-12,22]
[null,"1231311-10",2477,1,"<130mph",2,"15,000 - 30,000",3,"Wooden",1,"Hard",3,"300 < R < 400",1,"Good",1,"Good","10 to 20",10,20,-6,6.1600000000000002E-2,0,-7.2,0,-15,22]
[null,"1231311-20",2478,1,"<130mph",2,"15,000 - 30,000",3,"Wooden",1,"Hard",3,"300 < R < 400",1,"Good",1,"Good","Above 20",20,1000,-6,7.7000000000000013E-2,0,-9.9,0,-18,22]
[null,"1233311-0",2479,1,"<130mph",2,"15,000 - 30,000",3,"Wooden",3,"Soft",3,"300 < R < 400",1,"Good",1,"Good","0 to 10",0,10,-6,0.13200000000000001,0,-6.6000000000000005,0,-12,22]
[null,"1233311-10",2480,1,"<130mph",2,"15,000 - 30,000",3,"Wooden",3,"Soft",3,"300 < R < 400",1,"Good",1,"Good","10 to 20",10,20,-6,0.10560000000000001,0,-8.8000000000000007,0,-15,22]
[null,"1233311-20",2481,1,"<130mph",2,"15,000 - 30,000",3,"Wooden",3,"Soft",3,"300 < R < 400",1,"Good",1,"Good","Above 20",20,1000,-6,0.13200000000000001,0,-12.100000000000001,0,-18,22]
[null,"1232321-0",2482,1,"<130mph",2,"15,000 - 30,000",3,"Wooden",2,"Medium",3,"300 < R < 400",2,"Poor",1,"Good","0 to 10",0,10,-6,0.11000000000000001,0,-6,0,-12,22]
[null,"1232321-10",2483,1,"<130mph",2,"15,000 - 30,000",3,"Wooden",2,"Medium",3,"300 < R < 400",2,"Poor",1,"Good","10 to 20",10,20,-6,0.10560000000000001,0,-8.8000000000000007,0,-15,22]
[null,"1232321-20",2484,1,"<130mph",2,"15,000 - 30,000",3,"Wooden",2,"Medium",3,"300 < R < 400",2,"Poor",1,"Good","Above 20",20,1000,-6,0.13200000000000001,0,-12.100000000000001,0,-18,22]
[null,"1231321-0",2485,1,"<130mph",2,"15,000 - 30,000",3,"Wooden",1,"Hard",3,"300 < R < 400",2,"Poor",1,"Good","0 to 10",0,10,-6,7.7000000000000013E-2,0,-5.4,0,-12,22]
[null,"1231321-10",2486,1,"<130mph",2,"15,000 - 30,000",3,"Wooden",1,"Hard",3,"300 < R < 400",2,"Poor",1,"Good","10 to 20",10,20,-6,7.392E-2,0,-7.9200000000000008,0,-15,22]
[null,"1231321-20",2487,1,"<130mph",2,"15,000 - 30,000",3,"Wooden",1,"Hard",3,"300 < R < 400",2,"Poor",1,"Good","Above 20",20,1000,-6,9.2399999999999996E-2,0,-10.89,0,-18,22]
[null,"1233321-0",2488,1,"<130mph",2,"15,000 - 30,000",3,"Wooden",3,"Soft",3,"300 < R < 400",2,"Poor",1,"Good","0 to 10",0,10,-6,0.13200000000000001,0,-6.6000000000000005,0,-12,22]
[null,"1233321-10",2489,1,"<130mph",2,"15,000 - 30,000",3,"Wooden",3,"Soft",3,"300 < R < 400",2,"Poor",1,"Good","10 to 20",10,20,-6,0.12672,0,-9.6800000000000015,0,-15,22]
[null,"1233321-20",2490,1,"<130mph",2,"15,000 - 30,000",3,"Wooden",3,"Soft",3,"300 < R < 400",2,"Poor",1,"Good","Above 20",20,1000,-6,0.15840000000000001,0,-13.310000000000002,0,-18,22]
[null,"1232312-0",2491,1,"<130mph",2,"15,000 - 30,000",3,"Wooden",2,"Medium",3,"300 < R < 400",1,"Good",2,"Poor","0 to 10",0,10,-6,0.11000000000000001,0,-6,0,-12,22]
[null,"1232312-10",2492,1,"<130mph",2,"15,000 - 30,000",3,"Wooden",2,"Medium",3,"300 < R < 400",1,"Good",2,"Poor","10 to 20",10,20,-6,9.6800000000000011E-2,0,-8.8000000000000007,0,-15,22]
[null,"1232312-20",2493,1,"<130mph",2,"15,000 - 30,000",3,"Wooden",2,"Medium",3,"300 < R < 400",1,"Good",2,"Poor","Above 20",20,1000,-6,0.12100000000000002,0,-12.100000000000001,0,-18,22]
[null,"1231312-0",2494,1,"<130mph",2,"15,000 - 30,000",3,"Wooden",1,"Hard",3,"300 < R < 400",1,"Good",2,"Poor","0 to 10",0,10,-6,7.7000000000000013E-2,0,-5.4,0,-12,22]
[null,"1231312-10",2495,1,"<130mph",2,"15,000 - 30,000",3,"Wooden",1,"Hard",3,"300 < R < 400",1,"Good",2,"Poor","10 to 20",10,20,-6,6.7760000000000015E-2,0,-7.9200000000000008,0,-15,22]
[null,"1231312-20",2496,1,"<130mph",2,"15,000 - 30,000",3,"Wooden",1,"Hard",3,"300 < R < 400",1,"Good",2,"Poor","Above 20",20,1000,-6,8.4700000000000011E-2,0,-10.89,0,-18,22]
[null,"1233312-0",2497,1,"<130mph",2,"15,000 - 30,000",3,"Wooden",3,"Soft",3,"300 < R < 400",1,"Good",2,"Poor","0 to 10",0,10,-6,0.13200000000000001,0,-6.6000000000000005,0,-12,22]
[null,{"$f":"D2516&F2516&H2516&J2516&L2516&N2516&P2516&\"-\"&S2516","v":"1233312-10"},2498,1,"<130mph",2,"15,000 - 30,000",3,"Wooden",3,"Soft",3,"300 < R < 400",1,"Good",2,"Poor","10 to 20",10,20,-6,0.11616000000000001,0,-9.6800000000000015,0,-15,22]
[null,"1233312-20",2499,1,"<130mph",2,"15,000 - 30,000",3,"Wooden",3,"Soft",3,"300 < R < 400",1,"Good",2,"Poor","Above 20",20,1000,-6,0.14520000000000002,0,-13.310000000000002,0,-18,22]
[null,"1232322-0",2500,1,"<130mph",2,"15,000 - 30,000",3,"Wooden",2,"Medium",3,"300 < R < 400",2,"Poor",2,"Poor","0 to 10",0,10,-6,0.11000000000000001,0,-6,0,-12,22]
[null,"1232322-10",2501,1,"<130mph",2,"15,000 - 30,000",3,"Wooden",2,"Medium",3,"300 < R < 400",2,"Poor",2,"Poor","10 to 20",10,20,-6,0.11616000000000001,0,-9.6800000000000015,0,-15,22]
[null,"1232322-20",2502,1,"<130mph",2,"15,000 - 30,000",3,"Wooden",2,"Medium",3,"300 < R < 400",2,"Poor",2,"Poor","Above 20",20,1000,-6,0.14520000000000002,0,-13.310000000000002,0,-18,22]
[null,"1231322-0",2503,1,"<130mph",2,"15,000 - 30,000",3,"Wooden",1,"Hard",3,"300 < R < 400",2,"Poor",2,"Poor","0 to 10",0,10,-6,7.7000000000000013E-2,0,-5.4,0,-12,22]
[null,"1231322-10",2504,1,"<130mph",2,"15,000 - 30,000",3,"Wooden",1,"Hard",3,"300 < R < 400",2,"Poor",2,"Poor","10 to 20",10,20,-6,8.1311999999999995E-2,0,-8.7120000000000015,0,-15,22]
[null,"1231322-20",2505,1,"<130mph",2,"15,000 - 30,000",3,"Wooden",1,"Hard",3,"300 < R < 400",2,"Poor",2,"Poor","Above 20",20,1000,-6,0.10164000000000001,0,-11.979000000000003,0,-18,22]
[null,"1233322-0",2506,1,"<130mph",2,"15,000 - 30,000",3,"Wooden",3,"Soft",3,"300 < R < 400",2,"Poor",2,"Poor","0 to 10",0,10,-6,0.13200000000000001,0,-6.6000000000000005,0,-12,22]
[null,"1233322-10",2507,1,"<130mph",2,"15,000 - 30,000",3,"Wooden",3,"Soft",3,"300 < R < 400",2,"Poor",2,"Poor","10 to 20",10,20,-6,0.13939200000000002,0,-10.648000000000003,0,-15,22]
[null,"1233322-20",2508,1,"<130mph",2,"15,000 - 30,000",3,"Wooden",3,"Soft",3,"300 < R < 400",2,"Poor",2,"Poor","Above 20",20,1000,-6,0.17424000000000003,0,-14.641000000000005,0,-18,22]
[null,"1232411-0",2509,1,"<130mph",2,"15,000 - 30,000",3,"Wooden",2,"Medium",4,"< 300",1,"Good",1,"Good","0 to 10",0,10,-6,0.15000000000000002,0,-6,0,-12,20]
[null,"1232411-10",2510,1,"<130mph",2,"15,000 - 30,000",3,"Wooden",2,"Medium",4,"< 300",1,"Good",1,"Good","10 to 20",10,20,-6,0.12,0,-8,0,-15,20]
[null,"1232411-20",2511,1,"<130mph",2,"15,000 - 30,000",3,"Wooden",2,"Medium",4,"< 300",1,"Good",1,"Good","Above 20",20,1000,-6,0.15000000000000002,0,-11,0,-18,20]
[null,"1231411-0",2512,1,"<130mph",2,"15,000 - 30,000",3,"Wooden",1,"Hard",4,"< 300",1,"Good",1,"Good","0 to 10",0,10,-6,0.10499999999999998,0,-5.4,0,-12,20]
[null,"1231411-10",2513,1,"<130mph",2,"15,000 - 30,000",3,"Wooden",1,"Hard",4,"< 300",1,"Good",1,"Good","10 to 20",10,20,-6,8.3999999999999991E-2,0,-7.2,0,-15,20]
[null,"1231411-20",2514,1,"<130mph",2,"15,000 - 30,000",3,"Wooden",1,"Hard",4,"< 300",1,"Good",1,"Good","Above 20",20,1000,-6,0.10499999999999998,0,-9.9,0,-18,20]
[null,"1233411-0",2515,1,"<130mph",2,"15,000 - 30,000",3,"Wooden",3,"Soft",4,"< 300",1,"Good",1,"Good","0 to 10",0,10,-6,0.18,0,-6.6000000000000005,0,-12,20]
[null,"1233411-10",2516,1,"<130mph",2,"15,000 - 30,000",3,"Wooden",3,"Soft",4,"< 300",1,"Good",1,"Good","10 to 20",10,20,-6,0.14399999999999999,0,-8.8000000000000007,0,-15,20]
[null,"1233411-20",2517,1,"<130mph",2,"15,000 - 30,000",3,"Wooden",3,"Soft",4,"< 300",1,"Good",1,"Good","Above 20",20,1000,-6,0.18,0,-12.100000000000001,0,-18,20]
[null,"1232421-0",2518,1,"<130mph",2,"15,000 - 30,000",3,"Wooden",2,"Medium",4,"< 300",2,"Poor",1,"Good","0 to 10",0,10,-6,0.15000000000000002,0,-6,0,-12,20]
[null,"1232421-10",2519,1,"<130mph",2,"15,000 - 30,000",3,"Wooden",2,"Medium",4,"< 300",2,"Poor",1,"Good","10 to 20",10,20,-6,0.14399999999999999,0,-8.8000000000000007,0,-15,20]
[null,"1232421-20",2520,1,"<130mph",2,"15,000 - 30,000",3,"Wooden",2,"Medium",4,"< 300",2,"Poor",1,"Good","Above 20",20,1000,-6,0.18,0,-12.100000000000001,0,-18,20]
[null,"1231421-0",2521,1,"<130mph",2,"15,000 - 30,000",3,"Wooden",1,"Hard",4,"< 300",2,"Poor",1,"Good","0 to 10",0,10,-6,0.10499999999999998,0,-5.4,0,-12,20]
[null,"1231421-10",2522,1,"<130mph",2,"15,000 - 30,000",3,"Wooden",1,"Hard",4,"< 300",2,"Poor",1,"Good","10 to 20",10,20,-6,0.10079999999999999,0,-7.9200000000000008,0,-15,20]
[null,"1231421-20",2523,1,"<130mph",2,"15,000 - 30,000",3,"Wooden",1,"Hard",4,"< 300",2,"Poor",1,"Good","Above 20",20,1000,-6,0.12599999999999997,0,-10.89,0,-18,20]
[null,"1233421-0",2524,1,"<130mph",2,"15,000 - 30,000",3,"Wooden",3,"Soft",4,"< 300",2,"Poor",1,"Good","0 to 10",0,10,-6,0.18,0,-6.6000000000000005,0,-12,20]
[null,"1233421-10",2525,1,"<130mph",2,"15,000 - 30,000",3,"Wooden",3,"Soft",4,"< 300",2,"Poor",1,"Good","10 to 20",10,20,-6,0.17279999999999998,0,-9.6800000000000015,0,-15,20]
[null,"1233421-20",2526,1,"<130mph",2,"15,000 - 30,000",3,"Wooden",3,"Soft",4,"< 300",2,"Poor",1,"Good","Above 20",20,1000,-6,0.21599999999999997,0,-13.310000000000002,0,-18,20]
[null,"1232412-0",2527,1,"<130mph",2,"15,000 - 30,000",3,"Wooden",2,"Medium",4,"< 300",1,"Good",2,"Poor","0 to 10",0,10,-6,0.15000000000000002,0,-6,0,-12,20]
[null,"1232412-10",2528,1,"<130mph",2,"15,000 - 30,000",3,"Wooden",2,"Medium",4,"< 300",1,"Good",2,"Poor","10 to 20",10,20,-6,0.13200000000000001,0,-8.8000000000000007,0,-15,20]
[null,"1232412-20",2529,1,"<130mph",2,"15,000 - 30,000",3,"Wooden",2,"Medium",4,"< 300",1,"Good",2,"Poor","Above 20",20,1000,-6,0.16500000000000004,0,-12.100000000000001,0,-18,20]
[null,"1231412-0",2530,1,"<130mph",2,"15,000 - 30,000",3,"Wooden",1,"Hard",4,"< 300",1,"Good",2,"Poor","0 to 10",0,10,-6,0.10499999999999998,0,-5.4,0,-12,20]
[null,"1231412-10",2531,1,"<130mph",2,"15,000 - 30,000",3,"Wooden",1,"Hard",4,"< 300",1,"Good",2,"Poor","10 to 20",10,20,-6,9.2399999999999982E-2,0,-7.9200000000000008,0,-15,20]
[null,"1231412-20",2532,1,"<130mph",2,"15,000 - 30,000",3,"Wooden",1,"Hard",4,"< 300",1,"Good",2,"Poor","Above 20",20,1000,-6,0.11549999999999999,0,-10.89,0,-18,20]
[null,"1233412-0",2533,1,"<130mph",2,"15,000 - 30,000",3,"Wooden",3,"Soft",4,"< 300",1,"Good",2,"Poor","0 to 10",0,10,-6,0.18,0,-6.6000000000000005,0,-12,20]
[null,"1233412-10",2534,1,"<130mph",2,"15,000 - 30,000",3,"Wooden",3,"Soft",4,"< 300",1,"Good",2,"Poor","10 to 20",10,20,-6,0.15840000000000001,0,-9.6800000000000015,0,-15,20]
[null,"1233412-20",2535,1,"<130mph",2,"15,000 - 30,000",3,"Wooden",3,"Soft",4,"< 300",1,"Good",2,"Poor","Above 20",20,1000,-6,0.19800000000000001,0,-13.310000000000002,0,-18,20]
[null,"1232422-0",2536,1,"<130mph",2,"15,000 - 30,000",3,"Wooden",2,"Medium",4,"< 300",2,"Poor",2,"Poor","0 to 10",0,10,-6,0.15000000000000002,0,-6,0,-12,20]
[null,"1232422-10",2537,1,"<130mph",2,"15,000 - 30,000",3,"Wooden",2,"Medium",4,"< 300",2,"Poor",2,"Poor","10 to 20",10,20,-6,0.15840000000000001,0,-9.6800000000000015,0,-15,20]
[null,"1232422-20",2538,1,"<130mph",2,"15,000 - 30,000",3,"Wooden",2,"Medium",4,"< 300",2,"Poor",2,"Poor","Above 20",20,1000,-6,0.19800000000000001,0,-13.310000000000002,0,-18,20]
[null,"1231422-0",2539,1,"<130mph",2,"15,000 - 30,000",3,"Wooden",1,"Hard",4,"< 300",2,"Poor",2,"Poor","0 to 10",0,10,-6,0.10499999999999998,0,-5.4,0,-12,20]
[null,"1231422-10",2540,1,"<130mph",2,"15,000 - 30,000",3,"Wooden",1,"Hard",4,"< 300",2,"Poor",2,"Poor","10 to 20",10,20,-6,0.11087999999999999,0,-8.7120000000000015,0,-15,20]
[null,"1231422-20",2541,1,"<130mph",2,"15,000 - 30,000",3,"Wooden",1,"Hard",4,"< 300",2,"Poor",2,"Poor","Above 20",20,1000,-6,0.1386,0,-11.979000000000003,0,-18,20]
[null,"1233422-0",2542,1,"<130mph",2,"15,000 - 30,000",3,"Wooden",3,"Soft",4,"< 300",2,"Poor",2,"Poor","0 to 10",0,10,-6,0.18,0,-6.6000000000000005,0,-12,20]
[null,"1233422-10",2543,1,"<130mph",2,"15,000 - 30,000",3,"Wooden",3,"Soft",4,"< 300",2,"Poor",2,"Poor","10 to 20",10,20,-6,0.19008,0,-10.648000000000003,0,-15,20]
[null,"1233422-20",2544,1,"<130mph",2,"15,000 - 30,000",3,"Wooden",3,"Soft",4,"< 300",2,"Poor",2,"Poor","Above 20",20,1000,-6,0.23760000000000001,0,-14.641000000000005,0,-18,20]
[null,"1132111-0",2545,1,"<130mph",1,"< 15,000",3,"Wooden",2,"Medium",1,"> 600",1,"Good",1,"Good","0 to 10",0,10,-6,0.05,0,-6,0,-12,40]
[null,"1132111-10",2546,1,"<130mph",1,"< 15,000",3,"Wooden",2,"Medium",1,"> 600",1,"Good",1,"Good","10 to 20",10,20,-6,0.04,0,-8,0,-15,40]
[null,"1132111-20",2547,1,"<130mph",1,"< 15,000",3,"Wooden",2,"Medium",1,"> 600",1,"Good",1,"Good","Above 20",20,1000,-6,0.05,0,-11,0,-18,40]
[null,"1131111-0",2548,1,"<130mph",1,"< 15,000",3,"Wooden",1,"Hard",1,"> 600",1,"Good",1,"Good","0 to 10",0,10,-6,3.4999999999999996E-2,0,-5.4,0,-12,40]
[null,"1131111-10",2549,1,"<130mph",1,"< 15,000",3,"Wooden",1,"Hard",1,"> 600",1,"Good",1,"Good","10 to 20",10,20,-6,2.7999999999999997E-2,0,-7.2,0,-15,40]
[null,"1131111-20",2550,1,"<130mph",1,"< 15,000",3,"Wooden",1,"Hard",1,"> 600",1,"Good",1,"Good","Above 20",20,1000,-6,3.4999999999999996E-2,0,-9.9,0,-18,40]
[null,"1133111-0",2551,1,"<130mph",1,"< 15,000",3,"Wooden",3,"Soft",1,"> 600",1,"Good",1,"Good","0 to 10",0,10,-6,0.06,0,-6.6000000000000005,0,-12,40]
[null,"1133111-10",2552,1,"<130mph",1,"< 15,000",3,"Wooden",3,"Soft",1,"> 600",1,"Good",1,"Good","10 to 20",10,20,-6,4.8000000000000001E-2,0,-8.8000000000000007,0,-15,40]
[null,"1133111-20",2553,1,"<130mph",1,"< 15,000",3,"Wooden",3,"Soft",1,"> 600",1,"Good",1,"Good","Above 20",20,1000,-6,0.06,0,-12.100000000000001,0,-18,40]
[null,"1132121-0",2554,1,"<130mph",1,"< 15,000",3,"Wooden",2,"Medium",1,"> 600",2,"Poor",1,"Good","0 to 10",0,10,-6,0.05,0,-6,0,-12,40]
[null,"1132121-10",2555,1,"<130mph",1,"< 15,000",3,"Wooden",2,"Medium",1,"> 600",2,"Poor",1,"Good","10 to 20",10,20,-6,4.8000000000000001E-2,0,-8.8000000000000007,0,-15,40]
[null,"1132121-20",2556,1,"<130mph",1,"< 15,000",3,"Wooden",2,"Medium",1,"> 600",2,"Poor",1,"Good","Above 20",20,1000,-6,0.06,0,-12.100000000000001,0,-18,40]
[null,"1131121-0",2557,1,"<130mph",1,"< 15,000",3,"Wooden",1,"Hard",1,"> 600",2,"Poor",1,"Good","0 to 10",0,10,-6,3.4999999999999996E-2,0,-5.4,0,-12,40]
[null,"1131121-10",2558,1,"<130mph",1,"< 15,000",3,"Wooden",1,"Hard",1,"> 600",2,"Poor",1,"Good","10 to 20",10,20,-6,3.3599999999999998E-2,0,-7.9200000000000008,0,-15,40]
[null,"1131121-20",2559,1,"<130mph",1,"< 15,000",3,"Wooden",1,"Hard",1,"> 600",2,"Poor",1,"Good","Above 20",20,1000,-6,4.2000000000000003E-2,0,-10.89,0,-18,40]
[null,"1133121-0",2560,1,"<130mph",1,"< 15,000",3,"Wooden",3,"Soft",1,"> 600",2,"Poor",1,"Good","0 to 10",0,10,-6,0.06,0,-6.6000000000000005,0,-12,40]
[null,"1133121-10",2561,1,"<130mph",1,"< 15,000",3,"Wooden",3,"Soft",1,"> 600",2,"Poor",1,"Good","10 to 20",10,20,-6,5.7599999999999998E-2,0,-9.6800000000000015,0,-15,40]
[null,{"$f":"D2580&F2580&H2580&J2580&L2580&N2580&P2580&\"-\"&S2580","v":"1133121-20"},2562,1,"<130mph",1,"< 15,000",3,"Wooden",3,"Soft",1,"> 600",2,"Poor",1,"Good","Above 20",20,1000,-6,7.1999999999999995E-2,0,-13.310000000000002,0,-18,40]
[null,"1132112-0",2563,1,"<130mph",1,"< 15,000",3,"Wooden",2,"Medium",1,"> 600",1,"Good",2,"Poor","0 to 10",0,10,-6,0.05,0,-6,0,-12,40]
[null,"1132112-10",2564,1,"<130mph",1,"< 15,000",3,"Wooden",2,"Medium",1,"> 600",1,"Good",2,"Poor","10 to 20",10,20,-6,4.4000000000000004E-2,0,-8.8000000000000007,0,-15,40]
[null,"1132112-20",2565,1,"<130mph",1,"< 15,000",3,"Wooden",2,"Medium",1,"> 600",1,"Good",2,"Poor","Above 20",20,1000,-6,5.5000000000000007E-2,0,-12.100000000000001,0,-18,40]
[null,"1131112-0",2566,1,"<130mph",1,"< 15,000",3,"Wooden",1,"Hard",1,"> 600",1,"Good",2,"Poor","0 to 10",0,10,-6,3.4999999999999996E-2,0,-5.4,0,-12,40]
[null,"1131112-10",2567,1,"<130mph",1,"< 15,000",3,"Wooden",1,"Hard",1,"> 600",1,"Good",2,"Poor","10 to 20",10,20,-6,3.0800000000000001E-2,0,-7.9200000000000008,0,-15,40]
[null,"1131112-20",2568,1,"<130mph",1,"< 15,000",3,"Wooden",1,"Hard",1,"> 600",1,"Good",2,"Poor","Above 20",20,1000,-6,3.8500000000000006E-2,0,-10.89,0,-18,40]
[null,"1133112-0",2569,1,"<130mph",1,"< 15,000",3,"Wooden",3,"Soft",1,"> 600",1,"Good",2,"Poor","0 to 10",0,10,-6,0.06,0,-6.6000000000000005,0,-12,40]
[null,"1133112-10",2570,1,"<130mph",1,"< 15,000",3,"Wooden",3,"Soft",1,"> 600",1,"Good",2,"Poor","10 to 20",10,20,-6,5.2800000000000007E-2,0,-9.6800000000000015,0,-15,40]
[null,"1133112-20",2571,1,"<130mph",1,"< 15,000",3,"Wooden",3,"Soft",1,"> 600",1,"Good",2,"Poor","Above 20",20,1000,-6,6.6000000000000003E-2,0,-13.310000000000002,0,-18,40]
[null,"1132122-0",2572,1,"<130mph",1,"< 15,000",3,"Wooden",2,"Medium",1,"> 600",2,"Poor",2,"Poor","0 to 10",0,10,-6,0.05,0,-6,0,-12,40]
[null,"1132122-10",2573,1,"<130mph",1,"< 15,000",3,"Wooden",2,"Medium",1,"> 600",2,"Poor",2,"Poor","10 to 20",10,20,-6,5.2800000000000007E-2,0,-9.6800000000000015,0,-15,40]
[null,"1132122-20",2574,1,"<130mph",1,"< 15,000",3,"Wooden",2,"Medium",1,"> 600",2,"Poor",2,"Poor","Above 20",20,1000,-6,6.6000000000000003E-2,0,-13.310000000000002,0,-18,40]
[null,"1131122-0",2575,1,"<130mph",1,"< 15,000",3,"Wooden",1,"Hard",1,"> 600",2,"Poor",2,"Poor","0 to 10",0,10,-6,3.4999999999999996E-2,0,-5.4,0,-12,40]
[null,"1131122-10",2576,1,"<130mph",1,"< 15,000",3,"Wooden",1,"Hard",1,"> 600",2,"Poor",2,"Poor","10 to 20",10,20,-6,3.696E-2,0,-8.7120000000000015,0,-15,40]
[null,"1131122-20",2577,1,"<130mph",1,"< 15,000",3,"Wooden",1,"Hard",1,"> 600",2,"Poor",2,"Poor","Above 20",20,1000,-6,4.6200000000000005E-2,0,-11.979000000000003,0,-18,40]
[null,"1133122-0",2578,1,"<130mph",1,"< 15,000",3,"Wooden",3,"Soft",1,"> 600",2,"Poor",2,"Poor","0 to 10",0,10,-6,0.06,0,-6.6000000000000005,0,-12,40]
[null,"1133122-10",2579,1,"<130mph",1,"< 15,000",3,"Wooden",3,"Soft",1,"> 600",2,"Poor",2,"Poor","10 to 20",10,20,-6,6.336E-2,0,-10.648000000000003,0,-15,40]
[null,"1133122-20",2580,1,"<130mph",1,"< 15,000",3,"Wooden",3,"Soft",1,"> 600",2,"Poor",2,"Poor","Above 20",20,1000,-6,7.9200000000000007E-2,0,-14.641000000000005,0,-18,40]
[null,"1132211-0",2581,1,"<130mph",1,"< 15,000",3,"Wooden",2,"Medium",2,"400 < R < 600",1,"Good",1,"Good","0 to 10",0,10,-6,5.5000000000000007E-2,0,-6,0,-12,30]
[null,"1132211-10",2582,1,"<130mph",1,"< 15,000",3,"Wooden",2,"Medium",2,"400 < R < 600",1,"Good",1,"Good","10 to 20",10,20,-6,4.4000000000000004E-2,0,-8,0,-15,30]
[null,"1132211-20",2583,1,"<130mph",1,"< 15,000",3,"Wooden",2,"Medium",2,"400 < R < 600",1,"Good",1,"Good","Above 20",20,1000,-6,5.5000000000000007E-2,0,-11,0,-18,30]
[null,"1131211-0",2584,1,"<130mph",1,"< 15,000",3,"Wooden",1,"Hard",2,"400 < R < 600",1,"Good",1,"Good","0 to 10",0,10,-6,3.8500000000000006E-2,0,-5.4,0,-12,30]
[null,"1131211-10",2585,1,"<130mph",1,"< 15,000",3,"Wooden",1,"Hard",2,"400 < R < 600",1,"Good",1,"Good","10 to 20",10,20,-6,3.0800000000000001E-2,0,-7.2,0,-15,30]
[null,"1131211-20",2586,1,"<130mph",1,"< 15,000",3,"Wooden",1,"Hard",2,"400 < R < 600",1,"Good",1,"Good","Above 20",20,1000,-6,3.8500000000000006E-2,0,-9.9,0,-18,30]
[null,"1133211-0",2587,1,"<130mph",1,"< 15,000",3,"Wooden",3,"Soft",2,"400 < R < 600",1,"Good",1,"Good","0 to 10",0,10,-6,6.6000000000000003E-2,0,-6.6000000000000005,0,-12,30]
[null,"1133211-10",2588,1,"<130mph",1,"< 15,000",3,"Wooden",3,"Soft",2,"400 < R < 600",1,"Good",1,"Good","10 to 20",10,20,-6,5.2800000000000007E-2,0,-8.8000000000000007,0,-15,30]
[null,"1133211-20",2589,1,"<130mph",1,"< 15,000",3,"Wooden",3,"Soft",2,"400 < R < 600",1,"Good",1,"Good","Above 20",20,1000,-6,6.6000000000000003E-2,0,-12.100000000000001,0,-18,30]
[null,"1132221-0",2590,1,"<130mph",1,"< 15,000",3,"Wooden",2,"Medium",2,"400 < R < 600",2,"Poor",1,"Good","0 to 10",0,10,-6,5.5000000000000007E-2,0,-6,0,-12,30]
[null,"1132221-10",2591,1,"<130mph",1,"< 15,000",3,"Wooden",2,"Medium",2,"400 < R < 600",2,"Poor",1,"Good","10 to 20",10,20,-6,5.2800000000000007E-2,0,-8.8000000000000007,0,-15,30]
[null,"1132221-20",2592,1,"<130mph",1,"< 15,000",3,"Wooden",2,"Medium",2,"400 < R < 600",2,"Poor",1,"Good","Above 20",20,1000,-6,6.6000000000000003E-2,0,-12.100000000000001,0,-18,30]
[null,"1131221-0",2593,1,"<130mph",1,"< 15,000",3,"Wooden",1,"Hard",2,"400 < R < 600",2,"Poor",1,"Good","0 to 10",0,10,-6,3.8500000000000006E-2,0,-5.4,0,-12,30]
[null,"1131221-10",2594,1,"<130mph",1,"< 15,000",3,"Wooden",1,"Hard",2,"400 < R < 600",2,"Poor",1,"Good","10 to 20",10,20,-6,3.696E-2,0,-7.9200000000000008,0,-15,30]
[null,"1131221-20",2595,1,"<130mph",1,"< 15,000",3,"Wooden",1,"Hard",2,"400 < R < 600",2,"Poor",1,"Good","Above 20",20,1000,-6,4.6199999999999998E-2,0,-10.89,0,-18,30]
[null,"1133221-0",2596,1,"<130mph",1,"< 15,000",3,"Wooden",3,"Soft",2,"400 < R < 600",2,"Poor",1,"Good","0 to 10",0,10,-6,6.6000000000000003E-2,0,-6.6000000000000005,0,-12,30]
[null,"1133221-10",2597,1,"<130mph",1,"< 15,000",3,"Wooden",3,"Soft",2,"400 < R < 600",2,"Poor",1,"Good","10 to 20",10,20,-6,6.336E-2,0,-9.6800000000000015,0,-15,30]
[null,"1133221-20",2598,1,"<130mph",1,"< 15,000",3,"Wooden",3,"Soft",2,"400 < R < 600",2,"Poor",1,"Good","Above 20",20,1000,-6,7.9200000000000007E-2,0,-13.310000000000002,0,-18,30]
[null,"1132212-0",2599,1,"<130mph",1,"< 15,000",3,"Wooden",2,"Medium",2,"400 < R < 600",1,"Good",2,"Poor","0 to 10",0,10,-6,5.5000000000000007E-2,0,-6,0,-12,30]
[null,"1132212-10",2600,1,"<130mph",1,"< 15,000",3,"Wooden",2,"Medium",2,"400 < R < 600",1,"Good",2,"Poor","10 to 20",10,20,-6,4.8400000000000006E-2,0,-8.8000000000000007,0,-15,30]
[null,"1132212-20",2601,1,"<130mph",1,"< 15,000",3,"Wooden",2,"Medium",2,"400 < R < 600",1,"Good",2,"Poor","Above 20",20,1000,-6,6.0500000000000012E-2,0,-12.100000000000001,0,-18,30]
[null,"1131212-0",2602,1,"<130mph",1,"< 15,000",3,"Wooden",1,"Hard",2,"400 < R < 600",1,"Good",2,"Poor","0 to 10",0,10,-6,3.8500000000000006E-2,0,-5.4,0,-12,30]
[null,"1131212-10",2603,1,"<130mph",1,"< 15,000",3,"Wooden",1,"Hard",2,"400 < R < 600",1,"Good",2,"Poor","10 to 20",10,20,-6,3.3880000000000007E-2,0,-7.9200000000000008,0,-15,30]
[null,"1131212-20",2604,1,"<130mph",1,"< 15,000",3,"Wooden",1,"Hard",2,"400 < R < 600",1,"Good",2,"Poor","Above 20",20,1000,-6,4.2350000000000006E-2,0,-10.89,0,-18,30]
[null,"1133212-0",2605,1,"<130mph",1,"< 15,000",3,"Wooden",3,"Soft",2,"400 < R < 600",1,"Good",2,"Poor","0 to 10",0,10,-6,6.6000000000000003E-2,0,-6.6000000000000005,0,-12,30]
[null,"1133212-10",2606,1,"<130mph",1,"< 15,000",3,"Wooden",3,"Soft",2,"400 < R < 600",1,"Good",2,"Poor","10 to 20",10,20,-6,5.8080000000000007E-2,0,-9.6800000000000015,0,-15,30]
[null,"1133212-20",2607,1,"<130mph",1,"< 15,000",3,"Wooden",3,"Soft",2,"400 < R < 600",1,"Good",2,"Poor","Above 20",20,1000,-6,7.2600000000000012E-2,0,-13.310000000000002,0,-18,30]
[null,"1132222-0",2608,1,"<130mph",1,"< 15,000",3,"Wooden",2,"Medium",2,"400 < R < 600",2,"Poor",2,"Poor","0 to 10",0,10,-6,5.5000000000000007E-2,0,-6,0,-12,30]
[null,"1132222-10",2609,1,"<130mph",1,"< 15,000",3,"Wooden",2,"Medium",2,"400 < R < 600",2,"Poor",2,"Poor","10 to 20",10,20,-6,5.8080000000000007E-2,0,-9.6800000000000015,0,-15,30]
[null,"1132222-20",2610,1,"<130mph",1,"< 15,000",3,"Wooden",2,"Medium",2,"400 < R < 600",2,"Poor",2,"Poor","Above 20",20,1000,-6,7.2600000000000012E-2,0,-13.310000000000002,0,-18,30]
[null,"1131222-0",2611,1,"<130mph",1,"< 15,000",3,"Wooden",1,"Hard",2,"400 < R < 600",2,"Poor",2,"Poor","0 to 10",0,10,-6,3.8500000000000006E-2,0,-5.4,0,-12,30]
[null,"1131222-10",2612,1,"<130mph",1,"< 15,000",3,"Wooden",1,"Hard",2,"400 < R < 600",2,"Poor",2,"Poor","10 to 20",10,20,-6,4.0655999999999998E-2,0,-8.7120000000000015,0,-15,30]
[null,"1131222-20",2613,1,"<130mph",1,"< 15,000",3,"Wooden",1,"Hard",2,"400 < R < 600",2,"Poor",2,"Poor","Above 20",20,1000,-6,5.0820000000000004E-2,0,-11.979000000000003,0,-18,30]
[null,"1133222-0",2614,1,"<130mph",1,"< 15,000",3,"Wooden",3,"Soft",2,"400 < R < 600",2,"Poor",2,"Poor","0 to 10",0,10,-6,6.6000000000000003E-2,0,-6.6000000000000005,0,-12,30]
[null,"1133222-10",2615,1,"<130mph",1,"< 15,000",3,"Wooden",3,"Soft",2,"400 < R < 600",2,"Poor",2,"Poor","10 to 20",10,20,-6,6.9696000000000008E-2,0,-10.648000000000003,0,-15,30]
[null,"1133222-20",2616,1,"<130mph",1,"< 15,000",3,"Wooden",3,"Soft",2,"400 < R < 600",2,"Poor",2,"Poor","Above 20",20,1000,-6,8.7120000000000017E-2,0,-14.641000000000005,0,-18,30]
[null,"1132311-0",2617,1,"<130mph",1,"< 15,000",3,"Wooden",2,"Medium",3,"300 < R < 400",1,"Good",1,"Good","0 to 10",0,10,-6,5.5000000000000007E-2,0,-6,0,-12,22]
[null,"1132311-10",2618,1,"<130mph",1,"< 15,000",3,"Wooden",2,"Medium",3,"300 < R < 400",1,"Good",1,"Good","10 to 20",10,20,-6,4.4000000000000004E-2,0,-8,0,-15,22]
[null,"1132311-20",2619,1,"<130mph",1,"< 15,000",3,"Wooden",2,"Medium",3,"300 < R < 400",1,"Good",1,"Good","Above 20",20,1000,-6,5.5000000000000007E-2,0,-11,0,-18,22]
[null,"1131311-0",2620,1,"<130mph",1,"< 15,000",3,"Wooden",1,"Hard",3,"300 < R < 400",1,"Good",1,"Good","0 to 10",0,10,-6,3.8500000000000006E-2,0,-5.4,0,-12,22]
[null,"1131311-10",2621,1,"<130mph",1,"< 15,000",3,"Wooden",1,"Hard",3,"300 < R < 400",1,"Good",1,"Good","10 to 20",10,20,-6,3.0800000000000001E-2,0,-7.2,0,-15,22]
[null,"1131311-20",2622,1,"<130mph",1,"< 15,000",3,"Wooden",1,"Hard",3,"300 < R < 400",1,"Good",1,"Good","Above 20",20,1000,-6,3.8500000000000006E-2,0,-9.9,0,-18,22]
[null,"1133311-0",2623,1,"<130mph",1,"< 15,000",3,"Wooden",3,"Soft",3,"300 < R < 400",1,"Good",1,"Good","0 to 10",0,10,-6,6.6000000000000003E-2,0,-6.6000000000000005,0,-12,22]
[null,"1133311-10",2624,1,"<130mph",1,"< 15,000",3,"Wooden",3,"Soft",3,"300 < R < 400",1,"Good",1,"Good","10 to 20",10,20,-6,5.2800000000000007E-2,0,-8.8000000000000007,0,-15,22]
[null,"1133311-20",2625,1,"<130mph",1,"< 15,000",3,"Wooden",3,"Soft",3,"300 < R < 400",1,"Good",1,"Good","Above 20",20,1000,-6,6.6000000000000003E-2,0,-12.100000000000001,0,-18,22]
[null,{"$f":"D2644&F2644&H2644&J2644&L2644&N2644&P2644&\"-\"&S2644","v":"1132321-0"},2626,1,"<130mph",1,"< 15,000",3,"Wooden",2,"Medium",3,"300 < R < 400",2,"Poor",1,"Good","0 to 10",0,10,-6,5.5000000000000007E-2,0,-6,0,-12,22]
[null,"1132321-10",2627,1,"<130mph",1,"< 15,000",3,"Wooden",2,"Medium",3,"300 < R < 400",2,"Poor",1,"Good","10 to 20",10,20,-6,5.2800000000000007E-2,0,-8.8000000000000007,0,-15,22]
[null,"1132321-20",2628,1,"<130mph",1,"< 15,000",3,"Wooden",2,"Medium",3,"300 < R < 400",2,"Poor",1,"Good","Above 20",20,1000,-6,6.6000000000000003E-2,0,-12.100000000000001,0,-18,22]
[null,"1131321-0",2629,1,"<130mph",1,"< 15,000",3,"Wooden",1,"Hard",3,"300 < R < 400",2,"Poor",1,"Good","0 to 10",0,10,-6,3.8500000000000006E-2,0,-5.4,0,-12,22]
[null,"1131321-10",2630,1,"<130mph",1,"< 15,000",3,"Wooden",1,"Hard",3,"300 < R < 400",2,"Poor",1,"Good","10 to 20",10,20,-6,3.696E-2,0,-7.9200000000000008,0,-15,22]
[null,"1131321-20",2631,1,"<130mph",1,"< 15,000",3,"Wooden",1,"Hard",3,"300 < R < 400",2,"Poor",1,"Good","Above 20",20,1000,-6,4.6199999999999998E-2,0,-10.89,0,-18,22]
[null,"1133321-0",2632,1,"<130mph",1,"< 15,000",3,"Wooden",3,"Soft",3,"300 < R < 400",2,"Poor",1,"Good","0 to 10",0,10,-6,6.6000000000000003E-2,0,-6.6000000000000005,0,-12,22]
[null,"1133321-10",2633,1,"<130mph",1,"< 15,000",3,"Wooden",3,"Soft",3,"300 < R < 400",2,"Poor",1,"Good","10 to 20",10,20,-6,6.336E-2,0,-9.6800000000000015,0,-15,22]
[null,"1133321-20",2634,1,"<130mph",1,"< 15,000",3,"Wooden",3,"Soft",3,"300 < R < 400",2,"Poor",1,"Good","Above 20",20,1000,-6,7.9200000000000007E-2,0,-13.310000000000002,0,-18,22]
[null,"1132312-0",2635,1,"<130mph",1,"< 15,000",3,"Wooden",2,"Medium",3,"300 < R < 400",1,"Good",2,"Poor","0 to 10",0,10,-6,5.5000000000000007E-2,0,-6,0,-12,22]
[null,"1132312-10",2636,1,"<130mph",1,"< 15,000",3,"Wooden",2,"Medium",3,"300 < R < 400",1,"Good",2,"Poor","10 to 20",10,20,-6,4.8400000000000006E-2,0,-8.8000000000000007,0,-15,22]
[null,"1132312-20",2637,1,"<130mph",1,"< 15,000",3,"Wooden",2,"Medium",3,"300 < R < 400",1,"Good",2,"Poor","Above 20",20,1000,-6,6.0500000000000012E-2,0,-12.100000000000001,0,-18,22]
[null,"1131312-0",2638,1,"<130mph",1,"< 15,000",3,"Wooden",1,"Hard",3,"300 < R < 400",1,"Good",2,"Poor","0 to 10",0,10,-6,3.8500000000000006E-2,0,-5.4,0,-12,22]
[null,"1131312-10",2639,1,"<130mph",1,"< 15,000",3,"Wooden",1,"Hard",3,"300 < R < 400",1,"Good",2,"Poor","10 to 20",10,20,-6,3.3880000000000007E-2,0,-7.9200000000000008,0,-15,22]
[null,"1131312-20",2640,1,"<130mph",1,"< 15,000",3,"Wooden",1,"Hard",3,"300 < R < 400",1,"Good",2,"Poor","Above 20",20,1000,-6,4.2350000000000006E-2,0,-10.89,0,-18,22]
[null,"1133312-0",2641,1,"<130mph",1,"< 15,000",3,"Wooden",3,"Soft",3,"300 < R < 400",1,"Good",2,"Poor","0 to 10",0,10,-6,6.6000000000000003E-2,0,-6.6000000000000005,0,-12,22]
[null,"1133312-10",2642,1,"<130mph",1,"< 15,000",3,"Wooden",3,"Soft",3,"300 < R < 400",1,"Good",2,"Poor","10 to 20",10,20,-6,5.8080000000000007E-2,0,-9.6800000000000015,0,-15,22]
[null,"1133312-20",2643,1,"<130mph",1,"< 15,000",3,"Wooden",3,"Soft",3,"300 < R < 400",1,"Good",2,"Poor","Above 20",20,1000,-6,7.2600000000000012E-2,0,-13.310000000000002,0,-18,22]
[null,"1132322-0",2644,1,"<130mph",1,"< 15,000",3,"Wooden",2,"Medium",3,"300 < R < 400",2,"Poor",2,"Poor","0 to 10",0,10,-6,5.5000000000000007E-2,0,-6,0,-12,22]
[null,"1132322-10",2645,1,"<130mph",1,"< 15,000",3,"Wooden",2,"Medium",3,"300 < R < 400",2,"Poor",2,"Poor","10 to 20",10,20,-6,5.8080000000000007E-2,0,-9.6800000000000015,0,-15,22]
[null,"1132322-20",2646,1,"<130mph",1,"< 15,000",3,"Wooden",2,"Medium",3,"300 < R < 400",2,"Poor",2,"Poor","Above 20",20,1000,-6,7.2600000000000012E-2,0,-13.310000000000002,0,-18,22]
[null,"1131322-0",2647,1,"<130mph",1,"< 15,000",3,"Wooden",1,"Hard",3,"300 < R < 400",2,"Poor",2,"Poor","0 to 10",0,10,-6,3.8500000000000006E-2,0,-5.4,0,-12,22]
[null,"1131322-10",2648,1,"<130mph",1,"< 15,000",3,"Wooden",1,"Hard",3,"300 < R < 400",2,"Poor",2,"Poor","10 to 20",10,20,-6,4.0655999999999998E-2,0,-8.7120000000000015,0,-15,22]
[null,"1131322-20",2649,1,"<130mph",1,"< 15,000",3,"Wooden",1,"Hard",3,"300 < R < 400",2,"Poor",2,"Poor","Above 20",20,1000,-6,5.0820000000000004E-2,0,-11.979000000000003,0,-18,22]
[null,"1133322-0",2650,1,"<130mph",1,"< 15,000",3,"Wooden",3,"Soft",3,"300 < R < 400",2,"Poor",2,"Poor","0 to 10",0,10,-6,6.6000000000000003E-2,0,-6.6000000000000005,0,-12,22]
[null,"1133322-10",2651,1,"<130mph",1,"< 15,000",3,"Wooden",3,"Soft",3,"300 < R < 400",2,"Poor",2,"Poor","10 to 20",10,20,-6,6.9696000000000008E-2,0,-10.648000000000003,0,-15,22]
[null,"1133322-20",2652,1,"<130mph",1,"< 15,000",3,"Wooden",3,"Soft",3,"300 < R < 400",2,"Poor",2,"Poor","Above 20",20,1000,-6,8.7120000000000017E-2,0,-14.641000000000005,0,-18,22]
[null,"1132411-0",2653,1,"<130mph",1,"< 15,000",3,"Wooden",2,"Medium",4,"< 300",1,"Good",1,"Good","0 to 10",0,10,-6,7.5000000000000011E-2,0,-6,0,-12,20]
[null,"1132411-10",2654,1,"<130mph",1,"< 15,000",3,"Wooden",2,"Medium",4,"< 300",1,"Good",1,"Good","10 to 20",10,20,-6,0.06,0,-8,0,-15,20]
[null,"1132411-20",2655,1,"<130mph",1,"< 15,000",3,"Wooden",2,"Medium",4,"< 300",1,"Good",1,"Good","Above 20",20,1000,-6,7.5000000000000011E-2,0,-11,0,-18,20]
[null,"1131411-0",2656,1,"<130mph",1,"< 15,000",3,"Wooden",1,"Hard",4,"< 300",1,"Good",1,"Good","0 to 10",0,10,-6,5.2499999999999991E-2,0,-5.4,0,-12,20]
[null,"1131411-10",2657,1,"<130mph",1,"< 15,000",3,"Wooden",1,"Hard",4,"< 300",1,"Good",1,"Good","10 to 20",10,20,-6,4.1999999999999996E-2,0,-7.2,0,-15,20]
[null,"1131411-20",2658,1,"<130mph",1,"< 15,000",3,"Wooden",1,"Hard",4,"< 300",1,"Good",1,"Good","Above 20",20,1000,-6,5.2499999999999991E-2,0,-9.9,0,-18,20]
[null,"1133411-0",2659,1,"<130mph",1,"< 15,000",3,"Wooden",3,"Soft",4,"< 300",1,"Good",1,"Good","0 to 10",0,10,-6,0.09,0,-6.6000000000000005,0,-12,20]
[null,"1133411-10",2660,1,"<130mph",1,"< 15,000",3,"Wooden",3,"Soft",4,"< 300",1,"Good",1,"Good","10 to 20",10,20,-6,7.1999999999999995E-2,0,-8.8000000000000007,0,-15,20]
[null,"1133411-20",2661,1,"<130mph",1,"< 15,000",3,"Wooden",3,"Soft",4,"< 300",1,"Good",1,"Good","Above 20",20,1000,-6,0.09,0,-12.100000000000001,0,-18,20]
[null,"1132421-0",2662,1,"<130mph",1,"< 15,000",3,"Wooden",2,"Medium",4,"< 300",2,"Poor",1,"Good","0 to 10",0,10,-6,7.5000000000000011E-2,0,-6,0,-12,20]
[null,"1132421-10",2663,1,"<130mph",1,"< 15,000",3,"Wooden",2,"Medium",4,"< 300",2,"Poor",1,"Good","10 to 20",10,20,-6,7.1999999999999995E-2,0,-8.8000000000000007,0,-15,20]
[null,"1132421-20",2664,1,"<130mph",1,"< 15,000",3,"Wooden",2,"Medium",4,"< 300",2,"Poor",1,"Good","Above 20",20,1000,-6,0.09,0,-12.100000000000001,0,-18,20]
[null,"1131421-0",2665,1,"<130mph",1,"< 15,000",3,"Wooden",1,"Hard",4,"< 300",2,"Poor",1,"Good","0 to 10",0,10,-6,5.2499999999999991E-2,0,-5.4,0,-12,20]
[null,"1131421-10",2666,1,"<130mph",1,"< 15,000",3,"Wooden",1,"Hard",4,"< 300",2,"Poor",1,"Good","10 to 20",10,20,-6,5.0399999999999993E-2,0,-7.9200000000000008,0,-15,20]
[null,"1131421-20",2667,1,"<130mph",1,"< 15,000",3,"Wooden",1,"Hard",4,"< 300",2,"Poor",1,"Good","Above 20",20,1000,-6,6.2999999999999987E-2,0,-10.89,0,-18,20]
[null,"1133421-0",2668,1,"<130mph",1,"< 15,000",3,"Wooden",3,"Soft",4,"< 300",2,"Poor",1,"Good","0 to 10",0,10,-6,0.09,0,-6.6000000000000005,0,-12,20]
[null,"1133421-10",2669,1,"<130mph",1,"< 15,000",3,"Wooden",3,"Soft",4,"< 300",2,"Poor",1,"Good","10 to 20",10,20,-6,8.6399999999999991E-2,0,-9.6800000000000015,0,-15,20]
[null,"1133421-20",2670,1,"<130mph",1,"< 15,000",3,"Wooden",3,"Soft",4,"< 300",2,"Poor",1,"Good","Above 20",20,1000,-6,0.10799999999999998,0,-13.310000000000002,0,-18,20]
[null,"1132412-0",2671,1,"<130mph",1,"< 15,000",3,"Wooden",2,"Medium",4,"< 300",1,"Good",2,"Poor","0 to 10",0,10,-6,7.5000000000000011E-2,0,-6,0,-12,20]
[null,"1132412-10",2672,1,"<130mph",1,"< 15,000",3,"Wooden",2,"Medium",4,"< 300",1,"Good",2,"Poor","10 to 20",10,20,-6,6.6000000000000003E-2,0,-8.8000000000000007,0,-15,20]
[null,"1132412-20",2673,1,"<130mph",1,"< 15,000",3,"Wooden",2,"Medium",4,"< 300",1,"Good",2,"Poor","Above 20",20,1000,-6,8.2500000000000018E-2,0,-12.100000000000001,0,-18,20]
[null,"1131412-0",2674,1,"<130mph",1,"< 15,000",3,"Wooden",1,"Hard",4,"< 300",1,"Good",2,"Poor","0 to 10",0,10,-6,5.2499999999999991E-2,0,-5.4,0,-12,20]
[null,"1131412-10",2675,1,"<130mph",1,"< 15,000",3,"Wooden",1,"Hard",4,"< 300",1,"Good",2,"Poor","10 to 20",10,20,-6,4.6199999999999991E-2,0,-7.9200000000000008,0,-15,20]
[null,"1131412-20",2676,1,"<130mph",1,"< 15,000",3,"Wooden",1,"Hard",4,"< 300",1,"Good",2,"Poor","Above 20",20,1000,-6,5.7749999999999996E-2,0,-10.89,0,-18,20]
[null,"1133412-0",2677,1,"<130mph",1,"< 15,000",3,"Wooden",3,"Soft",4,"< 300",1,"Good",2,"Poor","0 to 10",0,10,-6,0.09,0,-6.6000000000000005,0,-12,20]
[null,"1133412-10",2678,1,"<130mph",1,"< 15,000",3,"Wooden",3,"Soft",4,"< 300",1,"Good",2,"Poor","10 to 20",10,20,-6,7.9200000000000007E-2,0,-9.6800000000000015,0,-15,20]
[null,"1133412-20",2679,1,"<130mph",1,"< 15,000",3,"Wooden",3,"Soft",4,"< 300",1,"Good",2,"Poor","Above 20",20,1000,-6,9.9000000000000005E-2,0,-13.310000000000002,0,-18,20]
[null,"1132422-0",2680,1,"<130mph",1,"< 15,000",3,"Wooden",2,"Medium",4,"< 300",2,"Poor",2,"Poor","0 to 10",0,10,-6,7.5000000000000011E-2,0,-6,0,-12,20]
[null,"1132422-10",2681,1,"<130mph",1,"< 15,000",3,"Wooden",2,"Medium",4,"< 300",2,"Poor",2,"Poor","10 to 20",10,20,-6,7.9200000000000007E-2,0,-9.6800000000000015,0,-15,20]
[null,"1132422-20",2682,1,"<130mph",1,"< 15,000",3,"Wooden",2,"Medium",4,"< 300",2,"Poor",2,"Poor","Above 20",20,1000,-6,9.9000000000000005E-2,0,-13.310000000000002,0,-18,20]
[null,"1131422-0",2683,1,"<130mph",1,"< 15,000",3,"Wooden",1,"Hard",4,"< 300",2,"Poor",2,"Poor","0 to 10",0,10,-6,5.2499999999999991E-2,0,-5.4,0,-12,20]
[null,"1131422-10",2684,1,"<130mph",1,"< 15,000",3,"Wooden",1,"Hard",4,"< 300",2,"Poor",2,"Poor","10 to 20",10,20,-6,5.5439999999999996E-2,0,-8.7120000000000015,0,-15,20]
[null,"1131422-20",2685,1,"<130mph",1,"< 15,000",3,"Wooden",1,"Hard",4,"< 300",2,"Poor",2,"Poor","Above 20",20,1000,-6,6.93E-2,0,-11.979000000000003,0,-18,20]
[null,"1133422-0",2686,1,"<130mph",1,"< 15,000",3,"Wooden",3,"Soft",4,"< 300",2,"Poor",2,"Poor","0 to 10",0,10,-6,0.09,0,-6.6000000000000005,0,-12,20]
[null,"1133422-10",2687,1,"<130mph",1,"< 15,000",3,"Wooden",3,"Soft",4,"< 300",2,"Poor",2,"Poor","10 to 20",10,20,-6,9.5039999999999999E-2,0,-10.648000000000003,0,-15,20]
[null,"1133422-20",2688,1,"<130mph",1,"< 15,000",3,"Wooden",3,"Soft",4,"< 300",2,"Poor",2,"Poor","Above 20",20,1000,-6,0.1188,0,-14.641000000000005,0,-18,20]
[null,"1332111-0",2689,1,"<130mph",3,"30,000 - 45,000",3,"Wooden",2,"Medium",1,"> 600",1,"Good",1,"Good","0 to 10",0,10,-6,0.15000000000000002,0,-6,0,-12,40]
[null,{"$f":"D2708&F2708&H2708&J2708&L2708&N2708&P2708&\"-\"&S2708","v":"1332111-10"},2690,1,"<130mph",3,"30,000 - 45,000",3,"Wooden",2,"Medium",1,"> 600",1,"Good",1,"Good","10 to 20",10,20,-6,0.12,0,-8,0,-15,40]
[null,"1332111-20",2691,1,"<130mph",3,"30,000 - 45,000",3,"Wooden",2,"Medium",1,"> 600",1,"Good",1,"Good","Above 20",20,1000,-6,0.15000000000000002,0,-11,0,-18,40]
[null,"1331111-0",2692,1,"<130mph",3,"30,000 - 45,000",3,"Wooden",1,"Hard",1,"> 600",1,"Good",1,"Good","0 to 10",0,10,-6,0.10499999999999998,0,-5.4,0,-12,40]
[null,"1331111-10",2693,1,"<130mph",3,"30,000 - 45,000",3,"Wooden",1,"Hard",1,"> 600",1,"Good",1,"Good","10 to 20",10,20,-6,8.3999999999999991E-2,0,-7.2,0,-15,40]
[null,"1331111-20",2694,1,"<130mph",3,"30,000 - 45,000",3,"Wooden",1,"Hard",1,"> 600",1,"Good",1,"Good","Above 20",20,1000,-6,0.10499999999999998,0,-9.9,0,-18,40]
[null,"1333111-0",2695,1,"<130mph",3,"30,000 - 45,000",3,"Wooden",3,"Soft",1,"> 600",1,"Good",1,"Good","0 to 10",0,10,-6,0.18,0,-6.6000000000000005,0,-12,40]
[null,"1333111-10",2696,1,"<130mph",3,"30,000 - 45,000",3,"Wooden",3,"Soft",1,"> 600",1,"Good",1,"Good","10 to 20",10,20,-6,0.14399999999999999,0,-8.8000000000000007,0,-15,40]
[null,"1333111-20",2697,1,"<130mph",3,"30,000 - 45,000",3,"Wooden",3,"Soft",1,"> 600",1,"Good",1,"Good","Above 20",20,1000,-6,0.18,0,-12.100000000000001,0,-18,40]
[null,"1332121-0",2698,1,"<130mph",3,"30,000 - 45,000",3,"Wooden",2,"Medium",1,"> 600",2,"Poor",1,"Good","0 to 10",0,10,-6,0.15000000000000002,0,-6,0,-12,40]
[null,"1332121-10",2699,1,"<130mph",3,"30,000 - 45,000",3,"Wooden",2,"Medium",1,"> 600",2,"Poor",1,"Good","10 to 20",10,20,-6,0.14399999999999999,0,-8.8000000000000007,0,-15,40]
[null,"1332121-20",2700,1,"<130mph",3,"30,000 - 45,000",3,"Wooden",2,"Medium",1,"> 600",2,"Poor",1,"Good","Above 20",20,1000,-6,0.18,0,-12.100000000000001,0,-18,40]
[null,"1331121-0",2701,1,"<130mph",3,"30,000 - 45,000",3,"Wooden",1,"Hard",1,"> 600",2,"Poor",1,"Good","0 to 10",0,10,-6,0.10499999999999998,0,-5.4,0,-12,40]
[null,"1331121-10",2702,1,"<130mph",3,"30,000 - 45,000",3,"Wooden",1,"Hard",1,"> 600",2,"Poor",1,"Good","10 to 20",10,20,-6,0.1008,0,-7.9200000000000008,0,-15,40]
[null,"1331121-20",2703,1,"<130mph",3,"30,000 - 45,000",3,"Wooden",1,"Hard",1,"> 600",2,"Poor",1,"Good","Above 20",20,1000,-6,0.126,0,-10.89,0,-18,40]
[null,"1333121-0",2704,1,"<130mph",3,"30,000 - 45,000",3,"Wooden",3,"Soft",1,"> 600",2,"Poor",1,"Good","0 to 10",0,10,-6,0.18,0,-6.6000000000000005,0,-12,40]
[null,"1333121-10",2705,1,"<130mph",3,"30,000 - 45,000",3,"Wooden",3,"Soft",1,"> 600",2,"Poor",1,"Good","10 to 20",10,20,-6,0.17280000000000001,0,-9.6800000000000015,0,-15,40]
[null,"1333121-20",2706,1,"<130mph",3,"30,000 - 45,000",3,"Wooden",3,"Soft",1,"> 600",2,"Poor",1,"Good","Above 20",20,1000,-6,0.21600000000000003,0,-13.310000000000002,0,-18,40]
[null,"1332112-0",2707,1,"<130mph",3,"30,000 - 45,000",3,"Wooden",2,"Medium",1,"> 600",1,"Good",2,"Poor","0 to 10",0,10,-6,0.15000000000000002,0,-6,0,-12,40]
[null,"1332112-10",2708,1,"<130mph",3,"30,000 - 45,000",3,"Wooden",2,"Medium",1,"> 600",1,"Good",2,"Poor","10 to 20",10,20,-6,0.13200000000000001,0,-8.8000000000000007,0,-15,40]
[null,"1332112-20",2709,1,"<130mph",3,"30,000 - 45,000",3,"Wooden",2,"Medium",1,"> 600",1,"Good",2,"Poor","Above 20",20,1000,-6,0.16500000000000004,0,-12.100000000000001,0,-18,40]
[null,"1331112-0",2710,1,"<130mph",3,"30,000 - 45,000",3,"Wooden",1,"Hard",1,"> 600",1,"Good",2,"Poor","0 to 10",0,10,-6,0.10499999999999998,0,-5.4,0,-12,40]
[null,"1331112-10",2711,1,"<130mph",3,"30,000 - 45,000",3,"Wooden",1,"Hard",1,"> 600",1,"Good",2,"Poor","10 to 20",10,20,-6,9.240000000000001E-2,0,-7.9200000000000008,0,-15,40]
[null,"1331112-20",2712,1,"<130mph",3,"30,000 - 45,000",3,"Wooden",1,"Hard",1,"> 600",1,"Good",2,"Poor","Above 20",20,1000,-6,0.11550000000000001,0,-10.89,0,-18,40]
[null,"1333112-0",2713,1,"<130mph",3,"30,000 - 45,000",3,"Wooden",3,"Soft",1,"> 600",1,"Good",2,"Poor","0 to 10",0,10,-6,0.18,0,-6.6000000000000005,0,-12,40]
[null,"1333112-10",2714,1,"<130mph",3,"30,000 - 45,000",3,"Wooden",3,"Soft",1,"> 600",1,"Good",2,"Poor","10 to 20",10,20,-6,0.15840000000000001,0,-9.6800000000000015,0,-15,40]
[null,"1333112-20",2715,1,"<130mph",3,"30,000 - 45,000",3,"Wooden",3,"Soft",1,"> 600",1,"Good",2,"Poor","Above 20",20,1000,-6,0.19800000000000001,0,-13.310000000000002,0,-18,40]
[null,"1332122-0",2716,1,"<130mph",3,"30,000 - 45,000",3,"Wooden",2,"Medium",1,"> 600",2,"Poor",2,"Poor","0 to 10",0,10,-6,0.15000000000000002,0,-6,0,-12,40]
[null,"1332122-10",2717,1,"<130mph",3,"30,000 - 45,000",3,"Wooden",2,"Medium",1,"> 600",2,"Poor",2,"Poor","10 to 20",10,20,-6,0.15840000000000001,0,-9.6800000000000015,0,-15,40]
[null,"1332122-20",2718,1,"<130mph",3,"30,000 - 45,000",3,"Wooden",2,"Medium",1,"> 600",2,"Poor",2,"Poor","Above 20",20,1000,-6,0.19800000000000001,0,-13.310000000000002,0,-18,40]
[null,"1331122-0",2719,1,"<130mph",3,"30,000 - 45,000",3,"Wooden",1,"Hard",1,"> 600",2,"Poor",2,"Poor","0 to 10",0,10,-6,0.10499999999999998,0,-5.4,0,-12,40]
[null,"1331122-10",2720,1,"<130mph",3,"30,000 - 45,000",3,"Wooden",1,"Hard",1,"> 600",2,"Poor",2,"Poor","10 to 20",10,20,-6,0.11088000000000001,0,-8.7120000000000015,0,-15,40]
[null,"1331122-20",2721,1,"<130mph",3,"30,000 - 45,000",3,"Wooden",1,"Hard",1,"> 600",2,"Poor",2,"Poor","Above 20",20,1000,-6,0.13860000000000003,0,-11.979000000000003,0,-18,40]
[null,"1333122-0",2722,1,"<130mph",3,"30,000 - 45,000",3,"Wooden",3,"Soft",1,"> 600",2,"Poor",2,"Poor","0 to 10",0,10,-6,0.18,0,-6.6000000000000005,0,-12,40]
[null,"1333122-10",2723,1,"<130mph",3,"30,000 - 45,000",3,"Wooden",3,"Soft",1,"> 600",2,"Poor",2,"Poor","10 to 20",10,20,-6,0.19008000000000003,0,-10.648000000000003,0,-15,40]
[null,"1333122-20",2724,1,"<130mph",3,"30,000 - 45,000",3,"Wooden",3,"Soft",1,"> 600",2,"Poor",2,"Poor","Above 20",20,1000,-6,0.23760000000000003,0,-14.641000000000005,0,-18,40]
[null,"1332211-0",2725,1,"<130mph",3,"30,000 - 45,000",3,"Wooden",2,"Medium",2,"400 < R < 600",1,"Good",1,"Good","0 to 10",0,10,-6,0.16500000000000004,0,-6,0,-12,30]
[null,"1332211-10",2726,1,"<130mph",3,"30,000 - 45,000",3,"Wooden",2,"Medium",2,"400 < R < 600",1,"Good",1,"Good","10 to 20",10,20,-6,0.13200000000000001,0,-8,0,-15,30]
[null,"1332211-20",2727,1,"<130mph",3,"30,000 - 45,000",3,"Wooden",2,"Medium",2,"400 < R < 600",1,"Good",1,"Good","Above 20",20,1000,-6,0.16500000000000004,0,-11,0,-18,30]
[null,"1331211-0",2728,1,"<130mph",3,"30,000 - 45,000",3,"Wooden",1,"Hard",2,"400 < R < 600",1,"Good",1,"Good","0 to 10",0,10,-6,0.11550000000000001,0,-5.4,0,-12,30]
[null,"1331211-10",2729,1,"<130mph",3,"30,000 - 45,000",3,"Wooden",1,"Hard",2,"400 < R < 600",1,"Good",1,"Good","10 to 20",10,20,-6,9.240000000000001E-2,0,-7.2,0,-15,30]
[null,"1331211-20",2730,1,"<130mph",3,"30,000 - 45,000",3,"Wooden",1,"Hard",2,"400 < R < 600",1,"Good",1,"Good","Above 20",20,1000,-6,0.11550000000000001,0,-9.9,0,-18,30]
[null,"1333211-0",2731,1,"<130mph",3,"30,000 - 45,000",3,"Wooden",3,"Soft",2,"400 < R < 600",1,"Good",1,"Good","0 to 10",0,10,-6,0.19800000000000001,0,-6.6000000000000005,0,-12,30]
[null,"1333211-10",2732,1,"<130mph",3,"30,000 - 45,000",3,"Wooden",3,"Soft",2,"400 < R < 600",1,"Good",1,"Good","10 to 20",10,20,-6,0.15840000000000001,0,-8.8000000000000007,0,-15,30]
[null,"1333211-20",2733,1,"<130mph",3,"30,000 - 45,000",3,"Wooden",3,"Soft",2,"400 < R < 600",1,"Good",1,"Good","Above 20",20,1000,-6,0.19800000000000001,0,-12.100000000000001,0,-18,30]
[null,"1332221-0",2734,1,"<130mph",3,"30,000 - 45,000",3,"Wooden",2,"Medium",2,"400 < R < 600",2,"Poor",1,"Good","0 to 10",0,10,-6,0.16500000000000004,0,-6,0,-12,30]
[null,"1332221-10",2735,1,"<130mph",3,"30,000 - 45,000",3,"Wooden",2,"Medium",2,"400 < R < 600",2,"Poor",1,"Good","10 to 20",10,20,-6,0.15840000000000001,0,-8.8000000000000007,0,-15,30]
[null,"1332221-20",2736,1,"<130mph",3,"30,000 - 45,000",3,"Wooden",2,"Medium",2,"400 < R < 600",2,"Poor",1,"Good","Above 20",20,1000,-6,0.19800000000000001,0,-12.100000000000001,0,-18,30]
[null,"1331221-0",2737,1,"<130mph",3,"30,000 - 45,000",3,"Wooden",1,"Hard",2,"400 < R < 600",2,"Poor",1,"Good","0 to 10",0,10,-6,0.11550000000000001,0,-5.4,0,-12,30]
[null,"1331221-10",2738,1,"<130mph",3,"30,000 - 45,000",3,"Wooden",1,"Hard",2,"400 < R < 600",2,"Poor",1,"Good","10 to 20",10,20,-6,0.11087999999999999,0,-7.9200000000000008,0,-15,30]
[null,"1331221-20",2739,1,"<130mph",3,"30,000 - 45,000",3,"Wooden",1,"Hard",2,"400 < R < 600",2,"Poor",1,"Good","Above 20",20,1000,-6,0.1386,0,-10.89,0,-18,30]
[null,"1333221-0",2740,1,"<130mph",3,"30,000 - 45,000",3,"Wooden",3,"Soft",2,"400 < R < 600",2,"Poor",1,"Good","0 to 10",0,10,-6,0.19800000000000001,0,-6.6000000000000005,0,-12,30]
[null,"1333221-10",2741,1,"<130mph",3,"30,000 - 45,000",3,"Wooden",3,"Soft",2,"400 < R < 600",2,"Poor",1,"Good","10 to 20",10,20,-6,0.19008000000000003,0,-9.6800000000000015,0,-15,30]
[null,"1333221-20",2742,1,"<130mph",3,"30,000 - 45,000",3,"Wooden",3,"Soft",2,"400 < R < 600",2,"Poor",1,"Good","Above 20",20,1000,-6,0.23760000000000003,0,-13.310000000000002,0,-18,30]
[null,"1332212-0",2743,1,"<130mph",3,"30,000 - 45,000",3,"Wooden",2,"Medium",2,"400 < R < 600",1,"Good",2,"Poor","0 to 10",0,10,-6,0.16500000000000004,0,-6,0,-12,30]
[null,"1332212-10",2744,1,"<130mph",3,"30,000 - 45,000",3,"Wooden",2,"Medium",2,"400 < R < 600",1,"Good",2,"Poor","10 to 20",10,20,-6,0.14520000000000002,0,-8.8000000000000007,0,-15,30]
[null,"1332212-20",2745,1,"<130mph",3,"30,000 - 45,000",3,"Wooden",2,"Medium",2,"400 < R < 600",1,"Good",2,"Poor","Above 20",20,1000,-6,0.18150000000000005,0,-12.100000000000001,0,-18,30]
[null,"1331212-0",2746,1,"<130mph",3,"30,000 - 45,000",3,"Wooden",1,"Hard",2,"400 < R < 600",1,"Good",2,"Poor","0 to 10",0,10,-6,0.11550000000000001,0,-5.4,0,-12,30]
[null,"1331212-10",2747,1,"<130mph",3,"30,000 - 45,000",3,"Wooden",1,"Hard",2,"400 < R < 600",1,"Good",2,"Poor","10 to 20",10,20,-6,0.10164000000000002,0,-7.9200000000000008,0,-15,30]
[null,"1331212-20",2748,1,"<130mph",3,"30,000 - 45,000",3,"Wooden",1,"Hard",2,"400 < R < 600",1,"Good",2,"Poor","Above 20",20,1000,-6,0.12705000000000002,0,-10.89,0,-18,30]
[null,"1333212-0",2749,1,"<130mph",3,"30,000 - 45,000",3,"Wooden",3,"Soft",2,"400 < R < 600",1,"Good",2,"Poor","0 to 10",0,10,-6,0.19800000000000001,0,-6.6000000000000005,0,-12,30]
[null,"1333212-10",2750,1,"<130mph",3,"30,000 - 45,000",3,"Wooden",3,"Soft",2,"400 < R < 600",1,"Good",2,"Poor","10 to 20",10,20,-6,0.17424000000000003,0,-9.6800000000000015,0,-15,30]
[null,"1333212-20",2751,1,"<130mph",3,"30,000 - 45,000",3,"Wooden",3,"Soft",2,"400 < R < 600",1,"Good",2,"Poor","Above 20",20,1000,-6,0.21780000000000005,0,-13.310000000000002,0,-18,30]
[null,"1332222-0",2752,1,"<130mph",3,"30,000 - 45,000",3,"Wooden",2,"Medium",2,"400 < R < 600",2,"Poor",2,"Poor","0 to 10",0,10,-6,0.16500000000000004,0,-6,0,-12,30]
[null,"1332222-10",2753,1,"<130mph",3,"30,000 - 45,000",3,"Wooden",2,"Medium",2,"400 < R < 600",2,"Poor",2,"Poor","10 to 20",10,20,-6,0.17424000000000003,0,-9.6800000000000015,0,-15,30]
[null,{"$f":"D2772&F2772&H2772&J2772&L2772&N2772&P2772&\"-\"&S2772","v":"1332222-20"},2754,1,"<130mph",3,"30,000 - 45,000",3,"Wooden",2,"Medium",2,"400 < R < 600",2,"Poor",2,"Poor","Above 20",20,1000,-6,0.21780000000000005,0,-13.310000000000002,0,-18,30]
[null,"1331222-0",2755,1,"<130mph",3,"30,000 - 45,000",3,"Wooden",1,"Hard",2,"400 < R < 600",2,"Poor",2,"Poor","0 to 10",0,10,-6,0.11550000000000001,0,-5.4,0,-12,30]
[null,"1331222-10",2756,1,"<130mph",3,"30,000 - 45,000",3,"Wooden",1,"Hard",2,"400 < R < 600",2,"Poor",2,"Poor","10 to 20",10,20,-6,0.12196799999999999,0,-8.7120000000000015,0,-15,30]
[null,"1331222-20",2757,1,"<130mph",3,"30,000 - 45,000",3,"Wooden",1,"Hard",2,"400 < R < 600",2,"Poor",2,"Poor","Above 20",20,1000,-6,0.15246000000000001,0,-11.979000000000003,0,-18,30]
[null,"1333222-0",2758,1,"<130mph",3,"30,000 - 45,000",3,"Wooden",3,"Soft",2,"400 < R < 600",2,"Poor",2,"Poor","0 to 10",0,10,-6,0.19800000000000001,0,-6.6000000000000005,0,-12,30]
[null,"1333222-10",2759,1,"<130mph",3,"30,000 - 45,000",3,"Wooden",3,"Soft",2,"400 < R < 600",2,"Poor",2,"Poor","10 to 20",10,20,-6,0.20908800000000002,0,-10.648000000000003,0,-15,30]
[null,"1333222-20",2760,1,"<130mph",3,"30,000 - 45,000",3,"Wooden",3,"Soft",2,"400 < R < 600",2,"Poor",2,"Poor","Above 20",20,1000,-6,0.26136000000000004,0,-14.641000000000005,0,-18,30]
[null,"1332311-0",2761,1,"<130mph",3,"30,000 - 45,000",3,"Wooden",2,"Medium",3,"300 < R < 400",1,"Good",1,"Good","0 to 10",0,10,-6,0.16500000000000004,0,-6,0,-12,22]
[null,"1332311-10",2762,1,"<130mph",3,"30,000 - 45,000",3,"Wooden",2,"Medium",3,"300 < R < 400",1,"Good",1,"Good","10 to 20",10,20,-6,0.13200000000000001,0,-8,0,-15,22]
[null,"1332311-20",2763,1,"<130mph",3,"30,000 - 45,000",3,"Wooden",2,"Medium",3,"300 < R < 400",1,"Good",1,"Good","Above 20",20,1000,-6,0.16500000000000004,0,-11,0,-18,22]
[null,"1331311-0",2764,1,"<130mph",3,"30,000 - 45,000",3,"Wooden",1,"Hard",3,"300 < R < 400",1,"Good",1,"Good","0 to 10",0,10,-6,0.11550000000000001,0,-5.4,0,-12,22]
[null,"1331311-10",2765,1,"<130mph",3,"30,000 - 45,000",3,"Wooden",1,"Hard",3,"300 < R < 400",1,"Good",1,"Good","10 to 20",10,20,-6,9.240000000000001E-2,0,-7.2,0,-15,22]
[null,"1331311-20",2766,1,"<130mph",3,"30,000 - 45,000",3,"Wooden",1,"Hard",3,"300 < R < 400",1,"Good",1,"Good","Above 20",20,1000,-6,0.11550000000000001,0,-9.9,0,-18,22]
[null,"1333311-0",2767,1,"<130mph",3,"30,000 - 45,000",3,"Wooden",3,"Soft",3,"300 < R < 400",1,"Good",1,"Good","0 to 10",0,10,-6,0.19800000000000001,0,-6.6000000000000005,0,-12,22]
[null,"1333311-10",2768,1,"<130mph",3,"30,000 - 45,000",3,"Wooden",3,"Soft",3,"300 < R < 400",1,"Good",1,"Good","10 to 20",10,20,-6,0.15840000000000001,0,-8.8000000000000007,0,-15,22]
[null,"1333311-20",2769,1,"<130mph",3,"30,000 - 45,000",3,"Wooden",3,"Soft",3,"300 < R < 400",1,"Good",1,"Good","Above 20",20,1000,-6,0.19800000000000001,0,-12.100000000000001,0,-18,22]
[null,"1332321-0",2770,1,"<130mph",3,"30,000 - 45,000",3,"Wooden",2,"Medium",3,"300 < R < 400",2,"Poor",1,"Good","0 to 10",0,10,-6,0.16500000000000004,0,-6,0,-12,22]
[null,"1332321-10",2771,1,"<130mph",3,"30,000 - 45,000",3,"Wooden",2,"Medium",3,"300 < R < 400",2,"Poor",1,"Good","10 to 20",10,20,-6,0.15840000000000001,0,-8.8000000000000007,0,-15,22]
[null,"1332321-20",2772,1,"<130mph",3,"30,000 - 45,000",3,"Wooden",2,"Medium",3,"300 < R < 400",2,"Poor",1,"Good","Above 20",20,1000,-6,0.19800000000000001,0,-12.100000000000001,0,-18,22]
[null,"1331321-0",2773,1,"<130mph",3,"30,000 - 45,000",3,"Wooden",1,"Hard",3,"300 < R < 400",2,"Poor",1,"Good","0 to 10",0,10,-6,0.11550000000000001,0,-5.4,0,-12,22]
[null,"1331321-10",2774,1,"<130mph",3,"30,000 - 45,000",3,"Wooden",1,"Hard",3,"300 < R < 400",2,"Poor",1,"Good","10 to 20",10,20,-6,0.11087999999999999,0,-7.9200000000000008,0,-15,22]
[null,"1331321-20",2775,1,"<130mph",3,"30,000 - 45,000",3,"Wooden",1,"Hard",3,"300 < R < 400",2,"Poor",1,"Good","Above 20",20,1000,-6,0.1386,0,-10.89,0,-18,22]
[null,"1333321-0",2776,1,"<130mph",3,"30,000 - 45,000",3,"Wooden",3,"Soft",3,"300 < R < 400",2,"Poor",1,"Good","0 to 10",0,10,-6,0.19800000000000001,0,-6.6000000000000005,0,-12,22]
[null,"1333321-10",2777,1,"<130mph",3,"30,000 - 45,000",3,"Wooden",3,"Soft",3,"300 < R < 400",2,"Poor",1,"Good","10 to 20",10,20,-6,0.19008000000000003,0,-9.6800000000000015,0,-15,22]
[null,"1333321-20",2778,1,"<130mph",3,"30,000 - 45,000",3,"Wooden",3,"Soft",3,"300 < R < 400",2,"Poor",1,"Good","Above 20",20,1000,-6,0.23760000000000003,0,-13.310000000000002,0,-18,22]
[null,"1332312-0",2779,1,"<130mph",3,"30,000 - 45,000",3,"Wooden",2,"Medium",3,"300 < R < 400",1,"Good",2,"Poor","0 to 10",0,10,-6,0.16500000000000004,0,-6,0,-12,22]
[null,"1332312-10",2780,1,"<130mph",3,"30,000 - 45,000",3,"Wooden",2,"Medium",3,"300 < R < 400",1,"Good",2,"Poor","10 to 20",10,20,-6,0.14520000000000002,0,-8.8000000000000007,0,-15,22]
[null,"1332312-20",2781,1,"<130mph",3,"30,000 - 45,000",3,"Wooden",2,"Medium",3,"300 < R < 400",1,"Good",2,"Poor","Above 20",20,1000,-6,0.18150000000000005,0,-12.100000000000001,0,-18,22]
[null,"1331312-0",2782,1,"<130mph",3,"30,000 - 45,000",3,"Wooden",1,"Hard",3,"300 < R < 400",1,"Good",2,"Poor","0 to 10",0,10,-6,0.11550000000000001,0,-5.4,0,-12,22]
[null,"1331312-10",2783,1,"<130mph",3,"30,000 - 45,000",3,"Wooden",1,"Hard",3,"300 < R < 400",1,"Good",2,"Poor","10 to 20",10,20,-6,0.10164000000000002,0,-7.9200000000000008,0,-15,22]
[null,"1331312-20",2784,1,"<130mph",3,"30,000 - 45,000",3,"Wooden",1,"Hard",3,"300 < R < 400",1,"Good",2,"Poor","Above 20",20,1000,-6,0.12705000000000002,0,-10.89,0,-18,22]
[null,"1333312-0",2785,1,"<130mph",3,"30,000 - 45,000",3,"Wooden",3,"Soft",3,"300 < R < 400",1,"Good",2,"Poor","0 to 10",0,10,-6,0.19800000000000001,0,-6.6000000000000005,0,-12,22]
[null,"1333312-10",2786,1,"<130mph",3,"30,000 - 45,000",3,"Wooden",3,"Soft",3,"300 < R < 400",1,"Good",2,"Poor","10 to 20",10,20,-6,0.17424000000000003,0,-9.6800000000000015,0,-15,22]
[null,"1333312-20",2787,1,"<130mph",3,"30,000 - 45,000",3,"Wooden",3,"Soft",3,"300 < R < 400",1,"Good",2,"Poor","Above 20",20,1000,-6,0.21780000000000005,0,-13.310000000000002,0,-18,22]
[null,"1332322-0",2788,1,"<130mph",3,"30,000 - 45,000",3,"Wooden",2,"Medium",3,"300 < R < 400",2,"Poor",2,"Poor","0 to 10",0,10,-6,0.16500000000000004,0,-6,0,-12,22]
[null,"1332322-10",2789,1,"<130mph",3,"30,000 - 45,000",3,"Wooden",2,"Medium",3,"300 < R < 400",2,"Poor",2,"Poor","10 to 20",10,20,-6,0.17424000000000003,0,-9.6800000000000015,0,-15,22]
[null,"1332322-20",2790,1,"<130mph",3,"30,000 - 45,000",3,"Wooden",2,"Medium",3,"300 < R < 400",2,"Poor",2,"Poor","Above 20",20,1000,-6,0.21780000000000005,0,-13.310000000000002,0,-18,22]
[null,"1331322-0",2791,1,"<130mph",3,"30,000 - 45,000",3,"Wooden",1,"Hard",3,"300 < R < 400",2,"Poor",2,"Poor","0 to 10",0,10,-6,0.11550000000000001,0,-5.4,0,-12,22]
[null,"1331322-10",2792,1,"<130mph",3,"30,000 - 45,000",3,"Wooden",1,"Hard",3,"300 < R < 400",2,"Poor",2,"Poor","10 to 20",10,20,-6,0.12196799999999999,0,-8.7120000000000015,0,-15,22]
[null,"1331322-20",2793,1,"<130mph",3,"30,000 - 45,000",3,"Wooden",1,"Hard",3,"300 < R < 400",2,"Poor",2,"Poor","Above 20",20,1000,-6,0.15246000000000001,0,-11.979000000000003,0,-18,22]
[null,"1333322-0",2794,1,"<130mph",3,"30,000 - 45,000",3,"Wooden",3,"Soft",3,"300 < R < 400",2,"Poor",2,"Poor","0 to 10",0,10,-6,0.19800000000000001,0,-6.6000000000000005,0,-12,22]
[null,"1333322-10",2795,1,"<130mph",3,"30,000 - 45,000",3,"Wooden",3,"Soft",3,"300 < R < 400",2,"Poor",2,"Poor","10 to 20",10,20,-6,0.20908800000000002,0,-10.648000000000003,0,-15,22]
[null,"1333322-20",2796,1,"<130mph",3,"30,000 - 45,000",3,"Wooden",3,"Soft",3,"300 < R < 400",2,"Poor",2,"Poor","Above 20",20,1000,-6,0.26136000000000004,0,-14.641000000000005,0,-18,22]
[null,"1332411-0",2797,1,"<130mph",3,"30,000 - 45,000",3,"Wooden",2,"Medium",4,"< 300",1,"Good",1,"Good","0 to 10",0,10,-6,0.22500000000000001,0,-6,0,-12,20]
[null,"1332411-10",2798,1,"<130mph",3,"30,000 - 45,000",3,"Wooden",2,"Medium",4,"< 300",1,"Good",1,"Good","10 to 20",10,20,-6,0.18,0,-8,0,-15,20]
[null,"1332411-20",2799,1,"<130mph",3,"30,000 - 45,000",3,"Wooden",2,"Medium",4,"< 300",1,"Good",1,"Good","Above 20",20,1000,-6,0.22500000000000001,0,-11,0,-18,20]
[null,"1331411-0",2800,1,"<130mph",3,"30,000 - 45,000",3,"Wooden",1,"Hard",4,"< 300",1,"Good",1,"Good","0 to 10",0,10,-6,0.15749999999999997,0,-5.4,0,-12,20]
[null,"1331411-10",2801,1,"<130mph",3,"30,000 - 45,000",3,"Wooden",1,"Hard",4,"< 300",1,"Good",1,"Good","10 to 20",10,20,-6,0.12599999999999997,0,-7.2,0,-15,20]
[null,"1331411-20",2802,1,"<130mph",3,"30,000 - 45,000",3,"Wooden",1,"Hard",4,"< 300",1,"Good",1,"Good","Above 20",20,1000,-6,0.15749999999999997,0,-9.9,0,-18,20]
[null,"1333411-0",2803,1,"<130mph",3,"30,000 - 45,000",3,"Wooden",3,"Soft",4,"< 300",1,"Good",1,"Good","0 to 10",0,10,-6,0.26999999999999996,0,-6.6000000000000005,0,-12,20]
[null,"1333411-10",2804,1,"<130mph",3,"30,000 - 45,000",3,"Wooden",3,"Soft",4,"< 300",1,"Good",1,"Good","10 to 20",10,20,-6,0.21599999999999997,0,-8.8000000000000007,0,-15,20]
[null,"1333411-20",2805,1,"<130mph",3,"30,000 - 45,000",3,"Wooden",3,"Soft",4,"< 300",1,"Good",1,"Good","Above 20",20,1000,-6,0.26999999999999996,0,-12.100000000000001,0,-18,20]
[null,"1332421-0",2806,1,"<130mph",3,"30,000 - 45,000",3,"Wooden",2,"Medium",4,"< 300",2,"Poor",1,"Good","0 to 10",0,10,-6,0.22500000000000001,0,-6,0,-12,20]
[null,"1332421-10",2807,1,"<130mph",3,"30,000 - 45,000",3,"Wooden",2,"Medium",4,"< 300",2,"Poor",1,"Good","10 to 20",10,20,-6,0.21599999999999997,0,-8.8000000000000007,0,-15,20]
[null,"1332421-20",2808,1,"<130mph",3,"30,000 - 45,000",3,"Wooden",2,"Medium",4,"< 300",2,"Poor",1,"Good","Above 20",20,1000,-6,0.26999999999999996,0,-12.100000000000001,0,-18,20]
[null,"1331421-0",2809,1,"<130mph",3,"30,000 - 45,000",3,"Wooden",1,"Hard",4,"< 300",2,"Poor",1,"Good","0 to 10",0,10,-6,0.15749999999999997,0,-5.4,0,-12,20]
[null,"1331421-10",2810,1,"<130mph",3,"30,000 - 45,000",3,"Wooden",1,"Hard",4,"< 300",2,"Poor",1,"Good","10 to 20",10,20,-6,0.15119999999999997,0,-7.9200000000000008,0,-15,20]
[null,"1331421-20",2811,1,"<130mph",3,"30,000 - 45,000",3,"Wooden",1,"Hard",4,"< 300",2,"Poor",1,"Good","Above 20",20,1000,-6,0.18899999999999997,0,-10.89,0,-18,20]
[null,"1333421-0",2812,1,"<130mph",3,"30,000 - 45,000",3,"Wooden",3,"Soft",4,"< 300",2,"Poor",1,"Good","0 to 10",0,10,-6,0.26999999999999996,0,-6.6000000000000005,0,-12,20]
[null,"1333421-10",2813,1,"<130mph",3,"30,000 - 45,000",3,"Wooden",3,"Soft",4,"< 300",2,"Poor",1,"Good","10 to 20",10,20,-6,0.25919999999999993,0,-9.6800000000000015,0,-15,20]
[null,"1333421-20",2814,1,"<130mph",3,"30,000 - 45,000",3,"Wooden",3,"Soft",4,"< 300",2,"Poor",1,"Good","Above 20",20,1000,-6,0.32399999999999995,0,-13.310000000000002,0,-18,20]
[null,"1332412-0",2815,1,"<130mph",3,"30,000 - 45,000",3,"Wooden",2,"Medium",4,"< 300",1,"Good",2,"Poor","0 to 10",0,10,-6,0.22500000000000001,0,-6,0,-12,20]
[null,"1332412-10",2816,1,"<130mph",3,"30,000 - 45,000",3,"Wooden",2,"Medium",4,"< 300",1,"Good",2,"Poor","10 to 20",10,20,-6,0.19800000000000001,0,-8.8000000000000007,0,-15,20]
[null,"1332412-20",2817,1,"<130mph",3,"30,000 - 45,000",3,"Wooden",2,"Medium",4,"< 300",1,"Good",2,"Poor","Above 20",20,1000,-6,0.24750000000000003,0,-12.100000000000001,0,-18,20]
[null,{"$f":"D2836&F2836&H2836&J2836&L2836&N2836&P2836&\"-\"&S2836","v":"1331412-0"},2818,1,"<130mph",3,"30,000 - 45,000",3,"Wooden",1,"Hard",4,"< 300",1,"Good",2,"Poor","0 to 10",0,10,-6,0.15749999999999997,0,-5.4,0,-12,20]
[null,"1331412-10",2819,1,"<130mph",3,"30,000 - 45,000",3,"Wooden",1,"Hard",4,"< 300",1,"Good",2,"Poor","10 to 20",10,20,-6,0.13859999999999997,0,-7.9200000000000008,0,-15,20]
[null,"1331412-20",2820,1,"<130mph",3,"30,000 - 45,000",3,"Wooden",1,"Hard",4,"< 300",1,"Good",2,"Poor","Above 20",20,1000,-6,0.17324999999999999,0,-10.89,0,-18,20]
[null,"1333412-0",2821,1,"<130mph",3,"30,000 - 45,000",3,"Wooden",3,"Soft",4,"< 300",1,"Good",2,"Poor","0 to 10",0,10,-6,0.26999999999999996,0,-6.6000000000000005,0,-12,20]
[null,"1333412-10",2822,1,"<130mph",3,"30,000 - 45,000",3,"Wooden",3,"Soft",4,"< 300",1,"Good",2,"Poor","10 to 20",10,20,-6,0.23759999999999998,0,-9.6800000000000015,0,-15,20]
[null,"1333412-20",2823,1,"<130mph",3,"30,000 - 45,000",3,"Wooden",3,"Soft",4,"< 300",1,"Good",2,"Poor","Above 20",20,1000,-6,0.29699999999999999,0,-13.310000000000002,0,-18,20]
[null,"1332422-0",2824,1,"<130mph",3,"30,000 - 45,000",3,"Wooden",2,"Medium",4,"< 300",2,"Poor",2,"Poor","0 to 10",0,10,-6,0.22500000000000001,0,-6,0,-12,20]
[null,"1332422-10",2825,1,"<130mph",3,"30,000 - 45,000",3,"Wooden",2,"Medium",4,"< 300",2,"Poor",2,"Poor","10 to 20",10,20,-6,0.23759999999999998,0,-9.6800000000000015,0,-15,20]
[null,"1332422-20",2826,1,"<130mph",3,"30,000 - 45,000",3,"Wooden",2,"Medium",4,"< 300",2,"Poor",2,"Poor","Above 20",20,1000,-6,0.29699999999999999,0,-13.310000000000002,0,-18,20]
[null,"1331422-0",2827,1,"<130mph",3,"30,000 - 45,000",3,"Wooden",1,"Hard",4,"< 300",2,"Poor",2,"Poor","0 to 10",0,10,-6,0.15749999999999997,0,-5.4,0,-12,20]
[null,"1331422-10",2828,1,"<130mph",3,"30,000 - 45,000",3,"Wooden",1,"Hard",4,"< 300",2,"Poor",2,"Poor","10 to 20",10,20,-6,0.16632,0,-8.7120000000000015,0,-15,20]
[null,"1331422-20",2829,1,"<130mph",3,"30,000 - 45,000",3,"Wooden",1,"Hard",4,"< 300",2,"Poor",2,"Poor","Above 20",20,1000,-6,0.20789999999999997,0,-11.979000000000003,0,-18,20]
[null,"1333422-0",2830,1,"<130mph",3,"30,000 - 45,000",3,"Wooden",3,"Soft",4,"< 300",2,"Poor",2,"Poor","0 to 10",0,10,-6,0.26999999999999996,0,-6.6000000000000005,0,-12,20]
[null,"1333422-10",2831,1,"<130mph",3,"30,000 - 45,000",3,"Wooden",3,"Soft",4,"< 300",2,"Poor",2,"Poor","10 to 20",10,20,-6,0.28511999999999998,0,-10.648000000000003,0,-15,20]
[null,"1333422-20",2832,1,"<130mph",3,"30,000 - 45,000",3,"Wooden",3,"Soft",4,"< 300",2,"Poor",2,"Poor","Above 20",20,1000,-6,0.35640000000000005,0,-14.641000000000005,0,-18,20]
[null,"1432111-0",2833,1,"<130mph",4,"45,000 - 65,000",3,"Wooden",2,"Medium",1,"> 600",1,"Good",1,"Good","0 to 10",0,10,-6,0.21666666666666667,0,-6,0,-12,40]
[null,"1432111-10",2834,1,"<130mph",4,"45,000 - 65,000",3,"Wooden",2,"Medium",1,"> 600",1,"Good",1,"Good","10 to 20",10,20,-6,0.17333333333333331,0,-8,0,-15,40]
[null,"1432111-20",2835,1,"<130mph",4,"45,000 - 65,000",3,"Wooden",2,"Medium",1,"> 600",1,"Good",1,"Good","Above 20",20,1000,-6,0.21666666666666667,0,-11,0,-18,40]
[null,"1431111-0",2836,1,"<130mph",4,"45,000 - 65,000",3,"Wooden",1,"Hard",1,"> 600",1,"Good",1,"Good","0 to 10",0,10,-6,0.15166666666666664,0,-5.4,0,-12,40]
[null,"1431111-10",2837,1,"<130mph",4,"45,000 - 65,000",3,"Wooden",1,"Hard",1,"> 600",1,"Good",1,"Good","10 to 20",10,20,-6,0.12133333333333331,0,-7.2,0,-15,40]
[null,"1431111-20",2838,1,"<130mph",4,"45,000 - 65,000",3,"Wooden",1,"Hard",1,"> 600",1,"Good",1,"Good","Above 20",20,1000,-6,0.15166666666666664,0,-9.9,0,-18,40]
[null,"1433111-0",2839,1,"<130mph",4,"45,000 - 65,000",3,"Wooden",3,"Soft",1,"> 600",1,"Good",1,"Good","0 to 10",0,10,-6,0.25999999999999995,0,-6.6000000000000005,0,-12,40]
[null,"1433111-10",2840,1,"<130mph",4,"45,000 - 65,000",3,"Wooden",3,"Soft",1,"> 600",1,"Good",1,"Good","10 to 20",10,20,-6,0.20799999999999996,0,-8.8000000000000007,0,-15,40]
[null,"1433111-20",2841,1,"<130mph",4,"45,000 - 65,000",3,"Wooden",3,"Soft",1,"> 600",1,"Good",1,"Good","Above 20",20,1000,-6,0.25999999999999995,0,-12.100000000000001,0,-18,40]
[null,"1432121-0",2842,1,"<130mph",4,"45,000 - 65,000",3,"Wooden",2,"Medium",1,"> 600",2,"Poor",1,"Good","0 to 10",0,10,-6,0.21666666666666667,0,-6,0,-12,40]
[null,"1432121-10",2843,1,"<130mph",4,"45,000 - 65,000",3,"Wooden",2,"Medium",1,"> 600",2,"Poor",1,"Good","10 to 20",10,20,-6,0.20799999999999996,0,-8.8000000000000007,0,-15,40]
[null,"1432121-20",2844,1,"<130mph",4,"45,000 - 65,000",3,"Wooden",2,"Medium",1,"> 600",2,"Poor",1,"Good","Above 20",20,1000,-6,0.25999999999999995,0,-12.100000000000001,0,-18,40]
[null,"1431121-0",2845,1,"<130mph",4,"45,000 - 65,000",3,"Wooden",1,"Hard",1,"> 600",2,"Poor",1,"Good","0 to 10",0,10,-6,0.15166666666666664,0,-5.4,0,-12,40]
[null,"1431121-10",2846,1,"<130mph",4,"45,000 - 65,000",3,"Wooden",1,"Hard",1,"> 600",2,"Poor",1,"Good","10 to 20",10,20,-6,0.14559999999999998,0,-7.9200000000000008,0,-15,40]
[null,"1431121-20",2847,1,"<130mph",4,"45,000 - 65,000",3,"Wooden",1,"Hard",1,"> 600",2,"Poor",1,"Good","Above 20",20,1000,-6,0.182,0,-10.89,0,-18,40]
[null,"1433121-0",2848,1,"<130mph",4,"45,000 - 65,000",3,"Wooden",3,"Soft",1,"> 600",2,"Poor",1,"Good","0 to 10",0,10,-6,0.25999999999999995,0,-6.6000000000000005,0,-12,40]
[null,"1433121-10",2849,1,"<130mph",4,"45,000 - 65,000",3,"Wooden",3,"Soft",1,"> 600",2,"Poor",1,"Good","10 to 20",10,20,-6,0.24959999999999999,0,-9.6800000000000015,0,-15,40]
[null,"1433121-20",2850,1,"<130mph",4,"45,000 - 65,000",3,"Wooden",3,"Soft",1,"> 600",2,"Poor",1,"Good","Above 20",20,1000,-6,0.312,0,-13.310000000000002,0,-18,40]
[null,"1432112-0",2851,1,"<130mph",4,"45,000 - 65,000",3,"Wooden",2,"Medium",1,"> 600",1,"Good",2,"Poor","0 to 10",0,10,-6,0.21666666666666667,0,-6,0,-12,40]
[null,"1432112-10",2852,1,"<130mph",4,"45,000 - 65,000",3,"Wooden",2,"Medium",1,"> 600",1,"Good",2,"Poor","10 to 20",10,20,-6,0.19066666666666668,0,-8.8000000000000007,0,-15,40]
[null,"1432112-20",2853,1,"<130mph",4,"45,000 - 65,000",3,"Wooden",2,"Medium",1,"> 600",1,"Good",2,"Poor","Above 20",20,1000,-6,0.23833333333333334,0,-12.100000000000001,0,-18,40]
[null,"1431112-0",2854,1,"<130mph",4,"45,000 - 65,000",3,"Wooden",1,"Hard",1,"> 600",1,"Good",2,"Poor","0 to 10",0,10,-6,0.15166666666666664,0,-5.4,0,-12,40]
[null,"1431112-10",2855,1,"<130mph",4,"45,000 - 65,000",3,"Wooden",1,"Hard",1,"> 600",1,"Good",2,"Poor","10 to 20",10,20,-6,0.13346666666666665,0,-7.9200000000000008,0,-15,40]
[null,"1431112-20",2856,1,"<130mph",4,"45,000 - 65,000",3,"Wooden",1,"Hard",1,"> 600",1,"Good",2,"Poor","Above 20",20,1000,-6,0.16683333333333333,0,-10.89,0,-18,40]
[null,"1433112-0",2857,1,"<130mph",4,"45,000 - 65,000",3,"Wooden",3,"Soft",1,"> 600",1,"Good",2,"Poor","0 to 10",0,10,-6,0.25999999999999995,0,-6.6000000000000005,0,-12,40]
[null,"1433112-10",2858,1,"<130mph",4,"45,000 - 65,000",3,"Wooden",3,"Soft",1,"> 600",1,"Good",2,"Poor","10 to 20",10,20,-6,0.2288,0,-9.6800000000000015,0,-15,40]
[null,"1433112-20",2859,1,"<130mph",4,"45,000 - 65,000",3,"Wooden",3,"Soft",1,"> 600",1,"Good",2,"Poor","Above 20",20,1000,-6,0.28599999999999998,0,-13.310000000000002,0,-18,40]
[null,"1432122-0",2860,1,"<130mph",4,"45,000 - 65,000",3,"Wooden",2,"Medium",1,"> 600",2,"Poor",2,"Poor","0 to 10",0,10,-6,0.21666666666666667,0,-6,0,-12,40]
[null,"1432122-10",2861,1,"<130mph",4,"45,000 - 65,000",3,"Wooden",2,"Medium",1,"> 600",2,"Poor",2,"Poor","10 to 20",10,20,-6,0.2288,0,-9.6800000000000015,0,-15,40]
[null,"1432122-20",2862,1,"<130mph",4,"45,000 - 65,000",3,"Wooden",2,"Medium",1,"> 600",2,"Poor",2,"Poor","Above 20",20,1000,-6,0.28599999999999998,0,-13.310000000000002,0,-18,40]
[null,"1431122-0",2863,1,"<130mph",4,"45,000 - 65,000",3,"Wooden",1,"Hard",1,"> 600",2,"Poor",2,"Poor","0 to 10",0,10,-6,0.15166666666666664,0,-5.4,0,-12,40]
[null,"1431122-10",2864,1,"<130mph",4,"45,000 - 65,000",3,"Wooden",1,"Hard",1,"> 600",2,"Poor",2,"Poor","10 to 20",10,20,-6,0.16016,0,-8.7120000000000015,0,-15,40]
[null,"1431122-20",2865,1,"<130mph",4,"45,000 - 65,000",3,"Wooden",1,"Hard",1,"> 600",2,"Poor",2,"Poor","Above 20",20,1000,-6,0.20019999999999999,0,-11.979000000000003,0,-18,40]
[null,"1433122-0",2866,1,"<130mph",4,"45,000 - 65,000",3,"Wooden",3,"Soft",1,"> 600",2,"Poor",2,"Poor","0 to 10",0,10,-6,0.25999999999999995,0,-6.6000000000000005,0,-12,40]
[null,"1433122-10",2867,1,"<130mph",4,"45,000 - 65,000",3,"Wooden",3,"Soft",1,"> 600",2,"Poor",2,"Poor","10 to 20",10,20,-6,0.27456000000000003,0,-10.648000000000003,0,-15,40]
[null,"1433122-20",2868,1,"<130mph",4,"45,000 - 65,000",3,"Wooden",3,"Soft",1,"> 600",2,"Poor",2,"Poor","Above 20",20,1000,-6,0.34320000000000001,0,-14.641000000000005,0,-18,40]
[null,"1432211-0",2869,1,"<130mph",4,"45,000 - 65,000",3,"Wooden",2,"Medium",2,"400 < R < 600",1,"Good",1,"Good","0 to 10",0,10,-6,0.23833333333333334,0,-6,0,-12,30]
[null,"1432211-10",2870,1,"<130mph",4,"45,000 - 65,000",3,"Wooden",2,"Medium",2,"400 < R < 600",1,"Good",1,"Good","10 to 20",10,20,-6,0.19066666666666668,0,-8,0,-15,30]
[null,"1432211-20",2871,1,"<130mph",4,"45,000 - 65,000",3,"Wooden",2,"Medium",2,"400 < R < 600",1,"Good",1,"Good","Above 20",20,1000,-6,0.23833333333333334,0,-11,0,-18,30]
[null,"1431211-0",2872,1,"<130mph",4,"45,000 - 65,000",3,"Wooden",1,"Hard",2,"400 < R < 600",1,"Good",1,"Good","0 to 10",0,10,-6,0.16683333333333333,0,-5.4,0,-12,30]
[null,"1431211-10",2873,1,"<130mph",4,"45,000 - 65,000",3,"Wooden",1,"Hard",2,"400 < R < 600",1,"Good",1,"Good","10 to 20",10,20,-6,0.13346666666666665,0,-7.2,0,-15,30]
[null,"1431211-20",2874,1,"<130mph",4,"45,000 - 65,000",3,"Wooden",1,"Hard",2,"400 < R < 600",1,"Good",1,"Good","Above 20",20,1000,-6,0.16683333333333333,0,-9.9,0,-18,30]
[null,"1433211-0",2875,1,"<130mph",4,"45,000 - 65,000",3,"Wooden",3,"Soft",2,"400 < R < 600",1,"Good",1,"Good","0 to 10",0,10,-6,0.28599999999999998,0,-6.6000000000000005,0,-12,30]
[null,"1433211-10",2876,1,"<130mph",4,"45,000 - 65,000",3,"Wooden",3,"Soft",2,"400 < R < 600",1,"Good",1,"Good","10 to 20",10,20,-6,0.2288,0,-8.8000000000000007,0,-15,30]
[null,"1433211-20",2877,1,"<130mph",4,"45,000 - 65,000",3,"Wooden",3,"Soft",2,"400 < R < 600",1,"Good",1,"Good","Above 20",20,1000,-6,0.28599999999999998,0,-12.100000000000001,0,-18,30]
[null,"1432221-0",2878,1,"<130mph",4,"45,000 - 65,000",3,"Wooden",2,"Medium",2,"400 < R < 600",2,"Poor",1,"Good","0 to 10",0,10,-6,0.23833333333333334,0,-6,0,-12,30]
[null,"1432221-10",2879,1,"<130mph",4,"45,000 - 65,000",3,"Wooden",2,"Medium",2,"400 < R < 600",2,"Poor",1,"Good","10 to 20",10,20,-6,0.2288,0,-8.8000000000000007,0,-15,30]
[null,"1432221-20",2880,1,"<130mph",4,"45,000 - 65,000",3,"Wooden",2,"Medium",2,"400 < R < 600",2,"Poor",1,"Good","Above 20",20,1000,-6,0.28599999999999998,0,-12.100000000000001,0,-18,30]
[null,"1431221-0",2881,1,"<130mph",4,"45,000 - 65,000",3,"Wooden",1,"Hard",2,"400 < R < 600",2,"Poor",1,"Good","0 to 10",0,10,-6,0.16683333333333333,0,-5.4,0,-12,30]
[null,{"$f":"D2900&F2900&H2900&J2900&L2900&N2900&P2900&\"-\"&S2900","v":"1431221-10"},2882,1,"<130mph",4,"45,000 - 65,000",3,"Wooden",1,"Hard",2,"400 < R < 600",2,"Poor",1,"Good","10 to 20",10,20,-6,0.16016,0,-7.9200000000000008,0,-15,30]
[null,"1431221-20",2883,1,"<130mph",4,"45,000 - 65,000",3,"Wooden",1,"Hard",2,"400 < R < 600",2,"Poor",1,"Good","Above 20",20,1000,-6,0.20019999999999999,0,-10.89,0,-18,30]
[null,"1433221-0",2884,1,"<130mph",4,"45,000 - 65,000",3,"Wooden",3,"Soft",2,"400 < R < 600",2,"Poor",1,"Good","0 to 10",0,10,-6,0.28599999999999998,0,-6.6000000000000005,0,-12,30]
[null,"1433221-10",2885,1,"<130mph",4,"45,000 - 65,000",3,"Wooden",3,"Soft",2,"400 < R < 600",2,"Poor",1,"Good","10 to 20",10,20,-6,0.27456000000000003,0,-9.6800000000000015,0,-15,30]
[null,"1433221-20",2886,1,"<130mph",4,"45,000 - 65,000",3,"Wooden",3,"Soft",2,"400 < R < 600",2,"Poor",1,"Good","Above 20",20,1000,-6,0.34320000000000001,0,-13.310000000000002,0,-18,30]
[null,"1432212-0",2887,1,"<130mph",4,"45,000 - 65,000",3,"Wooden",2,"Medium",2,"400 < R < 600",1,"Good",2,"Poor","0 to 10",0,10,-6,0.23833333333333334,0,-6,0,-12,30]
[null,"1432212-10",2888,1,"<130mph",4,"45,000 - 65,000",3,"Wooden",2,"Medium",2,"400 < R < 600",1,"Good",2,"Poor","10 to 20",10,20,-6,0.20973333333333335,0,-8.8000000000000007,0,-15,30]
[null,"1432212-20",2889,1,"<130mph",4,"45,000 - 65,000",3,"Wooden",2,"Medium",2,"400 < R < 600",1,"Good",2,"Poor","Above 20",20,1000,-6,0.26216666666666671,0,-12.100000000000001,0,-18,30]
[null,"1431212-0",2890,1,"<130mph",4,"45,000 - 65,000",3,"Wooden",1,"Hard",2,"400 < R < 600",1,"Good",2,"Poor","0 to 10",0,10,-6,0.16683333333333333,0,-5.4,0,-12,30]
[null,"1431212-10",2891,1,"<130mph",4,"45,000 - 65,000",3,"Wooden",1,"Hard",2,"400 < R < 600",1,"Good",2,"Poor","10 to 20",10,20,-6,0.14681333333333335,0,-7.9200000000000008,0,-15,30]
[null,"1431212-20",2892,1,"<130mph",4,"45,000 - 65,000",3,"Wooden",1,"Hard",2,"400 < R < 600",1,"Good",2,"Poor","Above 20",20,1000,-6,0.18351666666666669,0,-10.89,0,-18,30]
[null,"1433212-0",2893,1,"<130mph",4,"45,000 - 65,000",3,"Wooden",3,"Soft",2,"400 < R < 600",1,"Good",2,"Poor","0 to 10",0,10,-6,0.28599999999999998,0,-6.6000000000000005,0,-12,30]
[null,"1433212-10",2894,1,"<130mph",4,"45,000 - 65,000",3,"Wooden",3,"Soft",2,"400 < R < 600",1,"Good",2,"Poor","10 to 20",10,20,-6,0.25168000000000001,0,-9.6800000000000015,0,-15,30]
[null,"1433212-20",2895,1,"<130mph",4,"45,000 - 65,000",3,"Wooden",3,"Soft",2,"400 < R < 600",1,"Good",2,"Poor","Above 20",20,1000,-6,0.31460000000000005,0,-13.310000000000002,0,-18,30]
[null,"1432222-0",2896,1,"<130mph",4,"45,000 - 65,000",3,"Wooden",2,"Medium",2,"400 < R < 600",2,"Poor",2,"Poor","0 to 10",0,10,-6,0.23833333333333334,0,-6,0,-12,30]
[null,"1432222-10",2897,1,"<130mph",4,"45,000 - 65,000",3,"Wooden",2,"Medium",2,"400 < R < 600",2,"Poor",2,"Poor","10 to 20",10,20,-6,0.25168000000000001,0,-9.6800000000000015,0,-15,30]
[null,"1432222-20",2898,1,"<130mph",4,"45,000 - 65,000",3,"Wooden",2,"Medium",2,"400 < R < 600",2,"Poor",2,"Poor","Above 20",20,1000,-6,0.31460000000000005,0,-13.310000000000002,0,-18,30]
[null,"1431222-0",2899,1,"<130mph",4,"45,000 - 65,000",3,"Wooden",1,"Hard",2,"400 < R < 600",2,"Poor",2,"Poor","0 to 10",0,10,-6,0.16683333333333333,0,-5.4,0,-12,30]
[null,"1431222-10",2900,1,"<130mph",4,"45,000 - 65,000",3,"Wooden",1,"Hard",2,"400 < R < 600",2,"Poor",2,"Poor","10 to 20",10,20,-6,0.176176,0,-8.7120000000000015,0,-15,30]
[null,"1431222-20",2901,1,"<130mph",4,"45,000 - 65,000",3,"Wooden",1,"Hard",2,"400 < R < 600",2,"Poor",2,"Poor","Above 20",20,1000,-6,0.22022,0,-11.979000000000003,0,-18,30]
[null,"1433222-0",2902,1,"<130mph",4,"45,000 - 65,000",3,"Wooden",3,"Soft",2,"400 < R < 600",2,"Poor",2,"Poor","0 to 10",0,10,-6,0.28599999999999998,0,-6.6000000000000005,0,-12,30]
[null,"1433222-10",2903,1,"<130mph",4,"45,000 - 65,000",3,"Wooden",3,"Soft",2,"400 < R < 600",2,"Poor",2,"Poor","10 to 20",10,20,-6,0.30201600000000001,0,-10.648000000000003,0,-15,30]
[null,"1433222-20",2904,1,"<130mph",4,"45,000 - 65,000",3,"Wooden",3,"Soft",2,"400 < R < 600",2,"Poor",2,"Poor","Above 20",20,1000,-6,0.37752000000000008,0,-14.641000000000005,0,-18,30]
[null,"1432311-0",2905,1,"<130mph",4,"45,000 - 65,000",3,"Wooden",2,"Medium",3,"300 < R < 400",1,"Good",1,"Good","0 to 10",0,10,-6,0.23833333333333334,0,-6,0,-12,22]
[null,"1432311-10",2906,1,"<130mph",4,"45,000 - 65,000",3,"Wooden",2,"Medium",3,"300 < R < 400",1,"Good",1,"Good","10 to 20",10,20,-6,0.19066666666666668,0,-8,0,-15,22]
[null,"1432311-20",2907,1,"<130mph",4,"45,000 - 65,000",3,"Wooden",2,"Medium",3,"300 < R < 400",1,"Good",1,"Good","Above 20",20,1000,-6,0.23833333333333334,0,-11,0,-18,22]
[null,"1431311-0",2908,1,"<130mph",4,"45,000 - 65,000",3,"Wooden",1,"Hard",3,"300 < R < 400",1,"Good",1,"Good","0 to 10",0,10,-6,0.16683333333333333,0,-5.4,0,-12,22]
[null,"1431311-10",2909,1,"<130mph",4,"45,000 - 65,000",3,"Wooden",1,"Hard",3,"300 < R < 400",1,"Good",1,"Good","10 to 20",10,20,-6,0.13346666666666665,0,-7.2,0,-15,22]
[null,"1431311-20",2910,1,"<130mph",4,"45,000 - 65,000",3,"Wooden",1,"Hard",3,"300 < R < 400",1,"Good",1,"Good","Above 20",20,1000,-6,0.16683333333333333,0,-9.9,0,-18,22]
[null,"1433311-0",2911,1,"<130mph",4,"45,000 - 65,000",3,"Wooden",3,"Soft",3,"300 < R < 400",1,"Good",1,"Good","0 to 10",0,10,-6,0.28599999999999998,0,-6.6000000000000005,0,-12,22]
[null,"1433311-10",2912,1,"<130mph",4,"45,000 - 65,000",3,"Wooden",3,"Soft",3,"300 < R < 400",1,"Good",1,"Good","10 to 20",10,20,-6,0.2288,0,-8.8000000000000007,0,-15,22]
[null,"1433311-20",2913,1,"<130mph",4,"45,000 - 65,000",3,"Wooden",3,"Soft",3,"300 < R < 400",1,"Good",1,"Good","Above 20",20,1000,-6,0.28599999999999998,0,-12.100000000000001,0,-18,22]
[null,"1432321-0",2914,1,"<130mph",4,"45,000 - 65,000",3,"Wooden",2,"Medium",3,"300 < R < 400",2,"Poor",1,"Good","0 to 10",0,10,-6,0.23833333333333334,0,-6,0,-12,22]
[null,"1432321-10",2915,1,"<130mph",4,"45,000 - 65,000",3,"Wooden",2,"Medium",3,"300 < R < 400",2,"Poor",1,"Good","10 to 20",10,20,-6,0.2288,0,-8.8000000000000007,0,-15,22]
[null,"1432321-20",2916,1,"<130mph",4,"45,000 - 65,000",3,"Wooden",2,"Medium",3,"300 < R < 400",2,"Poor",1,"Good","Above 20",20,1000,-6,0.28599999999999998,0,-12.100000000000001,0,-18,22]
[null,"1431321-0",2917,1,"<130mph",4,"45,000 - 65,000",3,"Wooden",1,"Hard",3,"300 < R < 400",2,"Poor",1,"Good","0 to 10",0,10,-6,0.16683333333333333,0,-5.4,0,-12,22]
[null,"1431321-10",2918,1,"<130mph",4,"45,000 - 65,000",3,"Wooden",1,"Hard",3,"300 < R < 400",2,"Poor",1,"Good","10 to 20",10,20,-6,0.16016,0,-7.9200000000000008,0,-15,22]
[null,"1431321-20",2919,1,"<130mph",4,"45,000 - 65,000",3,"Wooden",1,"Hard",3,"300 < R < 400",2,"Poor",1,"Good","Above 20",20,1000,-6,0.20019999999999999,0,-10.89,0,-18,22]
[null,"1433321-0",2920,1,"<130mph",4,"45,000 - 65,000",3,"Wooden",3,"Soft",3,"300 < R < 400",2,"Poor",1,"Good","0 to 10",0,10,-6,0.28599999999999998,0,-6.6000000000000005,0,-12,22]
[null,"1433321-10",2921,1,"<130mph",4,"45,000 - 65,000",3,"Wooden",3,"Soft",3,"300 < R < 400",2,"Poor",1,"Good","10 to 20",10,20,-6,0.27456000000000003,0,-9.6800000000000015,0,-15,22]
[null,"1433321-20",2922,1,"<130mph",4,"45,000 - 65,000",3,"Wooden",3,"Soft",3,"300 < R < 400",2,"Poor",1,"Good","Above 20",20,1000,-6,0.34320000000000001,0,-13.310000000000002,0,-18,22]
[null,"1432312-0",2923,1,"<130mph",4,"45,000 - 65,000",3,"Wooden",2,"Medium",3,"300 < R < 400",1,"Good",2,"Poor","0 to 10",0,10,-6,0.23833333333333334,0,-6,0,-12,22]
[null,"1432312-10",2924,1,"<130mph",4,"45,000 - 65,000",3,"Wooden",2,"Medium",3,"300 < R < 400",1,"Good",2,"Poor","10 to 20",10,20,-6,0.20973333333333335,0,-8.8000000000000007,0,-15,22]
[null,"1432312-20",2925,1,"<130mph",4,"45,000 - 65,000",3,"Wooden",2,"Medium",3,"300 < R < 400",1,"Good",2,"Poor","Above 20",20,1000,-6,0.26216666666666671,0,-12.100000000000001,0,-18,22]
[null,"1431312-0",2926,1,"<130mph",4,"45,000 - 65,000",3,"Wooden",1,"Hard",3,"300 < R < 400",1,"Good",2,"Poor","0 to 10",0,10,-6,0.16683333333333333,0,-5.4,0,-12,22]
[null,"1431312-10",2927,1,"<130mph",4,"45,000 - 65,000",3,"Wooden",1,"Hard",3,"300 < R < 400",1,"Good",2,"Poor","10 to 20",10,20,-6,0.14681333333333335,0,-7.9200000000000008,0,-15,22]
[null,"1431312-20",2928,1,"<130mph",4,"45,000 - 65,000",3,"Wooden",1,"Hard",3,"300 < R < 400",1,"Good",2,"Poor","Above 20",20,1000,-6,0.18351666666666669,0,-10.89,0,-18,22]
[null,"1433312-0",2929,1,"<130mph",4,"45,000 - 65,000",3,"Wooden",3,"Soft",3,"300 < R < 400",1,"Good",2,"Poor","0 to 10",0,10,-6,0.28599999999999998,0,-6.6000000000000005,0,-12,22]
[null,"1433312-10",2930,1,"<130mph",4,"45,000 - 65,000",3,"Wooden",3,"Soft",3,"300 < R < 400",1,"Good",2,"Poor","10 to 20",10,20,-6,0.25168000000000001,0,-9.6800000000000015,0,-15,22]
[null,"1433312-20",2931,1,"<130mph",4,"45,000 - 65,000",3,"Wooden",3,"Soft",3,"300 < R < 400",1,"Good",2,"Poor","Above 20",20,1000,-6,0.31460000000000005,0,-13.310000000000002,0,-18,22]
[null,"1432322-0",2932,1,"<130mph",4,"45,000 - 65,000",3,"Wooden",2,"Medium",3,"300 < R < 400",2,"Poor",2,"Poor","0 to 10",0,10,-6,0.23833333333333334,0,-6,0,-12,22]
[null,"1432322-10",2933,1,"<130mph",4,"45,000 - 65,000",3,"Wooden",2,"Medium",3,"300 < R < 400",2,"Poor",2,"Poor","10 to 20",10,20,-6,0.25168000000000001,0,-9.6800000000000015,0,-15,22]
[null,"1432322-20",2934,1,"<130mph",4,"45,000 - 65,000",3,"Wooden",2,"Medium",3,"300 < R < 400",2,"Poor",2,"Poor","Above 20",20,1000,-6,0.31460000000000005,0,-13.310000000000002,0,-18,22]
[null,"1431322-0",2935,1,"<130mph",4,"45,000 - 65,000",3,"Wooden",1,"Hard",3,"300 < R < 400",2,"Poor",2,"Poor","0 to 10",0,10,-6,0.16683333333333333,0,-5.4,0,-12,22]
[null,"1431322-10",2936,1,"<130mph",4,"45,000 - 65,000",3,"Wooden",1,"Hard",3,"300 < R < 400",2,"Poor",2,"Poor","10 to 20",10,20,-6,0.176176,0,-8.7120000000000015,0,-15,22]
[null,"1431322-20",2937,1,"<130mph",4,"45,000 - 65,000",3,"Wooden",1,"Hard",3,"300 < R < 400",2,"Poor",2,"Poor","Above 20",20,1000,-6,0.22022,0,-11.979000000000003,0,-18,22]
[null,"1433322-0",2938,1,"<130mph",4,"45,000 - 65,000",3,"Wooden",3,"Soft",3,"300 < R < 400",2,"Poor",2,"Poor","0 to 10",0,10,-6,0.28599999999999998,0,-6.6000000000000005,0,-12,22]
[null,"1433322-10",2939,1,"<130mph",4,"45,000 - 65,000",3,"Wooden",3,"Soft",3,"300 < R < 400",2,"Poor",2,"Poor","10 to 20",10,20,-6,0.30201600000000001,0,-10.648000000000003,0,-15,22]
[null,"1433322-20",2940,1,"<130mph",4,"45,000 - 65,000",3,"Wooden",3,"Soft",3,"300 < R < 400",2,"Poor",2,"Poor","Above 20",20,1000,-6,0.37752000000000008,0,-14.641000000000005,0,-18,22]
[null,"1432411-0",2941,1,"<130mph",4,"45,000 - 65,000",3,"Wooden",2,"Medium",4,"< 300",1,"Good",1,"Good","0 to 10",0,10,-6,0.32500000000000001,0,-6,0,-12,20]
[null,"1432411-10",2942,1,"<130mph",4,"45,000 - 65,000",3,"Wooden",2,"Medium",4,"< 300",1,"Good",1,"Good","10 to 20",10,20,-6,0.26,0,-8,0,-15,20]
[null,"1432411-20",2943,1,"<130mph",4,"45,000 - 65,000",3,"Wooden",2,"Medium",4,"< 300",1,"Good",1,"Good","Above 20",20,1000,-6,0.32500000000000001,0,-11,0,-18,20]
[null,"1431411-0",2944,1,"<130mph",4,"45,000 - 65,000",3,"Wooden",1,"Hard",4,"< 300",1,"Good",1,"Good","0 to 10",0,10,-6,0.22749999999999995,0,-5.4,0,-12,20]
[null,"1431411-10",2945,1,"<130mph",4,"45,000 - 65,000",3,"Wooden",1,"Hard",4,"< 300",1,"Good",1,"Good","10 to 20",10,20,-6,0.18199999999999997,0,-7.2,0,-15,20]
[null,{"$f":"D2964&F2964&H2964&J2964&L2964&N2964&P2964&\"-\"&S2964","v":"1431411-20"},2946,1,"<130mph",4,"45,000 - 65,000",3,"Wooden",1,"Hard",4,"< 300",1,"Good",1,"Good","Above 20",20,1000,-6,0.22749999999999995,0,-9.9,0,-18,20]
[null,"1433411-0",2947,1,"<130mph",4,"45,000 - 65,000",3,"Wooden",3,"Soft",4,"< 300",1,"Good",1,"Good","0 to 10",0,10,-6,0.38999999999999996,0,-6.6000000000000005,0,-12,20]
[null,"1433411-10",2948,1,"<130mph",4,"45,000 - 65,000",3,"Wooden",3,"Soft",4,"< 300",1,"Good",1,"Good","10 to 20",10,20,-6,0.31199999999999994,0,-8.8000000000000007,0,-15,20]
[null,"1433411-20",2949,1,"<130mph",4,"45,000 - 65,000",3,"Wooden",3,"Soft",4,"< 300",1,"Good",1,"Good","Above 20",20,1000,-6,0.38999999999999996,0,-12.100000000000001,0,-18,20]
[null,"1432421-0",2950,1,"<130mph",4,"45,000 - 65,000",3,"Wooden",2,"Medium",4,"< 300",2,"Poor",1,"Good","0 to 10",0,10,-6,0.32500000000000001,0,-6,0,-12,20]
[null,"1432421-10",2951,1,"<130mph",4,"45,000 - 65,000",3,"Wooden",2,"Medium",4,"< 300",2,"Poor",1,"Good","10 to 20",10,20,-6,0.31199999999999994,0,-8.8000000000000007,0,-15,20]
[null,"1432421-20",2952,1,"<130mph",4,"45,000 - 65,000",3,"Wooden",2,"Medium",4,"< 300",2,"Poor",1,"Good","Above 20",20,1000,-6,0.38999999999999996,0,-12.100000000000001,0,-18,20]
[null,"1431421-0",2953,1,"<130mph",4,"45,000 - 65,000",3,"Wooden",1,"Hard",4,"< 300",2,"Poor",1,"Good","0 to 10",0,10,-6,0.22749999999999995,0,-5.4,0,-12,20]
[null,"1431421-10",2954,1,"<130mph",4,"45,000 - 65,000",3,"Wooden",1,"Hard",4,"< 300",2,"Poor",1,"Good","10 to 20",10,20,-6,0.21839999999999996,0,-7.9200000000000008,0,-15,20]
[null,"1431421-20",2955,1,"<130mph",4,"45,000 - 65,000",3,"Wooden",1,"Hard",4,"< 300",2,"Poor",1,"Good","Above 20",20,1000,-6,0.27299999999999996,0,-10.89,0,-18,20]
[null,"1433421-0",2956,1,"<130mph",4,"45,000 - 65,000",3,"Wooden",3,"Soft",4,"< 300",2,"Poor",1,"Good","0 to 10",0,10,-6,0.38999999999999996,0,-6.6000000000000005,0,-12,20]
[null,"1433421-10",2957,1,"<130mph",4,"45,000 - 65,000",3,"Wooden",3,"Soft",4,"< 300",2,"Poor",1,"Good","10 to 20",10,20,-6,0.3743999999999999,0,-9.6800000000000015,0,-15,20]
[null,"1433421-20",2958,1,"<130mph",4,"45,000 - 65,000",3,"Wooden",3,"Soft",4,"< 300",2,"Poor",1,"Good","Above 20",20,1000,-6,0.46799999999999992,0,-13.310000000000002,0,-18,20]
[null,"1432412-0",2959,1,"<130mph",4,"45,000 - 65,000",3,"Wooden",2,"Medium",4,"< 300",1,"Good",2,"Poor","0 to 10",0,10,-6,0.32500000000000001,0,-6,0,-12,20]
[null,"1432412-10",2960,1,"<130mph",4,"45,000 - 65,000",3,"Wooden",2,"Medium",4,"< 300",1,"Good",2,"Poor","10 to 20",10,20,-6,0.28600000000000003,0,-8.8000000000000007,0,-15,20]
[null,"1432412-20",2961,1,"<130mph",4,"45,000 - 65,000",3,"Wooden",2,"Medium",4,"< 300",1,"Good",2,"Poor","Above 20",20,1000,-6,0.35750000000000004,0,-12.100000000000001,0,-18,20]
[null,"1431412-0",2962,1,"<130mph",4,"45,000 - 65,000",3,"Wooden",1,"Hard",4,"< 300",1,"Good",2,"Poor","0 to 10",0,10,-6,0.22749999999999995,0,-5.4,0,-12,20]
[null,"1431412-10",2963,1,"<130mph",4,"45,000 - 65,000",3,"Wooden",1,"Hard",4,"< 300",1,"Good",2,"Poor","10 to 20",10,20,-6,0.20019999999999996,0,-7.9200000000000008,0,-15,20]
[null,"1431412-20",2964,1,"<130mph",4,"45,000 - 65,000",3,"Wooden",1,"Hard",4,"< 300",1,"Good",2,"Poor","Above 20",20,1000,-6,0.25024999999999997,0,-10.89,0,-18,20]
[null,"1433412-0",2965,1,"<130mph",4,"45,000 - 65,000",3,"Wooden",3,"Soft",4,"< 300",1,"Good",2,"Poor","0 to 10",0,10,-6,0.38999999999999996,0,-6.6000000000000005,0,-12,20]
[null,"1433412-10",2966,1,"<130mph",4,"45,000 - 65,000",3,"Wooden",3,"Soft",4,"< 300",1,"Good",2,"Poor","10 to 20",10,20,-6,0.34320000000000001,0,-9.6800000000000015,0,-15,20]
[null,"1433412-20",2967,1,"<130mph",4,"45,000 - 65,000",3,"Wooden",3,"Soft",4,"< 300",1,"Good",2,"Poor","Above 20",20,1000,-6,0.42900000000000005,0,-13.310000000000002,0,-18,20]
[null,"1432422-0",2968,1,"<130mph",4,"45,000 - 65,000",3,"Wooden",2,"Medium",4,"< 300",2,"Poor",2,"Poor","0 to 10",0,10,-6,0.32500000000000001,0,-6,0,-12,20]
[null,"1432422-10",2969,1,"<130mph",4,"45,000 - 65,000",3,"Wooden",2,"Medium",4,"< 300",2,"Poor",2,"Poor","10 to 20",10,20,-6,0.34320000000000001,0,-9.6800000000000015,0,-15,20]
[null,"1432422-20",2970,1,"<130mph",4,"45,000 - 65,000",3,"Wooden",2,"Medium",4,"< 300",2,"Poor",2,"Poor","Above 20",20,1000,-6,0.42900000000000005,0,-13.310000000000002,0,-18,20]
[null,"1431422-0",2971,1,"<130mph",4,"45,000 - 65,000",3,"Wooden",1,"Hard",4,"< 300",2,"Poor",2,"Poor","0 to 10",0,10,-6,0.22749999999999995,0,-5.4,0,-12,20]
[null,"1431422-10",2972,1,"<130mph",4,"45,000 - 65,000",3,"Wooden",1,"Hard",4,"< 300",2,"Poor",2,"Poor","10 to 20",10,20,-6,0.24023999999999998,0,-8.7120000000000015,0,-15,20]
[null,"1431422-20",2973,1,"<130mph",4,"45,000 - 65,000",3,"Wooden",1,"Hard",4,"< 300",2,"Poor",2,"Poor","Above 20",20,1000,-6,0.30030000000000001,0,-11.979000000000003,0,-18,20]
[null,"1433422-0",2974,1,"<130mph",4,"45,000 - 65,000",3,"Wooden",3,"Soft",4,"< 300",2,"Poor",2,"Poor","0 to 10",0,10,-6,0.38999999999999996,0,-6.6000000000000005,0,-12,20]
[null,"1433422-10",2975,1,"<130mph",4,"45,000 - 65,000",3,"Wooden",3,"Soft",4,"< 300",2,"Poor",2,"Poor","10 to 20",10,20,-6,0.41183999999999998,0,-10.648000000000003,0,-15,20]
[null,"1433422-20",2976,1,"<130mph",4,"45,000 - 65,000",3,"Wooden",3,"Soft",4,"< 300",2,"Poor",2,"Poor","Above 20",20,1000,-6,0.51480000000000004,0,-14.641000000000005,0,-18,20]
[null,"1532111-0",2977,1,"<130mph",5,"65,000 - 100,000",3,"Wooden",2,"Medium",1,"> 600",1,"Good",1,"Good","0 to 10",0,10,-6,0.33333333333333337,0,-6,0,-12,40]
[null,"1532111-10",2978,1,"<130mph",5,"65,000 - 100,000",3,"Wooden",2,"Medium",1,"> 600",1,"Good",1,"Good","10 to 20",10,20,-6,0.26666666666666666,0,-8,0,-15,40]
[null,"1532111-20",2979,1,"<130mph",5,"65,000 - 100,000",3,"Wooden",2,"Medium",1,"> 600",1,"Good",1,"Good","Above 20",20,1000,-6,0.33333333333333337,0,-11,0,-18,40]
[null,"1531111-0",2980,1,"<130mph",5,"65,000 - 100,000",3,"Wooden",1,"Hard",1,"> 600",1,"Good",1,"Good","0 to 10",0,10,-6,0.23333333333333336,0,-5.4,0,-12,40]
[null,"1531111-10",2981,1,"<130mph",5,"65,000 - 100,000",3,"Wooden",1,"Hard",1,"> 600",1,"Good",1,"Good","10 to 20",10,20,-6,0.18666666666666668,0,-7.2,0,-15,40]
[null,"1531111-20",2982,1,"<130mph",5,"65,000 - 100,000",3,"Wooden",1,"Hard",1,"> 600",1,"Good",1,"Good","Above 20",20,1000,-6,0.23333333333333336,0,-9.9,0,-18,40]
[null,"1533111-0",2983,1,"<130mph",5,"65,000 - 100,000",3,"Wooden",3,"Soft",1,"> 600",1,"Good",1,"Good","0 to 10",0,10,-6,0.4,0,-6.6000000000000005,0,-12,40]
[null,"1533111-10",2984,1,"<130mph",5,"65,000 - 100,000",3,"Wooden",3,"Soft",1,"> 600",1,"Good",1,"Good","10 to 20",10,20,-6,0.32,0,-8.8000000000000007,0,-15,40]
[null,"1533111-20",2985,1,"<130mph",5,"65,000 - 100,000",3,"Wooden",3,"Soft",1,"> 600",1,"Good",1,"Good","Above 20",20,1000,-6,0.4,0,-12.100000000000001,0,-18,40]
[null,"1532121-0",2986,1,"<130mph",5,"65,000 - 100,000",3,"Wooden",2,"Medium",1,"> 600",2,"Poor",1,"Good","0 to 10",0,10,-6,0.33333333333333337,0,-6,0,-12,40]
[null,"1532121-10",2987,1,"<130mph",5,"65,000 - 100,000",3,"Wooden",2,"Medium",1,"> 600",2,"Poor",1,"Good","10 to 20",10,20,-6,0.32,0,-8.8000000000000007,0,-15,40]
[null,"1532121-20",2988,1,"<130mph",5,"65,000 - 100,000",3,"Wooden",2,"Medium",1,"> 600",2,"Poor",1,"Good","Above 20",20,1000,-6,0.4,0,-12.100000000000001,0,-18,40]
[null,"1531121-0",2989,1,"<130mph",5,"65,000 - 100,000",3,"Wooden",1,"Hard",1,"> 600",2,"Poor",1,"Good","0 to 10",0,10,-6,0.23333333333333336,0,-5.4,0,-12,40]
[null,"1531121-10",2990,1,"<130mph",5,"65,000 - 100,000",3,"Wooden",1,"Hard",1,"> 600",2,"Poor",1,"Good","10 to 20",10,20,-6,0.22399999999999998,0,-7.9200000000000008,0,-15,40]
[null,"1531121-20",2991,1,"<130mph",5,"65,000 - 100,000",3,"Wooden",1,"Hard",1,"> 600",2,"Poor",1,"Good","Above 20",20,1000,-6,0.27999999999999997,0,-10.89,0,-18,40]
[null,"1533121-0",2992,1,"<130mph",5,"65,000 - 100,000",3,"Wooden",3,"Soft",1,"> 600",2,"Poor",1,"Good","0 to 10",0,10,-6,0.4,0,-6.6000000000000005,0,-12,40]
[null,"1533121-10",2993,1,"<130mph",5,"65,000 - 100,000",3,"Wooden",3,"Soft",1,"> 600",2,"Poor",1,"Good","10 to 20",10,20,-6,0.38400000000000001,0,-9.6800000000000015,0,-15,40]
[null,"1533121-20",2994,1,"<130mph",5,"65,000 - 100,000",3,"Wooden",3,"Soft",1,"> 600",2,"Poor",1,"Good","Above 20",20,1000,-6,0.48,0,-13.310000000000002,0,-18,40]
[null,"1532112-0",2995,1,"<130mph",5,"65,000 - 100,000",3,"Wooden",2,"Medium",1,"> 600",1,"Good",2,"Poor","0 to 10",0,10,-6,0.33333333333333337,0,-6,0,-12,40]
[null,"1532112-10",2996,1,"<130mph",5,"65,000 - 100,000",3,"Wooden",2,"Medium",1,"> 600",1,"Good",2,"Poor","10 to 20",10,20,-6,0.29333333333333339,0,-8.8000000000000007,0,-15,40]
[null,"1532112-20",2997,1,"<130mph",5,"65,000 - 100,000",3,"Wooden",2,"Medium",1,"> 600",1,"Good",2,"Poor","Above 20",20,1000,-6,0.3666666666666667,0,-12.100000000000001,0,-18,40]
[null,"1531112-0",2998,1,"<130mph",5,"65,000 - 100,000",3,"Wooden",1,"Hard",1,"> 600",1,"Good",2,"Poor","0 to 10",0,10,-6,0.23333333333333336,0,-5.4,0,-12,40]
[null,"1531112-10",2999,1,"<130mph",5,"65,000 - 100,000",3,"Wooden",1,"Hard",1,"> 600",1,"Good",2,"Poor","10 to 20",10,20,-6,0.20533333333333337,0,-7.9200000000000008,0,-15,40]
[null,"1531112-20",3000,1,"<130mph",5,"65,000 - 100,000",3,"Wooden",1,"Hard",1,"> 600",1,"Good",2,"Poor","Above 20",20,1000,-6,0.25666666666666671,0,-10.89,0,-18,40]
[null,"1533112-0",3001,1,"<130mph",5,"65,000 - 100,000",3,"Wooden",3,"Soft",1,"> 600",1,"Good",2,"Poor","0 to 10",0,10,-6,0.4,0,-6.6000000000000005,0,-12,40]
[null,"1533112-10",3002,1,"<130mph",5,"65,000 - 100,000",3,"Wooden",3,"Soft",1,"> 600",1,"Good",2,"Poor","10 to 20",10,20,-6,0.35200000000000004,0,-9.6800000000000015,0,-15,40]
[null,"1533112-20",3003,1,"<130mph",5,"65,000 - 100,000",3,"Wooden",3,"Soft",1,"> 600",1,"Good",2,"Poor","Above 20",20,1000,-6,0.44000000000000006,0,-13.310000000000002,0,-18,40]
[null,"1532122-0",3004,1,"<130mph",5,"65,000 - 100,000",3,"Wooden",2,"Medium",1,"> 600",2,"Poor",2,"Poor","0 to 10",0,10,-6,0.33333333333333337,0,-6,0,-12,40]
[null,"1532122-10",3005,1,"<130mph",5,"65,000 - 100,000",3,"Wooden",2,"Medium",1,"> 600",2,"Poor",2,"Poor","10 to 20",10,20,-6,0.35200000000000004,0,-9.6800000000000015,0,-15,40]
[null,"1532122-20",3006,1,"<130mph",5,"65,000 - 100,000",3,"Wooden",2,"Medium",1,"> 600",2,"Poor",2,"Poor","Above 20",20,1000,-6,0.44000000000000006,0,-13.310000000000002,0,-18,40]
[null,"1531122-0",3007,1,"<130mph",5,"65,000 - 100,000",3,"Wooden",1,"Hard",1,"> 600",2,"Poor",2,"Poor","0 to 10",0,10,-6,0.23333333333333336,0,-5.4,0,-12,40]
[null,"1531122-10",3008,1,"<130mph",5,"65,000 - 100,000",3,"Wooden",1,"Hard",1,"> 600",2,"Poor",2,"Poor","10 to 20",10,20,-6,0.24640000000000001,0,-8.7120000000000015,0,-15,40]
[null,"1531122-20",3009,1,"<130mph",5,"65,000 - 100,000",3,"Wooden",1,"Hard",1,"> 600",2,"Poor",2,"Poor","Above 20",20,1000,-6,0.30800000000000005,0,-11.979000000000003,0,-18,40]
[null,{"$f":"D3028&F3028&H3028&J3028&L3028&N3028&P3028&\"-\"&S3028","v":"1533122-0"},3010,1,"<130mph",5,"65,000 - 100,000",3,"Wooden",3,"Soft",1,"> 600",2,"Poor",2,"Poor","0 to 10",0,10,-6,0.4,0,-6.6000000000000005,0,-12,40]
[null,"1533122-10",3011,1,"<130mph",5,"65,000 - 100,000",3,"Wooden",3,"Soft",1,"> 600",2,"Poor",2,"Poor","10 to 20",10,20,-6,0.42240000000000005,0,-10.648000000000003,0,-15,40]
[null,"1533122-20",3012,1,"<130mph",5,"65,000 - 100,000",3,"Wooden",3,"Soft",1,"> 600",2,"Poor",2,"Poor","Above 20",20,1000,-6,0.52800000000000002,0,-14.641000000000005,0,-18,40]
[null,"1532211-0",3013,1,"<130mph",5,"65,000 - 100,000",3,"Wooden",2,"Medium",2,"400 < R < 600",1,"Good",1,"Good","0 to 10",0,10,-6,0.3666666666666667,0,-6,0,-12,30]
[null,"1532211-10",3014,1,"<130mph",5,"65,000 - 100,000",3,"Wooden",2,"Medium",2,"400 < R < 600",1,"Good",1,"Good","10 to 20",10,20,-6,0.29333333333333339,0,-8,0,-15,30]
[null,"1532211-20",3015,1,"<130mph",5,"65,000 - 100,000",3,"Wooden",2,"Medium",2,"400 < R < 600",1,"Good",1,"Good","Above 20",20,1000,-6,0.3666666666666667,0,-11,0,-18,30]
[null,"1531211-0",3016,1,"<130mph",5,"65,000 - 100,000",3,"Wooden",1,"Hard",2,"400 < R < 600",1,"Good",1,"Good","0 to 10",0,10,-6,0.25666666666666671,0,-5.4,0,-12,30]
[null,"1531211-10",3017,1,"<130mph",5,"65,000 - 100,000",3,"Wooden",1,"Hard",2,"400 < R < 600",1,"Good",1,"Good","10 to 20",10,20,-6,0.20533333333333337,0,-7.2,0,-15,30]
[null,"1531211-20",3018,1,"<130mph",5,"65,000 - 100,000",3,"Wooden",1,"Hard",2,"400 < R < 600",1,"Good",1,"Good","Above 20",20,1000,-6,0.25666666666666671,0,-9.9,0,-18,30]
[null,"1533211-0",3019,1,"<130mph",5,"65,000 - 100,000",3,"Wooden",3,"Soft",2,"400 < R < 600",1,"Good",1,"Good","0 to 10",0,10,-6,0.44000000000000006,0,-6.6000000000000005,0,-12,30]
[null,"1533211-10",3020,1,"<130mph",5,"65,000 - 100,000",3,"Wooden",3,"Soft",2,"400 < R < 600",1,"Good",1,"Good","10 to 20",10,20,-6,0.35200000000000004,0,-8.8000000000000007,0,-15,30]
[null,"1533211-20",3021,1,"<130mph",5,"65,000 - 100,000",3,"Wooden",3,"Soft",2,"400 < R < 600",1,"Good",1,"Good","Above 20",20,1000,-6,0.44000000000000006,0,-12.100000000000001,0,-18,30]
[null,"1532221-0",3022,1,"<130mph",5,"65,000 - 100,000",3,"Wooden",2,"Medium",2,"400 < R < 600",2,"Poor",1,"Good","0 to 10",0,10,-6,0.3666666666666667,0,-6,0,-12,30]
[null,"1532221-10",3023,1,"<130mph",5,"65,000 - 100,000",3,"Wooden",2,"Medium",2,"400 < R < 600",2,"Poor",1,"Good","10 to 20",10,20,-6,0.35200000000000004,0,-8.8000000000000007,0,-15,30]
[null,"1532221-20",3024,1,"<130mph",5,"65,000 - 100,000",3,"Wooden",2,"Medium",2,"400 < R < 600",2,"Poor",1,"Good","Above 20",20,1000,-6,0.44000000000000006,0,-12.100000000000001,0,-18,30]
[null,"1531221-0",3025,1,"<130mph",5,"65,000 - 100,000",3,"Wooden",1,"Hard",2,"400 < R < 600",2,"Poor",1,"Good","0 to 10",0,10,-6,0.25666666666666671,0,-5.4,0,-12,30]
[null,"1531221-10",3026,1,"<130mph",5,"65,000 - 100,000",3,"Wooden",1,"Hard",2,"400 < R < 600",2,"Poor",1,"Good","10 to 20",10,20,-6,0.24640000000000001,0,-7.9200000000000008,0,-15,30]
[null,"1531221-20",3027,1,"<130mph",5,"65,000 - 100,000",3,"Wooden",1,"Hard",2,"400 < R < 600",2,"Poor",1,"Good","Above 20",20,1000,-6,0.30800000000000005,0,-10.89,0,-18,30]
[null,"1533221-0",3028,1,"<130mph",5,"65,000 - 100,000",3,"Wooden",3,"Soft",2,"400 < R < 600",2,"Poor",1,"Good","0 to 10",0,10,-6,0.44000000000000006,0,-6.6000000000000005,0,-12,30]
[null,"1533221-10",3029,1,"<130mph",5,"65,000 - 100,000",3,"Wooden",3,"Soft",2,"400 < R < 600",2,"Poor",1,"Good","10 to 20",10,20,-6,0.42240000000000005,0,-9.6800000000000015,0,-15,30]
[null,"1533221-20",3030,1,"<130mph",5,"65,000 - 100,000",3,"Wooden",3,"Soft",2,"400 < R < 600",2,"Poor",1,"Good","Above 20",20,1000,-6,0.52800000000000002,0,-13.310000000000002,0,-18,30]
[null,"1532212-0",3031,1,"<130mph",5,"65,000 - 100,000",3,"Wooden",2,"Medium",2,"400 < R < 600",1,"Good",2,"Poor","0 to 10",0,10,-6,0.3666666666666667,0,-6,0,-12,30]
[null,"1532212-10",3032,1,"<130mph",5,"65,000 - 100,000",3,"Wooden",2,"Medium",2,"400 < R < 600",1,"Good",2,"Poor","10 to 20",10,20,-6,0.32266666666666671,0,-8.8000000000000007,0,-15,30]
[null,"1532212-20",3033,1,"<130mph",5,"65,000 - 100,000",3,"Wooden",2,"Medium",2,"400 < R < 600",1,"Good",2,"Poor","Above 20",20,1000,-6,0.40333333333333343,0,-12.100000000000001,0,-18,30]
[null,"1531212-0",3034,1,"<130mph",5,"65,000 - 100,000",3,"Wooden",1,"Hard",2,"400 < R < 600",1,"Good",2,"Poor","0 to 10",0,10,-6,0.25666666666666671,0,-5.4,0,-12,30]
[null,"1531212-10",3035,1,"<130mph",5,"65,000 - 100,000",3,"Wooden",1,"Hard",2,"400 < R < 600",1,"Good",2,"Poor","10 to 20",10,20,-6,0.22586666666666669,0,-7.9200000000000008,0,-15,30]
[null,"1531212-20",3036,1,"<130mph",5,"65,000 - 100,000",3,"Wooden",1,"Hard",2,"400 < R < 600",1,"Good",2,"Poor","Above 20",20,1000,-6,0.28233333333333338,0,-10.89,0,-18,30]
[null,"1533212-0",3037,1,"<130mph",5,"65,000 - 100,000",3,"Wooden",3,"Soft",2,"400 < R < 600",1,"Good",2,"Poor","0 to 10",0,10,-6,0.44000000000000006,0,-6.6000000000000005,0,-12,30]
[null,"1533212-10",3038,1,"<130mph",5,"65,000 - 100,000",3,"Wooden",3,"Soft",2,"400 < R < 600",1,"Good",2,"Poor","10 to 20",10,20,-6,0.38720000000000004,0,-9.6800000000000015,0,-15,30]
[null,"1533212-20",3039,1,"<130mph",5,"65,000 - 100,000",3,"Wooden",3,"Soft",2,"400 < R < 600",1,"Good",2,"Poor","Above 20",20,1000,-6,0.4840000000000001,0,-13.310000000000002,0,-18,30]
[null,"1532222-0",3040,1,"<130mph",5,"65,000 - 100,000",3,"Wooden",2,"Medium",2,"400 < R < 600",2,"Poor",2,"Poor","0 to 10",0,10,-6,0.3666666666666667,0,-6,0,-12,30]
[null,"1532222-10",3041,1,"<130mph",5,"65,000 - 100,000",3,"Wooden",2,"Medium",2,"400 < R < 600",2,"Poor",2,"Poor","10 to 20",10,20,-6,0.38720000000000004,0,-9.6800000000000015,0,-15,30]
[null,"1532222-20",3042,1,"<130mph",5,"65,000 - 100,000",3,"Wooden",2,"Medium",2,"400 < R < 600",2,"Poor",2,"Poor","Above 20",20,1000,-6,0.4840000000000001,0,-13.310000000000002,0,-18,30]
[null,"1531222-0",3043,1,"<130mph",5,"65,000 - 100,000",3,"Wooden",1,"Hard",2,"400 < R < 600",2,"Poor",2,"Poor","0 to 10",0,10,-6,0.25666666666666671,0,-5.4,0,-12,30]
[null,"1531222-10",3044,1,"<130mph",5,"65,000 - 100,000",3,"Wooden",1,"Hard",2,"400 < R < 600",2,"Poor",2,"Poor","10 to 20",10,20,-6,0.27104,0,-8.7120000000000015,0,-15,30]
[null,"1531222-20",3045,1,"<130mph",5,"65,000 - 100,000",3,"Wooden",1,"Hard",2,"400 < R < 600",2,"Poor",2,"Poor","Above 20",20,1000,-6,0.33879999999999999,0,-11.979000000000003,0,-18,30]
[null,"1533222-0",3046,1,"<130mph",5,"65,000 - 100,000",3,"Wooden",3,"Soft",2,"400 < R < 600",2,"Poor",2,"Poor","0 to 10",0,10,-6,0.44000000000000006,0,-6.6000000000000005,0,-12,30]
[null,"1533222-10",3047,1,"<130mph",5,"65,000 - 100,000",3,"Wooden",3,"Soft",2,"400 < R < 600",2,"Poor",2,"Poor","10 to 20",10,20,-6,0.46464000000000005,0,-10.648000000000003,0,-15,30]
[null,"1533222-20",3048,1,"<130mph",5,"65,000 - 100,000",3,"Wooden",3,"Soft",2,"400 < R < 600",2,"Poor",2,"Poor","Above 20",20,1000,-6,0.58080000000000009,0,-14.641000000000005,0,-18,30]
[null,"1532311-0",3049,1,"<130mph",5,"65,000 - 100,000",3,"Wooden",2,"Medium",3,"300 < R < 400",1,"Good",1,"Good","0 to 10",0,10,-6,0.3666666666666667,0,-6,0,-12,22]
[null,"1532311-10",3050,1,"<130mph",5,"65,000 - 100,000",3,"Wooden",2,"Medium",3,"300 < R < 400",1,"Good",1,"Good","10 to 20",10,20,-6,0.29333333333333339,0,-8,0,-15,22]
[null,"1532311-20",3051,1,"<130mph",5,"65,000 - 100,000",3,"Wooden",2,"Medium",3,"300 < R < 400",1,"Good",1,"Good","Above 20",20,1000,-6,0.3666666666666667,0,-11,0,-18,22]
[null,"1531311-0",3052,1,"<130mph",5,"65,000 - 100,000",3,"Wooden",1,"Hard",3,"300 < R < 400",1,"Good",1,"Good","0 to 10",0,10,-6,0.25666666666666671,0,-5.4,0,-12,22]
[null,"1531311-10",3053,1,"<130mph",5,"65,000 - 100,000",3,"Wooden",1,"Hard",3,"300 < R < 400",1,"Good",1,"Good","10 to 20",10,20,-6,0.20533333333333337,0,-7.2,0,-15,22]
[null,"1531311-20",3054,1,"<130mph",5,"65,000 - 100,000",3,"Wooden",1,"Hard",3,"300 < R < 400",1,"Good",1,"Good","Above 20",20,1000,-6,0.25666666666666671,0,-9.9,0,-18,22]
[null,"1533311-0",3055,1,"<130mph",5,"65,000 - 100,000",3,"Wooden",3,"Soft",3,"300 < R < 400",1,"Good",1,"Good","0 to 10",0,10,-6,0.44000000000000006,0,-6.6000000000000005,0,-12,22]
[null,"1533311-10",3056,1,"<130mph",5,"65,000 - 100,000",3,"Wooden",3,"Soft",3,"300 < R < 400",1,"Good",1,"Good","10 to 20",10,20,-6,0.35200000000000004,0,-8.8000000000000007,0,-15,22]
[null,"1533311-20",3057,1,"<130mph",5,"65,000 - 100,000",3,"Wooden",3,"Soft",3,"300 < R < 400",1,"Good",1,"Good","Above 20",20,1000,-6,0.44000000000000006,0,-12.100000000000001,0,-18,22]
[null,"1532321-0",3058,1,"<130mph",5,"65,000 - 100,000",3,"Wooden",2,"Medium",3,"300 < R < 400",2,"Poor",1,"Good","0 to 10",0,10,-6,0.3666666666666667,0,-6,0,-12,22]
[null,"1532321-10",3059,1,"<130mph",5,"65,000 - 100,000",3,"Wooden",2,"Medium",3,"300 < R < 400",2,"Poor",1,"Good","10 to 20",10,20,-6,0.35200000000000004,0,-8.8000000000000007,0,-15,22]
[null,"1532321-20",3060,1,"<130mph",5,"65,000 - 100,000",3,"Wooden",2,"Medium",3,"300 < R < 400",2,"Poor",1,"Good","Above 20",20,1000,-6,0.44000000000000006,0,-12.100000000000001,0,-18,22]
[null,"1531321-0",3061,1,"<130mph",5,"65,000 - 100,000",3,"Wooden",1,"Hard",3,"300 < R < 400",2,"Poor",1,"Good","0 to 10",0,10,-6,0.25666666666666671,0,-5.4,0,-12,22]
[null,"1531321-10",3062,1,"<130mph",5,"65,000 - 100,000",3,"Wooden",1,"Hard",3,"300 < R < 400",2,"Poor",1,"Good","10 to 20",10,20,-6,0.24640000000000001,0,-7.9200000000000008,0,-15,22]
[null,"1531321-20",3063,1,"<130mph",5,"65,000 - 100,000",3,"Wooden",1,"Hard",3,"300 < R < 400",2,"Poor",1,"Good","Above 20",20,1000,-6,0.30800000000000005,0,-10.89,0,-18,22]
[null,"1533321-0",3064,1,"<130mph",5,"65,000 - 100,000",3,"Wooden",3,"Soft",3,"300 < R < 400",2,"Poor",1,"Good","0 to 10",0,10,-6,0.44000000000000006,0,-6.6000000000000005,0,-12,22]
[null,"1533321-10",3065,1,"<130mph",5,"65,000 - 100,000",3,"Wooden",3,"Soft",3,"300 < R < 400",2,"Poor",1,"Good","10 to 20",10,20,-6,0.42240000000000005,0,-9.6800000000000015,0,-15,22]
[null,"1533321-20",3066,1,"<130mph",5,"65,000 - 100,000",3,"Wooden",3,"Soft",3,"300 < R < 400",2,"Poor",1,"Good","Above 20",20,1000,-6,0.52800000000000002,0,-13.310000000000002,0,-18,22]
[null,"1532312-0",3067,1,"<130mph",5,"65,000 - 100,000",3,"Wooden",2,"Medium",3,"300 < R < 400",1,"Good",2,"Poor","0 to 10",0,10,-6,0.3666666666666667,0,-6,0,-12,22]
[null,"1532312-10",3068,1,"<130mph",5,"65,000 - 100,000",3,"Wooden",2,"Medium",3,"300 < R < 400",1,"Good",2,"Poor","10 to 20",10,20,-6,0.32266666666666671,0,-8.8000000000000007,0,-15,22]
[null,"1532312-20",3069,1,"<130mph",5,"65,000 - 100,000",3,"Wooden",2,"Medium",3,"300 < R < 400",1,"Good",2,"Poor","Above 20",20,1000,-6,0.40333333333333343,0,-12.100000000000001,0,-18,22]
[null,"1531312-0",3070,1,"<130mph",5,"65,000 - 100,000",3,"Wooden",1,"Hard",3,"300 < R < 400",1,"Good",2,"Poor","0 to 10",0,10,-6,0.25666666666666671,0,-5.4,0,-12,22]
[null,"1531312-10",3071,1,"<130mph",5,"65,000 - 100,000",3,"Wooden",1,"Hard",3,"300 < R < 400",1,"Good",2,"Poor","10 to 20",10,20,-6,0.22586666666666669,0,-7.9200000000000008,0,-15,22]
[null,"1531312-20",3072,1,"<130mph",5,"65,000 - 100,000",3,"Wooden",1,"Hard",3,"300 < R < 400",1,"Good",2,"Poor","Above 20",20,1000,-6,0.28233333333333338,0,-10.89,0,-18,22]
[null,"1533312-0",3073,1,"<130mph",5,"65,000 - 100,000",3,"Wooden",3,"Soft",3,"300 < R < 400",1,"Good",2,"Poor","0 to 10",0,10,-6,0.44000000000000006,0,-6.6000000000000005,0,-12,22]
[null,{"$f":"D3092&F3092&H3092&J3092&L3092&N3092&P3092&\"-\"&S3092","v":"1533312-10"},3074,1,"<130mph",5,"65,000 - 100,000",3,"Wooden",3,"Soft",3,"300 < R < 400",1,"Good",2,"Poor","10 to 20",10,20,-6,0.38720000000000004,0,-9.6800000000000015,0,-15,22]
[null,"1533312-20",3075,1,"<130mph",5,"65,000 - 100,000",3,"Wooden",3,"Soft",3,"300 < R < 400",1,"Good",2,"Poor","Above 20",20,1000,-6,0.4840000000000001,0,-13.310000000000002,0,-18,22]
[null,"1532322-0",3076,1,"<130mph",5,"65,000 - 100,000",3,"Wooden",2,"Medium",3,"300 < R < 400",2,"Poor",2,"Poor","0 to 10",0,10,-6,0.3666666666666667,0,-6,0,-12,22]
[null,"1532322-10",3077,1,"<130mph",5,"65,000 - 100,000",3,"Wooden",2,"Medium",3,"300 < R < 400",2,"Poor",2,"Poor","10 to 20",10,20,-6,0.38720000000000004,0,-9.6800000000000015,0,-15,22]
[null,"1532322-20",3078,1,"<130mph",5,"65,000 - 100,000",3,"Wooden",2,"Medium",3,"300 < R < 400",2,"Poor",2,"Poor","Above 20",20,1000,-6,0.4840000000000001,0,-13.310000000000002,0,-18,22]
[null,"1531322-0",3079,1,"<130mph",5,"65,000 - 100,000",3,"Wooden",1,"Hard",3,"300 < R < 400",2,"Poor",2,"Poor","0 to 10",0,10,-6,0.25666666666666671,0,-5.4,0,-12,22]
[null,"1531322-10",3080,1,"<130mph",5,"65,000 - 100,000",3,"Wooden",1,"Hard",3,"300 < R < 400",2,"Poor",2,"Poor","10 to 20",10,20,-6,0.27104,0,-8.7120000000000015,0,-15,22]
[null,"1531322-20",3081,1,"<130mph",5,"65,000 - 100,000",3,"Wooden",1,"Hard",3,"300 < R < 400",2,"Poor",2,"Poor","Above 20",20,1000,-6,0.33879999999999999,0,-11.979000000000003,0,-18,22]
[null,"1533322-0",3082,1,"<130mph",5,"65,000 - 100,000",3,"Wooden",3,"Soft",3,"300 < R < 400",2,"Poor",2,"Poor","0 to 10",0,10,-6,0.44000000000000006,0,-6.6000000000000005,0,-12,22]
[null,"1533322-10",3083,1,"<130mph",5,"65,000 - 100,000",3,"Wooden",3,"Soft",3,"300 < R < 400",2,"Poor",2,"Poor","10 to 20",10,20,-6,0.46464000000000005,0,-10.648000000000003,0,-15,22]
[null,"1533322-20",3084,1,"<130mph",5,"65,000 - 100,000",3,"Wooden",3,"Soft",3,"300 < R < 400",2,"Poor",2,"Poor","Above 20",20,1000,-6,0.58080000000000009,0,-14.641000000000005,0,-18,22]
[null,"1532411-0",3085,1,"<130mph",5,"65,000 - 100,000",3,"Wooden",2,"Medium",4,"< 300",1,"Good",1,"Good","0 to 10",0,10,-6,0.5,0,-6,0,-12,20]
[null,"1532411-10",3086,1,"<130mph",5,"65,000 - 100,000",3,"Wooden",2,"Medium",4,"< 300",1,"Good",1,"Good","10 to 20",10,20,-6,0.4,0,-8,0,-15,20]
[null,"1532411-20",3087,1,"<130mph",5,"65,000 - 100,000",3,"Wooden",2,"Medium",4,"< 300",1,"Good",1,"Good","Above 20",20,1000,-6,0.5,0,-11,0,-18,20]
[null,"1531411-0",3088,1,"<130mph",5,"65,000 - 100,000",3,"Wooden",1,"Hard",4,"< 300",1,"Good",1,"Good","0 to 10",0,10,-6,0.35,0,-5.4,0,-12,20]
[null,"1531411-10",3089,1,"<130mph",5,"65,000 - 100,000",3,"Wooden",1,"Hard",4,"< 300",1,"Good",1,"Good","10 to 20",10,20,-6,0.27999999999999997,0,-7.2,0,-15,20]
[null,"1531411-20",3090,1,"<130mph",5,"65,000 - 100,000",3,"Wooden",1,"Hard",4,"< 300",1,"Good",1,"Good","Above 20",20,1000,-6,0.35,0,-9.9,0,-18,20]
[null,"1533411-0",3091,1,"<130mph",5,"65,000 - 100,000",3,"Wooden",3,"Soft",4,"< 300",1,"Good",1,"Good","0 to 10",0,10,-6,0.60000000000000009,0,-6.6000000000000005,0,-12,20]
[null,"1533411-10",3092,1,"<130mph",5,"65,000 - 100,000",3,"Wooden",3,"Soft",4,"< 300",1,"Good",1,"Good","10 to 20",10,20,-6,0.48,0,-8.8000000000000007,0,-15,20]
[null,"1533411-20",3093,1,"<130mph",5,"65,000 - 100,000",3,"Wooden",3,"Soft",4,"< 300",1,"Good",1,"Good","Above 20",20,1000,-6,0.60000000000000009,0,-12.100000000000001,0,-18,20]
[null,"1532421-0",3094,1,"<130mph",5,"65,000 - 100,000",3,"Wooden",2,"Medium",4,"< 300",2,"Poor",1,"Good","0 to 10",0,10,-6,0.5,0,-6,0,-12,20]
[null,"1532421-10",3095,1,"<130mph",5,"65,000 - 100,000",3,"Wooden",2,"Medium",4,"< 300",2,"Poor",1,"Good","10 to 20",10,20,-6,0.48,0,-8.8000000000000007,0,-15,20]
[null,"1532421-20",3096,1,"<130mph",5,"65,000 - 100,000",3,"Wooden",2,"Medium",4,"< 300",2,"Poor",1,"Good","Above 20",20,1000,-6,0.60000000000000009,0,-12.100000000000001,0,-18,20]
[null,"1531421-0",3097,1,"<130mph",5,"65,000 - 100,000",3,"Wooden",1,"Hard",4,"< 300",2,"Poor",1,"Good","0 to 10",0,10,-6,0.35,0,-5.4,0,-12,20]
[null,"1531421-10",3098,1,"<130mph",5,"65,000 - 100,000",3,"Wooden",1,"Hard",4,"< 300",2,"Poor",1,"Good","10 to 20",10,20,-6,0.33599999999999997,0,-7.9200000000000008,0,-15,20]
[null,"1531421-20",3099,1,"<130mph",5,"65,000 - 100,000",3,"Wooden",1,"Hard",4,"< 300",2,"Poor",1,"Good","Above 20",20,1000,-6,0.41999999999999993,0,-10.89,0,-18,20]
[null,"1533421-0",3100,1,"<130mph",5,"65,000 - 100,000",3,"Wooden",3,"Soft",4,"< 300",2,"Poor",1,"Good","0 to 10",0,10,-6,0.60000000000000009,0,-6.6000000000000005,0,-12,20]
[null,"1533421-10",3101,1,"<130mph",5,"65,000 - 100,000",3,"Wooden",3,"Soft",4,"< 300",2,"Poor",1,"Good","10 to 20",10,20,-6,0.57599999999999996,0,-9.6800000000000015,0,-15,20]
[null,"1533421-20",3102,1,"<130mph",5,"65,000 - 100,000",3,"Wooden",3,"Soft",4,"< 300",2,"Poor",1,"Good","Above 20",20,1000,-6,0.72,0,-13.310000000000002,0,-18,20]
[null,"1532412-0",3103,1,"<130mph",5,"65,000 - 100,000",3,"Wooden",2,"Medium",4,"< 300",1,"Good",2,"Poor","0 to 10",0,10,-6,0.5,0,-6,0,-12,20]
[null,"1532412-10",3104,1,"<130mph",5,"65,000 - 100,000",3,"Wooden",2,"Medium",4,"< 300",1,"Good",2,"Poor","10 to 20",10,20,-6,0.44000000000000006,0,-8.8000000000000007,0,-15,20]
[null,"1532412-20",3105,1,"<130mph",5,"65,000 - 100,000",3,"Wooden",2,"Medium",4,"< 300",1,"Good",2,"Poor","Above 20",20,1000,-6,0.55000000000000016,0,-12.100000000000001,0,-18,20]
[null,"1531412-0",3106,1,"<130mph",5,"65,000 - 100,000",3,"Wooden",1,"Hard",4,"< 300",1,"Good",2,"Poor","0 to 10",0,10,-6,0.35,0,-5.4,0,-12,20]
[null,"1531412-10",3107,1,"<130mph",5,"65,000 - 100,000",3,"Wooden",1,"Hard",4,"< 300",1,"Good",2,"Poor","10 to 20",10,20,-6,0.308,0,-7.9200000000000008,0,-15,20]
[null,"1531412-20",3108,1,"<130mph",5,"65,000 - 100,000",3,"Wooden",1,"Hard",4,"< 300",1,"Good",2,"Poor","Above 20",20,1000,-6,0.38500000000000001,0,-10.89,0,-18,20]
[null,"1533412-0",3109,1,"<130mph",5,"65,000 - 100,000",3,"Wooden",3,"Soft",4,"< 300",1,"Good",2,"Poor","0 to 10",0,10,-6,0.60000000000000009,0,-6.6000000000000005,0,-12,20]
[null,"1533412-10",3110,1,"<130mph",5,"65,000 - 100,000",3,"Wooden",3,"Soft",4,"< 300",1,"Good",2,"Poor","10 to 20",10,20,-6,0.52800000000000002,0,-9.6800000000000015,0,-15,20]
[null,"1533412-20",3111,1,"<130mph",5,"65,000 - 100,000",3,"Wooden",3,"Soft",4,"< 300",1,"Good",2,"Poor","Above 20",20,1000,-6,0.66000000000000014,0,-13.310000000000002,0,-18,20]
[null,"1532422-0",3112,1,"<130mph",5,"65,000 - 100,000",3,"Wooden",2,"Medium",4,"< 300",2,"Poor",2,"Poor","0 to 10",0,10,-6,0.5,0,-6,0,-12,20]
[null,"1532422-10",3113,1,"<130mph",5,"65,000 - 100,000",3,"Wooden",2,"Medium",4,"< 300",2,"Poor",2,"Poor","10 to 20",10,20,-6,0.52800000000000002,0,-9.6800000000000015,0,-15,20]
[null,"1532422-20",3114,1,"<130mph",5,"65,000 - 100,000",3,"Wooden",2,"Medium",4,"< 300",2,"Poor",2,"Poor","Above 20",20,1000,-6,0.66000000000000014,0,-13.310000000000002,0,-18,20]
[null,"1531422-0",3115,1,"<130mph",5,"65,000 - 100,000",3,"Wooden",1,"Hard",4,"< 300",2,"Poor",2,"Poor","0 to 10",0,10,-6,0.35,0,-5.4,0,-12,20]
[null,"1531422-10",3116,1,"<130mph",5,"65,000 - 100,000",3,"Wooden",1,"Hard",4,"< 300",2,"Poor",2,"Poor","10 to 20",10,20,-6,0.36960000000000004,0,-8.7120000000000015,0,-15,20]
[null,"1531422-20",3117,1,"<130mph",5,"65,000 - 100,000",3,"Wooden",1,"Hard",4,"< 300",2,"Poor",2,"Poor","Above 20",20,1000,-6,0.46200000000000002,0,-11.979000000000003,0,-18,20]
[null,"1533422-0",3118,1,"<130mph",5,"65,000 - 100,000",3,"Wooden",3,"Soft",4,"< 300",2,"Poor",2,"Poor","0 to 10",0,10,-6,0.60000000000000009,0,-6.6000000000000005,0,-12,20]
[null,"1533422-10",3119,1,"<130mph",5,"65,000 - 100,000",3,"Wooden",3,"Soft",4,"< 300",2,"Poor",2,"Poor","10 to 20",10,20,-6,0.63360000000000005,0,-10.648000000000003,0,-15,20]
[null,"1533422-20",3120,1,"<130mph",5,"65,000 - 100,000",3,"Wooden",3,"Soft",4,"< 300",2,"Poor",2,"Poor","Above 20",20,1000,-6,0.79200000000000004,0,-14.641000000000005,0,-18,20]

{"sheet":"Projection","index":12,"n_rows":153,"n_cols":58,"rows_kept":153,"cut":false,"hidden":false,"merged":[[9,51,9,54],[12,25,21,25],[17,12,17,13],[12,19,21,19],[12,20,21,20],[17,14,17,15],[9,12,9,13],[9,14,9,15],[16,14,16,15],[12,44,21,44],[12,42,21,42],[12,43,21,43],[13,30,13,31],[12,21,21,21],[12,22,21,22],[12,23,21,23],[17,2,17,3],[17,4,17,5],[17,10,17,11],[20,4,22,4],[20,5,22,5],[20,6,22,6],[17,6,17,7],[17,8,17,9],[20,1,22,1],[20,3,21,3],[21,2,22,2],[20,8,20,18],[21,8,22,8],[21,9,22,9],[20,7,22,7],[9,2,9,3],[9,4,9,5],[9,6,9,7],[9,8,9,9],[9,10,9,11],[16,4,16,5],[16,2,16,3],[16,8,16,9],[16,10,16,11],[16,12,16,13],[16,6,16,7],[13,26,13,29],[15,32,21,32],[15,33,21,33],[12,26,12,41],[12,24,21,24],[21,56,22,56],[14,26,14,29],[21,26,21,27],[15,35,21,35],[15,34,21,34],[15,30,17,31],[15,26,20,29],[21,30,21,31],[19,30,19,31],[21,28,21,29],[21,54,22,55],[21,51,22,51],[10,51,10,53],[13,51,13,53],[15,51,15,53],[14,30,14,31],[12,46,21,46],[12,45,21,45],[15,41,21,41],[13,36,21,36],[13,40,21,40],[13,39,21,39],[13,38,21,38],[13,37,21,37],[21,53,22,53],[21,52,22,52],[20,51,20,55],[12,51,12,53],[14,51,14,53],[16,51,16,53],[17,51,17,53],[11,51,11,53]]}
["MAINLINE",null,{"$f":"Flowchart!C1","v":"Plain Track Model"}]
[null,null,"Projection of Track Condition Over Time",null,null,null,null,null,null,null,null,null,null,null,null,null,null,"On Replacement - Lookups"]
[]
[null,null,null,null,null,null,null,null,null,null,null,null,null,null,null,null,null,"Sleepers",null,null,"Ballast",null,null,"Sub Layer",null,null,"Drainage"]
[null,null,null,null,null,null,null,null,null,null,null,null,null,null,null,null,null,"Concrete",1,null,"Hard",1,null,"Good",1,null,"Good",1]
[null,null,null,null,null,null,null,null,null,null,null,null,null,null,null,null,null,"Concrete with Under Sleeper Pads",2,null,"Medium",2,null,"Poor",2,null,"Poor",2]
[null,null,null,null,null,null,null,null,null,null,null,null,null,null,null,null,null,"Wooden",3,null,"Soft",3]
[]
[null,null,"Reference Values",null,null,null,null,null,null,null,null,null,null,null,null,null,null,"Lookup Reference after Renewal",null,null,null,{"$f":"$C$17&$E$17&$G$18&$I$18&$K$17&$M$18&$O$18&\"-\"&0","v":"1421111-0"}]
[null,null,"Operational Speed",null,"Traffic Loading",null,"Sleepers",null,"Ballast Hardness",null,"Minimum Radius",null,"Sub Layer Condition",null,"Drainage Condition",null,null,"Row Reference after Renewal",null,null,null,{"$f":"VLOOKUP(V9,DetRates!$B$19:$C$3186,2,FALSE)","v":967},null,null,null,null,null,null,null,null,null,null,null,null,null,null,null,null,null,null,null,null,null,null,null,null,null,null,null,null,null,"Summary Residual Value Table"]
[null,null,"Ref","Name","Ref","Name","Ref","Name","Ref","Name","Ref","Name","Ref","Name","Ref","Name",null,"Q after Renewal",null,null,null,{"$f":"VLOOKUP($V10,DetRates!$C$19:$AA$3186,19,FALSE)","v":-6},null,null,null,null,null,null,null,null,null,null,null,null,null,null,null,null,null,null,null,null,null,null,null,null,null,null,null,null,null,"Total financial cost",null,null,{"$f":"IntvCosts!J19","v":730000}]
[null,null,1,"<130mph",1,"< 15,000",1,"Concrete",1,"Hard",1,"> 600",1,"Good",1,"Good",null,null,null,null,null,null,null,null,null,null,null,null,null,null,null,null,null,null,null,null,null,null,null,null,null,null,null,null,null,null,null,null,null,null,null,"Total number of renewals",null,null,{"$f":"MAX(BB24:BB128)","v":3}]
[null,null," ",null,2,"15,000 - 30,000",2,"Concrete with USP",2,"Medium",2,"400 < R < 600",2,"Poor",2,"Poor",null,null,null,"No. of Tamping Interventions","Max No .of Tamping Interventions","Time in Age Range","Q at Start of Time Step","Deterioration Index","Q after deterioration","Q after Tamping","Intervention Types",null,null,null,null,null,null,null,null,null,null,null,null,null,null,null,"Renewal Triggered (adjusted)","Tamping Triggered (adjusted)","Q after deterioration, Tamping and Renewal","Tamping Interventions","Renewal Interventions",null,null,null,null,"Service life (cycle of previous year)",null,null,{"$f":"VLOOKUP(100000,BD24:BD128,1)","v":52}]
[null,null," ",null,3,"30,000 - 45,000",3,"Wooden",3,"Soft",3,"300 < R < 400",null,null,null,null,null,null,null,null,null,null,null,null,null,null,"Active?",null,null,null,"Active?",null,"Active?","Active?","Active?","Active?","Renewal Triggered (initial)","Tamping Triggered (initial)","Q after Tamping does not exceed Qult?","Q after Tamping does not exceed Q trigger value?","Renewal triggered as Tamping but Q threshold not exceeded","Active?",null,null,null,null,null,null,null,null,null,"Year of last renewal ",null,null,{"$f":"VLOOKUP(10000,AY24:BA128,3,1)","v":87}]
[null,null," ",null,4,"45,000 - 65,000"," ",null,null,null,4,"< 300",null,null,null,null,null,null,null,null,null,null,null,null,null,null,{"$f":"IntvTriggers!L26","v":false},null,null,null,{"$f":"IntvTriggers!D26","v":false},null,true,true,true,true,null,null,null,null,null,true,null,null,null,null,null,null,null,null,null,"Period of last renewal",null,null,{"$f":"INT($BC$14/C$21+1)","v":18}]
[null,null,null,null,5,"65,000 - 100,000"," ",null,null,null,null,null,null,null,null,null,null,null,null,null,null,null,null,null,null,null,"Interventions from User Timings",null,null,null,"Interventions from User Q Values",null,"Renewal where\nno. of Tampings\nexceeds maximum","Renewal triggered by Technical Service Life expired","Tamping triggered\nby Qult","Tamping triggered every 10 years, if no other intervention is applied on this interval",null,null,null,null,null,"Renewal triggered if tamping applied two consecutive years, after first 20 yrs",null,null,null,null,null,null,null,null,null,"Residual value ",null,null,{"$f":"IF(BC13>(104-BC14),-(BC11/BC13)*(BC13-(104-BC14)),0)","v":-491346.15384615387}]
[null,"Starting Values: ",1,null,4,null,1,null,2,null,1,null,1,null,1,null,null,null,null,null,null,null,null,null,null,null,null,null,null,null,null,null,null,null,null,null,null,null,null,null,null,null,null,null,null,null,null,null,null,null,null,"Discounted rate",null,null,{"$f":"HLOOKUP($BC$15,Results!G15:AA81,67,2)","v":0.14473418983871006}]
[null,"On Replacement: ","Same",null,"Same",null,{"$f":"VLOOKUP(IntvChanges!H16,Projection!$R$5:$S$7,2,FALSE)","v":2},null,{"$f":"VLOOKUP(IntvChanges!H17,Projection!$U$5:$V$7,2,FALSE)","v":1},null,"Same",null,{"$f":"VLOOKUP(IntvChanges!H18,Projection!$X$5:$Y$6,2,FALSE)","v":1},null,{"$f":"VLOOKUP(IntvChanges!H19,Projection!$AA$5:$AB$6,2,FALSE)","v":1},null,null,null,null,null,null,null,null,null,null,null,null,null,null,null,null,null,null,null,null,null,null,null,null,null,null,null,null,null,null,null,null,null,null,null,null,"Discounted Residual value ",null,null,{"$f":"BC16*BC17","v":-71114.587507289267}]
[null,null,null,null,null,null,null,null,null,null,null,null,null,null,null,null,null,null,null,null,null,null,null,null,null,null,null,null,null,null,"Renewal","Tamping"]
[null,null,"Projection",null,null,null,null,null,null,null,null,null,null,null,null,null,null,null,null,null,null,null,null,null,null,null,null,null,null,null,"Value"]
[null,"Year",{"$f":"Results!$G$13","v":5},"Track Age since Renewal","Sleepers","Ballast","Sub-Layer","Drainage","Lookup - DetRates",null,null,null,null,null,null,null,null,null,null,null,null,null,null,null,null,null,null,null,null,null,{"$f":"IntvTriggers!G31","v":-15},{"$f":"IntvTriggers!G30","v":-12},null,null,null,null,null,null,null,null,null,null,null,null,null,null,null,null,null,null,null,"Residual Value calculation"]
[null,null,"Period",null,null,null,null,null,"Lookup","Row",17,18,19,20,21,22,23,24,25,null,null,null,null,null,null,null,"Tamping",null,"Renewal",null,"Input nonblank?",null,null,null,null,null,null,null,null,null,null,null,null,null,null,null,null,null,null,null,null,"Active?","Year","No. of renewals","Service life (cycle)",null,null,"Renewal triggered as Tamping but Q threshold not exceeded"]
[null,null,null,"Age",null,null,null,null,null,null,"Start","End","Q0","bn","dbn/dt","Qn","dQn/dt","Qult","TSL","Nt","Ntmax","t1","Qs","bn'","Qe","Qt","Input","Occur?","Input","Occur?",{"$f":"NOT(ISBLANK(IntvTriggers!G31))","v":true},{"$f":"NOT(ISBLANK(IntvTriggers!G30))","v":true},"Nt > NTmax","Age > TSL","Qe  < Qult",null,null,null,null,null,null,null,null,null,null,null,null,null,"Q (Start)","Q (End)",null,null,null,null,null,null,null,"First 10 years:"]
[null,0,{"$f":"INT(B24/C$21+1)","v":1},0,{"$f":"G17","v":1},{"$f":"I17","v":2},{"$f":"M17","v":1},{"$f":"O17","v":1},{"$f":"$C$17&$E$17&E24&F24&$K$17&G24&H24&\"-\"&D24","v":"1412111-0"},{"$f":"VLOOKUP(I24,DetRates!$B$19:$C$3186,2,FALSE)","v":1},{"$f":"VLOOKUP($J24,DetRates!$C$19:$AA$3186,K$22,FALSE)","v":0},{"$f":"VLOOKUP($J24,DetRates!$C$19:$AA$3186,L$22,FALSE)","v":10},{"$f":"VLOOKUP($J24,DetRates!$C$19:$AA$3186,M$22,FALSE)","v":-7},{"$f":"VLOOKUP($J24,DetRates!$C$19:$AA$3186,N$22,FALSE)","v":0.2},{"$f":"VLOOKUP($J24,DetRates!$C$19:$AA$3186,O$22,FALSE)","v":0},{"$f":"VLOOKUP($J24,DetRates!$C$19:$AA$3186,P$22,FALSE)","v":-8},{"$f":"VLOOKUP($J24,DetRates!$C$19:$AA$3186,Q$22,FALSE)","v":0},{"$f":"VLOOKUP($J24,DetRates!$C$19:$AA$3186,R$22,FALSE)","v":-12},{"$f":"VLOOKUP($J24,DetRates!$C$19:$AA$3186,S$22,FALSE)","v":50},0,{"$f":"VLOOKUP(F24,DetRates!$U$10:$W$12,3,FALSE)","v":15},0,{"$f":"M24","v":-7},{"$f":"N24+O24*V24","v":0.2},{"$f":"W24*EXP(X24)","v":-8.5498193071211883},{"$f":"P24+Q24*V24","v":-8},{"$f":"TRANSPOSE(IntvTriggers!L30:DL30)","v":0},{"$f":"AND($AA$15,(AA24=\"x\"))","v":false},{"$f":"TRANSPOSE(IntvTriggers!L31:DL31)","v":"x"},{"$f":"AND(AC24=\"x\")","v":true},{"$f":"AND(AE$23,$AE$15,$W24<=AE$21)","v":false},{"$f":"AND(AF$23,$AE$15,$W24<=AF$21)","v":false},{"$f":"AND($AG$15,T24>U24)","v":false},{"$f":"AND($AH$15,D24>S24)","v":false},{"$f":"AND($AI$15,Y24<R24)","v":false},{"$f":"IF(B24<11,FALSE,IF(AND(SUM(AT14:AT23)<1,NOT(AJ23),SUM(AU14:AU23)=0,$AJ$15),TRUE,FALSE))","v":false},{"$f":"OR(AD24,AE24,AG24,AH24)","v":true},{"$f":"IF(AK24,FALSE,OR(AB24,AF24,AI24,AJ24))","v":false},{"$f":"AND($AI$15,Z24<R24)","v":false},{"$f":"AND($AE$15,Z24<$AF$21)","v":false},{"$f":"AND(AL24,OR(AM24,AN24))","v":false},{"$f":"IF(D24<21,FALSE,IF(AND(T23<T24,T23<>0,AL24,$AP$15),TRUE,FALSE))","v":false},{"$f":"OR(AK24,AO24,AP24)","v":true},{"$f":"IF(AQ24,FALSE,AL24)","v":false},{"$f":"IF(AQ24,$V$11,IF(AR24,Z24,Y24))","v":-6},{"$f":"AR24*1","v":0},{"$f":"AQ24*1","v":1},null,{"$f":"W24","v":-7},{"$f":"Y24","v":-8.5498193071211883},{"$f":"IF(AZ24,1,\"\")","v":1},{"$f":"AND(AU24)","v":true},{"$f":"B24","v":0},1,0,{"$f":"IF(AZ24,BC24,\"\")","v":0},null,{"$f":"OR(AO24:AO33)","v":false}]
[null,{"$f":"B24+1","v":1},1,{"$f":"IF(B25=1,D24+1,IF(AQ24,0,D24+1))","v":1},{"$f":"IF(B25>1,IF($AQ24,G$18,E24),$E$24)","v":1},{"$f":"IF(B25>1,IF($AQ24,I$18,F24),$F$24)","v":2},{"$f":"IF(B25>1,IF($AQ24,M$18,G24),$G$24)","v":1},{"$f":"IF(B25>1,IF($AQ24,O$18,H24),$H$24)","v":1},{"$f":"$C$17&$E$17&E25&F25&$K$17&G25&H25&\"-\"&D25","v":"1412111-1"},{"$f":"IF(ISNA(VLOOKUP(I25,DetRates!$B$19:$C$3186,2,FALSE)),J24,VLOOKUP(I25,DetRates!$B$19:$C$3186,2,FALSE))","v":1},{"$f":"VLOOKUP($J25,DetRates!$C$19:$AA$3186,K$22,FALSE)","v":0},{"$f":"VLOOKUP($J25,DetRates!$C$19:$AA$3186,L$22,FALSE)","v":10},{"$f":"IF($T25<>$T24,VLOOKUP($J25,DetRates!$C$19:$AA$3186,M$22,FALSE),M24)","v":-7},{"$f":"IF($T25<>$T24,VLOOKUP($J25,DetRates!$C$19:$AA$3186,N$22,FALSE),N24)","v":0.2},{"$f":"IF($T25<>$T24,VLOOKUP($J25,DetRates!$C$19:$AA$3186,O$22,FALSE),O24)","v":0},{"$f":"IF($T25<>$T24,VLOOKUP($J25,DetRates!$C$19:$AA$3186,P$22,FALSE),P24)","v":-8},{"$f":"IF(AND(D25>29,T25>2,T25<>T24,E25<>3),VLOOKUP($J25,DetRates!$C$19:$AA$3186,Q$22),IF(T25<>T24,VLOOKUP($J25,DetRates!$C$19:$AA$3186,Q$22),Q24))","v":0},{"$f":"IF($T25<>$T24,VLOOKUP($J25,DetRates!$C$19:$AA$3186,R$22,FALSE),R24)","v":-12},{"$f":"IF($T25<>$T24,VLOOKUP($J25,DetRates!$C$19:$AA$3186,S$22,FALSE),S24)","v":50},{"$f":"IF(AQ24,0,IF(AR24,T24+1,T24))","v":0},{"$f":"VLOOKUP(F25,DetRates!$U$10:$W$12,3,FALSE)","v":15},{"$f":"IF(J24=J25,V24+1,0)","v":1},{"$f":"AS24","v":-6},{"$f":"IF((N25+O25*V25)<=0,X24,(N25+O25*V25))","v":0.2},{"$f":"W25*EXP(X25)","v":-7.3284165489610196},-8,0,false,0,{"$f":"AND($AA$15,(AC25=\"x\"))","v":false},false,false,{"$f":"AND($AG$15,T25>U25)","v":false},false,false,{"$f":"IF(B24<11,FALSE,IF(AND(SUM(AT15:AT24)<1,NOT(AJ24),SUM(AU15:AU24)=0,$AJ$15),TRUE,FALSE))","v":false},{"$f":"OR(AD25,AE25,AG25,AH25)","v":false},{"$f":"IF(AK25,FALSE,OR(AB25,AF25,AI25,AJ25))","v":false},false,{"$f":"AND($AE$15,Z25<$AF$21)","v":false},{"$f":"AND(AL25,OR(AM25,AN25))","v":false},{"$f":"IF(D25<21,FALSE,IF(AND(T24<T25,T24<>0,AL25,$AP$15),TRUE,FALSE))","v":false},{"$f":"OR(AK25,AO25,AP25)","v":false},false,{"$f":"IF(AQ25,$V$11,IF(AR25,Z25,Y25))","v":-7.3284165489610196},0,{"$f":"AQ25*1","v":0},null,{"$f":"W25","v":-6},{"$f":"Y25","v":-7.3284165489610196},{"$f":"IF(AZ25,1,\"\")","v":""},false,{"$f":"B25","v":1},{"$f":"IF(AZ25,BB24+1,BB24)","v":1},{"$f":"IF(NOT(AZ24),BC24+1,1)","v":1},""]
[null,{"$f":"B25+1","v":2},1,{"$f":"IF(B26=1,D25+1,IF(AQ25,0,D25+1))","v":2},{"$f":"IF(B26>1,IF($AQ25,G$18,E25),$E$24)","v":1},{"$f":"IF(B26>1,IF($AQ25,I$18,F25),$F$24)","v":2},{"$f":"IF(B26>1,IF($AQ25,M$18,G25),$G$24)","v":1},{"$f":"IF(B26>1,IF($AQ25,O$18,H25),$H$24)","v":1},{"$f":"$C$17&$E$17&E26&F26&$K$17&G26&H26&\"-\"&D26","v":"1412111-2"},{"$f":"IF(ISNA(VLOOKUP(I26,DetRates!$B$19:$C$3186,2,FALSE)),J25,VLOOKUP(I26,DetRates!$B$19:$C$3186,2,FALSE))","v":1},{"$f":"VLOOKUP($J26,DetRates!$C$19:$AA$3186,K$22,FALSE)","v":0},{"$f":"VLOOKUP($J26,DetRates!$C$19:$AA$3186,L$22,FALSE)","v":10},{"$f":"IF($T26<>$T25,VLOOKUP($J26,DetRates!$C$19:$AA$3186,M$22,FALSE),M25)","v":-7},{"$f":"IF($T26<>$T25,VLOOKUP($J26,DetRates!$C$19:$AA$3186,N$22,FALSE),N25)","v":0.2},{"$f":"IF($T26<>$T25,VLOOKUP($J26,DetRates!$C$19:$AA$3186,O$22,FALSE),O25)","v":0},{"$f":"IF($T26<>$T25,VLOOKUP($J26,DetRates!$C$19:$AA$3186,P$22,FALSE),P25)","v":-8},{"$f":"IF(AND(D26>29,T26>2,T26<>T25,E26<>3),VLOOKUP($J26,DetRates!$C$19:$AA$3186,Q$22),IF(T26<>T25,VLOOKUP($J26,DetRates!$C$19:$AA$3186,Q$22),Q25))","v":0},{"$f":"IF($T26<>$T25,VLOOKUP($J26,DetRates!$C$19:$AA$3186,R$22,FALSE),R25)","v":-12},{"$f":"IF($T26<>$T25,VLOOKUP($J26,DetRates!$C$19:$AA$3186,S$22,FALSE),S25)","v":50},0,{"$f":"VLOOKUP(F26,DetRates!$U$10:$W$12,3,FALSE)","v":15},2,{"$f":"AS25","v":-7.3284165489610196},0.2,-8.9509481858476221,-8,0,false,0,false,false,false,false,false,false,{"$f":"IF(B25<11,FALSE,IF(AND(SUM(AT16:AT25)<1,NOT(AJ25),SUM(AU16:AU25)=0,$AJ$15),TRUE,FALSE))","v":false},false,{"$f":"IF(AK26,FALSE,OR(AB26,AF26,AI26,AJ26))","v":false},false,false,false,{"$f":"IF(D26<21,FALSE,IF(AND(T25<T26,T25<>0,AL26,$AP$15),TRUE,FALSE))","v":false},{"$f":"OR(AK26,AO26,AP26)","v":false},false,-8.9509481858476221,0,0,null,-7.3284165489610196,-8.9509481858476221,"",false,2,1,2,"",null,"If \"TRUE\", error message:"]
[null,3,1,3,1,2,1,{"$f":"IF(B27>1,IF($AQ26,O$18,H26),$H$24)","v":1},{"$f":"$C$17&$E$17&E27&F27&$K$17&G27&H27&\"-\"&D27","v":"1412111-3"},{"$f":"IF(ISNA(VLOOKUP(I27,DetRates!$B$19:$C$3186,2,FALSE)),J26,VLOOKUP(I27,DetRates!$B$19:$C$3186,2,FALSE))","v":1},{"$f":"VLOOKUP($J27,DetRates!$C$19:$AA$3186,K$22,FALSE)","v":0},{"$f":"VLOOKUP($J27,DetRates!$C$19:$AA$3186,L$22,FALSE)","v":10},{"$f":"IF($T27<>$T26,VLOOKUP($J27,DetRates!$C$19:$AA$3186,M$22,FALSE),M26)","v":-7},{"$f":"IF($T27<>$T26,VLOOKUP($J27,DetRates!$C$19:$AA$3186,N$22,FALSE),N26)","v":0.2},{"$f":"IF($T27<>$T26,VLOOKUP($J27,DetRates!$C$19:$AA$3186,O$22,FALSE),O26)","v":0},{"$f":"IF($T27<>$T26,VLOOKUP($J27,DetRates!$C$19:$AA$3186,P$22,FALSE),P26)","v":-8},{"$f":"IF(AND(D27>29,T27>2,T27<>T26,E27<>3),VLOOKUP($J27,DetRates!$C$19:$AA$3186,Q$22),IF(T27<>T26,VLOOKUP($J27,DetRates!$C$19:$AA$3186,Q$22),Q26))","v":0},{"$f":"IF($T27<>$T26,VLOOKUP($J27,DetRates!$C$19:$AA$3186,R$22,FALSE),R26)","v":-12},{"$f":"IF($T27<>$T26,VLOOKUP($J27,DetRates!$C$19:$AA$3186,S$22,FALSE),S26)","v":50},0,{"$f":"VLOOKUP(F27,DetRates!$U$10:$W$12,3,FALSE)","v":15},3,-8.9509481858476221,0.2,-10.932712802343055,-8,0,false,0,false,false,false,false,false,false,false,false,{"$f":"IF(AK27,FALSE,OR(AB27,AF27,AI27,AJ27))","v":false},false,false,false,false,false,false,-10.932712802343055,0,0,null,-8.9509481858476221,-10.932712802343055,"",false,3,1,3,"",null," Please review the situation of the selected track in detail."]
[null,4,1,4,1,2,1,1,"1412111-4",{"$f":"IF(ISNA(VLOOKUP(I28,DetRates!$B$19:$C$3186,2,FALSE)),J27,VLOOKUP(I28,DetRates!$B$19:$C$3186,2,FALSE))","v":1},{"$f":"VLOOKUP($J28,DetRates!$C$19:$AA$3186,K$22,FALSE)","v":0},{"$f":"VLOOKUP($J28,DetRates!$C$19:$AA$3186,L$22,FALSE)","v":10},{"$f":"IF($T28<>$T27,VLOOKUP($J28,DetRates!$C$19:$AA$3186,M$22,FALSE),M27)","v":-7},{"$f":"IF($T28<>$T27,VLOOKUP($J28,DetRates!$C$19:$AA$3186,N$22,FALSE),N27)","v":0.2},{"$f":"IF($T28<>$T27,VLOOKUP($J28,DetRates!$C$19:$AA$3186,O$22,FALSE),O27)","v":0},{"$f":"IF($T28<>$T27,VLOOKUP($J28,DetRates!$C$19:$AA$3186,P$22,FALSE),P27)","v":-8},{"$f":"IF(AND(D28>29,T28>2,T28<>T27,E28<>3),VLOOKUP($J28,DetRates!$C$19:$AA$3186,Q$22),IF(T28<>T27,VLOOKUP($J28,DetRates!$C$19:$AA$3186,Q$22),Q27))","v":0},{"$f":"IF($T28<>$T27,VLOOKUP($J28,DetRates!$C$19:$AA$3186,R$22,FALSE),R27)","v":-12},{"$f":"IF($T28<>$T27,VLOOKUP($J28,DetRates!$C$19:$AA$3186,S$22,FALSE),S27)","v":50},0,{"$f":"VLOOKUP(F28,DetRates!$U$10:$W$12,3,FALSE)","v":15},4,-10.932712802343055,0.2,-13.353245570954806,-8,0,false,0,false,false,false,false,false,true,false,false,true,false,false,false,false,false,true,-8,1,0,null,-10.932712802343055,-13.353245570954806,"",false,4,1,4,"",null," (the LCAT results may not be appropriate - Renewal is triggered in under 10 years due to insufficient Q uplift from Tamping)"]
[null,5,2,5,1,2,1,1,"1412111-5",{"$f":"IF(ISNA(VLOOKUP(I29,DetRates!$B$19:$C$3186,2,FALSE)),J28,VLOOKUP(I29,DetRates!$B$19:$C$3186,2,FALSE))","v":1},{"$f":"VLOOKUP($J29,DetRates!$C$19:$AA$3186,K$22,FALSE)","v":0},{"$f":"VLOOKUP($J29,DetRates!$C$19:$AA$3186,L$22,FALSE)","v":10},{"$f":"IF($T29<>$T28,VLOOKUP($J29,DetRates!$C$19:$AA$3186,M$22,FALSE),M28)","v":-7},{"$f":"IF($T29<>$T28,VLOOKUP($J29,DetRates!$C$19:$AA$3186,N$22,FALSE),N28)","v":0.2},{"$f":"IF($T29<>$T28,VLOOKUP($J29,DetRates!$C$19:$AA$3186,O$22,FALSE),O28)","v":0},{"$f":"IF($T29<>$T28,VLOOKUP($J29,DetRates!$C$19:$AA$3186,P$22,FALSE),P28)","v":-8},{"$f":"IF(AND(D29>29,T29>2,T29<>T28,E29<>3),VLOOKUP($J29,DetRates!$C$19:$AA$3186,Q$22),IF(T29<>T28,VLOOKUP($J29,DetRates!$C$19:$AA$3186,Q$22),Q28))","v":0},{"$f":"IF($T29<>$T28,VLOOKUP($J29,DetRates!$C$19:$AA$3186,R$22,FALSE),R28)","v":-12},{"$f":"IF($T29<>$T28,VLOOKUP($J29,DetRates!$C$19:$AA$3186,S$22,FALSE),S28)","v":50},1,{"$f":"VLOOKUP(F29,DetRates!$U$10:$W$12,3,FALSE)","v":15},5,-8,0.2,-9.7712220652813588,-8,0,false,0,false,false,false,false,false,false,false,false,false,false,false,false,false,false,false,-9.7712220652813588,0,0,null,-8,-9.7712220652813588,"",false,5,1,5,""]
[null,6,2,6,1,2,1,1,"1412111-6",{"$f":"IF(ISNA(VLOOKUP(I30,DetRates!$B$19:$C$3186,2,FALSE)),J29,VLOOKUP(I30,DetRates!$B$19:$C$3186,2,FALSE))","v":1},{"$f":"VLOOKUP($J30,DetRates!$C$19:$AA$3186,K$22,FALSE)","v":0},{"$f":"VLOOKUP($J30,DetRates!$C$19:$AA$3186,L$22,FALSE)","v":10},{"$f":"IF($T30<>$T29,VLOOKUP($J30,DetRates!$C$19:$AA$3186,M$22,FALSE),M29)","v":-7},{"$f":"IF($T30<>$T29,VLOOKUP($J30,DetRates!$C$19:$AA$3186,N$22,FALSE),N29)","v":0.2},{"$f":"IF($T30<>$T29,VLOOKUP($J30,DetRates!$C$19:$AA$3186,O$22,FALSE),O29)","v":0},{"$f":"IF($T30<>$T29,VLOOKUP($J30,DetRates!$C$19:$AA$3186,P$22,FALSE),P29)","v":-8},{"$f":"IF(AND(D30>29,T30>2,T30<>T29,E30<>3),VLOOKUP($J30,DetRates!$C$19:$AA$3186,Q$22),IF(T30<>T29,VLOOKUP($J30,DetRates!$C$19:$AA$3186,Q$22),Q29))","v":0},{"$f":"IF($T30<>$T29,VLOOKUP($J30,DetRates!$C$19:$AA$3186,R$22,FALSE),R29)","v":-12},{"$f":"IF($T30<>$T29,VLOOKUP($J30,DetRates!$C$19:$AA$3186,S$22,FALSE),S29)","v":50},1,{"$f":"VLOOKUP(F30,DetRates!$U$10:$W$12,3,FALSE)","v":15},6,-9.7712220652813588,0.2,-11.934597581130163,-8,0,false,0,false,false,false,false,false,false,false,false,false,false,false,false,false,false,false,-11.934597581130163,0,0,null,-9.7712220652813588,-11.934597581130163,"",false,6,1,6,""]
[null,7,2,7,1,2,1,1,"1412111-7",{"$f":"IF(ISNA(VLOOKUP(I31,DetRates!$B$19:$C$3186,2,FALSE)),J30,VLOOKUP(I31,DetRates!$B$19:$C$3186,2,FALSE))","v":1},{"$f":"VLOOKUP($J31,DetRates!$C$19:$AA$3186,K$22,FALSE)","v":0},{"$f":"VLOOKUP($J31,DetRates!$C$19:$AA$3186,L$22,FALSE)","v":10},{"$f":"IF($T31<>$T30,VLOOKUP($J31,DetRates!$C$19:$AA$3186,M$22,FALSE),M30)","v":-7},{"$f":"IF($T31<>$T30,VLOOKUP($J31,DetRates!$C$19:$AA$3186,N$22,FALSE),N30)","v":0.2},{"$f":"IF($T31<>$T30,VLOOKUP($J31,DetRates!$C$19:$AA$3186,O$22,FALSE),O30)","v":0},{"$f":"IF($T31<>$T30,VLOOKUP($J31,DetRates!$C$19:$AA$3186,P$22,FALSE),P30)","v":-8},{"$f":"IF(AND(D31>29,T31>2,T31<>T30,E31<>3),VLOOKUP($J31,DetRates!$C$19:$AA$3186,Q$22),IF(T31<>T30,VLOOKUP($J31,DetRates!$C$19:$AA$3186,Q$22),Q30))","v":0},{"$f":"IF($T31<>$T30,VLOOKUP($J31,DetRates!$C$19:$AA$3186,R$22,FALSE),R30)","v":-12},{"$f":"IF($T31<>$T30,VLOOKUP($J31,DetRates!$C$19:$AA$3186,S$22,FALSE),S30)","v":50},1,{"$f":"VLOOKUP(F31,DetRates!$U$10:$W$12,3,FALSE)","v":15},7,-11.934597581130163,0.2,-14.576950403124073,-8,0,false,0,false,false,false,false,false,true,false,false,true,false,false,{"$f":"AND(AL31,OR(AM31,AN31))","v":false},false,false,{"$f":"IF(AQ31,FALSE,AL31)","v":true},-8,1,0,null,-11.934597581130163,-14.576950403124073,"",false,7,1,7,""]
[null,8,2,8,1,2,1,1,"1412111-8",{"$f":"IF(ISNA(VLOOKUP(I32,DetRates!$B$19:$C$3186,2,FALSE)),J31,VLOOKUP(I32,DetRates!$B$19:$C$3186,2,FALSE))","v":1},{"$f":"VLOOKUP($J32,DetRates!$C$19:$AA$3186,K$22,FALSE)","v":0},{"$f":"VLOOKUP($J32,DetRates!$C$19:$AA$3186,L$22,FALSE)","v":10},{"$f":"IF($T32<>$T31,VLOOKUP($J32,DetRates!$C$19:$AA$3186,M$22,FALSE),M31)","v":-7},{"$f":"IF($T32<>$T31,VLOOKUP($J32,DetRates!$C$19:$AA$3186,N$22,FALSE),N31)","v":0.2},{"$f":"IF($T32<>$T31,VLOOKUP($J32,DetRates!$C$19:$AA$3186,O$22,FALSE),O31)","v":0},{"$f":"IF($T32<>$T31,VLOOKUP($J32,DetRates!$C$19:$AA$3186,P$22,FALSE),P31)","v":-8},{"$f":"IF(AND(D32>29,T32>2,T32<>T31,E32<>3),VLOOKUP($J32,DetRates!$C$19:$AA$3186,Q$22),IF(T32<>T31,VLOOKUP($J32,DetRates!$C$19:$AA$3186,Q$22),Q31))","v":0},{"$f":"IF($T32<>$T31,VLOOKUP($J32,DetRates!$C$19:$AA$3186,R$22,FALSE),R31)","v":-12},{"$f":"IF($T32<>$T31,VLOOKUP($J32,DetRates!$C$19:$AA$3186,S$22,FALSE),S31)","v":50},2,{"$f":"VLOOKUP(F32,DetRates!$U$10:$W$12,3,FALSE)","v":15},8,{"$f":"AS31","v":-8},0.2,-9.7712220652813588,-8,0,false,0,false,false,false,false,false,false,false,false,false,false,false,false,false,false,{"$f":"IF(AQ32,FALSE,AL32)","v":false},-9.7712220652813588,0,0,null,-8,-9.7712220652813588,"",false,8,1,8,""]
[null,9,2,9,1,2,1,1,"1412111-9",{"$f":"IF(ISNA(VLOOKUP(I33,DetRates!$B$19:$C$3186,2,FALSE)),J32,VLOOKUP(I33,DetRates!$B$19:$C$3186,2,FALSE))","v":1},{"$f":"VLOOKUP($J33,DetRates!$C$19:$AA$3186,K$22,FALSE)","v":0},{"$f":"VLOOKUP($J33,DetRates!$C$19:$AA$3186,L$22,FALSE)","v":10},{"$f":"IF($T33<>$T32,VLOOKUP($J33,DetRates!$C$19:$AA$3186,M$22,FALSE),M32)","v":-7},{"$f":"IF($T33<>$T32,VLOOKUP($J33,DetRates!$C$19:$AA$3186,N$22,FALSE),N32)","v":0.2},{"$f":"IF($T33<>$T32,VLOOKUP($J33,DetRates!$C$19:$AA$3186,O$22,FALSE),O32)","v":0},{"$f":"IF($T33<>$T32,VLOOKUP($J33,DetRates!$C$19:$AA$3186,P$22,FALSE),P32)","v":-8},{"$f":"IF(AND(D33>29,T33>2,T33<>T32,E33<>3),VLOOKUP($J33,DetRates!$C$19:$AA$3186,Q$22),IF(T33<>T32,VLOOKUP($J33,DetRates!$C$19:$AA$3186,Q$22),Q32))","v":0},{"$f":"IF($T33<>$T32,VLOOKUP($J33,DetRates!$C$19:$AA$3186,R$22,FALSE),R32)","v":-12},{"$f":"IF($T33<>$T32,VLOOKUP($J33,DetRates!$C$19:$AA$3186,S$22,FALSE),S32)","v":50},2,{"$f":"VLOOKUP(F33,DetRates!$U$10:$W$12,3,FALSE)","v":15},9,-9.7712220652813588,0.2,-11.934597581130163,-8,0,false,0,false,false,false,false,false,false,false,false,false,false,false,false,false,false,false,-11.934597581130163,0,0,null,-9.7712220652813588,-11.934597581130163,"",false,9,1,9,""]
[null,10,3,10,1,2,1,1,"1412111-10",{"$f":"IF(ISNA(VLOOKUP(I34,DetRates!$B$19:$C$3186,2,FALSE)),J33,VLOOKUP(I34,DetRates!$B$19:$C$3186,2,FALSE))","v":2},{"$f":"VLOOKUP($J34,DetRates!$C$19:$AA$3186,K$22,FALSE)","v":10},{"$f":"VLOOKUP($J34,DetRates!$C$19:$AA$3186,L$22,FALSE)","v":25},{"$f":"IF($T34<>$T33,VLOOKUP($J34,DetRates!$C$19:$AA$3186,M$22,FALSE),M33)","v":-7},{"$f":"IF($T34<>$T33,VLOOKUP($J34,DetRates!$C$19:$AA$3186,N$22,FALSE),N33)","v":0.2},{"$f":"IF($T34<>$T33,VLOOKUP($J34,DetRates!$C$19:$AA$3186,O$22,FALSE),O33)","v":0},{"$f":"IF($T34<>$T33,VLOOKUP($J34,DetRates!$C$19:$AA$3186,P$22,FALSE),P33)","v":-8},{"$f":"IF(AND(D34>29,T34>2,T34<>T33,E34<>3),VLOOKUP($J34,DetRates!$C$19:$AA$3186,Q$22),IF(T34<>T33,VLOOKUP($J34,DetRates!$C$19:$AA$3186,Q$22),Q33))","v":0},{"$f":"IF($T34<>$T33,VLOOKUP($J34,DetRates!$C$19:$AA$3186,R$22,FALSE),R33)","v":-12},{"$f":"IF($T34<>$T33,VLOOKUP($J34,DetRates!$C$19:$AA$3186,S$22,FALSE),S33)","v":50},2,{"$f":"VLOOKUP(F34,DetRates!$U$10:$W$12,3,FALSE)","v":15},0,-11.934597581130163,0.2,-14.576950403124073,-8,0,false,0,false,false,false,false,false,true,false,false,true,false,false,false,false,false,true,-8,1,0,null,-11.934597581130163,-14.576950403124073,"",false,10,1,10,""]
[null,11,3,11,1,2,1,1,"1412111-11",{"$f":"IF(ISNA(VLOOKUP(I35,DetRates!$B$19:$C$3186,2,FALSE)),J34,VLOOKUP(I35,DetRates!$B$19:$C$3186,2,FALSE))","v":2},{"$f":"VLOOKUP($J35,DetRates!$C$19:$AA$3186,K$22,FALSE)","v":10},{"$f":"VLOOKUP($J35,DetRates!$C$19:$AA$3186,L$22,FALSE)","v":25},{"$f":"IF($T35<>$T34,VLOOKUP($J35,DetRates!$C$19:$AA$3186,M$22,FALSE),M34)","v":-7},{"$f":"IF($T35<>$T34,VLOOKUP($J35,DetRates!$C$19:$AA$3186,N$22,FALSE),N34)","v":0.15},{"$f":"IF($T35<>$T34,VLOOKUP($J35,DetRates!$C$19:$AA$3186,O$22,FALSE),O34)","v":0},{"$f":"IF($T35<>$T34,VLOOKUP($J35,DetRates!$C$19:$AA$3186,P$22,FALSE),P34)","v":-10},{"$f":"IF(AND(D35>29,T35>2,T35<>T34,E35<>3),VLOOKUP($J35,DetRates!$C$19:$AA$3186,Q$22),IF(T35<>T34,VLOOKUP($J35,DetRates!$C$19:$AA$3186,Q$22),Q34))","v":0},{"$f":"IF($T35<>$T34,VLOOKUP($J35,DetRates!$C$19:$AA$3186,R$22,FALSE),R34)","v":-15},{"$f":"IF($T35<>$T34,VLOOKUP($J35,DetRates!$C$19:$AA$3186,S$22,FALSE),S34)","v":50},3,{"$f":"VLOOKUP(F35,DetRates!$U$10:$W$12,3,FALSE)","v":15},1,-8,0.15,-9.2946739418262645,-10,0,false,0,false,false,false,false,false,false,false,false,false,false,false,false,false,false,false,-9.2946739418262645,0,0,null,-8,-9.2946739418262645,"",false,11,1,11,""]
[null,12,3,12,1,2,1,1,"1412111-12",{"$f":"IF(ISNA(VLOOKUP(I36,DetRates!$B$19:$C$3186,2,FALSE)),J35,VLOOKUP(I36,DetRates!$B$19:$C$3186,2,FALSE))","v":2},{"$f":"VLOOKUP($J36,DetRates!$C$19:$AA$3186,K$22,FALSE)","v":10},{"$f":"VLOOKUP($J36,DetRates!$C$19:$AA$3186,L$22,FALSE)","v":25},{"$f":"IF($T36<>$T35,VLOOKUP($J36,DetRates!$C$19:$AA$3186,M$22,FALSE),M35)","v":-7},{"$f":"IF($T36<>$T35,VLOOKUP($J36,DetRates!$C$19:$AA$3186,N$22,FALSE),N35)","v":0.15},{"$f":"IF($T36<>$T35,VLOOKUP($J36,DetRates!$C$19:$AA$3186,O$22,FALSE),O35)","v":0},{"$f":"IF($T36<>$T35,VLOOKUP($J36,DetRates!$C$19:$AA$3186,P$22,FALSE),P35)","v":-10},{"$f":"IF(AND(D36>29,T36>2,T36<>T35,E36<>3),VLOOKUP($J36,DetRates!$C$19:$AA$3186,Q$22),IF(T36<>T35,VLOOKUP($J36,DetRates!$C$19:$AA$3186,Q$22),Q35))","v":0},{"$f":"IF($T36<>$T35,VLOOKUP($J36,DetRates!$C$19:$AA$3186,R$22,FALSE),R35)","v":-15},{"$f":"IF($T36<>$T35,VLOOKUP($J36,DetRates!$C$19:$AA$3186,S$22,FALSE),S35)","v":50},3,{"$f":"VLOOKUP(F36,DetRates!$U$10:$W$12,3,FALSE)","v":15},2,-9.2946739418262645,0.15,-10.798870460608024,-10,0,false,0,false,false,false,false,false,false,false,false,false,false,false,false,false,false,false,-10.798870460608024,0,0,null,-9.2946739418262645,-10.798870460608024,"",false,12,1,12,""]
[null,13,3,13,1,2,1,1,"1412111-13",{"$f":"IF(ISNA(VLOOKUP(I37,DetRates!$B$19:$C$3186,2,FALSE)),J36,VLOOKUP(I37,DetRates!$B$19:$C$3186,2,FALSE))","v":2},{"$f":"VLOOKUP($J37,DetRates!$C$19:$AA$3186,K$22,FALSE)","v":10},{"$f":"VLOOKUP($J37,DetRates!$C$19:$AA$3186,L$22,FALSE)","v":25},{"$f":"IF($T37<>$T36,VLOOKUP($J37,DetRates!$C$19:$AA$3186,M$22,FALSE),M36)","v":-7},{"$f":"IF($T37<>$T36,VLOOKUP($J37,DetRates!$C$19:$AA$3186,N$22,FALSE),N36)","v":0.15},{"$f":"IF($T37<>$T36,VLOOKUP($J37,DetRates!$C$19:$AA$3186,O$22,FALSE),O36)","v":0},{"$f":"IF($T37<>$T36,VLOOKUP($J37,DetRates!$C$19:$AA$3186,P$22,FALSE),P36)","v":-10},{"$f":"IF(AND(D37>29,T37>2,T37<>T36,E37<>3),VLOOKUP($J37,DetRates!$C$19:$AA$3186,Q$22),IF(T37<>T36,VLOOKUP($J37,DetRates!$C$19:$AA$3186,Q$22),Q36))","v":0},{"$f":"IF($T37<>$T36,VLOOKUP($J37,DetRates!$C$19:$AA$3186,R$22,FALSE),R36)","v":-15},{"$f":"IF($T37<>$T36,VLOOKUP($J37,DetRates!$C$19:$AA$3186,S$22,FALSE),S36)","v":50},3,{"$f":"VLOOKUP(F37,DetRates!$U$10:$W$12,3,FALSE)","v":15},3,-10.798870460608024,0.15,-12.546497483921348,-10,0,false,0,false,false,false,false,false,false,false,false,false,false,false,false,false,false,false,-12.546497483921348,0,0,null,{"$f":"W37","v":-10.798870460608024},-12.546497483921348,"",false,13,1,13,""]
[null,14,3,14,1,2,1,1,"1412111-14",{"$f":"IF(ISNA(VLOOKUP(I38,DetRates!$B$19:$C$3186,2,FALSE)),J37,VLOOKUP(I38,DetRates!$B$19:$C$3186,2,FALSE))","v":2},{"$f":"VLOOKUP($J38,DetRates!$C$19:$AA$3186,K$22,FALSE)","v":10},{"$f":"VLOOKUP($J38,DetRates!$C$19:$AA$3186,L$22,FALSE)","v":25},{"$f":"IF($T38<>$T37,VLOOKUP($J38,DetRates!$C$19:$AA$3186,M$22,FALSE),M37)","v":-7},{"$f":"IF($T38<>$T37,VLOOKUP($J38,DetRates!$C$19:$AA$3186,N$22,FALSE),N37)","v":0.15},{"$f":"IF($T38<>$T37,VLOOKUP($J38,DetRates!$C$19:$AA$3186,O$22,FALSE),O37)","v":0},{"$f":"IF($T38<>$T37,VLOOKUP($J38,DetRates!$C$19:$AA$3186,P$22,FALSE),P37)","v":-10},{"$f":"IF(AND(D38>29,T38>2,T38<>T37,E38<>3),VLOOKUP($J38,DetRates!$C$19:$AA$3186,Q$22),IF(T38<>T37,VLOOKUP($J38,DetRates!$C$19:$AA$3186,Q$22),Q37))","v":0},{"$f":"IF($T38<>$T37,VLOOKUP($J38,DetRates!$C$19:$AA$3186,R$22,FALSE),R37)","v":-15},{"$f":"IF($T38<>$T37,VLOOKUP($J38,DetRates!$C$19:$AA$3186,S$22,FALSE),S37)","v":50},3,{"$f":"VLOOKUP(F38,DetRates!$U$10:$W$12,3,FALSE)","v":15},4,-12.546497483921348,0.15,-14.576950403124068,-10,0,false,0,false,false,false,false,false,false,false,false,false,false,false,false,false,false,false,-14.576950403124068,0,0,null,-12.546497483921348,-14.576950403124068,"",false,14,1,14,""]
[null,15,4,15,1,2,1,1,"1412111-15",{"$f":"IF(ISNA(VLOOKUP(I39,DetRates!$B$19:$C$3186,2,FALSE)),J38,VLOOKUP(I39,DetRates!$B$19:$C$3186,2,FALSE))","v":2},{"$f":"VLOOKUP($J39,DetRates!$C$19:$AA$3186,K$22,FALSE)","v":10},{"$f":"VLOOKUP($J39,DetRates!$C$19:$AA$3186,L$22,FALSE)","v":25},{"$f":"IF($T39<>$T38,VLOOKUP($J39,DetRates!$C$19:$AA$3186,M$22,FALSE),M38)","v":-7},{"$f":"IF($T39<>$T38,VLOOKUP($J39,DetRates!$C$19:$AA$3186,N$22,FALSE),N38)","v":0.15},{"$f":"IF($T39<>$T38,VLOOKUP($J39,DetRates!$C$19:$AA$3186,O$22,FALSE),O38)","v":0},{"$f":"IF($T39<>$T38,VLOOKUP($J39,DetRates!$C$19:$AA$3186,P$22,FALSE),P38)","v":-10},{"$f":"IF(AND(D39>29,T39>2,T39<>T38,E39<>3),VLOOKUP($J39,DetRates!$C$19:$AA$3186,Q$22),IF(T39<>T38,VLOOKUP($J39,DetRates!$C$19:$AA$3186,Q$22),Q38))","v":0},{"$f":"IF($T39<>$T38,VLOOKUP($J39,DetRates!$C$19:$AA$3186,R$22,FALSE),R38)","v":-15},{"$f":"IF($T39<>$T38,VLOOKUP($J39,DetRates!$C$19:$AA$3186,S$22,FALSE),S38)","v":50},3,{"$f":"VLOOKUP(F39,DetRates!$U$10:$W$12,3,FALSE)","v":15},5,-14.576950403124068,0.15,-16.936000132901391,-10,0,false,0,false,false,false,false,false,true,false,false,true,false,false,false,false,false,true,-10,1,0,null,-14.576950403124068,-16.936000132901391,"",false,15,1,15,""]
[null,16,4,16,1,2,1,1,"1412111-16",{"$f":"IF(ISNA(VLOOKUP(I40,DetRates!$B$19:$C$3186,2,FALSE)),J39,VLOOKUP(I40,DetRates!$B$19:$C$3186,2,FALSE))","v":2},{"$f":"VLOOKUP($J40,DetRates!$C$19:$AA$3186,K$22,FALSE)","v":10},{"$f":"VLOOKUP($J40,DetRates!$C$19:$AA$3186,L$22,FALSE)","v":25},{"$f":"IF($T40<>$T39,VLOOKUP($J40,DetRates!$C$19:$AA$3186,M$22,FALSE),M39)","v":-7},{"$f":"IF($T40<>$T39,VLOOKUP($J40,DetRates!$C$19:$AA$3186,N$22,FALSE),N39)","v":0.15},{"$f":"IF($T40<>$T39,VLOOKUP($J40,DetRates!$C$19:$AA$3186,O$22,FALSE),O39)","v":0},{"$f":"IF($T40<>$T39,VLOOKUP($J40,DetRates!$C$19:$AA$3186,P$22,FALSE),P39)","v":-10},{"$f":"IF(AND(D40>29,T40>2,T40<>T39,E40<>3),VLOOKUP($J40,DetRates!$C$19:$AA$3186,Q$22),IF(T40<>T39,VLOOKUP($J40,DetRates!$C$19:$AA$3186,Q$22),Q39))","v":0},{"$f":"IF($T40<>$T39,VLOOKUP($J40,DetRates!$C$19:$AA$3186,R$22,FALSE),R39)","v":-15},{"$f":"IF($T40<>$T39,VLOOKUP($J40,DetRates!$C$19:$AA$3186,S$22,FALSE),S39)","v":50},4,{"$f":"VLOOKUP(F40,DetRates!$U$10:$W$12,3,FALSE)","v":15},6,-10,0.15,-11.61834242728283,-10,0,false,0,false,false,false,false,false,false,false,false,false,false,false,false,false,false,false,-11.61834242728283,0,0,null,-10,-11.61834242728283,"",false,16,1,16,""]
[null,17,4,17,1,2,1,1,"1412111-17",{"$f":"IF(ISNA(VLOOKUP(I41,DetRates!$B$19:$C$3186,2,FALSE)),J40,VLOOKUP(I41,DetRates!$B$19:$C$3186,2,FALSE))","v":2},{"$f":"VLOOKUP($J41,DetRates!$C$19:$AA$3186,K$22,FALSE)","v":10},{"$f":"VLOOKUP($J41,DetRates!$C$19:$AA$3186,L$22,FALSE)","v":25},{"$f":"IF($T41<>$T40,VLOOKUP($J41,DetRates!$C$19:$AA$3186,M$22,FALSE),M40)","v":-7},{"$f":"IF($T41<>$T40,VLOOKUP($J41,DetRates!$C$19:$AA$3186,N$22,FALSE),N40)","v":0.15},{"$f":"IF($T41<>$T40,VLOOKUP($J41,DetRates!$C$19:$AA$3186,O$22,FALSE),O40)","v":0},{"$f":"IF($T41<>$T40,VLOOKUP($J41,DetRates!$C$19:$AA$3186,P$22,FALSE),P40)","v":-10},{"$f":"IF(AND(D41>29,T41>2,T41<>T40,E41<>3),VLOOKUP($J41,DetRates!$C$19:$AA$3186,Q$22),IF(T41<>T40,VLOOKUP($J41,DetRates!$C$19:$AA$3186,Q$22),Q40))","v":0},{"$f":"IF($T41<>$T40,VLOOKUP($J41,DetRates!$C$19:$AA$3186,R$22,FALSE),R40)","v":-15},{"$f":"IF($T41<>$T40,VLOOKUP($J41,DetRates!$C$19:$AA$3186,S$22,FALSE),S40)","v":50},4,{"$f":"VLOOKUP(F41,DetRates!$U$10:$W$12,3,FALSE)","v":15},7,-11.61834242728283,0.15,-13.498588075760029,-10,0,false,0,false,false,false,false,false,false,false,false,false,false,false,false,false,false,false,-13.498588075760029,0,0,null,-11.61834242728283,-13.498588075760029,"",false,17,1,17,""]
[null,18,4,18,1,2,1,1,"1412111-18",{"$f":"IF(ISNA(VLOOKUP(I42,DetRates!$B$19:$C$3186,2,FALSE)),J41,VLOOKUP(I42,DetRates!$B$19:$C$3186,2,FALSE))","v":2},{"$f":"VLOOKUP($J42,DetRates!$C$19:$AA$3186,K$22,FALSE)","v":10},{"$f":"VLOOKUP($J42,DetRates!$C$19:$AA$3186,L$22,FALSE)","v":25},{"$f":"IF($T42<>$T41,VLOOKUP($J42,DetRates!$C$19:$AA$3186,M$22,FALSE),M41)","v":-7},{"$f":"IF($T42<>$T41,VLOOKUP($J42,DetRates!$C$19:$AA$3186,N$22,FALSE),N41)","v":0.15},{"$f":"IF($T42<>$T41,VLOOKUP($J42,DetRates!$C$19:$AA$3186,O$22,FALSE),O41)","v":0},{"$f":"IF($T42<>$T41,VLOOKUP($J42,DetRates!$C$19:$AA$3186,P$22,FALSE),P41)","v":-10},{"$f":"IF(AND(D42>29,T42>2,T42<>T41,E42<>3),VLOOKUP($J42,DetRates!$C$19:$AA$3186,Q$22),IF(T42<>T41,VLOOKUP($J42,DetRates!$C$19:$AA$3186,Q$22),Q41))","v":0},{"$f":"IF($T42<>$T41,VLOOKUP($J42,DetRates!$C$19:$AA$3186,R$22,FALSE),R41)","v":-15},{"$f":"IF($T42<>$T41,VLOOKUP($J42,DetRates!$C$19:$AA$3186,S$22,FALSE),S41)","v":50},4,{"$f":"VLOOKUP(F42,DetRates!$U$10:$W$12,3,FALSE)","v":15},8,-13.498588075760029,0.15,-15.683121854901685,-10,0,false,0,false,false,false,false,false,true,false,false,true,false,false,false,false,false,true,-10,1,0,null,-13.498588075760029,-15.683121854901685,"",false,18,1,18,""]
[null,19,4,19,1,2,1,1,"1412111-19",{"$f":"IF(ISNA(VLOOKUP(I43,DetRates!$B$19:$C$3186,2,FALSE)),J42,VLOOKUP(I43,DetRates!$B$19:$C$3186,2,FALSE))","v":2},{"$f":"VLOOKUP($J43,DetRates!$C$19:$AA$3186,K$22,FALSE)","v":10},{"$f":"VLOOKUP($J43,DetRates!$C$19:$AA$3186,L$22,FALSE)","v":25},{"$f":"IF($T43<>$T42,VLOOKUP($J43,DetRates!$C$19:$AA$3186,M$22,FALSE),M42)","v":-7},{"$f":"IF($T43<>$T42,VLOOKUP($J43,DetRates!$C$19:$AA$3186,N$22,FALSE),N42)","v":0.15},{"$f":"IF($T43<>$T42,VLOOKUP($J43,DetRates!$C$19:$AA$3186,O$22,FALSE),O42)","v":0},{"$f":"IF($T43<>$T42,VLOOKUP($J43,DetRates!$C$19:$AA$3186,P$22,FALSE),P42)","v":-10},{"$f":"IF(AND(D43>29,T43>2,T43<>T42,E43<>3),VLOOKUP($J43,DetRates!$C$19:$AA$3186,Q$22),IF(T43<>T42,VLOOKUP($J43,DetRates!$C$19:$AA$3186,Q$22),Q42))","v":0},{"$f":"IF($T43<>$T42,VLOOKUP($J43,DetRates!$C$19:$AA$3186,R$22,FALSE),R42)","v":-15},{"$f":"IF($T43<>$T42,VLOOKUP($J43,DetRates!$C$19:$AA$3186,S$22,FALSE),S42)","v":50},5,{"$f":"VLOOKUP(F43,DetRates!$U$10:$W$12,3,FALSE)","v":15},9,-10,0.15,-11.61834242728283,-10,0,false,0,false,false,false,false,false,false,false,false,false,false,false,false,false,false,false,-11.61834242728283,0,0,null,-10,-11.61834242728283,"",false,19,1,19,""]
[null,20,5,20,1,2,1,1,"1412111-20",{"$f":"IF(ISNA(VLOOKUP(I44,DetRates!$B$19:$C$3186,2,FALSE)),J43,VLOOKUP(I44,DetRates!$B$19:$C$3186,2,FALSE))","v":2},{"$f":"VLOOKUP($J44,DetRates!$C$19:$AA$3186,K$22,FALSE)","v":10},{"$f":"VLOOKUP($J44,DetRates!$C$19:$AA$3186,L$22,FALSE)","v":25},{"$f":"IF($T44<>$T43,VLOOKUP($J44,DetRates!$C$19:$AA$3186,M$22,FALSE),M43)","v":-7},{"$f":"IF($T44<>$T43,VLOOKUP($J44,DetRates!$C$19:$AA$3186,N$22,FALSE),N43)","v":0.15},{"$f":"IF($T44<>$T43,VLOOKUP($J44,DetRates!$C$19:$AA$3186,O$22,FALSE),O43)","v":0},{"$f":"IF($T44<>$T43,VLOOKUP($J44,DetRates!$C$19:$AA$3186,P$22,FALSE),P43)","v":-10},{"$f":"IF(AND(D44>29,T44>2,T44<>T43,E44<>3),VLOOKUP($J44,DetRates!$C$19:$AA$3186,Q$22),IF(T44<>T43,VLOOKUP($J44,DetRates!$C$19:$AA$3186,Q$22),Q43))","v":0},{"$f":"IF($T44<>$T43,VLOOKUP($J44,DetRates!$C$19:$AA$3186,R$22,FALSE),R43)","v":-15},{"$f":"IF($T44<>$T43,VLOOKUP($J44,DetRates!$C$19:$AA$3186,S$22,FALSE),S43)","v":50},5,{"$f":"VLOOKUP(F44,DetRates!$U$10:$W$12,3,FALSE)","v":15},10,-11.61834242728283,0.15,-13.498588075760029,-10,0,false,0,false,{"$f":"AND(AE$23,$AE$15,$W44<=AE$21)","v":false},false,false,false,false,false,false,false,false,false,false,false,false,false,-13.498588075760029,0,0,null,-11.61834242728283,-13.498588075760029,"",false,20,1,20,""]
[null,21,5,21,1,2,1,1,"1412111-21",{"$f":"IF(ISNA(VLOOKUP(I45,DetRates!$B$19:$C$3186,2,FALSE)),J44,VLOOKUP(I45,DetRates!$B$19:$C$3186,2,FALSE))","v":2},{"$f":"VLOOKUP($J45,DetRates!$C$19:$AA$3186,K$22,FALSE)","v":10},{"$f":"VLOOKUP($J45,DetRates!$C$19:$AA$3186,L$22,FALSE)","v":25},{"$f":"IF($T45<>$T44,VLOOKUP($J45,DetRates!$C$19:$AA$3186,M$22,FALSE),M44)","v":-7},{"$f":"IF($T45<>$T44,VLOOKUP($J45,DetRates!$C$19:$AA$3186,N$22,FALSE),N44)","v":0.15},{"$f":"IF($T45<>$T44,VLOOKUP($J45,DetRates!$C$19:$AA$3186,O$22,FALSE),O44)","v":0},{"$f":"IF($T45<>$T44,VLOOKUP($J45,DetRates!$C$19:$AA$3186,P$22,FALSE),P44)","v":-10},{"$f":"IF(AND(D45>29,T45>2,T45<>T44,E45<>3),VLOOKUP($J45,DetRates!$C$19:$AA$3186,Q$22),IF(T45<>T44,VLOOKUP($J45,DetRates!$C$19:$AA$3186,Q$22),Q44))","v":0},{"$f":"IF($T45<>$T44,VLOOKUP($J45,DetRates!$C$19:$AA$3186,R$22,FALSE),R44)","v":-15},{"$f":"IF($T45<>$T44,VLOOKUP($J45,DetRates!$C$19:$AA$3186,S$22,FALSE),S44)","v":50},5,{"$f":"VLOOKUP(F45,DetRates!$U$10:$W$12,3,FALSE)","v":15},11,-13.498588075760029,0.15,-15.683121854901685,-10,0,false,0,false,false,false,false,false,true,false,false,true,false,false,false,false,false,true,-10,1,0,null,-13.498588075760029,-15.683121854901685,"",false,21,1,21,""]
[null,22,5,22,1,2,1,1,"1412111-22",{"$f":"IF(ISNA(VLOOKUP(I46,DetRates!$B$19:$C$3186,2,FALSE)),J45,VLOOKUP(I46,DetRates!$B$19:$C$3186,2,FALSE))","v":2},{"$f":"VLOOKUP($J46,DetRates!$C$19:$AA$3186,K$22,FALSE)","v":10},{"$f":"VLOOKUP($J46,DetRates!$C$19:$AA$3186,L$22,FALSE)","v":25},{"$f":"IF($T46<>$T45,VLOOKUP($J46,DetRates!$C$19:$AA$3186,M$22,FALSE),M45)","v":-7},{"$f":"IF($T46<>$T45,VLOOKUP($J46,DetRates!$C$19:$AA$3186,N$22,FALSE),N45)","v":0.15},{"$f":"IF($T46<>$T45,VLOOKUP($J46,DetRates!$C$19:$AA$3186,O$22,FALSE),O45)","v":0},{"$f":"IF($T46<>$T45,VLOOKUP($J46,DetRates!$C$19:$AA$3186,P$22,FALSE),P45)","v":-10},{"$f":"IF(AND(D46>29,T46>2,T46<>T45,E46<>3),VLOOKUP($J46,DetRates!$C$19:$AA$3186,Q$22),IF(T46<>T45,VLOOKUP($J46,DetRates!$C$19:$AA$3186,Q$22),Q45))","v":0},{"$f":"IF($T46<>$T45,VLOOKUP($J46,DetRates!$C$19:$AA$3186,R$22,FALSE),R45)","v":-15},{"$f":"IF($T46<>$T45,VLOOKUP($J46,DetRates!$C$19:$AA$3186,S$22,FALSE),S45)","v":50},6,{"$f":"VLOOKUP(F46,DetRates!$U$10:$W$12,3,FALSE)","v":15},12,-10,0.15,-11.61834242728283,-10,0,false,0,false,false,false,false,false,false,false,{"$f":"OR(AD46,AE46,AG46,AH46)","v":false},false,false,false,false,false,false,false,-11.61834242728283,0,0,null,-10,-11.61834242728283,"",false,22,1,22,""]
[null,23,5,23,1,2,1,1,"1412111-23",{"$f":"IF(ISNA(VLOOKUP(I47,DetRates!$B$19:$C$3186,2,FALSE)),J46,VLOOKUP(I47,DetRates!$B$19:$C$3186,2,FALSE))","v":2},{"$f":"VLOOKUP($J47,DetRates!$C$19:$AA$3186,K$22,FALSE)","v":10},{"$f":"VLOOKUP($J47,DetRates!$C$19:$AA$3186,L$22,FALSE)","v":25},{"$f":"IF($T47<>$T46,VLOOKUP($J47,DetRates!$C$19:$AA$3186,M$22,FALSE),M46)","v":-7},{"$f":"IF($T47<>$T46,VLOOKUP($J47,DetRates!$C$19:$AA$3186,N$22,FALSE),N46)","v":0.15},{"$f":"IF($T47<>$T46,VLOOKUP($J47,DetRates!$C$19:$AA$3186,O$22,FALSE),O46)","v":0},{"$f":"IF($T47<>$T46,VLOOKUP($J47,DetRates!$C$19:$AA$3186,P$22,FALSE),P46)","v":-10},{"$f":"IF(AND(D47>29,T47>2,T47<>T46,E47<>3),VLOOKUP($J47,DetRates!$C$19:$AA$3186,Q$22),IF(T47<>T46,VLOOKUP($J47,DetRates!$C$19:$AA$3186,Q$22),Q46))","v":0},{"$f":"IF($T47<>$T46,VLOOKUP($J47,DetRates!$C$19:$AA$3186,R$22,FALSE),R46)","v":-15},{"$f":"IF($T47<>$T46,VLOOKUP($J47,DetRates!$C$19:$AA$3186,S$22,FALSE),S46)","v":50},6,{"$f":"VLOOKUP(F47,DetRates!$U$10:$W$12,3,FALSE)","v":15},13,-11.61834242728283,0.15,-13.498588075760029,-10,0,false,0,false,false,false,false,false,false,false,false,false,false,false,false,false,false,false,-13.498588075760029,0,0,null,-11.61834242728283,-13.498588075760029,"",false,23,1,23,""]
[null,24,5,24,1,2,1,1,"1412111-24",{"$f":"IF(ISNA(VLOOKUP(I48,DetRates!$B$19:$C$3186,2,FALSE)),J47,VLOOKUP(I48,DetRates!$B$19:$C$3186,2,FALSE))","v":2},{"$f":"VLOOKUP($J48,DetRates!$C$19:$AA$3186,K$22,FALSE)","v":10},{"$f":"VLOOKUP($J48,DetRates!$C$19:$AA$3186,L$22,FALSE)","v":25},{"$f":"IF($T48<>$T47,VLOOKUP($J48,DetRates!$C$19:$AA$3186,M$22,FALSE),M47)","v":-7},{"$f":"IF($T48<>$T47,VLOOKUP($J48,DetRates!$C$19:$AA$3186,N$22,FALSE),N47)","v":0.15},{"$f":"IF($T48<>$T47,VLOOKUP($J48,DetRates!$C$19:$AA$3186,O$22,FALSE),O47)","v":0},{"$f":"IF($T48<>$T47,VLOOKUP($J48,DetRates!$C$19:$AA$3186,P$22,FALSE),P47)","v":-10},{"$f":"IF(AND(D48>29,T48>2,T48<>T47,E48<>3),VLOOKUP($J48,DetRates!$C$19:$AA$3186,Q$22),IF(T48<>T47,VLOOKUP($J48,DetRates!$C$19:$AA$3186,Q$22),Q47))","v":0},{"$f":"IF($T48<>$T47,VLOOKUP($J48,DetRates!$C$19:$AA$3186,R$22,FALSE),R47)","v":-15},{"$f":"IF($T48<>$T47,VLOOKUP($J48,DetRates!$C$19:$AA$3186,S$22,FALSE),S47)","v":50},6,{"$f":"VLOOKUP(F48,DetRates!$U$10:$W$12,3,FALSE)","v":15},14,-13.498588075760029,0.15,-15.683121854901685,-10,0,false,0,false,false,false,false,false,true,false,false,true,false,false,false,false,false,true,-10,1,0,null,-13.498588075760029,-15.683121854901685,"",false,24,1,24,""]
[null,25,6,25,1,2,1,1,"1412111-25",{"$f":"IF(ISNA(VLOOKUP(I49,DetRates!$B$19:$C$3186,2,FALSE)),J48,VLOOKUP(I49,DetRates!$B$19:$C$3186,2,FALSE))","v":3},{"$f":"VLOOKUP($J49,DetRates!$C$19:$AA$3186,K$22,FALSE)","v":25},{"$f":"VLOOKUP($J49,DetRates!$C$19:$AA$3186,L$22,FALSE)","v":30},{"$f":"IF($T49<>$T48,VLOOKUP($J49,DetRates!$C$19:$AA$3186,M$22,FALSE),M48)","v":-7},{"$f":"IF($T49<>$T48,VLOOKUP($J49,DetRates!$C$19:$AA$3186,N$22,FALSE),N48)","v":0.19},{"$f":"IF($T49<>$T48,VLOOKUP($J49,DetRates!$C$19:$AA$3186,O$22,FALSE),O48)","v":0},{"$f":"IF($T49<>$T48,VLOOKUP($J49,DetRates!$C$19:$AA$3186,P$22,FALSE),P48)","v":-14},{"$f":"IF(AND(D49>29,T49>2,T49<>T48,E49<>3),VLOOKUP($J49,DetRates!$C$19:$AA$3186,Q$22),IF(T49<>T48,VLOOKUP($J49,DetRates!$C$19:$AA$3186,Q$22),Q48))","v":0},{"$f":"IF($T49<>$T48,VLOOKUP($J49,DetRates!$C$19:$AA$3186,R$22,FALSE),R48)","v":-20},{"$f":"IF($T49<>$T48,VLOOKUP($J49,DetRates!$C$19:$AA$3186,S$22,FALSE),S48)","v":50},7,{"$f":"VLOOKUP(F49,DetRates!$U$10:$W$12,3,FALSE)","v":15},0,-10,0.19,-12.092495976572515,-14,0,false,0,false,false,false,false,false,false,false,false,false,false,false,false,false,false,{"$f":"IF(AQ49,FALSE,AL49)","v":false},-12.092495976572515,0,0,null,-10,-12.092495976572515,"",false,25,1,25,""]
[null,26,6,26,1,2,1,1,"1412111-26",{"$f":"IF(ISNA(VLOOKUP(I50,DetRates!$B$19:$C$3186,2,FALSE)),J49,VLOOKUP(I50,DetRates!$B$19:$C$3186,2,FALSE))","v":3},{"$f":"VLOOKUP($J50,DetRates!$C$19:$AA$3186,K$22,FALSE)","v":25},{"$f":"VLOOKUP($J50,DetRates!$C$19:$AA$3186,L$22,FALSE)","v":30},{"$f":"IF($T50<>$T49,VLOOKUP($J50,DetRates!$C$19:$AA$3186,M$22,FALSE),M49)","v":-7},{"$f":"IF($T50<>$T49,VLOOKUP($J50,DetRates!$C$19:$AA$3186,N$22,FALSE),N49)","v":0.19},{"$f":"IF($T50<>$T49,VLOOKUP($J50,DetRates!$C$19:$AA$3186,O$22,FALSE),O49)","v":0},{"$f":"IF($T50<>$T49,VLOOKUP($J50,DetRates!$C$19:$AA$3186,P$22,FALSE),P49)","v":-14},{"$f":"IF(AND(D50>29,T50>2,T50<>T49,E50<>3),VLOOKUP($J50,DetRates!$C$19:$AA$3186,Q$22),IF(T50<>T49,VLOOKUP($J50,DetRates!$C$19:$AA$3186,Q$22),Q49))","v":0},{"$f":"IF($T50<>$T49,VLOOKUP($J50,DetRates!$C$19:$AA$3186,R$22,FALSE),R49)","v":-20},{"$f":"IF($T50<>$T49,VLOOKUP($J50,DetRates!$C$19:$AA$3186,S$22,FALSE),S49)","v":50},7,{"$f":"VLOOKUP(F50,DetRates!$U$10:$W$12,3,FALSE)","v":15},1,-12.092495976572515,0.19,-14.622845894342246,-14,0,false,0,false,false,false,false,false,false,false,false,false,false,false,false,false,false,false,-14.622845894342246,0,0,null,-12.092495976572515,-14.622845894342246,"",false,26,1,26,""]
[null,27,{"$f":"INT(B51/C$21+1)","v":6},27,1,2,1,1,"1412111-27",{"$f":"IF(ISNA(VLOOKUP(I51,DetRates!$B$19:$C$3186,2,FALSE)),J50,VLOOKUP(I51,DetRates!$B$19:$C$3186,2,FALSE))","v":3},{"$f":"VLOOKUP($J51,DetRates!$C$19:$AA$3186,K$22,FALSE)","v":25},{"$f":"VLOOKUP($J51,DetRates!$C$19:$AA$3186,L$22,FALSE)","v":30},{"$f":"IF($T51<>$T50,VLOOKUP($J51,DetRates!$C$19:$AA$3186,M$22,FALSE),M50)","v":-7},{"$f":"IF($T51<>$T50,VLOOKUP($J51,DetRates!$C$19:$AA$3186,N$22,FALSE),N50)","v":0.19},{"$f":"IF($T51<>$T50,VLOOKUP($J51,DetRates!$C$19:$AA$3186,O$22,FALSE),O50)","v":0},{"$f":"IF($T51<>$T50,VLOOKUP($J51,DetRates!$C$19:$AA$3186,P$22,FALSE),P50)","v":-14},{"$f":"IF(AND(D51>29,T51>2,T51<>T50,E51<>3),VLOOKUP($J51,DetRates!$C$19:$AA$3186,Q$22),IF(T51<>T50,VLOOKUP($J51,DetRates!$C$19:$AA$3186,Q$22),Q50))","v":0},{"$f":"IF($T51<>$T50,VLOOKUP($J51,DetRates!$C$19:$AA$3186,R$22,FALSE),R50)","v":-20},{"$f":"IF($T51<>$T50,VLOOKUP($J51,DetRates!$C$19:$AA$3186,S$22,FALSE),S50)","v":50},7,{"$f":"VLOOKUP(F51,DetRates!$U$10:$W$12,3,FALSE)","v":15},2,-14.622845894342246,0.19,-17.682670514337353,-14,0,false,0,false,false,false,false,false,false,false,{"$f":"OR(AD51,AE51,AG51,AH51)","v":false},false,false,false,false,false,{"$f":"OR(AK51,AO51,AP51)","v":false},false,-17.682670514337353,0,0,null,-14.622845894342246,-17.682670514337353,"",false,27,1,27,""]
[null,28,6,28,1,2,1,1,"1412111-28",{"$f":"IF(ISNA(VLOOKUP(I52,DetRates!$B$19:$C$3186,2,FALSE)),J51,VLOOKUP(I52,DetRates!$B$19:$C$3186,2,FALSE))","v":3},{"$f":"VLOOKUP($J52,DetRates!$C$19:$AA$3186,K$22,FALSE)","v":25},{"$f":"VLOOKUP($J52,DetRates!$C$19:$AA$3186,L$22,FALSE)","v":30},{"$f":"IF($T52<>$T51,VLOOKUP($J52,DetRates!$C$19:$AA$3186,M$22,FALSE),M51)","v":-7},{"$f":"IF($T52<>$T51,VLOOKUP($J52,DetRates!$C$19:$AA$3186,N$22,FALSE),N51)","v":0.19},{"$f":"IF($T52<>$T51,VLOOKUP($J52,DetRates!$C$19:$AA$3186,O$22,FALSE),O51)","v":0},{"$f":"IF($T52<>$T51,VLOOKUP($J52,DetRates!$C$19:$AA$3186,P$22,FALSE),P51)","v":-14},{"$f":"IF(AND(D52>29,T52>2,T52<>T51,E52<>3),VLOOKUP($J52,DetRates!$C$19:$AA$3186,Q$22),IF(T52<>T51,VLOOKUP($J52,DetRates!$C$19:$AA$3186,Q$22),Q51))","v":0},{"$f":"IF($T52<>$T51,VLOOKUP($J52,DetRates!$C$19:$AA$3186,R$22,FALSE),R51)","v":-20},{"$f":"IF($T52<>$T51,VLOOKUP($J52,DetRates!$C$19:$AA$3186,S$22,FALSE),S51)","v":50},7,{"$f":"VLOOKUP(F52,DetRates!$U$10:$W$12,3,FALSE)","v":15},3,-17.682670514337353,0.19,-21.382762204968188,-14,0,false,0,false,false,false,false,false,true,false,false,true,false,false,false,false,false,true,-14,1,0,null,-17.682670514337353,-21.382762204968188,"",false,28,1,28,""]
[null,29,6,29,1,2,1,1,"1412111-29",{"$f":"IF(ISNA(VLOOKUP(I53,DetRates!$B$19:$C$3186,2,FALSE)),J52,VLOOKUP(I53,DetRates!$B$19:$C$3186,2,FALSE))","v":3},{"$f":"VLOOKUP($J53,DetRates!$C$19:$AA$3186,K$22,FALSE)","v":25},{"$f":"VLOOKUP($J53,DetRates!$C$19:$AA$3186,L$22,FALSE)","v":30},{"$f":"IF($T53<>$T52,VLOOKUP($J53,DetRates!$C$19:$AA$3186,M$22,FALSE),M52)","v":-7},{"$f":"IF($T53<>$T52,VLOOKUP($J53,DetRates!$C$19:$AA$3186,N$22,FALSE),N52)","v":0.19},{"$f":"IF($T53<>$T52,VLOOKUP($J53,DetRates!$C$19:$AA$3186,O$22,FALSE),O52)","v":0},{"$f":"IF($T53<>$T52,VLOOKUP($J53,DetRates!$C$19:$AA$3186,P$22,FALSE),P52)","v":-14},{"$f":"IF(AND(D53>29,T53>2,T53<>T52,E53<>3),VLOOKUP($J53,DetRates!$C$19:$AA$3186,Q$22),IF(T53<>T52,VLOOKUP($J53,DetRates!$C$19:$AA$3186,Q$22),Q52))","v":0},{"$f":"IF($T53<>$T52,VLOOKUP($J53,DetRates!$C$19:$AA$3186,R$22,FALSE),R52)","v":-20},{"$f":"IF($T53<>$T52,VLOOKUP($J53,DetRates!$C$19:$AA$3186,S$22,FALSE),S52)","v":50},8,{"$f":"VLOOKUP(F53,DetRates!$U$10:$W$12,3,FALSE)","v":15},4,-14,0.19,-16.929494367201521,-14,0,false,0,false,false,false,false,false,false,false,false,false,false,false,false,false,false,false,-16.929494367201521,0,0,null,-14,-16.929494367201521,"",false,29,1,29,""]
[null,30,7,30,1,2,1,1,"1412111-30",{"$f":"IF(ISNA(VLOOKUP(I54,DetRates!$B$19:$C$3186,2,FALSE)),J53,VLOOKUP(I54,DetRates!$B$19:$C$3186,2,FALSE))","v":4},{"$f":"VLOOKUP($J54,DetRates!$C$19:$AA$3186,K$22,FALSE)","v":30},{"$f":"VLOOKUP($J54,DetRates!$C$19:$AA$3186,L$22,FALSE)","v":1000},{"$f":"IF($T54<>$T53,VLOOKUP($J54,DetRates!$C$19:$AA$3186,M$22,FALSE),M53)","v":-7},{"$f":"IF($T54<>$T53,VLOOKUP($J54,DetRates!$C$19:$AA$3186,N$22,FALSE),N53)","v":0.19},{"$f":"IF($T54<>$T53,VLOOKUP($J54,DetRates!$C$19:$AA$3186,O$22,FALSE),O53)","v":0},{"$f":"IF($T54<>$T53,VLOOKUP($J54,DetRates!$C$19:$AA$3186,P$22,FALSE),P53)","v":-14},{"$f":"IF(AND(D54>29,T54>2,T54<>T53,E54<>3),VLOOKUP($J54,DetRates!$C$19:$AA$3186,Q$22),IF(T54<>T53,VLOOKUP($J54,DetRates!$C$19:$AA$3186,Q$22),Q53))","v":0},{"$f":"IF($T54<>$T53,VLOOKUP($J54,DetRates!$C$19:$AA$3186,R$22,FALSE),R53)","v":-20},{"$f":"IF($T54<>$T53,VLOOKUP($J54,DetRates!$C$19:$AA$3186,S$22,FALSE),S53)","v":50},8,{"$f":"VLOOKUP(F54,DetRates!$U$10:$W$12,3,FALSE)","v":15},0,-16.929494367201521,0.19,-20.471984252079146,-14,0,false,0,false,false,false,false,false,true,false,false,true,false,false,false,false,false,true,-14,1,0,null,-16.929494367201521,-20.471984252079146,"",false,30,1,30,""]
[null,31,7,31,1,2,1,1,"1412111-31",{"$f":"IF(ISNA(VLOOKUP(I55,DetRates!$B$19:$C$3186,2,FALSE)),J54,VLOOKUP(I55,DetRates!$B$19:$C$3186,2,FALSE))","v":4},{"$f":"VLOOKUP($J55,DetRates!$C$19:$AA$3186,K$22,FALSE)","v":30},{"$f":"VLOOKUP($J55,DetRates!$C$19:$AA$3186,L$22,FALSE)","v":1000},{"$f":"IF($T55<>$T54,VLOOKUP($J55,DetRates!$C$19:$AA$3186,M$22,FALSE),M54)","v":-7},{"$f":"IF($T55<>$T54,VLOOKUP($J55,DetRates!$C$19:$AA$3186,N$22,FALSE),N54)","v":0.19},{"$f":"IF($T55<>$T54,VLOOKUP($J55,DetRates!$C$19:$AA$3186,O$22,FALSE),O54)","v":0},{"$f":"IF($T55<>$T54,VLOOKUP($J55,DetRates!$C$19:$AA$3186,P$22,FALSE),P54)","v":-20},{"$f":"IF(AND(D55>29,T55>2,T55<>T54,E55<>3),VLOOKUP($J55,DetRates!$C$19:$AA$3186,Q$22),IF(T55<>T54,VLOOKUP($J55,DetRates!$C$19:$AA$3186,Q$22),Q54))","v":-0.5},{"$f":"IF($T55<>$T54,VLOOKUP($J55,DetRates!$C$19:$AA$3186,R$22,FALSE),R54)","v":-25},{"$f":"IF($T55<>$T54,VLOOKUP($J55,DetRates!$C$19:$AA$3186,S$22,FALSE),S54)","v":50},9,{"$f":"VLOOKUP(F55,DetRates!$U$10:$W$12,3,FALSE)","v":15},1,-14,0.19,-16.929494367201521,-20.5,0,false,0,false,false,false,false,false,false,false,false,false,false,false,false,false,false,false,-16.929494367201521,0,0,null,-14,-16.929494367201521,"",false,31,1,31,""]
[null,32,{"$f":"INT(B56/C$21+1)","v":7},32,1,2,1,1,{"$f":"$C$17&$E$17&E56&F56&$K$17&G56&H56&\"-\"&D56","v":"1412111-32"},{"$f":"IF(ISNA(VLOOKUP(I56,DetRates!$B$19:$C$3186,2,FALSE)),J55,VLOOKUP(I56,DetRates!$B$19:$C$3186,2,FALSE))","v":4},{"$f":"VLOOKUP($J56,DetRates!$C$19:$AA$3186,K$22,FALSE)","v":30},{"$f":"VLOOKUP($J56,DetRates!$C$19:$AA$3186,L$22,FALSE)","v":1000},{"$f":"IF($T56<>$T55,VLOOKUP($J56,DetRates!$C$19:$AA$3186,M$22,FALSE),M55)","v":-7},{"$f":"IF($T56<>$T55,VLOOKUP($J56,DetRates!$C$19:$AA$3186,N$22,FALSE),N55)","v":0.19},{"$f":"IF($T56<>$T55,VLOOKUP($J56,DetRates!$C$19:$AA$3186,O$22,FALSE),O55)","v":0},{"$f":"IF($T56<>$T55,VLOOKUP($J56,DetRates!$C$19:$AA$3186,P$22,FALSE),P55)","v":-20},{"$f":"IF(AND(D56>29,T56>2,T56<>T55,E56<>3),VLOOKUP($J56,DetRates!$C$19:$AA$3186,Q$22),IF(T56<>T55,VLOOKUP($J56,DetRates!$C$19:$AA$3186,Q$22),Q55))","v":-0.5},{"$f":"IF($T56<>$T55,VLOOKUP($J56,DetRates!$C$19:$AA$3186,R$22,FALSE),R55)","v":-25},{"$f":"IF($T56<>$T55,VLOOKUP($J56,DetRates!$C$19:$AA$3186,S$22,FALSE),S55)","v":50},9,{"$f":"VLOOKUP(F56,DetRates!$U$10:$W$12,3,FALSE)","v":15},2,-16.929494367201521,0.19,{"$f":"W56*EXP(X56)","v":-20.471984252079146},{"$f":"P56+Q56*V56","v":-21},0,{"$f":"AND($AA$15,(AA56=\"x\"))","v":false},0,{"$f":"AND($AA$15,(AC56=\"x\"))","v":false},false,false,{"$f":"AND($AG$15,T56>U56)","v":false},{"$f":"AND($AH$15,D56>S56)","v":false},{"$f":"AND($AI$15,Y56<R56)","v":false},false,false,false,{"$f":"AND($AI$15,Z56<R56)","v":false},false,false,false,false,false,{"$f":"IF(AQ56,$V$11,IF(AR56,Z56,Y56))","v":-20.471984252079146},{"$f":"AR56*1","v":0},0,null,-16.929494367201521,-20.471984252079146,"",false,32,1,32,{"$f":"IF(AZ56,BC56,\"\")","v":""}]
[null,33,7,33,1,2,1,1,"1412111-33",{"$f":"IF(ISNA(VLOOKUP(I57,DetRates!$B$19:$C$3186,2,FALSE)),J56,VLOOKUP(I57,DetRates!$B$19:$C$3186,2,FALSE))","v":4},{"$f":"VLOOKUP($J57,DetRates!$C$19:$AA$3186,K$22,FALSE)","v":30},{"$f":"VLOOKUP($J57,DetRates!$C$19:$AA$3186,L$22,FALSE)","v":1000},{"$f":"IF($T57<>$T56,VLOOKUP($J57,DetRates!$C$19:$AA$3186,M$22,FALSE),M56)","v":-7},{"$f":"IF($T57<>$T56,VLOOKUP($J57,DetRates!$C$19:$AA$3186,N$22,FALSE),N56)","v":0.19},{"$f":"IF($T57<>$T56,VLOOKUP($J57,DetRates!$C$19:$AA$3186,O$22,FALSE),O56)","v":0},{"$f":"IF($T57<>$T56,VLOOKUP($J57,DetRates!$C$19:$AA$3186,P$22,FALSE),P56)","v":-20},{"$f":"IF(AND(D57>29,T57>2,T57<>T56,E57<>3),VLOOKUP($J57,DetRates!$C$19:$AA$3186,Q$22),IF(T57<>T56,VLOOKUP($J57,DetRates!$C$19:$AA$3186,Q$22),Q56))","v":-0.5},{"$f":"IF($T57<>$T56,VLOOKUP($J57,DetRates!$C$19:$AA$3186,R$22,FALSE),R56)","v":-25},{"$f":"IF($T57<>$T56,VLOOKUP($J57,DetRates!$C$19:$AA$3186,S$22,FALSE),S56)","v":50},{"$f":"IF(AQ56,0,IF(AR56,T56+1,T56))","v":9},{"$f":"VLOOKUP(F57,DetRates!$U$10:$W$12,3,FALSE)","v":15},{"$f":"IF(J56=J57,V56+1,0)","v":3},-20.471984252079146,{"$f":"IF((N57+O57*V57)<=0,X56,(N57+O57*V57))","v":0.19},-24.755738720072294,-21.5,0,false,0,false,false,false,false,false,false,false,false,false,false,false,false,false,false,false,-24.755738720072294,0,0,null,-20.471984252079146,-24.755738720072294,"",false,33,{"$f":"IF(AZ57,BB56+1,BB56)","v":1},{"$f":"IF(NOT(AZ56),BC56+1,1)","v":33},""]
[null,34,7,34,1,2,1,1,"1412111-34",{"$f":"IF(ISNA(VLOOKUP(I58,DetRates!$B$19:$C$3186,2,FALSE)),J57,VLOOKUP(I58,DetRates!$B$19:$C$3186,2,FALSE))","v":4},{"$f":"VLOOKUP($J58,DetRates!$C$19:$AA$3186,K$22,FALSE)","v":30},{"$f":"VLOOKUP($J58,DetRates!$C$19:$AA$3186,L$22,FALSE)","v":1000},{"$f":"IF($T58<>$T57,VLOOKUP($J58,DetRates!$C$19:$AA$3186,M$22,FALSE),M57)","v":-7},{"$f":"IF($T58<>$T57,VLOOKUP($J58,DetRates!$C$19:$AA$3186,N$22,FALSE),N57)","v":0.19},{"$f":"IF($T58<>$T57,VLOOKUP($J58,DetRates!$C$19:$AA$3186,O$22,FALSE),O57)","v":0},{"$f":"IF($T58<>$T57,VLOOKUP($J58,DetRates!$C$19:$AA$3186,P$22,FALSE),P57)","v":-20},{"$f":"IF(AND(D58>29,T58>2,T58<>T57,E58<>3),VLOOKUP($J58,DetRates!$C$19:$AA$3186,Q$22),IF(T58<>T57,VLOOKUP($J58,DetRates!$C$19:$AA$3186,Q$22),Q57))","v":-0.5},{"$f":"IF($T58<>$T57,VLOOKUP($J58,DetRates!$C$19:$AA$3186,R$22,FALSE),R57)","v":-25},{"$f":"IF($T58<>$T57,VLOOKUP($J58,DetRates!$C$19:$AA$3186,S$22,FALSE),S57)","v":50},9,{"$f":"VLOOKUP(F58,DetRates!$U$10:$W$12,3,FALSE)","v":15},4,-24.755738720072294,0.19,-29.935867086955465,-22,0,false,0,false,false,false,false,false,true,false,false,true,false,false,false,false,false,true,-22,1,0,null,-24.755738720072294,-29.935867086955465,"",false,34,1,34,""]
[null,35,8,35,1,2,1,1,"1412111-35",{"$f":"IF(ISNA(VLOOKUP(I59,DetRates!$B$19:$C$3186,2,FALSE)),J58,VLOOKUP(I59,DetRates!$B$19:$C$3186,2,FALSE))","v":4},{"$f":"VLOOKUP($J59,DetRates!$C$19:$AA$3186,K$22,FALSE)","v":30},{"$f":"VLOOKUP($J59,DetRates!$C$19:$AA$3186,L$22,FALSE)","v":1000},{"$f":"IF($T59<>$T58,VLOOKUP($J59,DetRates!$C$19:$AA$3186,M$22,FALSE),M58)","v":-7},{"$f":"IF($T59<>$T58,VLOOKUP($J59,DetRates!$C$19:$AA$3186,N$22,FALSE),N58)","v":0.19},{"$f":"IF($T59<>$T58,VLOOKUP($J59,DetRates!$C$19:$AA$3186,O$22,FALSE),O58)","v":0},{"$f":"IF($T59<>$T58,VLOOKUP($J59,DetRates!$C$19:$AA$3186,P$22,FALSE),P58)","v":-20},{"$f":"IF(AND(D59>29,T59>2,T59<>T58,E59<>3),VLOOKUP($J59,DetRates!$C$19:$AA$3186,Q$22),IF(T59<>T58,VLOOKUP($J59,DetRates!$C$19:$AA$3186,Q$22),Q58))","v":-0.5},{"$f":"IF($T59<>$T58,VLOOKUP($J59,DetRates!$C$19:$AA$3186,R$22,FALSE),R58)","v":-25},{"$f":"IF($T59<>$T58,VLOOKUP($J59,DetRates!$C$19:$AA$3186,S$22,FALSE),S58)","v":50},10,{"$f":"VLOOKUP(F59,DetRates!$U$10:$W$12,3,FALSE)","v":15},5,-22,0.19,-26.603491148459533,-22.5,0,false,0,false,false,false,false,false,true,false,false,true,false,false,false,true,true,false,-6,0,1,null,-22,-26.603491148459533,1,true,35,2,35,35]
[null,36,8,0,2,1,1,1,"1421111-0",{"$f":"IF(ISNA(VLOOKUP(I60,DetRates!$B$19:$C$3186,2,FALSE)),J59,VLOOKUP(I60,DetRates!$B$19:$C$3186,2,FALSE))","v":967},{"$f":"VLOOKUP($J60,DetRates!$C$19:$AA$3186,K$22,FALSE)","v":0},{"$f":"VLOOKUP($J60,DetRates!$C$19:$AA$3186,L$22,FALSE)","v":10},{"$f":"IF($T60<>$T59,VLOOKUP($J60,DetRates!$C$19:$AA$3186,M$22,FALSE),M59)","v":-6},{"$f":"IF($T60<>$T59,VLOOKUP($J60,DetRates!$C$19:$AA$3186,N$22,FALSE),N59)","v":8.3999999999999991E-2},{"$f":"IF($T60<>$T59,VLOOKUP($J60,DetRates!$C$19:$AA$3186,O$22,FALSE),O59)","v":0},{"$f":"IF($T60<>$T59,VLOOKUP($J60,DetRates!$C$19:$AA$3186,P$22,FALSE),P59)","v":-6.75},{"$f":"IF(AND(D60>29,T60>2,T60<>T59,E60<>3),VLOOKUP($J60,DetRates!$C$19:$AA$3186,Q$22),IF(T60<>T59,VLOOKUP($J60,DetRates!$C$19:$AA$3186,Q$22),Q59))","v":0},{"$f":"IF($T60<>$T59,VLOOKUP($J60,DetRates!$C$19:$AA$3186,R$22,FALSE),R59)","v":-12},{"$f":"IF($T60<>$T59,VLOOKUP($J60,DetRates!$C$19:$AA$3186,S$22,FALSE),S59)","v":50},0,{"$f":"VLOOKUP(F60,DetRates!$U$10:$W$12,3,FALSE)","v":20},0,-6,8.3999999999999991E-2,-6.5257733628529566,-6.75,0,false,0,false,false,false,false,false,false,false,false,false,false,false,false,false,false,false,-6.5257733628529566,0,0,null,-6,-6.5257733628529566,"",false,36,2,1,""]
[null,37,8,1,2,1,1,1,"1421111-1",{"$f":"IF(ISNA(VLOOKUP(I61,DetRates!$B$19:$C$3186,2,FALSE)),J60,VLOOKUP(I61,DetRates!$B$19:$C$3186,2,FALSE))","v":967},{"$f":"VLOOKUP($J61,DetRates!$C$19:$AA$3186,K$22,FALSE)","v":0},{"$f":"VLOOKUP($J61,DetRates!$C$19:$AA$3186,L$22,FALSE)","v":10},{"$f":"IF($T61<>$T60,VLOOKUP($J61,DetRates!$C$19:$AA$3186,M$22,FALSE),M60)","v":-6},{"$f":"IF($T61<>$T60,VLOOKUP($J61,DetRates!$C$19:$AA$3186,N$22,FALSE),N60)","v":8.3999999999999991E-2},{"$f":"IF($T61<>$T60,VLOOKUP($J61,DetRates!$C$19:$AA$3186,O$22,FALSE),O60)","v":0},{"$f":"IF($T61<>$T60,VLOOKUP($J61,DetRates!$C$19:$AA$3186,P$22,FALSE),P60)","v":-6.75},{"$f":"IF(AND(D61>29,T61>2,T61<>T60,E61<>3),VLOOKUP($J61,DetRates!$C$19:$AA$3186,Q$22),IF(T61<>T60,VLOOKUP($J61,DetRates!$C$19:$AA$3186,Q$22),Q60))","v":0},{"$f":"IF($T61<>$T60,VLOOKUP($J61,DetRates!$C$19:$AA$3186,R$22,FALSE),R60)","v":-12},{"$f":"IF($T61<>$T60,VLOOKUP($J61,DetRates!$C$19:$AA$3186,S$22,FALSE),S60)","v":50},0,{"$f":"VLOOKUP(F61,DetRates!$U$10:$W$12,3,FALSE)","v":20},1,-6.5257733628529566,8.3999999999999991E-2,-7.0976196638868645,-6.75,0,false,0,false,false,false,false,false,false,false,false,false,false,false,false,false,false,false,-7.0976196638868645,0,0,null,-6.5257733628529566,-7.0976196638868645,"",false,37,2,2,""]
[null,38,8,2,2,1,1,1,"1421111-2",{"$f":"IF(ISNA(VLOOKUP(I62,DetRates!$B$19:$C$3186,2,FALSE)),J61,VLOOKUP(I62,DetRates!$B$19:$C$3186,2,FALSE))","v":967},{"$f":"VLOOKUP($J62,DetRates!$C$19:$AA$3186,K$22,FALSE)","v":0},{"$f":"VLOOKUP($J62,DetRates!$C$19:$AA$3186,L$22,FALSE)","v":10},{"$f":"IF($T62<>$T61,VLOOKUP($J62,DetRates!$C$19:$AA$3186,M$22,FALSE),M61)","v":-6},{"$f":"IF($T62<>$T61,VLOOKUP($J62,DetRates!$C$19:$AA$3186,N$22,FALSE),N61)","v":8.3999999999999991E-2},{"$f":"IF($T62<>$T61,VLOOKUP($J62,DetRates!$C$19:$AA$3186,O$22,FALSE),O61)","v":0},{"$f":"IF($T62<>$T61,VLOOKUP($J62,DetRates!$C$19:$AA$3186,P$22,FALSE),P61)","v":-6.75},{"$f":"IF(AND(D62>29,T62>2,T62<>T61,E62<>3),VLOOKUP($J62,DetRates!$C$19:$AA$3186,Q$22),IF(T62<>T61,VLOOKUP($J62,DetRates!$C$19:$AA$3186,Q$22),Q61))","v":0},{"$f":"IF($T62<>$T61,VLOOKUP($J62,DetRates!$C$19:$AA$3186,R$22,FALSE),R61)","v":-12},{"$f":"IF($T62<>$T61,VLOOKUP($J62,DetRates!$C$19:$AA$3186,S$22,FALSE),S61)","v":50},0,{"$f":"VLOOKUP(F62,DetRates!$U$10:$W$12,3,FALSE)","v":20},2,-7.0976196638868645,8.3999999999999991E-2,-7.7195762237090424,-6.75,0,false,0,false,false,false,false,false,false,false,false,false,false,false,false,false,false,false,-7.7195762237090424,0,0,null,-7.0976196638868645,-7.7195762237090424,"",false,38,2,3,""]
[null,39,8,3,2,1,1,1,"1421111-3",{"$f":"IF(ISNA(VLOOKUP(I63,DetRates!$B$19:$C$3186,2,FALSE)),J62,VLOOKUP(I63,DetRates!$B$19:$C$3186,2,FALSE))","v":967},{"$f":"VLOOKUP($J63,DetRates!$C$19:$AA$3186,K$22,FALSE)","v":0},{"$f":"VLOOKUP($J63,DetRates!$C$19:$AA$3186,L$22,FALSE)","v":10},{"$f":"IF($T63<>$T62,VLOOKUP($J63,DetRates!$C$19:$AA$3186,M$22,FALSE),M62)","v":-6},{"$f":"IF($T63<>$T62,VLOOKUP($J63,DetRates!$C$19:$AA$3186,N$22,FALSE),N62)","v":8.3999999999999991E-2},{"$f":"IF($T63<>$T62,VLOOKUP($J63,DetRates!$C$19:$AA$3186,O$22,FALSE),O62)","v":0},{"$f":"IF($T63<>$T62,VLOOKUP($J63,DetRates!$C$19:$AA$3186,P$22,FALSE),P62)","v":-6.75},{"$f":"IF(AND(D63>29,T63>2,T63<>T62,E63<>3),VLOOKUP($J63,DetRates!$C$19:$AA$3186,Q$22),IF(T63<>T62,VLOOKUP($J63,DetRates!$C$19:$AA$3186,Q$22),Q62))","v":0},{"$f":"IF($T63<>$T62,VLOOKUP($J63,DetRates!$C$19:$AA$3186,R$22,FALSE),R62)","v":-12},{"$f":"IF($T63<>$T62,VLOOKUP($J63,DetRates!$C$19:$AA$3186,S$22,FALSE),S62)","v":50},0,{"$f":"VLOOKUP(F63,DetRates!$U$10:$W$12,3,FALSE)","v":20},3,-7.7195762237090424,8.3999999999999991E-2,-8.3960341488655814,-6.75,0,false,0,false,false,false,false,false,false,false,false,false,false,false,false,false,false,false,-8.3960341488655814,0,0,null,-7.7195762237090424,-8.3960341488655814,"",false,39,2,4,""]
[null,40,9,4,2,1,1,1,"1421111-4",{"$f":"IF(ISNA(VLOOKUP(I64,DetRates!$B$19:$C$3186,2,FALSE)),J63,VLOOKUP(I64,DetRates!$B$19:$C$3186,2,FALSE))","v":967},{"$f":"VLOOKUP($J64,DetRates!$C$19:$AA$3186,K$22,FALSE)","v":0},{"$f":"VLOOKUP($J64,DetRates!$C$19:$AA$3186,L$22,FALSE)","v":10},{"$f":"IF($T64<>$T63,VLOOKUP($J64,DetRates!$C$19:$AA$3186,M$22,FALSE),M63)","v":-6},{"$f":"IF($T64<>$T63,VLOOKUP($J64,DetRates!$C$19:$AA$3186,N$22,FALSE),N63)","v":8.3999999999999991E-2},{"$f":"IF($T64<>$T63,VLOOKUP($J64,DetRates!$C$19:$AA$3186,O$22,FALSE),O63)","v":0},{"$f":"IF($T64<>$T63,VLOOKUP($J64,DetRates!$C$19:$AA$3186,P$22,FALSE),P63)","v":-6.75},{"$f":"IF(AND(D64>29,T64>2,T64<>T63,E64<>3),VLOOKUP($J64,DetRates!$C$19:$AA$3186,Q$22),IF(T64<>T63,VLOOKUP($J64,DetRates!$C$19:$AA$3186,Q$22),Q63))","v":0},{"$f":"IF($T64<>$T63,VLOOKUP($J64,DetRates!$C$19:$AA$3186,R$22,FALSE),R63)","v":-12},{"$f":"IF($T64<>$T63,VLOOKUP($J64,DetRates!$C$19:$AA$3186,S$22,FALSE),S63)","v":50},0,{"$f":"VLOOKUP(F64,DetRates!$U$10:$W$12,3,FALSE)","v":20},4,-8.3960341488655814,8.3999999999999991E-2,-9.1317693337118016,-6.75,0,false,0,false,{"$f":"AND(AE$23,$AE$15,$W64<=AE$21)","v":false},false,false,false,false,false,false,false,false,false,false,false,false,false,-9.1317693337118016,0,0,null,-8.3960341488655814,-9.1317693337118016,"",false,40,2,5,""]
[null,41,9,5,2,1,1,1,"1421111-5",{"$f":"IF(ISNA(VLOOKUP(I65,DetRates!$B$19:$C$3186,2,FALSE)),J64,VLOOKUP(I65,DetRates!$B$19:$C$3186,2,FALSE))","v":967},{"$f":"VLOOKUP($J65,DetRates!$C$19:$AA$3186,K$22,FALSE)","v":0},{"$f":"VLOOKUP($J65,DetRates!$C$19:$AA$3186,L$22,FALSE)","v":10},{"$f":"IF($T65<>$T64,VLOOKUP($J65,DetRates!$C$19:$AA$3186,M$22,FALSE),M64)","v":-6},{"$f":"IF($T65<>$T64,VLOOKUP($J65,DetRates!$C$19:$AA$3186,N$22,FALSE),N64)","v":8.3999999999999991E-2},{"$f":"IF($T65<>$T64,VLOOKUP($J65,DetRates!$C$19:$AA$3186,O$22,FALSE),O64)","v":0},{"$f":"IF($T65<>$T64,VLOOKUP($J65,DetRates!$C$19:$AA$3186,P$22,FALSE),P64)","v":-6.75},{"$f":"IF(AND(D65>29,T65>2,T65<>T64,E65<>3),VLOOKUP($J65,DetRates!$C$19:$AA$3186,Q$22),IF(T65<>T64,VLOOKUP($J65,DetRates!$C$19:$AA$3186,Q$22),Q64))","v":0},{"$f":"IF($T65<>$T64,VLOOKUP($J65,DetRates!$C$19:$AA$3186,R$22,FALSE),R64)","v":-12},{"$f":"IF($T65<>$T64,VLOOKUP($J65,DetRates!$C$19:$AA$3186,S$22,FALSE),S64)","v":50},0,{"$f":"VLOOKUP(F65,DetRates!$U$10:$W$12,3,FALSE)","v":20},5,-9.1317693337118016,8.3999999999999991E-2,-9.9319761789423282,-6.75,0,false,0,false,false,false,false,false,false,false,false,false,false,false,false,false,false,false,-9.9319761789423282,0,0,null,-9.1317693337118016,-9.9319761789423282,"",false,41,2,6,""]
[null,42,9,6,2,1,1,1,"1421111-6",{"$f":"IF(ISNA(VLOOKUP(I66,DetRates!$B$19:$C$3186,2,FALSE)),J65,VLOOKUP(I66,DetRates!$B$19:$C$3186,2,FALSE))","v":967},{"$f":"VLOOKUP($J66,DetRates!$C$19:$AA$3186,K$22,FALSE)","v":0},{"$f":"VLOOKUP($J66,DetRates!$C$19:$AA$3186,L$22,FALSE)","v":10},{"$f":"IF($T66<>$T65,VLOOKUP($J66,DetRates!$C$19:$AA$3186,M$22,FALSE),M65)","v":-6},{"$f":"IF($T66<>$T65,VLOOKUP($J66,DetRates!$C$19:$AA$3186,N$22,FALSE),N65)","v":8.3999999999999991E-2},{"$f":"IF($T66<>$T65,VLOOKUP($J66,DetRates!$C$19:$AA$3186,O$22,FALSE),O65)","v":0},{"$f":"IF($T66<>$T65,VLOOKUP($J66,DetRates!$C$19:$AA$3186,P$22,FALSE),P65)","v":-6.75},{"$f":"IF(AND(D66>29,T66>2,T66<>T65,E66<>3),VLOOKUP($J66,DetRates!$C$19:$AA$3186,Q$22),IF(T66<>T65,VLOOKUP($J66,DetRates!$C$19:$AA$3186,Q$22),Q65))","v":0},{"$f":"IF($T66<>$T65,VLOOKUP($J66,DetRates!$C$19:$AA$3186,R$22,FALSE),R65)","v":-12},{"$f":"IF($T66<>$T65,VLOOKUP($J66,DetRates!$C$19:$AA$3186,S$22,FALSE),S65)","v":50},0,{"$f":"VLOOKUP(F66,DetRates!$U$10:$W$12,3,FALSE)","v":20},6,-9.9319761789423282,8.3999999999999991E-2,-10.802304264838655,-6.75,0,false,0,false,false,false,false,false,false,false,false,false,false,false,false,false,false,false,-10.802304264838655,0,0,null,-9.9319761789423282,-10.802304264838655,"",false,42,2,7,""]
[null,43,9,7,2,1,1,1,"1421111-7",{"$f":"IF(ISNA(VLOOKUP(I67,DetRates!$B$19:$C$3186,2,FALSE)),J66,VLOOKUP(I67,DetRates!$B$19:$C$3186,2,FALSE))","v":967},{"$f":"VLOOKUP($J67,DetRates!$C$19:$AA$3186,K$22,FALSE)","v":0},{"$f":"VLOOKUP($J67,DetRates!$C$19:$AA$3186,L$22,FALSE)","v":10},{"$f":"IF($T67<>$T66,VLOOKUP($J67,DetRates!$C$19:$AA$3186,M$22,FALSE),M66)","v":-6},{"$f":"IF($T67<>$T66,VLOOKUP($J67,DetRates!$C$19:$AA$3186,N$22,FALSE),N66)","v":8.3999999999999991E-2},{"$f":"IF($T67<>$T66,VLOOKUP($J67,DetRates!$C$19:$AA$3186,O$22,FALSE),O66)","v":0},{"$f":"IF($T67<>$T66,VLOOKUP($J67,DetRates!$C$19:$AA$3186,P$22,FALSE),P66)","v":-6.75},{"$f":"IF(AND(D67>29,T67>2,T67<>T66,E67<>3),VLOOKUP($J67,DetRates!$C$19:$AA$3186,Q$22),IF(T67<>T66,VLOOKUP($J67,DetRates!$C$19:$AA$3186,Q$22),Q66))","v":0},{"$f":"IF($T67<>$T66,VLOOKUP($J67,DetRates!$C$19:$AA$3186,R$22,FALSE),R66)","v":-12},{"$f":"IF($T67<>$T66,VLOOKUP($J67,DetRates!$C$19:$AA$3186,S$22,FALSE),S66)","v":50},0,{"$f":"VLOOKUP(F67,DetRates!$U$10:$W$12,3,FALSE)","v":20},7,-10.802304264838655,8.3999999999999991E-2,-11.748898238152831,-6.75,0,false,0,false,false,false,false,false,false,false,false,false,false,false,false,false,false,false,-11.748898238152831,0,0,null,-10.802304264838655,-11.748898238152831,"",false,43,2,8,""]
[null,44,9,8,2,1,1,1,"1421111-8",{"$f":"IF(ISNA(VLOOKUP(I68,DetRates!$B$19:$C$3186,2,FALSE)),J67,VLOOKUP(I68,DetRates!$B$19:$C$3186,2,FALSE))","v":967},{"$f":"VLOOKUP($J68,DetRates!$C$19:$AA$3186,K$22,FALSE)","v":0},{"$f":"VLOOKUP($J68,DetRates!$C$19:$AA$3186,L$22,FALSE)","v":10},{"$f":"IF($T68<>$T67,VLOOKUP($J68,DetRates!$C$19:$AA$3186,M$22,FALSE),M67)","v":-6},{"$f":"IF($T68<>$T67,VLOOKUP($J68,DetRates!$C$19:$AA$3186,N$22,FALSE),N67)","v":8.3999999999999991E-2},{"$f":"IF($T68<>$T67,VLOOKUP($J68,DetRates!$C$19:$AA$3186,O$22,FALSE),O67)","v":0},{"$f":"IF($T68<>$T67,VLOOKUP($J68,DetRates!$C$19:$AA$3186,P$22,FALSE),P67)","v":-6.75},{"$f":"IF(AND(D68>29,T68>2,T68<>T67,E68<>3),VLOOKUP($J68,DetRates!$C$19:$AA$3186,Q$22),IF(T68<>T67,VLOOKUP($J68,DetRates!$C$19:$AA$3186,Q$22),Q67))","v":0},{"$f":"IF($T68<>$T67,VLOOKUP($J68,DetRates!$C$19:$AA$3186,R$22,FALSE),R67)","v":-12},{"$f":"IF($T68<>$T67,VLOOKUP($J68,DetRates!$C$19:$AA$3186,S$22,FALSE),S67)","v":50},0,{"$f":"VLOOKUP(F68,DetRates!$U$10:$W$12,3,FALSE)","v":20},8,-11.748898238152831,8.3999999999999991E-2,-12.778441194234629,-6.75,0,false,0,false,false,false,false,false,true,false,false,true,false,false,false,false,false,true,-6.75,1,0,null,-11.748898238152831,-12.778441194234629,"",false,44,2,9,""]
[null,45,10,9,2,1,1,1,"1421111-9",{"$f":"IF(ISNA(VLOOKUP(I69,DetRates!$B$19:$C$3186,2,FALSE)),J68,VLOOKUP(I69,DetRates!$B$19:$C$3186,2,FALSE))","v":967},{"$f":"VLOOKUP($J69,DetRates!$C$19:$AA$3186,K$22,FALSE)","v":0},{"$f":"VLOOKUP($J69,DetRates!$C$19:$AA$3186,L$22,FALSE)","v":10},{"$f":"IF($T69<>$T68,VLOOKUP($J69,DetRates!$C$19:$AA$3186,M$22,FALSE),M68)","v":-6},{"$f":"IF($T69<>$T68,VLOOKUP($J69,DetRates!$C$19:$AA$3186,N$22,FALSE),N68)","v":8.3999999999999991E-2},{"$f":"IF($T69<>$T68,VLOOKUP($J69,DetRates!$C$19:$AA$3186,O$22,FALSE),O68)","v":0},{"$f":"IF($T69<>$T68,VLOOKUP($J69,DetRates!$C$19:$AA$3186,P$22,FALSE),P68)","v":-6.75},{"$f":"IF(AND(D69>29,T69>2,T69<>T68,E69<>3),VLOOKUP($J69,DetRates!$C$19:$AA$3186,Q$22),IF(T69<>T68,VLOOKUP($J69,DetRates!$C$19:$AA$3186,Q$22),Q68))","v":0},{"$f":"IF($T69<>$T68,VLOOKUP($J69,DetRates!$C$19:$AA$3186,R$22,FALSE),R68)","v":-12},{"$f":"IF($T69<>$T68,VLOOKUP($J69,DetRates!$C$19:$AA$3186,S$22,FALSE),S68)","v":50},1,{"$f":"VLOOKUP(F69,DetRates!$U$10:$W$12,3,FALSE)","v":20},9,-6.75,8.3999999999999991E-2,-7.3414950332095765,-6.75,0,false,0,false,false,false,false,false,false,false,false,false,false,false,false,false,false,false,-7.3414950332095765,0,0,null,-6.75,-7.3414950332095765,"",false,45,2,10,""]
[null,46,10,10,2,1,1,1,"1421111-10",{"$f":"IF(ISNA(VLOOKUP(I70,DetRates!$B$19:$C$3186,2,FALSE)),J69,VLOOKUP(I70,DetRates!$B$19:$C$3186,2,FALSE))","v":968},{"$f":"VLOOKUP($J70,DetRates!$C$19:$AA$3186,K$22,FALSE)","v":10},{"$f":"VLOOKUP($J70,DetRates!$C$19:$AA$3186,L$22,FALSE)","v":20},{"$f":"IF($T70<>$T69,VLOOKUP($J70,DetRates!$C$19:$AA$3186,M$22,FALSE),M69)","v":-6},{"$f":"IF($T70<>$T69,VLOOKUP($J70,DetRates!$C$19:$AA$3186,N$22,FALSE),N69)","v":8.3999999999999991E-2},{"$f":"IF($T70<>$T69,VLOOKUP($J70,DetRates!$C$19:$AA$3186,O$22,FALSE),O69)","v":0},{"$f":"IF($T70<>$T69,VLOOKUP($J70,DetRates!$C$19:$AA$3186,P$22,FALSE),P69)","v":-6.75},{"$f":"IF(AND(D70>29,T70>2,T70<>T69,E70<>3),VLOOKUP($J70,DetRates!$C$19:$AA$3186,Q$22),IF(T70<>T69,VLOOKUP($J70,DetRates!$C$19:$AA$3186,Q$22),Q69))","v":0},{"$f":"IF($T70<>$T69,VLOOKUP($J70,DetRates!$C$19:$AA$3186,R$22,FALSE),R69)","v":-12},{"$f":"IF($T70<>$T69,VLOOKUP($J70,DetRates!$C$19:$AA$3186,S$22,FALSE),S69)","v":50},1,{"$f":"VLOOKUP(F70,DetRates!$U$10:$W$12,3,FALSE)","v":20},0,-7.3414950332095765,8.3999999999999991E-2,-7.9848221218727229,-6.75,0,false,0,false,false,false,false,false,false,false,false,false,false,false,false,false,false,false,-7.9848221218727229,0,0,null,-7.3414950332095765,-7.9848221218727229,"",false,46,2,11,""]
[null,47,10,11,2,1,1,1,"1421111-11",{"$f":"IF(ISNA(VLOOKUP(I71,DetRates!$B$19:$C$3186,2,FALSE)),J70,VLOOKUP(I71,DetRates!$B$19:$C$3186,2,FALSE))","v":968},{"$f":"VLOOKUP($J71,DetRates!$C$19:$AA$3186,K$22,FALSE)","v":10},{"$f":"VLOOKUP($J71,DetRates!$C$19:$AA$3186,L$22,FALSE)","v":20},{"$f":"IF($T71<>$T70,VLOOKUP($J71,DetRates!$C$19:$AA$3186,M$22,FALSE),M70)","v":-6},{"$f":"IF($T71<>$T70,VLOOKUP($J71,DetRates!$C$19:$AA$3186,N$22,FALSE),N70)","v":8.3999999999999991E-2},{"$f":"IF($T71<>$T70,VLOOKUP($J71,DetRates!$C$19:$AA$3186,O$22,FALSE),O70)","v":0},{"$f":"IF($T71<>$T70,VLOOKUP($J71,DetRates!$C$19:$AA$3186,P$22,FALSE),P70)","v":-6.75},{"$f":"IF(AND(D71>29,T71>2,T71<>T70,E71<>3),VLOOKUP($J71,DetRates!$C$19:$AA$3186,Q$22),IF(T71<>T70,VLOOKUP($J71,DetRates!$C$19:$AA$3186,Q$22),Q70))","v":0},{"$f":"IF($T71<>$T70,VLOOKUP($J71,DetRates!$C$19:$AA$3186,R$22,FALSE),R70)","v":-12},{"$f":"IF($T71<>$T70,VLOOKUP($J71,DetRates!$C$19:$AA$3186,S$22,FALSE),S70)","v":50},1,{"$f":"VLOOKUP(F71,DetRates!$U$10:$W$12,3,FALSE)","v":20},1,-7.9848221218727229,8.3999999999999991E-2,-8.6845232516726725,-6.75,0,false,0,false,false,false,false,false,false,false,false,false,false,false,false,{"$f":"IF(D71<21,FALSE,IF(AND(T70<T71,T70<>0,AL71,$AP$15),TRUE,FALSE))","v":false},false,false,-8.6845232516726725,0,0,null,-7.9848221218727229,-8.6845232516726725,"",false,47,2,12,""]
[null,48,10,12,2,1,1,1,"1421111-12",{"$f":"IF(ISNA(VLOOKUP(I72,DetRates!$B$19:$C$3186,2,FALSE)),J71,VLOOKUP(I72,DetRates!$B$19:$C$3186,2,FALSE))","v":968},{"$f":"VLOOKUP($J72,DetRates!$C$19:$AA$3186,K$22,FALSE)","v":10},{"$f":"VLOOKUP($J72,DetRates!$C$19:$AA$3186,L$22,FALSE)","v":20},{"$f":"IF($T72<>$T71,VLOOKUP($J72,DetRates!$C$19:$AA$3186,M$22,FALSE),M71)","v":-6},{"$f":"IF($T72<>$T71,VLOOKUP($J72,DetRates!$C$19:$AA$3186,N$22,FALSE),N71)","v":8.3999999999999991E-2},{"$f":"IF($T72<>$T71,VLOOKUP($J72,DetRates!$C$19:$AA$3186,O$22,FALSE),O71)","v":0},{"$f":"IF($T72<>$T71,VLOOKUP($J72,DetRates!$C$19:$AA$3186,P$22,FALSE),P71)","v":-6.75},{"$f":"IF(AND(D72>29,T72>2,T72<>T71,E72<>3),VLOOKUP($J72,DetRates!$C$19:$AA$3186,Q$22),IF(T72<>T71,VLOOKUP($J72,DetRates!$C$19:$AA$3186,Q$22),Q71))","v":0},{"$f":"IF($T72<>$T71,VLOOKUP($J72,DetRates!$C$19:$AA$3186,R$22,FALSE),R71)","v":-12},{"$f":"IF($T72<>$T71,VLOOKUP($J72,DetRates!$C$19:$AA$3186,S$22,FALSE),S71)","v":50},1,{"$f":"VLOOKUP(F72,DetRates!$U$10:$W$12,3,FALSE)","v":20},2,-8.6845232516726725,8.3999999999999991E-2,-9.4455384174737791,-6.75,0,false,0,false,false,false,false,false,false,false,false,false,false,false,false,false,false,false,-9.4455384174737791,0,0,null,-8.6845232516726725,-9.4455384174737791,"",false,48,2,13,""]
[null,49,10,13,2,1,1,1,"1421111-13",{"$f":"IF(ISNA(VLOOKUP(I73,DetRates!$B$19:$C$3186,2,FALSE)),J72,VLOOKUP(I73,DetRates!$B$19:$C$3186,2,FALSE))","v":968},{"$f":"VLOOKUP($J73,DetRates!$C$19:$AA$3186,K$22,FALSE)","v":10},{"$f":"VLOOKUP($J73,DetRates!$C$19:$AA$3186,L$22,FALSE)","v":20},{"$f":"IF($T73<>$T72,VLOOKUP($J73,DetRates!$C$19:$AA$3186,M$22,FALSE),M72)","v":-6},{"$f":"IF($T73<>$T72,VLOOKUP($J73,DetRates!$C$19:$AA$3186,N$22,FALSE),N72)","v":8.3999999999999991E-2},{"$f":"IF($T73<>$T72,VLOOKUP($J73,DetRates!$C$19:$AA$3186,O$22,FALSE),O72)","v":0},{"$f":"IF($T73<>$T72,VLOOKUP($J73,DetRates!$C$19:$AA$3186,P$22,FALSE),P72)","v":-6.75},{"$f":"IF(AND(D73>29,T73>2,T73<>T72,E73<>3),VLOOKUP($J73,DetRates!$C$19:$AA$3186,Q$22),IF(T73<>T72,VLOOKUP($J73,DetRates!$C$19:$AA$3186,Q$22),Q72))","v":0},{"$f":"IF($T73<>$T72,VLOOKUP($J73,DetRates!$C$19:$AA$3186,R$22,FALSE),R72)","v":-12},{"$f":"IF($T73<>$T72,VLOOKUP($J73,DetRates!$C$19:$AA$3186,S$22,FALSE),S72)","v":50},1,{"$f":"VLOOKUP(F73,DetRates!$U$10:$W$12,3,FALSE)","v":20},3,-9.4455384174737791,8.3999999999999991E-2,-10.273240500425777,-6.75,0,false,0,false,false,false,false,false,false,false,false,false,false,false,false,false,false,false,-10.273240500425777,0,0,null,-9.4455384174737791,-10.273240500425777,"",false,49,2,14,""]
[null,50,11,14,2,1,1,1,"1421111-14",{"$f":"IF(ISNA(VLOOKUP(I74,DetRates!$B$19:$C$3186,2,FALSE)),J73,VLOOKUP(I74,DetRates!$B$19:$C$3186,2,FALSE))","v":968},{"$f":"VLOOKUP($J74,DetRates!$C$19:$AA$3186,K$22,FALSE)","v":10},{"$f":"VLOOKUP($J74,DetRates!$C$19:$AA$3186,L$22,FALSE)","v":20},{"$f":"IF($T74<>$T73,VLOOKUP($J74,DetRates!$C$19:$AA$3186,M$22,FALSE),M73)","v":-6},{"$f":"IF($T74<>$T73,VLOOKUP($J74,DetRates!$C$19:$AA$3186,N$22,FALSE),N73)","v":8.3999999999999991E-2},{"$f":"IF($T74<>$T73,VLOOKUP($J74,DetRates!$C$19:$AA$3186,O$22,FALSE),O73)","v":0},{"$f":"IF($T74<>$T73,VLOOKUP($J74,DetRates!$C$19:$AA$3186,P$22,FALSE),P73)","v":-6.75},{"$f":"IF(AND(D74>29,T74>2,T74<>T73,E74<>3),VLOOKUP($J74,DetRates!$C$19:$AA$3186,Q$22),IF(T74<>T73,VLOOKUP($J74,DetRates!$C$19:$AA$3186,Q$22),Q73))","v":0},{"$f":"IF($T74<>$T73,VLOOKUP($J74,DetRates!$C$19:$AA$3186,R$22,FALSE),R73)","v":-12},{"$f":"IF($T74<>$T73,VLOOKUP($J74,DetRates!$C$19:$AA$3186,S$22,FALSE),S73)","v":50},1,{"$f":"VLOOKUP(F74,DetRates!$U$10:$W$12,3,FALSE)","v":20},4,-10.273240500425777,8.3999999999999991E-2,-11.173473201310118,-6.75,0,false,0,false,false,false,false,false,false,false,false,false,false,false,false,false,false,false,-11.173473201310118,0,0,null,-10.273240500425777,-11.173473201310118,"",false,50,2,15,""]
[null,51,11,15,2,1,1,1,"1421111-15",{"$f":"IF(ISNA(VLOOKUP(I75,DetRates!$B$19:$C$3186,2,FALSE)),J74,VLOOKUP(I75,DetRates!$B$19:$C$3186,2,FALSE))","v":968},{"$f":"VLOOKUP($J75,DetRates!$C$19:$AA$3186,K$22,FALSE)","v":10},{"$f":"VLOOKUP($J75,DetRates!$C$19:$AA$3186,L$22,FALSE)","v":20},{"$f":"IF($T75<>$T74,VLOOKUP($J75,DetRates!$C$19:$AA$3186,M$22,FALSE),M74)","v":-6},{"$f":"IF($T75<>$T74,VLOOKUP($J75,DetRates!$C$19:$AA$3186,N$22,FALSE),N74)","v":8.3999999999999991E-2},{"$f":"IF($T75<>$T74,VLOOKUP($J75,DetRates!$C$19:$AA$3186,O$22,FALSE),O74)","v":0},{"$f":"IF($T75<>$T74,VLOOKUP($J75,DetRates!$C$19:$AA$3186,P$22,FALSE),P74)","v":-6.75},{"$f":"IF(AND(D75>29,T75>2,T75<>T74,E75<>3),VLOOKUP($J75,DetRates!$C$19:$AA$3186,Q$22),IF(T75<>T74,VLOOKUP($J75,DetRates!$C$19:$AA$3186,Q$22),Q74))","v":0},{"$f":"IF($T75<>$T74,VLOOKUP($J75,DetRates!$C$19:$AA$3186,R$22,FALSE),R74)","v":-12},{"$f":"IF($T75<>$T74,VLOOKUP($J75,DetRates!$C$19:$AA$3186,S$22,FALSE),S74)","v":50},1,{"$f":"VLOOKUP(F75,DetRates!$U$10:$W$12,3,FALSE)","v":20},5,-11.173473201310118,8.3999999999999991E-2,-12.152592297943487,-6.75,0,false,0,false,false,false,false,false,true,false,false,true,false,false,false,false,false,true,-6.75,1,0,null,-11.173473201310118,-12.152592297943487,"",false,51,2,16,""]
[null,52,11,16,2,1,1,1,"1421111-16",{"$f":"IF(ISNA(VLOOKUP(I76,DetRates!$B$19:$C$3186,2,FALSE)),J75,VLOOKUP(I76,DetRates!$B$19:$C$3186,2,FALSE))","v":968},{"$f":"VLOOKUP($J76,DetRates!$C$19:$AA$3186,K$22,FALSE)","v":10},{"$f":"VLOOKUP($J76,DetRates!$C$19:$AA$3186,L$22,FALSE)","v":20},{"$f":"IF($T76<>$T75,VLOOKUP($J76,DetRates!$C$19:$AA$3186,M$22,FALSE),M75)","v":-6},{"$f":"IF($T76<>$T75,VLOOKUP($J76,DetRates!$C$19:$AA$3186,N$22,FALSE),N75)","v":6.3E-2},{"$f":"IF($T76<>$T75,VLOOKUP($J76,DetRates!$C$19:$AA$3186,O$22,FALSE),O75)","v":0},{"$f":"IF($T76<>$T75,VLOOKUP($J76,DetRates!$C$19:$AA$3186,P$22,FALSE),P75)","v":-7.2},{"$f":"IF(AND(D76>29,T76>2,T76<>T75,E76<>3),VLOOKUP($J76,DetRates!$C$19:$AA$3186,Q$22),IF(T76<>T75,VLOOKUP($J76,DetRates!$C$19:$AA$3186,Q$22),Q75))","v":0},{"$f":"IF($T76<>$T75,VLOOKUP($J76,DetRates!$C$19:$AA$3186,R$22,FALSE),R75)","v":-15},{"$f":"IF($T76<>$T75,VLOOKUP($J76,DetRates!$C$19:$AA$3186,S$22,FALSE),S75)","v":50},2,{"$f":"VLOOKUP(F76,DetRates!$U$10:$W$12,3,FALSE)","v":20},6,-6.75,6.3E-2,-7.1889311648113114,-7.2,0,false,0,false,false,false,false,false,false,false,false,false,false,false,false,false,false,false,-7.1889311648113114,0,0,null,-6.75,-7.1889311648113114,"",false,52,2,17,""]
[null,53,11,17,2,1,1,1,"1421111-17",{"$f":"IF(ISNA(VLOOKUP(I77,DetRates!$B$19:$C$3186,2,FALSE)),J76,VLOOKUP(I77,DetRates!$B$19:$C$3186,2,FALSE))","v":968},{"$f":"VLOOKUP($J77,DetRates!$C$19:$AA$3186,K$22,FALSE)","v":10},{"$f":"VLOOKUP($J77,DetRates!$C$19:$AA$3186,L$22,FALSE)","v":20},{"$f":"IF($T77<>$T76,VLOOKUP($J77,DetRates!$C$19:$AA$3186,M$22,FALSE),M76)","v":-6},{"$f":"IF($T77<>$T76,VLOOKUP($J77,DetRates!$C$19:$AA$3186,N$22,FALSE),N76)","v":6.3E-2},{"$f":"IF($T77<>$T76,VLOOKUP($J77,DetRates!$C$19:$AA$3186,O$22,FALSE),O76)","v":0},{"$f":"IF($T77<>$T76,VLOOKUP($J77,DetRates!$C$19:$AA$3186,P$22,FALSE),P76)","v":-7.2},{"$f":"IF(AND(D77>29,T77>2,T77<>T76,E77<>3),VLOOKUP($J77,DetRates!$C$19:$AA$3186,Q$22),IF(T77<>T76,VLOOKUP($J77,DetRates!$C$19:$AA$3186,Q$22),Q76))","v":0},{"$f":"IF($T77<>$T76,VLOOKUP($J77,DetRates!$C$19:$AA$3186,R$22,FALSE),R76)","v":-15},{"$f":"IF($T77<>$T76,VLOOKUP($J77,DetRates!$C$19:$AA$3186,S$22,FALSE),S76)","v":50},2,{"$f":"VLOOKUP(F77,DetRates!$U$10:$W$12,3,FALSE)","v":20},7,-7.1889311648113114,6.3E-2,-7.656404635910417,-7.2,0,false,0,false,false,false,false,false,false,false,false,false,false,false,false,false,false,false,-7.656404635910417,0,0,null,-7.1889311648113114,-7.656404635910417,"",false,53,2,18,""]
[null,54,11,18,2,1,1,1,"1421111-18",{"$f":"IF(ISNA(VLOOKUP(I78,DetRates!$B$19:$C$3186,2,FALSE)),J77,VLOOKUP(I78,DetRates!$B$19:$C$3186,2,FALSE))","v":968},{"$f":"VLOOKUP($J78,DetRates!$C$19:$AA$3186,K$22,FALSE)","v":10},{"$f":"VLOOKUP($J78,DetRates!$C$19:$AA$3186,L$22,FALSE)","v":20},{"$f":"IF($T78<>$T77,VLOOKUP($J78,DetRates!$C$19:$AA$3186,M$22,FALSE),M77)","v":-6},{"$f":"IF($T78<>$T77,VLOOKUP($J78,DetRates!$C$19:$AA$3186,N$22,FALSE),N77)","v":6.3E-2},{"$f":"IF($T78<>$T77,VLOOKUP($J78,DetRates!$C$19:$AA$3186,O$22,FALSE),O77)","v":0},{"$f":"IF($T78<>$T77,VLOOKUP($J78,DetRates!$C$19:$AA$3186,P$22,FALSE),P77)","v":-7.2},{"$f":"IF(AND(D78>29,T78>2,T78<>T77,E78<>3),VLOOKUP($J78,DetRates!$C$19:$AA$3186,Q$22),IF(T78<>T77,VLOOKUP($J78,DetRates!$C$19:$AA$3186,Q$22),Q77))","v":0},{"$f":"IF($T78<>$T77,VLOOKUP($J78,DetRates!$C$19:$AA$3186,R$22,FALSE),R77)","v":-15},{"$f":"IF($T78<>$T77,VLOOKUP($J78,DetRates!$C$19:$AA$3186,S$22,FALSE),S77)","v":50},2,{"$f":"VLOOKUP(F78,DetRates!$U$10:$W$12,3,FALSE)","v":20},8,-7.656404635910417,6.3E-2,-8.1542764292595855,-7.2,0,false,0,false,false,false,false,false,false,false,false,false,false,false,false,false,false,false,-8.1542764292595855,0,0,null,-7.656404635910417,-8.1542764292595855,"",false,54,2,19,""]
[null,55,12,19,2,1,1,1,"1421111-19",{"$f":"IF(ISNA(VLOOKUP(I79,DetRates!$B$19:$C$3186,2,FALSE)),J78,VLOOKUP(I79,DetRates!$B$19:$C$3186,2,FALSE))","v":968},{"$f":"VLOOKUP($J79,DetRates!$C$19:$AA$3186,K$22,FALSE)","v":10},{"$f":"VLOOKUP($J79,DetRates!$C$19:$AA$3186,L$22,FALSE)","v":20},{"$f":"IF($T79<>$T78,VLOOKUP($J79,DetRates!$C$19:$AA$3186,M$22,FALSE),M78)","v":-6},{"$f":"IF($T79<>$T78,VLOOKUP($J79,DetRates!$C$19:$AA$3186,N$22,FALSE),N78)","v":6.3E-2},{"$f":"IF($T79<>$T78,VLOOKUP($J79,DetRates!$C$19:$AA$3186,O$22,FALSE),O78)","v":0},{"$f":"IF($T79<>$T78,VLOOKUP($J79,DetRates!$C$19:$AA$3186,P$22,FALSE),P78)","v":-7.2},{"$f":"IF(AND(D79>29,T79>2,T79<>T78,E79<>3),VLOOKUP($J79,DetRates!$C$19:$AA$3186,Q$22),IF(T79<>T78,VLOOKUP($J79,DetRates!$C$19:$AA$3186,Q$22),Q78))","v":0},{"$f":"IF($T79<>$T78,VLOOKUP($J79,DetRates!$C$19:$AA$3186,R$22,FALSE),R78)","v":-15},{"$f":"IF($T79<>$T78,VLOOKUP($J79,DetRates!$C$19:$AA$3186,S$22,FALSE),S78)","v":50},2,{"$f":"VLOOKUP(F79,DetRates!$U$10:$W$12,3,FALSE)","v":20},9,-8.1542764292595855,6.3E-2,-8.6845232516726707,-7.2,0,false,0,false,false,false,false,false,false,false,false,false,false,false,false,false,false,false,-8.6845232516726707,0,0,null,-8.1542764292595855,-8.6845232516726707,"",false,55,2,20,""]
[null,56,12,20,2,1,1,1,"1421111-20",{"$f":"IF(ISNA(VLOOKUP(I80,DetRates!$B$19:$C$3186,2,FALSE)),J79,VLOOKUP(I80,DetRates!$B$19:$C$3186,2,FALSE))","v":969},{"$f":"VLOOKUP($J80,DetRates!$C$19:$AA$3186,K$22,FALSE)","v":20},{"$f":"VLOOKUP($J80,DetRates!$C$19:$AA$3186,L$22,FALSE)","v":30},{"$f":"IF($T80<>$T79,VLOOKUP($J80,DetRates!$C$19:$AA$3186,M$22,FALSE),M79)","v":-6},{"$f":"IF($T80<>$T79,VLOOKUP($J80,DetRates!$C$19:$AA$3186,N$22,FALSE),N79)","v":6.3E-2},{"$f":"IF($T80<>$T79,VLOOKUP($J80,DetRates!$C$19:$AA$3186,O$22,FALSE),O79)","v":0},{"$f":"IF($T80<>$T79,VLOOKUP($J80,DetRates!$C$19:$AA$3186,P$22,FALSE),P79)","v":-7.2},{"$f":"IF(AND(D80>29,T80>2,T80<>T79,E80<>3),VLOOKUP($J80,DetRates!$C$19:$AA$3186,Q$22),IF(T80<>T79,VLOOKUP($J80,DetRates!$C$19:$AA$3186,Q$22),Q79))","v":0},{"$f":"IF($T80<>$T79,VLOOKUP($J80,DetRates!$C$19:$AA$3186,R$22,FALSE),R79)","v":-15},{"$f":"IF($T80<>$T79,VLOOKUP($J80,DetRates!$C$19:$AA$3186,S$22,FALSE),S79)","v":50},2,{"$f":"VLOOKUP(F80,DetRates!$U$10:$W$12,3,FALSE)","v":20},0,-8.6845232516726707,6.3E-2,-9.2492503489597233,-7.2,0,false,0,false,false,false,false,false,false,false,false,false,false,false,false,false,false,false,-9.2492503489597233,0,0,null,-8.6845232516726707,-9.2492503489597233,"",false,56,2,21,""]
[null,57,12,21,2,1,1,1,"1421111-21",{"$f":"IF(ISNA(VLOOKUP(I81,DetRates!$B$19:$C$3186,2,FALSE)),J80,VLOOKUP(I81,DetRates!$B$19:$C$3186,2,FALSE))","v":969},{"$f":"VLOOKUP($J81,DetRates!$C$19:$AA$3186,K$22,FALSE)","v":20},{"$f":"VLOOKUP($J81,DetRates!$C$19:$AA$3186,L$22,FALSE)","v":30},{"$f":"IF($T81<>$T80,VLOOKUP($J81,DetRates!$C$19:$AA$3186,M$22,FALSE),M80)","v":-6},{"$f":"IF($T81<>$T80,VLOOKUP($J81,DetRates!$C$19:$AA$3186,N$22,FALSE),N80)","v":6.3E-2},{"$f":"IF($T81<>$T80,VLOOKUP($J81,DetRates!$C$19:$AA$3186,O$22,FALSE),O80)","v":0},{"$f":"IF($T81<>$T80,VLOOKUP($J81,DetRates!$C$19:$AA$3186,P$22,FALSE),P80)","v":-7.2},{"$f":"IF(AND(D81>29,T81>2,T81<>T80,E81<>3),VLOOKUP($J81,DetRates!$C$19:$AA$3186,Q$22),IF(T81<>T80,VLOOKUP($J81,DetRates!$C$19:$AA$3186,Q$22),Q80))","v":0},{"$f":"IF($T81<>$T80,VLOOKUP($J81,DetRates!$C$19:$AA$3186,R$22,FALSE),R80)","v":-15},{"$f":"IF($T81<>$T80,VLOOKUP($J81,DetRates!$C$19:$AA$3186,S$22,FALSE),S80)","v":50},2,{"$f":"VLOOKUP(F81,DetRates!$U$10:$W$12,3,FALSE)","v":20},1,-9.2492503489597233,6.3E-2,-9.8506998644116219,-7.2,0,false,0,false,false,false,false,false,false,false,false,false,false,false,false,false,false,false,-9.8506998644116219,0,0,null,-9.2492503489597233,-9.8506998644116219,"",false,57,2,22,""]
[null,58,12,22,2,1,1,1,"1421111-22",{"$f":"IF(ISNA(VLOOKUP(I82,DetRates!$B$19:$C$3186,2,FALSE)),J81,VLOOKUP(I82,DetRates!$B$19:$C$3186,2,FALSE))","v":969},{"$f":"VLOOKUP($J82,DetRates!$C$19:$AA$3186,K$22,FALSE)","v":20},{"$f":"VLOOKUP($J82,DetRates!$C$19:$AA$3186,L$22,FALSE)","v":30},{"$f":"IF($T82<>$T81,VLOOKUP($J82,DetRates!$C$19:$AA$3186,M$22,FALSE),M81)","v":-6},{"$f":"IF($T82<>$T81,VLOOKUP($J82,DetRates!$C$19:$AA$3186,N$22,FALSE),N81)","v":6.3E-2},{"$f":"IF($T82<>$T81,VLOOKUP($J82,DetRates!$C$19:$AA$3186,O$22,FALSE),O81)","v":0},{"$f":"IF($T82<>$T81,VLOOKUP($J82,DetRates!$C$19:$AA$3186,P$22,FALSE),P81)","v":-7.2},{"$f":"IF(AND(D82>29,T82>2,T82<>T81,E82<>3),VLOOKUP($J82,DetRates!$C$19:$AA$3186,Q$22),IF(T82<>T81,VLOOKUP($J82,DetRates!$C$19:$AA$3186,Q$22),Q81))","v":0},{"$f":"IF($T82<>$T81,VLOOKUP($J82,DetRates!$C$19:$AA$3186,R$22,FALSE),R81)","v":-15},{"$f":"IF($T82<>$T81,VLOOKUP($J82,DetRates!$C$19:$AA$3186,S$22,FALSE),S81)","v":50},2,{"$f":"VLOOKUP(F82,DetRates!$U$10:$W$12,3,FALSE)","v":20},2,-9.8506998644116219,6.3E-2,-10.491259740810557,-7.2,0,false,0,false,false,false,false,false,false,false,false,false,false,false,false,false,false,false,-10.491259740810557,0,0,null,-9.8506998644116219,-10.491259740810557,"",false,58,2,23,""]
[null,59,12,23,2,1,1,1,"1421111-23",{"$f":"IF(ISNA(VLOOKUP(I83,DetRates!$B$19:$C$3186,2,FALSE)),J82,VLOOKUP(I83,DetRates!$B$19:$C$3186,2,FALSE))","v":969},{"$f":"VLOOKUP($J83,DetRates!$C$19:$AA$3186,K$22,FALSE)","v":20},{"$f":"VLOOKUP($J83,DetRates!$C$19:$AA$3186,L$22,FALSE)","v":30},{"$f":"IF($T83<>$T82,VLOOKUP($J83,DetRates!$C$19:$AA$3186,M$22,FALSE),M82)","v":-6},{"$f":"IF($T83<>$T82,VLOOKUP($J83,DetRates!$C$19:$AA$3186,N$22,FALSE),N82)","v":6.3E-2},{"$f":"IF($T83<>$T82,VLOOKUP($J83,DetRates!$C$19:$AA$3186,O$22,FALSE),O82)","v":0},{"$f":"IF($T83<>$T82,VLOOKUP($J83,DetRates!$C$19:$AA$3186,P$22,FALSE),P82)","v":-7.2},{"$f":"IF(AND(D83>29,T83>2,T83<>T82,E83<>3),VLOOKUP($J83,DetRates!$C$19:$AA$3186,Q$22),IF(T83<>T82,VLOOKUP($J83,DetRates!$C$19:$AA$3186,Q$22),Q82))","v":0},{"$f":"IF($T83<>$T82,VLOOKUP($J83,DetRates!$C$19:$AA$3186,R$22,FALSE),R82)","v":-15},{"$f":"IF($T83<>$T82,VLOOKUP($J83,DetRates!$C$19:$AA$3186,S$22,FALSE),S82)","v":50},2,{"$f":"VLOOKUP(F83,DetRates!$U$10:$W$12,3,FALSE)","v":20},3,-10.491259740810557,6.3E-2,-11.173473201310111,-7.2,0,false,0,false,false,false,false,false,false,false,false,false,false,false,false,false,false,false,-11.173473201310111,0,0,null,-10.491259740810557,-11.173473201310111,"",false,59,2,24,""]
[null,60,13,24,2,1,1,1,"1421111-24",{"$f":"IF(ISNA(VLOOKUP(I84,DetRates!$B$19:$C$3186,2,FALSE)),J83,VLOOKUP(I84,DetRates!$B$19:$C$3186,2,FALSE))","v":969},{"$f":"VLOOKUP($J84,DetRates!$C$19:$AA$3186,K$22,FALSE)","v":20},{"$f":"VLOOKUP($J84,DetRates!$C$19:$AA$3186,L$22,FALSE)","v":30},{"$f":"IF($T84<>$T83,VLOOKUP($J84,DetRates!$C$19:$AA$3186,M$22,FALSE),M83)","v":-6},{"$f":"IF($T84<>$T83,VLOOKUP($J84,DetRates!$C$19:$AA$3186,N$22,FALSE),N83)","v":6.3E-2},{"$f":"IF($T84<>$T83,VLOOKUP($J84,DetRates!$C$19:$AA$3186,O$22,FALSE),O83)","v":0},{"$f":"IF($T84<>$T83,VLOOKUP($J84,DetRates!$C$19:$AA$3186,P$22,FALSE),P83)","v":-7.2},{"$f":"IF(AND(D84>29,T84>2,T84<>T83,E84<>3),VLOOKUP($J84,DetRates!$C$19:$AA$3186,Q$22),IF(T84<>T83,VLOOKUP($J84,DetRates!$C$19:$AA$3186,Q$22),Q83))","v":0},{"$f":"IF($T84<>$T83,VLOOKUP($J84,DetRates!$C$19:$AA$3186,R$22,FALSE),R83)","v":-15},{"$f":"IF($T84<>$T83,VLOOKUP($J84,DetRates!$C$19:$AA$3186,S$22,FALSE),S83)","v":50},2,{"$f":"VLOOKUP(F84,DetRates!$U$10:$W$12,3,FALSE)","v":20},4,-11.173473201310111,6.3E-2,-11.900048846827003,-7.2,0,false,0,false,{"$f":"AND(AE$23,$AE$15,$W84<=AE$21)","v":false},false,false,false,false,false,false,false,false,false,false,false,false,false,-11.900048846827003,0,0,null,-11.173473201310111,-11.900048846827003,"",false,60,2,25,""]
[null,61,13,25,2,1,1,1,"1421111-25",{"$f":"IF(ISNA(VLOOKUP(I85,DetRates!$B$19:$C$3186,2,FALSE)),J84,VLOOKUP(I85,DetRates!$B$19:$C$3186,2,FALSE))","v":969},{"$f":"VLOOKUP($J85,DetRates!$C$19:$AA$3186,K$22,FALSE)","v":20},{"$f":"VLOOKUP($J85,DetRates!$C$19:$AA$3186,L$22,FALSE)","v":30},{"$f":"IF($T85<>$T84,VLOOKUP($J85,DetRates!$C$19:$AA$3186,M$22,FALSE),M84)","v":-6},{"$f":"IF($T85<>$T84,VLOOKUP($J85,DetRates!$C$19:$AA$3186,N$22,FALSE),N84)","v":6.3E-2},{"$f":"IF($T85<>$T84,VLOOKUP($J85,DetRates!$C$19:$AA$3186,O$22,FALSE),O84)","v":0},{"$f":"IF($T85<>$T84,VLOOKUP($J85,DetRates!$C$19:$AA$3186,P$22,FALSE),P84)","v":-7.2},{"$f":"IF(AND(D85>29,T85>2,T85<>T84,E85<>3),VLOOKUP($J85,DetRates!$C$19:$AA$3186,Q$22),IF(T85<>T84,VLOOKUP($J85,DetRates!$C$19:$AA$3186,Q$22),Q84))","v":0},{"$f":"IF($T85<>$T84,VLOOKUP($J85,DetRates!$C$19:$AA$3186,R$22,FALSE),R84)","v":-15},{"$f":"IF($T85<>$T84,VLOOKUP($J85,DetRates!$C$19:$AA$3186,S$22,FALSE),S84)","v":50},2,{"$f":"VLOOKUP(F85,DetRates!$U$10:$W$12,3,FALSE)","v":20},5,-11.900048846827003,6.3E-2,-12.673871410034304,-7.2,0,false,0,false,false,false,false,false,false,false,false,false,false,false,false,false,false,false,-12.673871410034304,0,0,null,-11.900048846827003,-12.673871410034304,"",false,61,2,26,""]
[null,62,13,26,2,1,1,1,"1421111-26",{"$f":"IF(ISNA(VLOOKUP(I86,DetRates!$B$19:$C$3186,2,FALSE)),J85,VLOOKUP(I86,DetRates!$B$19:$C$3186,2,FALSE))","v":969},{"$f":"VLOOKUP($J86,DetRates!$C$19:$AA$3186,K$22,FALSE)","v":20},{"$f":"VLOOKUP($J86,DetRates!$C$19:$AA$3186,L$22,FALSE)","v":30},{"$f":"IF($T86<>$T85,VLOOKUP($J86,DetRates!$C$19:$AA$3186,M$22,FALSE),M85)","v":-6},{"$f":"IF($T86<>$T85,VLOOKUP($J86,DetRates!$C$19:$AA$3186,N$22,FALSE),N85)","v":6.3E-2},{"$f":"IF($T86<>$T85,VLOOKUP($J86,DetRates!$C$19:$AA$3186,O$22,FALSE),O85)","v":0},{"$f":"IF($T86<>$T85,VLOOKUP($J86,DetRates!$C$19:$AA$3186,P$22,FALSE),P85)","v":-7.2},{"$f":"IF(AND(D86>29,T86>2,T86<>T85,E86<>3),VLOOKUP($J86,DetRates!$C$19:$AA$3186,Q$22),IF(T86<>T85,VLOOKUP($J86,DetRates!$C$19:$AA$3186,Q$22),Q85))","v":0},{"$f":"IF($T86<>$T85,VLOOKUP($J86,DetRates!$C$19:$AA$3186,R$22,FALSE),R85)","v":-15},{"$f":"IF($T86<>$T85,VLOOKUP($J86,DetRates!$C$19:$AA$3186,S$22,FALSE),S85)","v":50},2,{"$f":"VLOOKUP(F86,DetRates!$U$10:$W$12,3,FALSE)","v":20},6,-12.673871410034304,6.3E-2,-13.498013208652841,-7.2,0,false,0,false,false,false,false,false,false,true,false,true,false,false,false,false,false,true,-7.2,1,0,null,-12.673871410034304,-13.498013208652841,"",false,62,2,27,""]
[null,63,13,27,2,1,1,1,"1421111-27",{"$f":"IF(ISNA(VLOOKUP(I87,DetRates!$B$19:$C$3186,2,FALSE)),J86,VLOOKUP(I87,DetRates!$B$19:$C$3186,2,FALSE))","v":969},{"$f":"VLOOKUP($J87,DetRates!$C$19:$AA$3186,K$22,FALSE)","v":20},{"$f":"VLOOKUP($J87,DetRates!$C$19:$AA$3186,L$22,FALSE)","v":30},{"$f":"IF($T87<>$T86,VLOOKUP($J87,DetRates!$C$19:$AA$3186,M$22,FALSE),M86)","v":-6},{"$f":"IF($T87<>$T86,VLOOKUP($J87,DetRates!$C$19:$AA$3186,N$22,FALSE),N86)","v":7.6999999999999999E-2},{"$f":"IF($T87<>$T86,VLOOKUP($J87,DetRates!$C$19:$AA$3186,O$22,FALSE),O86)","v":0},{"$f":"IF($T87<>$T86,VLOOKUP($J87,DetRates!$C$19:$AA$3186,P$22,FALSE),P86)","v":-10.8},{"$f":"IF(AND(D87>29,T87>2,T87<>T86,E87<>3),VLOOKUP($J87,DetRates!$C$19:$AA$3186,Q$22),IF(T87<>T86,VLOOKUP($J87,DetRates!$C$19:$AA$3186,Q$22),Q86))","v":0},{"$f":"IF($T87<>$T86,VLOOKUP($J87,DetRates!$C$19:$AA$3186,R$22,FALSE),R86)","v":-20},{"$f":"IF($T87<>$T86,VLOOKUP($J87,DetRates!$C$19:$AA$3186,S$22,FALSE),S86)","v":50},3,{"$f":"VLOOKUP(F87,DetRates!$U$10:$W$12,3,FALSE)","v":20},7,-7.2,7.6999999999999999E-2,-7.7763029500267233,-10.8,0,false,0,false,false,false,false,false,false,false,false,false,false,false,false,false,false,false,-7.7763029500267233,0,0,null,-7.2,-7.7763029500267233,"",false,63,2,28,""]
[null,64,{"$f":"INT(B88/C$21+1)","v":13},28,2,1,1,1,{"$f":"$C$17&$E$17&E88&F88&$K$17&G88&H88&\"-\"&D88","v":"1421111-28"},{"$f":"IF(ISNA(VLOOKUP(I88,DetRates!$B$19:$C$3186,2,FALSE)),J87,VLOOKUP(I88,DetRates!$B$19:$C$3186,2,FALSE))","v":969},{"$f":"VLOOKUP($J88,DetRates!$C$19:$AA$3186,K$22,FALSE)","v":20},{"$f":"VLOOKUP($J88,DetRates!$C$19:$AA$3186,L$22,FALSE)","v":30},{"$f":"IF($T88<>$T87,VLOOKUP($J88,DetRates!$C$19:$AA$3186,M$22,FALSE),M87)","v":-6},{"$f":"IF($T88<>$T87,VLOOKUP($J88,DetRates!$C$19:$AA$3186,N$22,FALSE),N87)","v":7.6999999999999999E-2},{"$f":"IF($T88<>$T87,VLOOKUP($J88,DetRates!$C$19:$AA$3186,O$22,FALSE),O87)","v":0},{"$f":"IF($T88<>$T87,VLOOKUP($J88,DetRates!$C$19:$AA$3186,P$22,FALSE),P87)","v":-10.8},{"$f":"IF(AND(D88>29,T88>2,T88<>T87,E88<>3),VLOOKUP($J88,DetRates!$C$19:$AA$3186,Q$22),IF(T88<>T87,VLOOKUP($J88,DetRates!$C$19:$AA$3186,Q$22),Q87))","v":0},{"$f":"IF($T88<>$T87,VLOOKUP($J88,DetRates!$C$19:$AA$3186,R$22,FALSE),R87)","v":-20},{"$f":"IF($T88<>$T87,VLOOKUP($J88,DetRates!$C$19:$AA$3186,S$22,FALSE),S87)","v":50},3,{"$f":"VLOOKUP(F88,DetRates!$U$10:$W$12,3,FALSE)","v":20},8,-7.7763029500267233,7.6999999999999999E-2,{"$f":"W88*EXP(X88)","v":-8.3987343848047669},{"$f":"P88+Q88*V88","v":-10.8},0,{"$f":"AND($AA$15,(AA88=\"x\"))","v":false},0,{"$f":"AND($AA$15,(AC88=\"x\"))","v":false},false,false,{"$f":"AND($AG$15,T88>U88)","v":false},{"$f":"AND($AH$15,D88>S88)","v":false},{"$f":"AND($AI$15,Y88<R88)","v":false},false,false,false,{"$f":"AND($AI$15,Z88<R88)","v":false},false,false,false,false,false,{"$f":"IF(AQ88,$V$11,IF(AR88,Z88,Y88))","v":-8.3987343848047669},{"$f":"AR88*1","v":0},0,null,-7.7763029500267233,-8.3987343848047669,"",false,64,2,29,{"$f":"IF(AZ88,BC88,\"\")","v":""}]
[null,{"$f":"B88+1","v":65},14,29,2,1,1,1,"1421111-29",{"$f":"IF(ISNA(VLOOKUP(I89,DetRates!$B$19:$C$3186,2,FALSE)),J88,VLOOKUP(I89,DetRates!$B$19:$C$3186,2,FALSE))","v":969},{"$f":"VLOOKUP($J89,DetRates!$C$19:$AA$3186,K$22,FALSE)","v":20},{"$f":"VLOOKUP($J89,DetRates!$C$19:$AA$3186,L$22,FALSE)","v":30},{"$f":"IF($T89<>$T88,VLOOKUP($J89,DetRates!$C$19:$AA$3186,M$22,FALSE),M88)","v":-6},{"$f":"IF($T89<>$T88,VLOOKUP($J89,DetRates!$C$19:$AA$3186,N$22,FALSE),N88)","v":7.6999999999999999E-2},{"$f":"IF($T89<>$T88,VLOOKUP($J89,DetRates!$C$19:$AA$3186,O$22,FALSE),O88)","v":0},{"$f":"IF($T89<>$T88,VLOOKUP($J89,DetRates!$C$19:$AA$3186,P$22,FALSE),P88)","v":-10.8},{"$f":"IF(AND(D89>29,T89>2,T89<>T88,E89<>3),VLOOKUP($J89,DetRates!$C$19:$AA$3186,Q$22),IF(T89<>T88,VLOOKUP($J89,DetRates!$C$19:$AA$3186,Q$22),Q88))","v":0},{"$f":"IF($T89<>$T88,VLOOKUP($J89,DetRates!$C$19:$AA$3186,R$22,FALSE),R88)","v":-20},{"$f":"IF($T89<>$T88,VLOOKUP($J89,DetRates!$C$19:$AA$3186,S$22,FALSE),S88)","v":50},{"$f":"IF(AQ88,0,IF(AR88,T88+1,T88))","v":3},{"$f":"VLOOKUP(F89,DetRates!$U$10:$W$12,3,FALSE)","v":20},{"$f":"IF(J88=J89,V88+1,0)","v":9},-8.3987343848047669,{"$f":"IF((N89+O89*V89)<=0,X88,(N89+O89*V89))","v":7.6999999999999999E-2},-9.0709865240344705,-10.8,0,false,0,false,false,false,false,false,false,false,{"$f":"OR(AD89,AE89,AG89,AH89)","v":false},false,false,{"$f":"AND($AE$15,Z89<$AF$21)","v":false},false,false,false,false,-9.0709865240344705,0,{"$f":"AQ89*1","v":0},null,-8.3987343848047669,{"$f":"Y89","v":-9.0709865240344705},{"$f":"IF(AZ89,1,\"\")","v":""},{"$f":"AND(AU89)","v":false},{"$f":"B89","v":65},{"$f":"IF(AZ89,BB88+1,BB88)","v":2},{"$f":"IF(NOT(AZ88),BC88+1,1)","v":30},""]
[null,66,14,{"$f":"IF(B90=1,D89+1,IF(AQ89,0,D89+1))","v":30},{"$f":"IF(B90>1,IF($AQ89,G$18,E89),$E$24)","v":2},{"$f":"IF(B90>1,IF($AQ89,I$18,F89),$F$24)","v":1},{"$f":"IF(B90>1,IF($AQ89,M$18,G89),$G$24)","v":1},{"$f":"IF(B90>1,IF($AQ89,O$18,H89),$H$24)","v":1},"1421111-30",{"$f":"IF(ISNA(VLOOKUP(I90,DetRates!$B$19:$C$3186,2,FALSE)),J89,VLOOKUP(I90,DetRates!$B$19:$C$3186,2,FALSE))","v":970},{"$f":"VLOOKUP($J90,DetRates!$C$19:$AA$3186,K$22,FALSE)","v":30},{"$f":"VLOOKUP($J90,DetRates!$C$19:$AA$3186,L$22,FALSE)","v":40},{"$f":"IF($T90<>$T89,VLOOKUP($J90,DetRates!$C$19:$AA$3186,M$22,FALSE),M89)","v":-6},{"$f":"IF($T90<>$T89,VLOOKUP($J90,DetRates!$C$19:$AA$3186,N$22,FALSE),N89)","v":7.6999999999999999E-2},{"$f":"IF($T90<>$T89,VLOOKUP($J90,DetRates!$C$19:$AA$3186,O$22,FALSE),O89)","v":0},{"$f":"IF($T90<>$T89,VLOOKUP($J90,DetRates!$C$19:$AA$3186,P$22,FALSE),P89)","v":-10.8},{"$f":"IF(AND(D90>29,T90>2,T90<>T89,E90<>3),VLOOKUP($J90,DetRates!$C$19:$AA$3186,Q$22),IF(T90<>T89,VLOOKUP($J90,DetRates!$C$19:$AA$3186,Q$22),Q89))","v":0},{"$f":"IF($T90<>$T89,VLOOKUP($J90,DetRates!$C$19:$AA$3186,R$22,FALSE),R89)","v":-20},{"$f":"IF($T90<>$T89,VLOOKUP($J90,DetRates!$C$19:$AA$3186,S$22,FALSE),S89)","v":50},3,{"$f":"VLOOKUP(F90,DetRates!$U$10:$W$12,3,FALSE)","v":20},0,-9.0709865240344705,7.6999999999999999E-2,-9.7970471203474858,-10.8,0,false,0,false,false,false,false,false,false,{"$f":"IF(B89<11,FALSE,IF(AND(SUM(AT80:AT89)<1,NOT(AJ89),SUM(AU80:AU89)=0,$AJ$15),TRUE,FALSE))","v":false},false,{"$f":"IF(AK90,FALSE,OR(AB90,AF90,AI90,AJ90))","v":false},false,false,false,{"$f":"IF(D90<21,FALSE,IF(AND(T89<T90,T89<>0,AL90,$AP$15),TRUE,FALSE))","v":false},{"$f":"OR(AK90,AO90,AP90)","v":false},false,-9.7970471203474858,0,0,null,-9.0709865240344705,-9.7970471203474858,"",false,66,2,31,""]
[null,67,14,31,2,1,1,1,"1421111-31",{"$f":"IF(ISNA(VLOOKUP(I91,DetRates!$B$19:$C$3186,2,FALSE)),J90,VLOOKUP(I91,DetRates!$B$19:$C$3186,2,FALSE))","v":970},{"$f":"VLOOKUP($J91,DetRates!$C$19:$AA$3186,K$22,FALSE)","v":30},{"$f":"VLOOKUP($J91,DetRates!$C$19:$AA$3186,L$22,FALSE)","v":40},{"$f":"IF($T91<>$T90,VLOOKUP($J91,DetRates!$C$19:$AA$3186,M$22,FALSE),M90)","v":-6},{"$f":"IF($T91<>$T90,VLOOKUP($J91,DetRates!$C$19:$AA$3186,N$22,FALSE),N90)","v":7.6999999999999999E-2},{"$f":"IF($T91<>$T90,VLOOKUP($J91,DetRates!$C$19:$AA$3186,O$22,FALSE),O90)","v":0},{"$f":"IF($T91<>$T90,VLOOKUP($J91,DetRates!$C$19:$AA$3186,P$22,FALSE),P90)","v":-10.8},{"$f":"IF(AND(D91>29,T91>2,T91<>T90,E91<>3),VLOOKUP($J91,DetRates!$C$19:$AA$3186,Q$22),IF(T91<>T90,VLOOKUP($J91,DetRates!$C$19:$AA$3186,Q$22),Q90))","v":0},{"$f":"IF($T91<>$T90,VLOOKUP($J91,DetRates!$C$19:$AA$3186,R$22,FALSE),R90)","v":-20},{"$f":"IF($T91<>$T90,VLOOKUP($J91,DetRates!$C$19:$AA$3186,S$22,FALSE),S90)","v":50},3,{"$f":"VLOOKUP(F91,DetRates!$U$10:$W$12,3,FALSE)","v":20},1,-9.7970471203474858,7.6999999999999999E-2,-10.581223114376245,-10.8,0,false,0,false,false,false,false,false,false,false,false,false,false,false,false,false,false,false,-10.581223114376245,0,0,null,-9.7970471203474858,-10.581223114376245,"",false,67,2,32,""]
[null,68,14,32,2,1,1,1,"1421111-32",{"$f":"IF(ISNA(VLOOKUP(I92,DetRates!$B$19:$C$3186,2,FALSE)),J91,VLOOKUP(I92,DetRates!$B$19:$C$3186,2,FALSE))","v":970},{"$f":"VLOOKUP($J92,DetRates!$C$19:$AA$3186,K$22,FALSE)","v":30},{"$f":"VLOOKUP($J92,DetRates!$C$19:$AA$3186,L$22,FALSE)","v":40},{"$f":"IF($T92<>$T91,VLOOKUP($J92,DetRates!$C$19:$AA$3186,M$22,FALSE),M91)","v":-6},{"$f":"IF($T92<>$T91,VLOOKUP($J92,DetRates!$C$19:$AA$3186,N$22,FALSE),N91)","v":7.6999999999999999E-2},{"$f":"IF($T92<>$T91,VLOOKUP($J92,DetRates!$C$19:$AA$3186,O$22,FALSE),O91)","v":0},{"$f":"IF($T92<>$T91,VLOOKUP($J92,DetRates!$C$19:$AA$3186,P$22,FALSE),P91)","v":-10.8},{"$f":"IF(AND(D92>29,T92>2,T92<>T91,E92<>3),VLOOKUP($J92,DetRates!$C$19:$AA$3186,Q$22),IF(T92<>T91,VLOOKUP($J92,DetRates!$C$19:$AA$3186,Q$22),Q91))","v":0},{"$f":"IF($T92<>$T91,VLOOKUP($J92,DetRates!$C$19:$AA$3186,R$22,FALSE),R91)","v":-20},{"$f":"IF($T92<>$T91,VLOOKUP($J92,DetRates!$C$19:$AA$3186,S$22,FALSE),S91)","v":50},3,{"$f":"VLOOKUP(F92,DetRates!$U$10:$W$12,3,FALSE)","v":20},2,-10.581223114376245,7.6999999999999999E-2,-11.428166183224297,-10.8,0,false,0,false,false,false,false,false,false,false,false,false,false,false,false,false,false,false,-11.428166183224297,0,0,null,-10.581223114376245,-11.428166183224297,"",false,68,2,33,""]
[null,69,14,33,2,1,1,1,"1421111-33",{"$f":"IF(ISNA(VLOOKUP(I93,DetRates!$B$19:$C$3186,2,FALSE)),J92,VLOOKUP(I93,DetRates!$B$19:$C$3186,2,FALSE))","v":970},{"$f":"VLOOKUP($J93,DetRates!$C$19:$AA$3186,K$22,FALSE)","v":30},{"$f":"VLOOKUP($J93,DetRates!$C$19:$AA$3186,L$22,FALSE)","v":40},{"$f":"IF($T93<>$T92,VLOOKUP($J93,DetRates!$C$19:$AA$3186,M$22,FALSE),M92)","v":-6},{"$f":"IF($T93<>$T92,VLOOKUP($J93,DetRates!$C$19:$AA$3186,N$22,FALSE),N92)","v":7.6999999999999999E-2},{"$f":"IF($T93<>$T92,VLOOKUP($J93,DetRates!$C$19:$AA$3186,O$22,FALSE),O92)","v":0},{"$f":"IF($T93<>$T92,VLOOKUP($J93,DetRates!$C$19:$AA$3186,P$22,FALSE),P92)","v":-10.8},{"$f":"IF(AND(D93>29,T93>2,T93<>T92,E93<>3),VLOOKUP($J93,DetRates!$C$19:$AA$3186,Q$22),IF(T93<>T92,VLOOKUP($J93,DetRates!$C$19:$AA$3186,Q$22),Q92))","v":0},{"$f":"IF($T93<>$T92,VLOOKUP($J93,DetRates!$C$19:$AA$3186,R$22,FALSE),R92)","v":-20},{"$f":"IF($T93<>$T92,VLOOKUP($J93,DetRates!$C$19:$AA$3186,S$22,FALSE),S92)","v":50},3,{"$f":"VLOOKUP(F93,DetRates!$U$10:$W$12,3,FALSE)","v":20},3,-11.428166183224297,7.6999999999999999E-2,-12.342900333889268,-10.8,0,false,0,false,false,false,false,false,false,false,false,false,false,false,false,false,false,false,-12.342900333889268,0,0,null,-11.428166183224297,-12.342900333889268,"",false,69,2,34,""]
[null,70,15,34,2,1,1,1,"1421111-34",{"$f":"IF(ISNA(VLOOKUP(I94,DetRates!$B$19:$C$3186,2,FALSE)),J93,VLOOKUP(I94,DetRates!$B$19:$C$3186,2,FALSE))","v":970},{"$f":"VLOOKUP($J94,DetRates!$C$19:$AA$3186,K$22,FALSE)","v":30},{"$f":"VLOOKUP($J94,DetRates!$C$19:$AA$3186,L$22,FALSE)","v":40},{"$f":"IF($T94<>$T93,VLOOKUP($J94,DetRates!$C$19:$AA$3186,M$22,FALSE),M93)","v":-6},{"$f":"IF($T94<>$T93,VLOOKUP($J94,DetRates!$C$19:$AA$3186,N$22,FALSE),N93)","v":7.6999999999999999E-2},{"$f":"IF($T94<>$T93,VLOOKUP($J94,DetRates!$C$19:$AA$3186,O$22,FALSE),O93)","v":0},{"$f":"IF($T94<>$T93,VLOOKUP($J94,DetRates!$C$19:$AA$3186,P$22,FALSE),P93)","v":-10.8},{"$f":"IF(AND(D94>29,T94>2,T94<>T93,E94<>3),VLOOKUP($J94,DetRates!$C$19:$AA$3186,Q$22),IF(T94<>T93,VLOOKUP($J94,DetRates!$C$19:$AA$3186,Q$22),Q93))","v":0},{"$f":"IF($T94<>$T93,VLOOKUP($J94,DetRates!$C$19:$AA$3186,R$22,FALSE),R93)","v":-20},{"$f":"IF($T94<>$T93,VLOOKUP($J94,DetRates!$C$19:$AA$3186,S$22,FALSE),S93)","v":50},3,{"$f":"VLOOKUP(F94,DetRates!$U$10:$W$12,3,FALSE)","v":20},4,-12.342900333889268,7.6999999999999999E-2,-13.330851705320686,-10.8,0,false,0,false,false,false,false,false,false,false,false,false,false,false,false,false,false,false,-13.330851705320686,0,0,null,-12.342900333889268,-13.330851705320686,"",false,70,2,35,""]
[null,71,15,35,2,1,1,1,"1421111-35",{"$f":"IF(ISNA(VLOOKUP(I95,DetRates!$B$19:$C$3186,2,FALSE)),J94,VLOOKUP(I95,DetRates!$B$19:$C$3186,2,FALSE))","v":970},{"$f":"VLOOKUP($J95,DetRates!$C$19:$AA$3186,K$22,FALSE)","v":30},{"$f":"VLOOKUP($J95,DetRates!$C$19:$AA$3186,L$22,FALSE)","v":40},{"$f":"IF($T95<>$T94,VLOOKUP($J95,DetRates!$C$19:$AA$3186,M$22,FALSE),M94)","v":-6},{"$f":"IF($T95<>$T94,VLOOKUP($J95,DetRates!$C$19:$AA$3186,N$22,FALSE),N94)","v":7.6999999999999999E-2},{"$f":"IF($T95<>$T94,VLOOKUP($J95,DetRates!$C$19:$AA$3186,O$22,FALSE),O94)","v":0},{"$f":"IF($T95<>$T94,VLOOKUP($J95,DetRates!$C$19:$AA$3186,P$22,FALSE),P94)","v":-10.8},{"$f":"IF(AND(D95>29,T95>2,T95<>T94,E95<>3),VLOOKUP($J95,DetRates!$C$19:$AA$3186,Q$22),IF(T95<>T94,VLOOKUP($J95,DetRates!$C$19:$AA$3186,Q$22),Q94))","v":0},{"$f":"IF($T95<>$T94,VLOOKUP($J95,DetRates!$C$19:$AA$3186,R$22,FALSE),R94)","v":-20},{"$f":"IF($T95<>$T94,VLOOKUP($J95,DetRates!$C$19:$AA$3186,S$22,FALSE),S94)","v":50},3,{"$f":"VLOOKUP(F95,DetRates!$U$10:$W$12,3,FALSE)","v":20},5,{"$f":"AS94","v":-13.330851705320686},7.6999999999999999E-2,-14.397880755896391,-10.8,0,false,0,false,false,false,false,false,false,false,false,false,false,false,{"$f":"AND(AL95,OR(AM95,AN95))","v":false},false,false,{"$f":"IF(AQ95,FALSE,AL95)","v":false},-14.397880755896391,0,0,null,-13.330851705320686,-14.397880755896391,"",false,71,2,36,""]
[null,72,15,36,2,1,1,1,"1421111-36",{"$f":"IF(ISNA(VLOOKUP(I96,DetRates!$B$19:$C$3186,2,FALSE)),J95,VLOOKUP(I96,DetRates!$B$19:$C$3186,2,FALSE))","v":970},{"$f":"VLOOKUP($J96,DetRates!$C$19:$AA$3186,K$22,FALSE)","v":30},{"$f":"VLOOKUP($J96,DetRates!$C$19:$AA$3186,L$22,FALSE)","v":40},{"$f":"IF($T96<>$T95,VLOOKUP($J96,DetRates!$C$19:$AA$3186,M$22,FALSE),M95)","v":-6},{"$f":"IF($T96<>$T95,VLOOKUP($J96,DetRates!$C$19:$AA$3186,N$22,FALSE),N95)","v":7.6999999999999999E-2},{"$f":"IF($T96<>$T95,VLOOKUP($J96,DetRates!$C$19:$AA$3186,O$22,FALSE),O95)","v":0},{"$f":"IF($T96<>$T95,VLOOKUP($J96,DetRates!$C$19:$AA$3186,P$22,FALSE),P95)","v":-10.8},{"$f":"IF(AND(D96>29,T96>2,T96<>T95,E96<>3),VLOOKUP($J96,DetRates!$C$19:$AA$3186,Q$22),IF(T96<>T95,VLOOKUP($J96,DetRates!$C$19:$AA$3186,Q$22),Q95))","v":0},{"$f":"IF($T96<>$T95,VLOOKUP($J96,DetRates!$C$19:$AA$3186,R$22,FALSE),R95)","v":-20},{"$f":"IF($T96<>$T95,VLOOKUP($J96,DetRates!$C$19:$AA$3186,S$22,FALSE),S95)","v":50},3,{"$f":"VLOOKUP(F96,DetRates!$U$10:$W$12,3,FALSE)","v":20},6,-14.397880755896391,7.6999999999999999E-2,-15.550317027251403,-10.8,0,false,0,false,false,false,false,false,false,false,false,false,false,false,false,false,false,false,-15.550317027251403,0,0,null,-14.397880755896391,-15.550317027251403,"",false,72,2,37,""]
[null,73,15,37,2,1,1,1,"1421111-37",{"$f":"IF(ISNA(VLOOKUP(I97,DetRates!$B$19:$C$3186,2,FALSE)),J96,VLOOKUP(I97,DetRates!$B$19:$C$3186,2,FALSE))","v":970},{"$f":"VLOOKUP($J97,DetRates!$C$19:$AA$3186,K$22,FALSE)","v":30},{"$f":"VLOOKUP($J97,DetRates!$C$19:$AA$3186,L$22,FALSE)","v":40},{"$f":"IF($T97<>$T96,VLOOKUP($J97,DetRates!$C$19:$AA$3186,M$22,FALSE),M96)","v":-6},{"$f":"IF($T97<>$T96,VLOOKUP($J97,DetRates!$C$19:$AA$3186,N$22,FALSE),N96)","v":7.6999999999999999E-2},{"$f":"IF($T97<>$T96,VLOOKUP($J97,DetRates!$C$19:$AA$3186,O$22,FALSE),O96)","v":0},{"$f":"IF($T97<>$T96,VLOOKUP($J97,DetRates!$C$19:$AA$3186,P$22,FALSE),P96)","v":-10.8},{"$f":"IF(AND(D97>29,T97>2,T97<>T96,E97<>3),VLOOKUP($J97,DetRates!$C$19:$AA$3186,Q$22),IF(T97<>T96,VLOOKUP($J97,DetRates!$C$19:$AA$3186,Q$22),Q96))","v":0},{"$f":"IF($T97<>$T96,VLOOKUP($J97,DetRates!$C$19:$AA$3186,R$22,FALSE),R96)","v":-20},{"$f":"IF($T97<>$T96,VLOOKUP($J97,DetRates!$C$19:$AA$3186,S$22,FALSE),S96)","v":50},3,{"$f":"VLOOKUP(F97,DetRates!$U$10:$W$12,3,FALSE)","v":20},7,-15.550317027251403,7.6999999999999999E-2,-16.794996690675813,-10.8,0,false,0,false,false,false,false,false,false,true,false,true,false,false,false,false,false,true,-10.8,1,0,null,-15.550317027251403,-16.794996690675813,"",false,73,2,38,""]
[null,74,15,38,2,1,1,1,"1421111-38",{"$f":"IF(ISNA(VLOOKUP(I98,DetRates!$B$19:$C$3186,2,FALSE)),J97,VLOOKUP(I98,DetRates!$B$19:$C$3186,2,FALSE))","v":970},{"$f":"VLOOKUP($J98,DetRates!$C$19:$AA$3186,K$22,FALSE)","v":30},{"$f":"VLOOKUP($J98,DetRates!$C$19:$AA$3186,L$22,FALSE)","v":40},{"$f":"IF($T98<>$T97,VLOOKUP($J98,DetRates!$C$19:$AA$3186,M$22,FALSE),M97)","v":-6},{"$f":"IF($T98<>$T97,VLOOKUP($J98,DetRates!$C$19:$AA$3186,N$22,FALSE),N97)","v":8.3999999999999991E-2},{"$f":"IF($T98<>$T97,VLOOKUP($J98,DetRates!$C$19:$AA$3186,O$22,FALSE),O97)","v":0},{"$f":"IF($T98<>$T97,VLOOKUP($J98,DetRates!$C$19:$AA$3186,P$22,FALSE),P97)","v":-13.5},{"$f":"IF(AND(D98>29,T98>2,T98<>T97,E98<>3),VLOOKUP($J98,DetRates!$C$19:$AA$3186,Q$22),IF(T98<>T97,VLOOKUP($J98,DetRates!$C$19:$AA$3186,Q$22),Q97))","v":0},{"$f":"IF($T98<>$T97,VLOOKUP($J98,DetRates!$C$19:$AA$3186,R$22,FALSE),R97)","v":-25},{"$f":"IF($T98<>$T97,VLOOKUP($J98,DetRates!$C$19:$AA$3186,S$22,FALSE),S97)","v":50},4,{"$f":"VLOOKUP(F98,DetRates!$U$10:$W$12,3,FALSE)","v":20},8,-10.8,8.3999999999999991E-2,-11.746392053135322,-13.5,0,false,0,false,false,false,false,false,false,false,false,false,false,false,false,false,false,false,-11.746392053135322,0,0,null,-10.8,-11.746392053135322,"",false,74,2,39,""]
[null,75,16,39,2,1,1,1,"1421111-39",{"$f":"IF(ISNA(VLOOKUP(I99,DetRates!$B$19:$C$3186,2,FALSE)),J98,VLOOKUP(I99,DetRates!$B$19:$C$3186,2,FALSE))","v":970},{"$f":"VLOOKUP($J99,DetRates!$C$19:$AA$3186,K$22,FALSE)","v":30},{"$f":"VLOOKUP($J99,DetRates!$C$19:$AA$3186,L$22,FALSE)","v":40},{"$f":"IF($T99<>$T98,VLOOKUP($J99,DetRates!$C$19:$AA$3186,M$22,FALSE),M98)","v":-6},{"$f":"IF($T99<>$T98,VLOOKUP($J99,DetRates!$C$19:$AA$3186,N$22,FALSE),N98)","v":8.3999999999999991E-2},{"$f":"IF($T99<>$T98,VLOOKUP($J99,DetRates!$C$19:$AA$3186,O$22,FALSE),O98)","v":0},{"$f":"IF($T99<>$T98,VLOOKUP($J99,DetRates!$C$19:$AA$3186,P$22,FALSE),P98)","v":-13.5},{"$f":"IF(AND(D99>29,T99>2,T99<>T98,E99<>3),VLOOKUP($J99,DetRates!$C$19:$AA$3186,Q$22),IF(T99<>T98,VLOOKUP($J99,DetRates!$C$19:$AA$3186,Q$22),Q98))","v":0},{"$f":"IF($T99<>$T98,VLOOKUP($J99,DetRates!$C$19:$AA$3186,R$22,FALSE),R98)","v":-25},{"$f":"IF($T99<>$T98,VLOOKUP($J99,DetRates!$C$19:$AA$3186,S$22,FALSE),S98)","v":50},4,{"$f":"VLOOKUP(F99,DetRates!$U$10:$W$12,3,FALSE)","v":20},9,-11.746392053135322,8.3999999999999991E-2,-12.775715394996356,-13.5,0,false,0,false,false,false,false,false,false,false,false,false,false,false,false,false,false,false,-12.775715394996356,0,0,null,-11.746392053135322,-12.775715394996356,"",false,75,2,40,""]
[null,76,16,40,2,1,1,1,"1421111-40",{"$f":"IF(ISNA(VLOOKUP(I100,DetRates!$B$19:$C$3186,2,FALSE)),J99,VLOOKUP(I100,DetRates!$B$19:$C$3186,2,FALSE))","v":971},{"$f":"VLOOKUP($J100,DetRates!$C$19:$AA$3186,K$22,FALSE)","v":40},{"$f":"VLOOKUP($J100,DetRates!$C$19:$AA$3186,L$22,FALSE)","v":50},{"$f":"IF($T100<>$T99,VLOOKUP($J100,DetRates!$C$19:$AA$3186,M$22,FALSE),M99)","v":-6},{"$f":"IF($T100<>$T99,VLOOKUP($J100,DetRates!$C$19:$AA$3186,N$22,FALSE),N99)","v":8.3999999999999991E-2},{"$f":"IF($T100<>$T99,VLOOKUP($J100,DetRates!$C$19:$AA$3186,O$22,FALSE),O99)","v":0},{"$f":"IF($T100<>$T99,VLOOKUP($J100,DetRates!$C$19:$AA$3186,P$22,FALSE),P99)","v":-13.5},{"$f":"IF(AND(D100>29,T100>2,T100<>T99,E100<>3),VLOOKUP($J100,DetRates!$C$19:$AA$3186,Q$22),IF(T100<>T99,VLOOKUP($J100,DetRates!$C$19:$AA$3186,Q$22),Q99))","v":0},{"$f":"IF($T100<>$T99,VLOOKUP($J100,DetRates!$C$19:$AA$3186,R$22,FALSE),R99)","v":-25},{"$f":"IF($T100<>$T99,VLOOKUP($J100,DetRates!$C$19:$AA$3186,S$22,FALSE),S99)","v":50},4,{"$f":"VLOOKUP(F100,DetRates!$U$10:$W$12,3,FALSE)","v":20},0,-12.775715394996356,8.3999999999999991E-2,-13.895237202676276,-13.5,0,false,0,false,false,false,false,false,false,false,false,false,false,false,false,false,false,false,-13.895237202676276,0,0,null,-12.775715394996356,-13.895237202676276,"",false,76,2,41,""]
[null,77,16,41,2,1,1,1,"1421111-41",{"$f":"IF(ISNA(VLOOKUP(I101,DetRates!$B$19:$C$3186,2,FALSE)),J100,VLOOKUP(I101,DetRates!$B$19:$C$3186,2,FALSE))","v":971},{"$f":"VLOOKUP($J101,DetRates!$C$19:$AA$3186,K$22,FALSE)","v":40},{"$f":"VLOOKUP($J101,DetRates!$C$19:$AA$3186,L$22,FALSE)","v":50},{"$f":"IF($T101<>$T100,VLOOKUP($J101,DetRates!$C$19:$AA$3186,M$22,FALSE),M100)","v":-6},{"$f":"IF($T101<>$T100,VLOOKUP($J101,DetRates!$C$19:$AA$3186,N$22,FALSE),N100)","v":8.3999999999999991E-2},{"$f":"IF($T101<>$T100,VLOOKUP($J101,DetRates!$C$19:$AA$3186,O$22,FALSE),O100)","v":0},{"$f":"IF($T101<>$T100,VLOOKUP($J101,DetRates!$C$19:$AA$3186,P$22,FALSE),P100)","v":-13.5},{"$f":"IF(AND(D101>29,T101>2,T101<>T100,E101<>3),VLOOKUP($J101,DetRates!$C$19:$AA$3186,Q$22),IF(T101<>T100,VLOOKUP($J101,DetRates!$C$19:$AA$3186,Q$22),Q100))","v":0},{"$f":"IF($T101<>$T100,VLOOKUP($J101,DetRates!$C$19:$AA$3186,R$22,FALSE),R100)","v":-25},{"$f":"IF($T101<>$T100,VLOOKUP($J101,DetRates!$C$19:$AA$3186,S$22,FALSE),S100)","v":50},4,{"$f":"VLOOKUP(F101,DetRates!$U$10:$W$12,3,FALSE)","v":20},1,-13.895237202676276,8.3999999999999991E-2,-15.112861467958044,-13.5,0,false,0,false,false,false,false,false,false,false,false,false,false,false,false,false,false,false,-15.112861467958044,0,0,null,{"$f":"W101","v":-13.895237202676276},-15.112861467958044,"",false,77,2,42,""]
[null,78,16,42,2,1,1,1,"1421111-42",{"$f":"IF(ISNA(VLOOKUP(I102,DetRates!$B$19:$C$3186,2,FALSE)),J101,VLOOKUP(I102,DetRates!$B$19:$C$3186,2,FALSE))","v":971},{"$f":"VLOOKUP($J102,DetRates!$C$19:$AA$3186,K$22,FALSE)","v":40},{"$f":"VLOOKUP($J102,DetRates!$C$19:$AA$3186,L$22,FALSE)","v":50},{"$f":"IF($T102<>$T101,VLOOKUP($J102,DetRates!$C$19:$AA$3186,M$22,FALSE),M101)","v":-6},{"$f":"IF($T102<>$T101,VLOOKUP($J102,DetRates!$C$19:$AA$3186,N$22,FALSE),N101)","v":8.3999999999999991E-2},{"$f":"IF($T102<>$T101,VLOOKUP($J102,DetRates!$C$19:$AA$3186,O$22,FALSE),O101)","v":0},{"$f":"IF($T102<>$T101,VLOOKUP($J102,DetRates!$C$19:$AA$3186,P$22,FALSE),P101)","v":-13.5},{"$f":"IF(AND(D102>29,T102>2,T102<>T101,E102<>3),VLOOKUP($J102,DetRates!$C$19:$AA$3186,Q$22),IF(T102<>T101,VLOOKUP($J102,DetRates!$C$19:$AA$3186,Q$22),Q101))","v":0},{"$f":"IF($T102<>$T101,VLOOKUP($J102,DetRates!$C$19:$AA$3186,R$22,FALSE),R101)","v":-25},{"$f":"IF($T102<>$T101,VLOOKUP($J102,DetRates!$C$19:$AA$3186,S$22,FALSE),S101)","v":50},4,{"$f":"VLOOKUP(F102,DetRates!$U$10:$W$12,3,FALSE)","v":20},2,-15.112861467958044,8.3999999999999991E-2,-16.437184800681241,-13.5,0,false,0,false,false,false,false,false,false,false,false,false,false,false,false,false,false,false,-16.437184800681241,0,0,null,-15.112861467958044,-16.437184800681241,"",false,78,2,43,""]
[null,79,16,43,2,1,1,1,"1421111-43",{"$f":"IF(ISNA(VLOOKUP(I103,DetRates!$B$19:$C$3186,2,FALSE)),J102,VLOOKUP(I103,DetRates!$B$19:$C$3186,2,FALSE))","v":971},{"$f":"VLOOKUP($J103,DetRates!$C$19:$AA$3186,K$22,FALSE)","v":40},{"$f":"VLOOKUP($J103,DetRates!$C$19:$AA$3186,L$22,FALSE)","v":50},{"$f":"IF($T103<>$T102,VLOOKUP($J103,DetRates!$C$19:$AA$3186,M$22,FALSE),M102)","v":-6},{"$f":"IF($T103<>$T102,VLOOKUP($J103,DetRates!$C$19:$AA$3186,N$22,FALSE),N102)","v":8.3999999999999991E-2},{"$f":"IF($T103<>$T102,VLOOKUP($J103,DetRates!$C$19:$AA$3186,O$22,FALSE),O102)","v":0},{"$f":"IF($T103<>$T102,VLOOKUP($J103,DetRates!$C$19:$AA$3186,P$22,FALSE),P102)","v":-13.5},{"$f":"IF(AND(D103>29,T103>2,T103<>T102,E103<>3),VLOOKUP($J103,DetRates!$C$19:$AA$3186,Q$22),IF(T103<>T102,VLOOKUP($J103,DetRates!$C$19:$AA$3186,Q$22),Q102))","v":0},{"$f":"IF($T103<>$T102,VLOOKUP($J103,DetRates!$C$19:$AA$3186,R$22,FALSE),R102)","v":-25},{"$f":"IF($T103<>$T102,VLOOKUP($J103,DetRates!$C$19:$AA$3186,S$22,FALSE),S102)","v":50},4,{"$f":"VLOOKUP(F103,DetRates!$U$10:$W$12,3,FALSE)","v":20},3,-16.437184800681241,8.3999999999999991E-2,-17.877557122096189,-13.5,0,false,0,false,false,false,false,false,false,false,false,false,false,false,false,false,false,false,-17.877557122096189,0,0,null,-16.437184800681241,-17.877557122096189,"",false,79,2,44,""]
[null,80,17,44,2,1,1,1,"1421111-44",{"$f":"IF(ISNA(VLOOKUP(I104,DetRates!$B$19:$C$3186,2,FALSE)),J103,VLOOKUP(I104,DetRates!$B$19:$C$3186,2,FALSE))","v":971},{"$f":"VLOOKUP($J104,DetRates!$C$19:$AA$3186,K$22,FALSE)","v":40},{"$f":"VLOOKUP($J104,DetRates!$C$19:$AA$3186,L$22,FALSE)","v":50},{"$f":"IF($T104<>$T103,VLOOKUP($J104,DetRates!$C$19:$AA$3186,M$22,FALSE),M103)","v":-6},{"$f":"IF($T104<>$T103,VLOOKUP($J104,DetRates!$C$19:$AA$3186,N$22,FALSE),N103)","v":8.3999999999999991E-2},{"$f":"IF($T104<>$T103,VLOOKUP($J104,DetRates!$C$19:$AA$3186,O$22,FALSE),O103)","v":0},{"$f":"IF($T104<>$T103,VLOOKUP($J104,DetRates!$C$19:$AA$3186,P$22,FALSE),P103)","v":-13.5},{"$f":"IF(AND(D104>29,T104>2,T104<>T103,E104<>3),VLOOKUP($J104,DetRates!$C$19:$AA$3186,Q$22),IF(T104<>T103,VLOOKUP($J104,DetRates!$C$19:$AA$3186,Q$22),Q103))","v":0},{"$f":"IF($T104<>$T103,VLOOKUP($J104,DetRates!$C$19:$AA$3186,R$22,FALSE),R103)","v":-25},{"$f":"IF($T104<>$T103,VLOOKUP($J104,DetRates!$C$19:$AA$3186,S$22,FALSE),S103)","v":50},4,{"$f":"VLOOKUP(F104,DetRates!$U$10:$W$12,3,FALSE)","v":20},4,-17.877557122096189,8.3999999999999991E-2,-19.44414767670958,-13.5,0,false,0,false,{"$f":"AND(AE$23,$AE$15,$W104<=AE$21)","v":false},false,false,false,false,false,false,false,false,false,false,false,false,false,-19.44414767670958,0,0,null,-17.877557122096189,-19.44414767670958,"",false,80,2,45,""]
[null,81,17,45,2,1,1,1,"1421111-45",{"$f":"IF(ISNA(VLOOKUP(I105,DetRates!$B$19:$C$3186,2,FALSE)),J104,VLOOKUP(I105,DetRates!$B$19:$C$3186,2,FALSE))","v":971},{"$f":"VLOOKUP($J105,DetRates!$C$19:$AA$3186,K$22,FALSE)","v":40},{"$f":"VLOOKUP($J105,DetRates!$C$19:$AA$3186,L$22,FALSE)","v":50},{"$f":"IF($T105<>$T104,VLOOKUP($J105,DetRates!$C$19:$AA$3186,M$22,FALSE),M104)","v":-6},{"$f":"IF($T105<>$T104,VLOOKUP($J105,DetRates!$C$19:$AA$3186,N$22,FALSE),N104)","v":8.3999999999999991E-2},{"$f":"IF($T105<>$T104,VLOOKUP($J105,DetRates!$C$19:$AA$3186,O$22,FALSE),O104)","v":0},{"$f":"IF($T105<>$T104,VLOOKUP($J105,DetRates!$C$19:$AA$3186,P$22,FALSE),P104)","v":-13.5},{"$f":"IF(AND(D105>29,T105>2,T105<>T104,E105<>3),VLOOKUP($J105,DetRates!$C$19:$AA$3186,Q$22),IF(T105<>T104,VLOOKUP($J105,DetRates!$C$19:$AA$3186,Q$22),Q104))","v":0},{"$f":"IF($T105<>$T104,VLOOKUP($J105,DetRates!$C$19:$AA$3186,R$22,FALSE),R104)","v":-25},{"$f":"IF($T105<>$T104,VLOOKUP($J105,DetRates!$C$19:$AA$3186,S$22,FALSE),S104)","v":50},4,{"$f":"VLOOKUP(F105,DetRates!$U$10:$W$12,3,FALSE)","v":20},5,-19.44414767670958,8.3999999999999991E-2,-21.148016828675097,-13.5,0,false,0,false,false,false,false,false,false,false,false,false,false,false,false,false,false,false,-21.148016828675097,0,0,null,-19.44414767670958,-21.148016828675097,"",false,81,2,46,""]
[null,82,17,46,2,1,1,1,"1421111-46",{"$f":"IF(ISNA(VLOOKUP(I106,DetRates!$B$19:$C$3186,2,FALSE)),J105,VLOOKUP(I106,DetRates!$B$19:$C$3186,2,FALSE))","v":971},{"$f":"VLOOKUP($J106,DetRates!$C$19:$AA$3186,K$22,FALSE)","v":40},{"$f":"VLOOKUP($J106,DetRates!$C$19:$AA$3186,L$22,FALSE)","v":50},{"$f":"IF($T106<>$T105,VLOOKUP($J106,DetRates!$C$19:$AA$3186,M$22,FALSE),M105)","v":-6},{"$f":"IF($T106<>$T105,VLOOKUP($J106,DetRates!$C$19:$AA$3186,N$22,FALSE),N105)","v":8.3999999999999991E-2},{"$f":"IF($T106<>$T105,VLOOKUP($J106,DetRates!$C$19:$AA$3186,O$22,FALSE),O105)","v":0},{"$f":"IF($T106<>$T105,VLOOKUP($J106,DetRates!$C$19:$AA$3186,P$22,FALSE),P105)","v":-13.5},{"$f":"IF(AND(D106>29,T106>2,T106<>T105,E106<>3),VLOOKUP($J106,DetRates!$C$19:$AA$3186,Q$22),IF(T106<>T105,VLOOKUP($J106,DetRates!$C$19:$AA$3186,Q$22),Q105))","v":0},{"$f":"IF($T106<>$T105,VLOOKUP($J106,DetRates!$C$19:$AA$3186,R$22,FALSE),R105)","v":-25},{"$f":"IF($T106<>$T105,VLOOKUP($J106,DetRates!$C$19:$AA$3186,S$22,FALSE),S105)","v":50},4,{"$f":"VLOOKUP(F106,DetRates!$U$10:$W$12,3,FALSE)","v":20},6,-21.148016828675097,8.3999999999999991E-2,-23.001194149622336,-13.5,0,false,0,false,false,false,false,false,false,false,false,false,false,false,false,false,false,false,-23.001194149622336,0,0,null,-21.148016828675097,-23.001194149622336,"",false,82,2,47,""]
[null,83,17,47,2,1,1,1,"1421111-47",{"$f":"IF(ISNA(VLOOKUP(I107,DetRates!$B$19:$C$3186,2,FALSE)),J106,VLOOKUP(I107,DetRates!$B$19:$C$3186,2,FALSE))","v":971},{"$f":"VLOOKUP($J107,DetRates!$C$19:$AA$3186,K$22,FALSE)","v":40},{"$f":"VLOOKUP($J107,DetRates!$C$19:$AA$3186,L$22,FALSE)","v":50},{"$f":"IF($T107<>$T106,VLOOKUP($J107,DetRates!$C$19:$AA$3186,M$22,FALSE),M106)","v":-6},{"$f":"IF($T107<>$T106,VLOOKUP($J107,DetRates!$C$19:$AA$3186,N$22,FALSE),N106)","v":8.3999999999999991E-2},{"$f":"IF($T107<>$T106,VLOOKUP($J107,DetRates!$C$19:$AA$3186,O$22,FALSE),O106)","v":0},{"$f":"IF($T107<>$T106,VLOOKUP($J107,DetRates!$C$19:$AA$3186,P$22,FALSE),P106)","v":-13.5},{"$f":"IF(AND(D107>29,T107>2,T107<>T106,E107<>3),VLOOKUP($J107,DetRates!$C$19:$AA$3186,Q$22),IF(T107<>T106,VLOOKUP($J107,DetRates!$C$19:$AA$3186,Q$22),Q106))","v":0},{"$f":"IF($T107<>$T106,VLOOKUP($J107,DetRates!$C$19:$AA$3186,R$22,FALSE),R106)","v":-25},{"$f":"IF($T107<>$T106,VLOOKUP($J107,DetRates!$C$19:$AA$3186,S$22,FALSE),S106)","v":50},4,{"$f":"VLOOKUP(F107,DetRates!$U$10:$W$12,3,FALSE)","v":20},7,-23.001194149622336,8.3999999999999991E-2,-25.016763349235784,-13.5,0,false,0,false,false,false,false,false,true,false,false,true,false,false,false,false,false,true,-13.5,1,0,null,-23.001194149622336,-25.016763349235784,"",false,83,2,48,""]
[null,84,17,48,2,1,1,1,"1421111-48",{"$f":"IF(ISNA(VLOOKUP(I108,DetRates!$B$19:$C$3186,2,FALSE)),J107,VLOOKUP(I108,DetRates!$B$19:$C$3186,2,FALSE))","v":971},{"$f":"VLOOKUP($J108,DetRates!$C$19:$AA$3186,K$22,FALSE)","v":40},{"$f":"VLOOKUP($J108,DetRates!$C$19:$AA$3186,L$22,FALSE)","v":50},{"$f":"IF($T108<>$T107,VLOOKUP($J108,DetRates!$C$19:$AA$3186,M$22,FALSE),M107)","v":-6},{"$f":"IF($T108<>$T107,VLOOKUP($J108,DetRates!$C$19:$AA$3186,N$22,FALSE),N107)","v":9.0999999999999998E-2},{"$f":"IF($T108<>$T107,VLOOKUP($J108,DetRates!$C$19:$AA$3186,O$22,FALSE),O107)","v":0},{"$f":"IF($T108<>$T107,VLOOKUP($J108,DetRates!$C$19:$AA$3186,P$22,FALSE),P107)","v":-16.2},{"$f":"IF(AND(D108>29,T108>2,T108<>T107,E108<>3),VLOOKUP($J108,DetRates!$C$19:$AA$3186,Q$22),IF(T108<>T107,VLOOKUP($J108,DetRates!$C$19:$AA$3186,Q$22),Q107))","v":0},{"$f":"IF($T108<>$T107,VLOOKUP($J108,DetRates!$C$19:$AA$3186,R$22,FALSE),R107)","v":-25},{"$f":"IF($T108<>$T107,VLOOKUP($J108,DetRates!$C$19:$AA$3186,S$22,FALSE),S107)","v":50},5,{"$f":"VLOOKUP(F108,DetRates!$U$10:$W$12,3,FALSE)","v":20},8,-13.5,9.0999999999999998E-2,-14.786131570989284,-16.2,0,false,0,false,false,false,false,false,false,false,false,false,false,false,false,false,false,false,-14.786131570989284,0,0,null,-13.5,-14.786131570989284,"",false,{"$f":"B108","v":84},2,49,""]
[null,85,18,49,2,1,1,1,"1421111-49",{"$f":"IF(ISNA(VLOOKUP(I109,DetRates!$B$19:$C$3186,2,FALSE)),J108,VLOOKUP(I109,DetRates!$B$19:$C$3186,2,FALSE))","v":971},{"$f":"VLOOKUP($J109,DetRates!$C$19:$AA$3186,K$22,FALSE)","v":40},{"$f":"VLOOKUP($J109,DetRates!$C$19:$AA$3186,L$22,FALSE)","v":50},{"$f":"IF($T109<>$T108,VLOOKUP($J109,DetRates!$C$19:$AA$3186,M$22,FALSE),M108)","v":-6},{"$f":"IF($T109<>$T108,VLOOKUP($J109,DetRates!$C$19:$AA$3186,N$22,FALSE),N108)","v":9.0999999999999998E-2},{"$f":"IF($T109<>$T108,VLOOKUP($J109,DetRates!$C$19:$AA$3186,O$22,FALSE),O108)","v":0},{"$f":"IF($T109<>$T108,VLOOKUP($J109,DetRates!$C$19:$AA$3186,P$22,FALSE),P108)","v":-16.2},{"$f":"IF(AND(D109>29,T109>2,T109<>T108,E109<>3),VLOOKUP($J109,DetRates!$C$19:$AA$3186,Q$22),IF(T109<>T108,VLOOKUP($J109,DetRates!$C$19:$AA$3186,Q$22),Q108))","v":0},{"$f":"IF($T109<>$T108,VLOOKUP($J109,DetRates!$C$19:$AA$3186,R$22,FALSE),R108)","v":-25},{"$f":"IF($T109<>$T108,VLOOKUP($J109,DetRates!$C$19:$AA$3186,S$22,FALSE),S108)","v":50},5,{"$f":"VLOOKUP(F109,DetRates!$U$10:$W$12,3,FALSE)","v":20},9,-14.786131570989284,9.0999999999999998E-2,-16.194791617378225,-16.2,0,false,0,false,false,false,false,false,false,false,false,false,false,false,false,false,false,false,-16.194791617378225,0,0,null,-14.786131570989284,-16.194791617378225,"",false,85,2,50,""]
[null,86,18,50,2,1,1,1,"1421111-50",{"$f":"IF(ISNA(VLOOKUP(I110,DetRates!$B$19:$C$3186,2,FALSE)),J109,VLOOKUP(I110,DetRates!$B$19:$C$3186,2,FALSE))","v":972},{"$f":"VLOOKUP($J110,DetRates!$C$19:$AA$3186,K$22,FALSE)","v":50},{"$f":"VLOOKUP($J110,DetRates!$C$19:$AA$3186,L$22,FALSE)","v":1000},{"$f":"IF($T110<>$T109,VLOOKUP($J110,DetRates!$C$19:$AA$3186,M$22,FALSE),M109)","v":-6},{"$f":"IF($T110<>$T109,VLOOKUP($J110,DetRates!$C$19:$AA$3186,N$22,FALSE),N109)","v":9.0999999999999998E-2},{"$f":"IF($T110<>$T109,VLOOKUP($J110,DetRates!$C$19:$AA$3186,O$22,FALSE),O109)","v":0},{"$f":"IF($T110<>$T109,VLOOKUP($J110,DetRates!$C$19:$AA$3186,P$22,FALSE),P109)","v":-16.2},{"$f":"IF(AND(D110>29,T110>2,T110<>T109,E110<>3),VLOOKUP($J110,DetRates!$C$19:$AA$3186,Q$22),IF(T110<>T109,VLOOKUP($J110,DetRates!$C$19:$AA$3186,Q$22),Q109))","v":0},{"$f":"IF($T110<>$T109,VLOOKUP($J110,DetRates!$C$19:$AA$3186,R$22,FALSE),R109)","v":-25},{"$f":"IF($T110<>$T109,VLOOKUP($J110,DetRates!$C$19:$AA$3186,S$22,FALSE),S109)","v":50},5,{"$f":"VLOOKUP(F110,DetRates!$U$10:$W$12,3,FALSE)","v":20},0,-16.194791617378225,9.0999999999999998E-2,-17.737653305133986,-16.2,0,false,0,false,false,false,false,false,false,false,false,false,false,false,false,false,false,false,-17.737653305133986,0,0,null,-16.194791617378225,-17.737653305133986,"",false,86,2,51,""]
[null,87,18,51,2,1,1,1,"1421111-51",{"$f":"IF(ISNA(VLOOKUP(I111,DetRates!$B$19:$C$3186,2,FALSE)),J110,VLOOKUP(I111,DetRates!$B$19:$C$3186,2,FALSE))","v":972},{"$f":"VLOOKUP($J111,DetRates!$C$19:$AA$3186,K$22,FALSE)","v":50},{"$f":"VLOOKUP($J111,DetRates!$C$19:$AA$3186,L$22,FALSE)","v":1000},{"$f":"IF($T111<>$T110,VLOOKUP($J111,DetRates!$C$19:$AA$3186,M$22,FALSE),M110)","v":-6},{"$f":"IF($T111<>$T110,VLOOKUP($J111,DetRates!$C$19:$AA$3186,N$22,FALSE),N110)","v":9.0999999999999998E-2},{"$f":"IF($T111<>$T110,VLOOKUP($J111,DetRates!$C$19:$AA$3186,O$22,FALSE),O110)","v":0},{"$f":"IF($T111<>$T110,VLOOKUP($J111,DetRates!$C$19:$AA$3186,P$22,FALSE),P110)","v":-16.2},{"$f":"IF(AND(D111>29,T111>2,T111<>T110,E111<>3),VLOOKUP($J111,DetRates!$C$19:$AA$3186,Q$22),IF(T111<>T110,VLOOKUP($J111,DetRates!$C$19:$AA$3186,Q$22),Q110))","v":0},{"$f":"IF($T111<>$T110,VLOOKUP($J111,DetRates!$C$19:$AA$3186,R$22,FALSE),R110)","v":-25},{"$f":"IF($T111<>$T110,VLOOKUP($J111,DetRates!$C$19:$AA$3186,S$22,FALSE),S110)","v":50},5,{"$f":"VLOOKUP(F111,DetRates!$U$10:$W$12,3,FALSE)","v":20},1,-17.737653305133986,9.0999999999999998E-2,-19.427501891133634,-16.2,0,false,0,false,false,false,false,true,false,false,true,false,false,false,false,false,true,false,-6,0,1,null,-17.737653305133986,-19.427501891133634,1,true,87,3,52,52]
[null,88,18,0,2,1,1,1,"1421111-0",{"$f":"IF(ISNA(VLOOKUP(I112,DetRates!$B$19:$C$3186,2,FALSE)),J111,VLOOKUP(I112,DetRates!$B$19:$C$3186,2,FALSE))","v":967},{"$f":"VLOOKUP($J112,DetRates!$C$19:$AA$3186,K$22,FALSE)","v":0},{"$f":"VLOOKUP($J112,DetRates!$C$19:$AA$3186,L$22,FALSE)","v":10},{"$f":"IF($T112<>$T111,VLOOKUP($J112,DetRates!$C$19:$AA$3186,M$22,FALSE),M111)","v":-6},{"$f":"IF($T112<>$T111,VLOOKUP($J112,DetRates!$C$19:$AA$3186,N$22,FALSE),N111)","v":8.3999999999999991E-2},{"$f":"IF($T112<>$T111,VLOOKUP($J112,DetRates!$C$19:$AA$3186,O$22,FALSE),O111)","v":0},{"$f":"IF($T112<>$T111,VLOOKUP($J112,DetRates!$C$19:$AA$3186,P$22,FALSE),P111)","v":-6.75},{"$f":"IF(AND(D112>29,T112>2,T112<>T111,E112<>3),VLOOKUP($J112,DetRates!$C$19:$AA$3186,Q$22),IF(T112<>T111,VLOOKUP($J112,DetRates!$C$19:$AA$3186,Q$22),Q111))","v":0},{"$f":"IF($T112<>$T111,VLOOKUP($J112,DetRates!$C$19:$AA$3186,R$22,FALSE),R111)","v":-12},{"$f":"IF($T112<>$T111,VLOOKUP($J112,DetRates!$C$19:$AA$3186,S$22,FALSE),S111)","v":50},0,{"$f":"VLOOKUP(F112,DetRates!$U$10:$W$12,3,FALSE)","v":20},0,-6,8.3999999999999991E-2,-6.5257733628529566,-6.75,0,false,0,false,false,false,false,false,false,false,false,false,false,false,false,false,false,false,-6.5257733628529566,0,0,null,-6,-6.5257733628529566,"",false,88,3,1,""]
[null,89,18,1,2,1,1,1,"1421111-1",{"$f":"IF(ISNA(VLOOKUP(I113,DetRates!$B$19:$C$3186,2,FALSE)),J112,VLOOKUP(I113,DetRates!$B$19:$C$3186,2,FALSE))","v":967},{"$f":"VLOOKUP($J113,DetRates!$C$19:$AA$3186,K$22,FALSE)","v":0},{"$f":"VLOOKUP($J113,DetRates!$C$19:$AA$3186,L$22,FALSE)","v":10},{"$f":"IF($T113<>$T112,VLOOKUP($J113,DetRates!$C$19:$AA$3186,M$22,FALSE),M112)","v":-6},{"$f":"IF($T113<>$T112,VLOOKUP($J113,DetRates!$C$19:$AA$3186,N$22,FALSE),N112)","v":8.3999999999999991E-2},{"$f":"IF($T113<>$T112,VLOOKUP($J113,DetRates!$C$19:$AA$3186,O$22,FALSE),O112)","v":0},{"$f":"IF($T113<>$T112,VLOOKUP($J113,DetRates!$C$19:$AA$3186,P$22,FALSE),P112)","v":-6.75},{"$f":"IF(AND(D113>29,T113>2,T113<>T112,E113<>3),VLOOKUP($J113,DetRates!$C$19:$AA$3186,Q$22),IF(T113<>T112,VLOOKUP($J113,DetRates!$C$19:$AA$3186,Q$22),Q112))","v":0},{"$f":"IF($T113<>$T112,VLOOKUP($J113,DetRates!$C$19:$AA$3186,R$22,FALSE),R112)","v":-12},{"$f":"IF($T113<>$T112,VLOOKUP($J113,DetRates!$C$19:$AA$3186,S$22,FALSE),S112)","v":50},0,{"$f":"VLOOKUP(F113,DetRates!$U$10:$W$12,3,FALSE)","v":20},1,-6.5257733628529566,8.3999999999999991E-2,-7.0976196638868645,-6.75,0,false,0,false,false,false,false,false,false,false,false,false,false,false,false,false,false,false,-7.0976196638868645,0,0,null,-6.5257733628529566,-7.0976196638868645,"",false,89,3,2,""]
[null,90,19,2,2,1,1,1,"1421111-2",{"$f":"IF(ISNA(VLOOKUP(I114,DetRates!$B$19:$C$3186,2,FALSE)),J113,VLOOKUP(I114,DetRates!$B$19:$C$3186,2,FALSE))","v":967},{"$f":"VLOOKUP($J114,DetRates!$C$19:$AA$3186,K$22,FALSE)","v":0},{"$f":"VLOOKUP($J114,DetRates!$C$19:$AA$3186,L$22,FALSE)","v":10},{"$f":"IF($T114<>$T113,VLOOKUP($J114,DetRates!$C$19:$AA$3186,M$22,FALSE),M113)","v":-6},{"$f":"IF($T114<>$T113,VLOOKUP($J114,DetRates!$C$19:$AA$3186,N$22,FALSE),N113)","v":8.3999999999999991E-2},{"$f":"IF($T114<>$T113,VLOOKUP($J114,DetRates!$C$19:$AA$3186,O$22,FALSE),O113)","v":0},{"$f":"IF($T114<>$T113,VLOOKUP($J114,DetRates!$C$19:$AA$3186,P$22,FALSE),P113)","v":-6.75},{"$f":"IF(AND(D114>29,T114>2,T114<>T113,E114<>3),VLOOKUP($J114,DetRates!$C$19:$AA$3186,Q$22),IF(T114<>T113,VLOOKUP($J114,DetRates!$C$19:$AA$3186,Q$22),Q113))","v":0},{"$f":"IF($T114<>$T113,VLOOKUP($J114,DetRates!$C$19:$AA$3186,R$22,FALSE),R113)","v":-12},{"$f":"IF($T114<>$T113,VLOOKUP($J114,DetRates!$C$19:$AA$3186,S$22,FALSE),S113)","v":50},0,{"$f":"VLOOKUP(F114,DetRates!$U$10:$W$12,3,FALSE)","v":20},2,-7.0976196638868645,8.3999999999999991E-2,-7.7195762237090424,-6.75,0,false,0,false,false,false,false,false,false,false,false,false,false,false,false,false,false,false,-7.7195762237090424,0,0,null,-7.0976196638868645,-7.7195762237090424,"",false,90,3,3,""]
[null,91,19,3,2,1,1,1,"1421111-3",{"$f":"IF(ISNA(VLOOKUP(I115,DetRates!$B$19:$C$3186,2,FALSE)),J114,VLOOKUP(I115,DetRates!$B$19:$C$3186,2,FALSE))","v":967},{"$f":"VLOOKUP($J115,DetRates!$C$19:$AA$3186,K$22,FALSE)","v":0},{"$f":"VLOOKUP($J115,DetRates!$C$19:$AA$3186,L$22,FALSE)","v":10},{"$f":"IF($T115<>$T114,VLOOKUP($J115,DetRates!$C$19:$AA$3186,M$22,FALSE),M114)","v":-6},{"$f":"IF($T115<>$T114,VLOOKUP($J115,DetRates!$C$19:$AA$3186,N$22,FALSE),N114)","v":8.3999999999999991E-2},{"$f":"IF($T115<>$T114,VLOOKUP($J115,DetRates!$C$19:$AA$3186,O$22,FALSE),O114)","v":0},{"$f":"IF($T115<>$T114,VLOOKUP($J115,DetRates!$C$19:$AA$3186,P$22,FALSE),P114)","v":-6.75},{"$f":"IF(AND(D115>29,T115>2,T115<>T114,E115<>3),VLOOKUP($J115,DetRates!$C$19:$AA$3186,Q$22),IF(T115<>T114,VLOOKUP($J115,DetRates!$C$19:$AA$3186,Q$22),Q114))","v":0},{"$f":"IF($T115<>$T114,VLOOKUP($J115,DetRates!$C$19:$AA$3186,R$22,FALSE),R114)","v":-12},{"$f":"IF($T115<>$T114,VLOOKUP($J115,DetRates!$C$19:$AA$3186,S$22,FALSE),S114)","v":50},0,{"$f":"VLOOKUP(F115,DetRates!$U$10:$W$12,3,FALSE)","v":20},3,-7.7195762237090424,8.3999999999999991E-2,-8.3960341488655814,-6.75,0,false,0,false,false,false,false,false,false,false,false,false,false,false,false,false,false,false,-8.3960341488655814,0,0,null,-7.7195762237090424,-8.3960341488655814,"",false,91,3,4,""]
[null,92,{"$f":"INT(B116/C$21+1)","v":19},4,2,1,1,1,"1421111-4",{"$f":"IF(ISNA(VLOOKUP(I116,DetRates!$B$19:$C$3186,2,FALSE)),J115,VLOOKUP(I116,DetRates!$B$19:$C$3186,2,FALSE))","v":967},{"$f":"VLOOKUP($J116,DetRates!$C$19:$AA$3186,K$22,FALSE)","v":0},{"$f":"VLOOKUP($J116,DetRates!$C$19:$AA$3186,L$22,FALSE)","v":10},{"$f":"IF($T116<>$T115,VLOOKUP($J116,DetRates!$C$19:$AA$3186,M$22,FALSE),M115)","v":-6},{"$f":"IF($T116<>$T115,VLOOKUP($J116,DetRates!$C$19:$AA$3186,N$22,FALSE),N115)","v":8.3999999999999991E-2},{"$f":"IF($T116<>$T115,VLOOKUP($J116,DetRates!$C$19:$AA$3186,O$22,FALSE),O115)","v":0},{"$f":"IF($T116<>$T115,VLOOKUP($J116,DetRates!$C$19:$AA$3186,P$22,FALSE),P115)","v":-6.75},{"$f":"IF(AND(D116>29,T116>2,T116<>T115,E116<>3),VLOOKUP($J116,DetRates!$C$19:$AA$3186,Q$22),IF(T116<>T115,VLOOKUP($J116,DetRates!$C$19:$AA$3186,Q$22),Q115))","v":0},{"$f":"IF($T116<>$T115,VLOOKUP($J116,DetRates!$C$19:$AA$3186,R$22,FALSE),R115)","v":-12},{"$f":"IF($T116<>$T115,VLOOKUP($J116,DetRates!$C$19:$AA$3186,S$22,FALSE),S115)","v":50},0,{"$f":"VLOOKUP(F116,DetRates!$U$10:$W$12,3,FALSE)","v":20},4,-8.3960341488655814,8.3999999999999991E-2,-9.1317693337118016,-6.75,0,false,0,false,false,false,false,false,false,false,false,false,false,false,false,false,false,false,-9.1317693337118016,0,0,null,-8.3960341488655814,-9.1317693337118016,"",false,92,3,5,""]
[null,93,19,5,2,1,1,1,"1421111-5",{"$f":"IF(ISNA(VLOOKUP(I117,DetRates!$B$19:$C$3186,2,FALSE)),J116,VLOOKUP(I117,DetRates!$B$19:$C$3186,2,FALSE))","v":967},{"$f":"VLOOKUP($J117,DetRates!$C$19:$AA$3186,K$22,FALSE)","v":0},{"$f":"VLOOKUP($J117,DetRates!$C$19:$AA$3186,L$22,FALSE)","v":10},{"$f":"IF($T117<>$T116,VLOOKUP($J117,DetRates!$C$19:$AA$3186,M$22,FALSE),M116)","v":-6},{"$f":"IF($T117<>$T116,VLOOKUP($J117,DetRates!$C$19:$AA$3186,N$22,FALSE),N116)","v":8.3999999999999991E-2},{"$f":"IF($T117<>$T116,VLOOKUP($J117,DetRates!$C$19:$AA$3186,O$22,FALSE),O116)","v":0},{"$f":"IF($T117<>$T116,VLOOKUP($J117,DetRates!$C$19:$AA$3186,P$22,FALSE),P116)","v":-6.75},{"$f":"IF(AND(D117>29,T117>2,T117<>T116,E117<>3),VLOOKUP($J117,DetRates!$C$19:$AA$3186,Q$22),IF(T117<>T116,VLOOKUP($J117,DetRates!$C$19:$AA$3186,Q$22),Q116))","v":0},{"$f":"IF($T117<>$T116,VLOOKUP($J117,DetRates!$C$19:$AA$3186,R$22,FALSE),R116)","v":-12},{"$f":"IF($T117<>$T116,VLOOKUP($J117,DetRates!$C$19:$AA$3186,S$22,FALSE),S116)","v":50},0,{"$f":"VLOOKUP(F117,DetRates!$U$10:$W$12,3,FALSE)","v":20},5,-9.1317693337118016,8.3999999999999991E-2,-9.9319761789423282,-6.75,0,false,0,false,false,false,false,false,false,false,false,false,false,false,false,false,false,false,-9.9319761789423282,0,0,null,-9.1317693337118016,-9.9319761789423282,"",false,93,3,6,""]
[null,94,{"$f":"INT(B118/C$21+1)","v":19},6,2,1,1,1,"1421111-6",{"$f":"IF(ISNA(VLOOKUP(I118,DetRates!$B$19:$C$3186,2,FALSE)),J117,VLOOKUP(I118,DetRates!$B$19:$C$3186,2,FALSE))","v":967},{"$f":"VLOOKUP($J118,DetRates!$C$19:$AA$3186,K$22,FALSE)","v":0},{"$f":"VLOOKUP($J118,DetRates!$C$19:$AA$3186,L$22,FALSE)","v":10},{"$f":"IF($T118<>$T117,VLOOKUP($J118,DetRates!$C$19:$AA$3186,M$22,FALSE),M117)","v":-6},{"$f":"IF($T118<>$T117,VLOOKUP($J118,DetRates!$C$19:$AA$3186,N$22,FALSE),N117)","v":8.3999999999999991E-2},{"$f":"IF($T118<>$T117,VLOOKUP($J118,DetRates!$C$19:$AA$3186,O$22,FALSE),O117)","v":0},{"$f":"IF($T118<>$T117,VLOOKUP($J118,DetRates!$C$19:$AA$3186,P$22,FALSE),P117)","v":-6.75},{"$f":"IF(AND(D118>29,T118>2,T118<>T117,E118<>3),VLOOKUP($J118,DetRates!$C$19:$AA$3186,Q$22),IF(T118<>T117,VLOOKUP($J118,DetRates!$C$19:$AA$3186,Q$22),Q117))","v":0},{"$f":"IF($T118<>$T117,VLOOKUP($J118,DetRates!$C$19:$AA$3186,R$22,FALSE),R117)","v":-12},{"$f":"IF($T118<>$T117,VLOOKUP($J118,DetRates!$C$19:$AA$3186,S$22,FALSE),S117)","v":50},0,{"$f":"VLOOKUP(F118,DetRates!$U$10:$W$12,3,FALSE)","v":20},6,-9.9319761789423282,8.3999999999999991E-2,-10.802304264838655,-6.75,0,false,0,false,false,false,false,false,false,false,false,false,false,false,false,false,false,false,-10.802304264838655,0,0,null,-9.9319761789423282,-10.802304264838655,"",false,94,3,7,""]
[null,95,20,7,2,1,1,1,"1421111-7",{"$f":"IF(ISNA(VLOOKUP(I119,DetRates!$B$19:$C$3186,2,FALSE)),J118,VLOOKUP(I119,DetRates!$B$19:$C$3186,2,FALSE))","v":967},{"$f":"VLOOKUP($J119,DetRates!$C$19:$AA$3186,K$22,FALSE)","v":0},{"$f":"VLOOKUP($J119,DetRates!$C$19:$AA$3186,L$22,FALSE)","v":10},{"$f":"IF($T119<>$T118,VLOOKUP($J119,DetRates!$C$19:$AA$3186,M$22,FALSE),M118)","v":-6},{"$f":"IF($T119<>$T118,VLOOKUP($J119,DetRates!$C$19:$AA$3186,N$22,FALSE),N118)","v":8.3999999999999991E-2},{"$f":"IF($T119<>$T118,VLOOKUP($J119,DetRates!$C$19:$AA$3186,O$22,FALSE),O118)","v":0},{"$f":"IF($T119<>$T118,VLOOKUP($J119,DetRates!$C$19:$AA$3186,P$22,FALSE),P118)","v":-6.75},{"$f":"IF(AND(D119>29,T119>2,T119<>T118,E119<>3),VLOOKUP($J119,DetRates!$C$19:$AA$3186,Q$22),IF(T119<>T118,VLOOKUP($J119,DetRates!$C$19:$AA$3186,Q$22),Q118))","v":0},{"$f":"IF($T119<>$T118,VLOOKUP($J119,DetRates!$C$19:$AA$3186,R$22,FALSE),R118)","v":-12},{"$f":"IF($T119<>$T118,VLOOKUP($J119,DetRates!$C$19:$AA$3186,S$22,FALSE),S118)","v":50},0,{"$f":"VLOOKUP(F119,DetRates!$U$10:$W$12,3,FALSE)","v":20},7,-10.802304264838655,8.3999999999999991E-2,-11.748898238152831,-6.75,0,false,0,false,false,false,false,false,false,false,false,false,false,false,false,false,false,false,-11.748898238152831,0,0,null,-10.802304264838655,-11.748898238152831,"",false,95,3,8,""]
[null,96,{"$f":"INT(B120/C$21+1)","v":20},8,2,1,1,1,{"$f":"$C$17&$E$17&E120&F120&$K$17&G120&H120&\"-\"&D120","v":"1421111-8"},{"$f":"IF(ISNA(VLOOKUP(I120,DetRates!$B$19:$C$3186,2,FALSE)),J119,VLOOKUP(I120,DetRates!$B$19:$C$3186,2,FALSE))","v":967},{"$f":"VLOOKUP($J120,DetRates!$C$19:$AA$3186,K$22,FALSE)","v":0},{"$f":"VLOOKUP($J120,DetRates!$C$19:$AA$3186,L$22,FALSE)","v":10},{"$f":"IF($T120<>$T119,VLOOKUP($J120,DetRates!$C$19:$AA$3186,M$22,FALSE),M119)","v":-6},{"$f":"IF($T120<>$T119,VLOOKUP($J120,DetRates!$C$19:$AA$3186,N$22,FALSE),N119)","v":8.3999999999999991E-2},{"$f":"IF($T120<>$T119,VLOOKUP($J120,DetRates!$C$19:$AA$3186,O$22,FALSE),O119)","v":0},{"$f":"IF($T120<>$T119,VLOOKUP($J120,DetRates!$C$19:$AA$3186,P$22,FALSE),P119)","v":-6.75},{"$f":"IF(AND(D120>29,T120>2,T120<>T119,E120<>3),VLOOKUP($J120,DetRates!$C$19:$AA$3186,Q$22),IF(T120<>T119,VLOOKUP($J120,DetRates!$C$19:$AA$3186,Q$22),Q119))","v":0},{"$f":"IF($T120<>$T119,VLOOKUP($J120,DetRates!$C$19:$AA$3186,R$22,FALSE),R119)","v":-12},{"$f":"IF($T120<>$T119,VLOOKUP($J120,DetRates!$C$19:$AA$3186,S$22,FALSE),S119)","v":50},0,{"$f":"VLOOKUP(F120,DetRates!$U$10:$W$12,3,FALSE)","v":20},8,-11.748898238152831,8.3999999999999991E-2,{"$f":"W120*EXP(X120)","v":-12.778441194234629},{"$f":"P120+Q120*V120","v":-6.75},0,{"$f":"AND($AA$15,(AA120=\"x\"))","v":false},0,{"$f":"AND($AA$15,(AC120=\"x\"))","v":false},false,false,{"$f":"AND($AG$15,T120>U120)","v":false},{"$f":"AND($AH$15,D120>S120)","v":false},{"$f":"AND($AI$15,Y120<R120)","v":true},false,false,true,{"$f":"AND($AI$15,Z120<R120)","v":false},false,false,false,false,true,{"$f":"IF(AQ120,$V$11,IF(AR120,Z120,Y120))","v":-6.75},{"$f":"AR120*1","v":1},0,null,-11.748898238152831,-12.778441194234629,"",false,96,3,9,{"$f":"IF(AZ120,BC120,\"\")","v":""}]
[null,97,20,{"$f":"IF(B121=1,D120+1,IF(AQ120,0,D120+1))","v":9},2,1,1,1,"1421111-9",{"$f":"IF(ISNA(VLOOKUP(I121,DetRates!$B$19:$C$3186,2,FALSE)),J120,VLOOKUP(I121,DetRates!$B$19:$C$3186,2,FALSE))","v":967},{"$f":"VLOOKUP($J121,DetRates!$C$19:$AA$3186,K$22,FALSE)","v":0},{"$f":"VLOOKUP($J121,DetRates!$C$19:$AA$3186,L$22,FALSE)","v":10},{"$f":"IF($T121<>$T120,VLOOKUP($J121,DetRates!$C$19:$AA$3186,M$22,FALSE),M120)","v":-6},{"$f":"IF($T121<>$T120,VLOOKUP($J121,DetRates!$C$19:$AA$3186,N$22,FALSE),N120)","v":8.3999999999999991E-2},{"$f":"IF($T121<>$T120,VLOOKUP($J121,DetRates!$C$19:$AA$3186,O$22,FALSE),O120)","v":0},{"$f":"IF($T121<>$T120,VLOOKUP($J121,DetRates!$C$19:$AA$3186,P$22,FALSE),P120)","v":-6.75},{"$f":"IF(AND(D121>29,T121>2,T121<>T120,E121<>3),VLOOKUP($J121,DetRates!$C$19:$AA$3186,Q$22),IF(T121<>T120,VLOOKUP($J121,DetRates!$C$19:$AA$3186,Q$22),Q120))","v":0},{"$f":"IF($T121<>$T120,VLOOKUP($J121,DetRates!$C$19:$AA$3186,R$22,FALSE),R120)","v":-12},{"$f":"IF($T121<>$T120,VLOOKUP($J121,DetRates!$C$19:$AA$3186,S$22,FALSE),S120)","v":50},{"$f":"IF(AQ120,0,IF(AR120,T120+1,T120))","v":1},{"$f":"VLOOKUP(F121,DetRates!$U$10:$W$12,3,FALSE)","v":20},{"$f":"IF(J120=J121,V120+1,0)","v":9},-6.75,{"$f":"IF((N121+O121*V121)<=0,X120,(N121+O121*V121))","v":8.3999999999999991E-2},-7.3414950332095765,-6.75,0,false,0,false,false,false,false,false,false,false,false,false,false,false,false,false,false,false,-7.3414950332095765,0,0,null,-6.75,-7.3414950332095765,"",false,97,{"$f":"IF(AZ121,BB120+1,BB120)","v":3},{"$f":"IF(NOT(AZ120),BC120+1,1)","v":10},""]
[null,98,20,10,2,1,1,1,"1421111-10",{"$f":"IF(ISNA(VLOOKUP(I122,DetRates!$B$19:$C$3186,2,FALSE)),J121,VLOOKUP(I122,DetRates!$B$19:$C$3186,2,FALSE))","v":968},{"$f":"VLOOKUP($J122,DetRates!$C$19:$AA$3186,K$22,FALSE)","v":10},{"$f":"VLOOKUP($J122,DetRates!$C$19:$AA$3186,L$22,FALSE)","v":20},{"$f":"IF($T122<>$T121,VLOOKUP($J122,DetRates!$C$19:$AA$3186,M$22,FALSE),M121)","v":-6},{"$f":"IF($T122<>$T121,VLOOKUP($J122,DetRates!$C$19:$AA$3186,N$22,FALSE),N121)","v":8.3999999999999991E-2},{"$f":"IF($T122<>$T121,VLOOKUP($J122,DetRates!$C$19:$AA$3186,O$22,FALSE),O121)","v":0},{"$f":"IF($T122<>$T121,VLOOKUP($J122,DetRates!$C$19:$AA$3186,P$22,FALSE),P121)","v":-6.75},{"$f":"IF(AND(D122>29,T122>2,T122<>T121,E122<>3),VLOOKUP($J122,DetRates!$C$19:$AA$3186,Q$22),IF(T122<>T121,VLOOKUP($J122,DetRates!$C$19:$AA$3186,Q$22),Q121))","v":0},{"$f":"IF($T122<>$T121,VLOOKUP($J122,DetRates!$C$19:$AA$3186,R$22,FALSE),R121)","v":-12},{"$f":"IF($T122<>$T121,VLOOKUP($J122,DetRates!$C$19:$AA$3186,S$22,FALSE),S121)","v":50},1,{"$f":"VLOOKUP(F122,DetRates!$U$10:$W$12,3,FALSE)","v":20},0,-7.3414950332095765,8.3999999999999991E-2,-7.9848221218727229,-6.75,0,false,0,false,false,false,false,false,false,false,false,false,false,false,false,false,false,false,-7.9848221218727229,0,0,null,-7.3414950332095765,-7.9848221218727229,"",false,98,3,11,""]
[null,99,20,11,2,1,1,1,"1421111-11",{"$f":"IF(ISNA(VLOOKUP(I123,DetRates!$B$19:$C$3186,2,FALSE)),J122,VLOOKUP(I123,DetRates!$B$19:$C$3186,2,FALSE))","v":968},{"$f":"VLOOKUP($J123,DetRates!$C$19:$AA$3186,K$22,FALSE)","v":10},{"$f":"VLOOKUP($J123,DetRates!$C$19:$AA$3186,L$22,FALSE)","v":20},{"$f":"IF($T123<>$T122,VLOOKUP($J123,DetRates!$C$19:$AA$3186,M$22,FALSE),M122)","v":-6},{"$f":"IF($T123<>$T122,VLOOKUP($J123,DetRates!$C$19:$AA$3186,N$22,FALSE),N122)","v":8.3999999999999991E-2},{"$f":"IF($T123<>$T122,VLOOKUP($J123,DetRates!$C$19:$AA$3186,O$22,FALSE),O122)","v":0},{"$f":"IF($T123<>$T122,VLOOKUP($J123,DetRates!$C$19:$AA$3186,P$22,FALSE),P122)","v":-6.75},{"$f":"IF(AND(D123>29,T123>2,T123<>T122,E123<>3),VLOOKUP($J123,DetRates!$C$19:$AA$3186,Q$22),IF(T123<>T122,VLOOKUP($J123,DetRates!$C$19:$AA$3186,Q$22),Q122))","v":0},{"$f":"IF($T123<>$T122,VLOOKUP($J123,DetRates!$C$19:$AA$3186,R$22,FALSE),R122)","v":-12},{"$f":"IF($T123<>$T122,VLOOKUP($J123,DetRates!$C$19:$AA$3186,S$22,FALSE),S122)","v":50},1,{"$f":"VLOOKUP(F123,DetRates!$U$10:$W$12,3,FALSE)","v":20},1,-7.9848221218727229,8.3999999999999991E-2,-8.6845232516726725,-6.75,0,false,0,false,false,false,false,false,false,false,false,false,false,false,false,false,false,false,-8.6845232516726725,0,0,null,-7.9848221218727229,-8.6845232516726725,"",false,99,3,12,""]
[null,100,21,12,2,1,1,1,"1421111-12",{"$f":"IF(ISNA(VLOOKUP(I124,DetRates!$B$19:$C$3186,2,FALSE)),J123,VLOOKUP(I124,DetRates!$B$19:$C$3186,2,FALSE))","v":968},{"$f":"VLOOKUP($J124,DetRates!$C$19:$AA$3186,K$22,FALSE)","v":10},{"$f":"VLOOKUP($J124,DetRates!$C$19:$AA$3186,L$22,FALSE)","v":20},{"$f":"IF($T124<>$T123,VLOOKUP($J124,DetRates!$C$19:$AA$3186,M$22,FALSE),M123)","v":-6},{"$f":"IF($T124<>$T123,VLOOKUP($J124,DetRates!$C$19:$AA$3186,N$22,FALSE),N123)","v":8.3999999999999991E-2},{"$f":"IF($T124<>$T123,VLOOKUP($J124,DetRates!$C$19:$AA$3186,O$22,FALSE),O123)","v":0},{"$f":"IF($T124<>$T123,VLOOKUP($J124,DetRates!$C$19:$AA$3186,P$22,FALSE),P123)","v":-6.75},{"$f":"IF(AND(D124>29,T124>2,T124<>T123,E124<>3),VLOOKUP($J124,DetRates!$C$19:$AA$3186,Q$22),IF(T124<>T123,VLOOKUP($J124,DetRates!$C$19:$AA$3186,Q$22),Q123))","v":0},{"$f":"IF($T124<>$T123,VLOOKUP($J124,DetRates!$C$19:$AA$3186,R$22,FALSE),R123)","v":-12},{"$f":"IF($T124<>$T123,VLOOKUP($J124,DetRates!$C$19:$AA$3186,S$22,FALSE),S123)","v":50},1,{"$f":"VLOOKUP(F124,DetRates!$U$10:$W$12,3,FALSE)","v":20},2,-8.6845232516726725,8.3999999999999991E-2,-9.4455384174737791,-6.75,0,false,0,false,false,false,false,false,false,false,false,false,false,false,false,false,false,false,-9.4455384174737791,0,0,null,-8.6845232516726725,-9.4455384174737791,"",false,100,3,13,""]
[null,101,21,13,2,1,1,1,"1421111-13",{"$f":"IF(ISNA(VLOOKUP(I125,DetRates!$B$19:$C$3186,2,FALSE)),J124,VLOOKUP(I125,DetRates!$B$19:$C$3186,2,FALSE))","v":968},{"$f":"VLOOKUP($J125,DetRates!$C$19:$AA$3186,K$22,FALSE)","v":10},{"$f":"VLOOKUP($J125,DetRates!$C$19:$AA$3186,L$22,FALSE)","v":20},{"$f":"IF($T125<>$T124,VLOOKUP($J125,DetRates!$C$19:$AA$3186,M$22,FALSE),M124)","v":-6},{"$f":"IF($T125<>$T124,VLOOKUP($J125,DetRates!$C$19:$AA$3186,N$22,FALSE),N124)","v":8.3999999999999991E-2},{"$f":"IF($T125<>$T124,VLOOKUP($J125,DetRates!$C$19:$AA$3186,O$22,FALSE),O124)","v":0},{"$f":"IF($T125<>$T124,VLOOKUP($J125,DetRates!$C$19:$AA$3186,P$22,FALSE),P124)","v":-6.75},{"$f":"IF(AND(D125>29,T125>2,T125<>T124,E125<>3),VLOOKUP($J125,DetRates!$C$19:$AA$3186,Q$22),IF(T125<>T124,VLOOKUP($J125,DetRates!$C$19:$AA$3186,Q$22),Q124))","v":0},{"$f":"IF($T125<>$T124,VLOOKUP($J125,DetRates!$C$19:$AA$3186,R$22,FALSE),R124)","v":-12},{"$f":"IF($T125<>$T124,VLOOKUP($J125,DetRates!$C$19:$AA$3186,S$22,FALSE),S124)","v":50},1,{"$f":"VLOOKUP(F125,DetRates!$U$10:$W$12,3,FALSE)","v":20},3,-9.4455384174737791,8.3999999999999991E-2,-10.273240500425777,-6.75,0,false,0,false,false,false,false,false,false,false,false,false,false,false,false,false,false,false,-10.273240500425777,0,0,null,-9.4455384174737791,-10.273240500425777,"",false,101,3,14,""]
[null,102,21,14,2,1,1,1,"1421111-14",{"$f":"IF(ISNA(VLOOKUP(I126,DetRates!$B$19:$C$3186,2,FALSE)),J125,VLOOKUP(I126,DetRates!$B$19:$C$3186,2,FALSE))","v":968},{"$f":"VLOOKUP($J126,DetRates!$C$19:$AA$3186,K$22,FALSE)","v":10},{"$f":"VLOOKUP($J126,DetRates!$C$19:$AA$3186,L$22,FALSE)","v":20},{"$f":"IF($T126<>$T125,VLOOKUP($J126,DetRates!$C$19:$AA$3186,M$22,FALSE),M125)","v":-6},{"$f":"IF($T126<>$T125,VLOOKUP($J126,DetRates!$C$19:$AA$3186,N$22,FALSE),N125)","v":8.3999999999999991E-2},{"$f":"IF($T126<>$T125,VLOOKUP($J126,DetRates!$C$19:$AA$3186,O$22,FALSE),O125)","v":0},{"$f":"IF($T126<>$T125,VLOOKUP($J126,DetRates!$C$19:$AA$3186,P$22,FALSE),P125)","v":-6.75},{"$f":"IF(AND(D126>29,T126>2,T126<>T125,E126<>3),VLOOKUP($J126,DetRates!$C$19:$AA$3186,Q$22),IF(T126<>T125,VLOOKUP($J126,DetRates!$C$19:$AA$3186,Q$22),Q125))","v":0},{"$f":"IF($T126<>$T125,VLOOKUP($J126,DetRates!$C$19:$AA$3186,R$22,FALSE),R125)","v":-12},{"$f":"IF($T126<>$T125,VLOOKUP($J126,DetRates!$C$19:$AA$3186,S$22,FALSE),S125)","v":50},1,{"$f":"VLOOKUP(F126,DetRates!$U$10:$W$12,3,FALSE)","v":20},4,-10.273240500425777,8.3999999999999991E-2,-11.173473201310118,-6.75,0,false,0,false,false,false,false,false,false,false,false,false,false,false,false,false,false,false,-11.173473201310118,0,0,null,-10.273240500425777,-11.173473201310118,"",false,102,3,15,""]
[null,103,21,15,2,1,1,1,"1421111-15",{"$f":"IF(ISNA(VLOOKUP(I127,DetRates!$B$19:$C$3186,2,FALSE)),J126,VLOOKUP(I127,DetRates!$B$19:$C$3186,2,FALSE))","v":968},{"$f":"VLOOKUP($J127,DetRates!$C$19:$AA$3186,K$22,FALSE)","v":10},{"$f":"VLOOKUP($J127,DetRates!$C$19:$AA$3186,L$22,FALSE)","v":20},{"$f":"IF($T127<>$T126,VLOOKUP($J127,DetRates!$C$19:$AA$3186,M$22,FALSE),M126)","v":-6},{"$f":"IF($T127<>$T126,VLOOKUP($J127,DetRates!$C$19:$AA$3186,N$22,FALSE),N126)","v":8.3999999999999991E-2},{"$f":"IF($T127<>$T126,VLOOKUP($J127,DetRates!$C$19:$AA$3186,O$22,FALSE),O126)","v":0},{"$f":"IF($T127<>$T126,VLOOKUP($J127,DetRates!$C$19:$AA$3186,P$22,FALSE),P126)","v":-6.75},{"$f":"IF(AND(D127>29,T127>2,T127<>T126,E127<>3),VLOOKUP($J127,DetRates!$C$19:$AA$3186,Q$22),IF(T127<>T126,VLOOKUP($J127,DetRates!$C$19:$AA$3186,Q$22),Q126))","v":0},{"$f":"IF($T127<>$T126,VLOOKUP($J127,DetRates!$C$19:$AA$3186,R$22,FALSE),R126)","v":-12},{"$f":"IF($T127<>$T126,VLOOKUP($J127,DetRates!$C$19:$AA$3186,S$22,FALSE),S126)","v":50},1,{"$f":"VLOOKUP(F127,DetRates!$U$10:$W$12,3,FALSE)","v":20},5,-11.173473201310118,8.3999999999999991E-2,-12.152592297943487,-6.75,0,false,0,false,false,false,false,false,true,false,false,true,false,false,false,false,false,true,-6.75,1,0,null,-11.173473201310118,-12.152592297943487,"",false,103,3,16,""]
[null,104,21,16,2,1,1,1,"1421111-16",{"$f":"IF(ISNA(VLOOKUP(I128,DetRates!$B$19:$C$3186,2,FALSE)),J127,VLOOKUP(I128,DetRates!$B$19:$C$3186,2,FALSE))","v":968},{"$f":"VLOOKUP($J128,DetRates!$C$19:$AA$3186,K$22,FALSE)","v":10},{"$f":"VLOOKUP($J128,DetRates!$C$19:$AA$3186,L$22,FALSE)","v":20},{"$f":"IF($T128<>$T127,VLOOKUP($J128,DetRates!$C$19:$AA$3186,M$22,FALSE),M127)","v":-6},{"$f":"IF($T128<>$T127,VLOOKUP($J128,DetRates!$C$19:$AA$3186,N$22,FALSE),N127)","v":6.3E-2},{"$f":"IF($T128<>$T127,VLOOKUP($J128,DetRates!$C$19:$AA$3186,O$22,FALSE),O127)","v":0},{"$f":"IF($T128<>$T127,VLOOKUP($J128,DetRates!$C$19:$AA$3186,P$22,FALSE),P127)","v":-7.2},{"$f":"IF(AND(D128>29,T128>2,T128<>T127,E128<>3),VLOOKUP($J128,DetRates!$C$19:$AA$3186,Q$22),IF(T128<>T127,VLOOKUP($J128,DetRates!$C$19:$AA$3186,Q$22),Q127))","v":0},{"$f":"IF($T128<>$T127,VLOOKUP($J128,DetRates!$C$19:$AA$3186,R$22,FALSE),R127)","v":-15},{"$f":"IF($T128<>$T127,VLOOKUP($J128,DetRates!$C$19:$AA$3186,S$22,FALSE),S127)","v":50},2,{"$f":"VLOOKUP(F128,DetRates!$U$10:$W$12,3,FALSE)","v":20},6,-6.75,6.3E-2,-7.1889311648113114,-7.2,0,false,0,false,false,false,false,false,false,false,false,false,false,false,false,false,false,false,-7.1889311648113114,0,0,null,-6.75,-7.1889311648113114,"",false,104,3,17]
[]
[null,null,null,null,null,null,null,null,null,null,null,null,null,null,null,null,null,null,null,null,null,null,null,null,null,null,null,null,null,null,null,null,null,null,null,null,null,null,null,null,null,null,null,null,"Summary"]
[null,null,null,null,null,null,null,null,null,null,null,null,null,null,null,null,null,null,null,null,null,null,null,null,null,null,null,null,null,null,null,null,null,null,null,null,null,null,null,null,null,null,null,null,"Count of Interventions"]
[null,null,null,null,null,null,null,null,null,null,null,null,null,null,null,null,null,null,null,null,null,null,null,null,null,null,null,null,null,null,null,null,null,null,null,null,null,null,null,null,null,null,null,null,"Period","Tamping","Renewal","Start year","Qstart","Last year","Qend"]
[null,null,null,null,null,null,null,null,null,null,null,null,null,null,null,null,null,null,null,null,null,null,null,null,null,null,null,null,null,null,null,null,null,null,null,null,null,null,null,null,null,null,null,null,1,{"$f":"SUMIF($C$24:$C$128,$AS133,AT$24:AT$128)","v":1},{"$f":"SUMIF($C$24:$C$128,$AS133,AU$24:AU$128)","v":1},0,{"$f":"VLOOKUP(AV133,$B$24:$AS$128,22,FALSE)","v":-7},4,{"$f":"VLOOKUP(AX133,$B$24:$AS$128,44,FALSE)","v":-8}]
[null,null,null,null,null,null,null,null,null,null,null,null,null,null,null,null,null,null,null,null,null,null,null,null,null,null,null,null,null,null,null,null,null,null,null,null,null,null,null,null,null,null,null,null,{"$f":"AS133+1","v":2},1,0,{"$f":"AV133+5","v":5},{"$f":"VLOOKUP(AV134,$B$24:$AS$128,22,FALSE)","v":-8},{"$f":"AX133+5","v":9},{"$f":"VLOOKUP(AX134,$B$24:$AS$128,44,FALSE)","v":-11.934597581130163}]
[null,null,null,null,null,null,null,null,null,null,null,null,null,null,null,null,null,null,null,null,null,null,null,null,null,null,null,null,null,null,null,null,null,null,null,null,null,null,null,null,null,null,null,null,{"$f":"AS134+1","v":3},1,0,{"$f":"AV134+5","v":10},{"$f":"VLOOKUP(AV135,$B$24:$AS$128,22,FALSE)","v":-11.934597581130163},14,{"$f":"VLOOKUP(AX135,$B$24:$AS$128,44,FALSE)","v":-14.576950403124068}]
[null,null,null,null,null,null,null,null,null,null,null,null,null,null,null,null,null,null,null,null,null,null,null,null,null,null,null,null,null,null,null,null,null,null,null,null,null,null,null,null,null,null,null,null,4,2,0,15,{"$f":"VLOOKUP(AV136,$B$24:$AS$128,22,FALSE)","v":-14.576950403124068},19,{"$f":"VLOOKUP(AX136,$B$24:$AS$128,44,FALSE)","v":-11.61834242728283}]
[null,null,null,null,null,null,null,null,null,null,null,null,null,null,null,null,null,null,null,null,null,null,null,null,null,null,null,null,null,null,null,null,null,null,null,null,null,null,null,null,null,null,null,null,5,2,0,20,-11.61834242728283,24,-10]
[null,null,null,null,null,null,null,null,null,null,null,null,null,null,null,null,null,null,null,null,null,null,null,null,null,null,null,null,null,null,null,null,null,null,null,null,null,null,null,null,null,null,null,null,6,1,0,25,-10,29,{"$f":"VLOOKUP(AX138,$B$24:$AS$128,44,FALSE)","v":-16.929494367201521}]
[null,null,null,null,null,null,null,null,null,null,null,null,null,null,null,null,null,null,null,null,null,null,null,null,null,null,null,null,null,null,null,null,null,null,null,null,null,null,null,null,null,null,null,null,7,2,0,30,-16.929494367201521,34,-22]
[null,null,null,null,null,null,null,null,null,null,null,null,null,null,null,null,null,null,null,null,null,null,null,null,null,null,null,null,null,null,null,null,null,null,null,null,null,null,null,null,null,null,null,null,8,0,1,35,-22,39,-8.3960341488655814]
[null,null,null,null,null,null,null,null,null,null,null,null,null,null,null,null,null,null,null,null,null,null,null,null,null,null,null,null,null,null,null,null,null,null,null,null,null,null,null,null,null,null,null,null,9,1,0,40,-8.3960341488655814,44,-6.75]
[null,null,null,null,null,null,null,null,null,null,null,null,null,null,null,null,null,null,null,null,null,null,null,null,null,null,null,null,null,null,null,null,null,null,null,null,null,null,null,null,null,null,null,null,10,0,0,45,-6.75,49,-10.273240500425777]
[null,null,null,null,null,null,null,null,null,null,null,null,null,null,null,null,null,null,null,null,null,null,null,null,null,null,null,null,null,null,null,null,null,null,null,null,null,null,null,null,null,null,null,null,11,1,0,50,-10.273240500425777,54,-8.1542764292595855]
[null,null,null,null,null,null,null,null,null,null,null,null,null,null,null,null,null,null,null,null,null,null,null,null,null,null,null,null,null,null,null,null,null,null,null,null,null,null,null,null,null,null,null,null,12,0,0,55,-8.1542764292595855,59,-11.173473201310111]
[null,null,null,null,null,null,null,null,null,null,null,null,null,null,null,null,null,null,null,null,null,null,null,null,null,null,null,null,null,null,null,null,null,null,null,null,null,null,null,null,null,null,null,null,13,1,0,60,-11.173473201310111,64,-8.3987343848047669]
[null,null,null,null,null,null,null,null,null,null,null,null,null,null,null,null,null,null,null,null,null,null,null,null,null,null,null,null,null,null,null,null,null,null,null,null,null,null,null,null,null,null,null,null,14,0,0,65,-8.3987343848047669,69,-12.342900333889268]
[null,null,null,null,null,null,null,null,null,null,null,null,null,null,null,null,null,null,null,null,null,null,null,null,null,null,null,null,null,null,null,null,null,null,null,null,null,null,null,null,null,null,null,null,15,1,0,70,-12.342900333889268,74,-11.746392053135322]
[null,null,null,null,null,null,null,null,null,null,null,null,null,null,null,null,null,null,null,null,null,null,null,null,null,null,null,null,null,null,null,null,null,null,null,null,null,null,null,null,null,null,null,null,16,0,0,75,-11.746392053135322,79,-17.877557122096189]
[null,null,null,null,null,null,null,null,null,null,null,null,null,null,null,null,null,null,null,null,null,null,null,null,null,null,null,null,null,null,null,null,null,null,null,null,null,null,null,null,null,null,null,null,17,1,0,80,-17.877557122096189,84,-14.786131570989284]
[null,null,null,null,null,null,null,null,null,null,null,null,null,null,null,null,null,null,null,null,null,null,null,null,null,null,null,null,null,null,null,null,null,null,null,null,null,null,null,null,null,null,null,null,18,0,1,85,-14.786131570989284,89,-7.0976196638868645]
[null,null,null,null,null,null,null,null,null,null,null,null,null,null,null,null,null,null,null,null,null,null,null,null,null,null,null,null,null,null,null,null,null,null,null,null,null,null,null,null,null,null,null,null,19,0,0,90,-7.0976196638868645,94,-10.802304264838655]
[null,null,null,null,null,null,null,null,null,null,null,null,null,null,null,null,null,null,null,null,null,null,null,null,null,null,null,null,null,null,null,null,null,null,null,null,null,null,null,null,null,null,null,null,20,1,0,95,-10.802304264838655,99,-8.6845232516726725]
[null,null,null,null,null,null,null,null,null,null,null,null,null,null,null,null,null,null,null,null,null,null,null,null,null,null,null,null,null,null,null,null,null,null,null,null,null,null,null,null,null,null,null,null,21,1,0,100,-8.6845232516726725,104,-7.1889311648113114]

{"sheet":"Results","index":13,"n_rows":93,"n_cols":36,"rows_kept":93,"cut":false,"hidden":false,"merged":[[97,3,97,5],[80,2,80,3],[81,2,81,3],[82,2,82,3],[65,4,65,5],[51,2,51,4],[58,2,58,4],[50,2,50,4],[57,2,57,4],[41,3,41,5],[42,3,42,5],[43,2,43,4],[44,2,44,4],[22,3,22,4],[29,3,29,4],[36,3,36,4],[25,3,25,4],[26,3,26,4],[27,3,27,4],[28,3,28,4],[32,3,32,4],[33,3,33,4],[34,3,34,4],[35,3,35,4],[20,3,20,5],[21,3,21,5],[17,3,17,5],[18,33,18,34],[16,3,16,5]]}
["MAINLINE",null,{"$f":"Flowchart!C1","v":"Plain Track Model"}]
[null,null,"Summary of Projected Values"]
[]
[]
[]
[]
[]
[null,null,"Reference Values"]
[null,null,"This sheet shows the collation of results from the Projection with additional cost and impact evaluation."]
[null,null,"Data from here is carried to the output sheets"]
[null,null,"There is no user input on this sheet."]
[]
[null,null,null,null,null,"Duration:",5]
[null,null,"Intervention schedule",null,null,"Years:",{"$f":"TEXT(1,\"00\") &\"-\"& TEXT(G13,\"00\")","v":"01-05"},{"$f":"TEXT(LEFT(G14,2)+$G13,\"00\") &\"-\"& TEXT(RIGHT(G14,2)+$G13,\"00\")","v":"06-10"},{"$f":"TEXT(LEFT(H14,2)+$G13,\"00\") &\"-\"& TEXT(RIGHT(H14,2)+$G13,\"00\")","v":"11-15"},"16-20","21-25","26-30","31-35","36-40","41-45","46-50","51-55","56-60","61-65","66-70","71-75","76-80","81-85","86-90","91-95","96-100","101-05"]
[null,null,null,null,null,"Period:",1,{"$f":"G15+1","v":2},3,4,5,6,7,8,9,10,11,12,13,14,15,16,17,18,19,20,21]
[null,null,"Intv.","Name",null,null,null,null,null,null,null,null,null,null,null,null,null,null,null,null,null,null,null,null,null,null,null,null,"Total"]
[null,null,1,{"$f":"IntvTriggers!D30","v":"In-situ tamping of ballast"},null,null,{"$f":"TRANSPOSE(Projection!AT133:AT153)","v":1},1,1,2,2,1,2,0,1,0,1,0,1,0,1,0,1,0,0,1,1,null,{"$f":"SUM(G17:AA17)","v":17}]
[null,null,2,{"$f":"IntvTriggers!D31","v":"Renew track structure"},null,null,{"$f":"TRANSPOSE(Projection!AU133:AU153)","v":1},0,0,0,0,0,0,1,0,0,0,0,0,0,0,0,0,1,0,0,0,null,3]
[null,null,null,null,null,null,null,null,null,null,null,null,null,null,null,null,null,null,null,null,null,null,null,null,null,null,null,null,null,null,null,null,null,"Track Residual Value"]
[null,null,"Costs by Intervention",null,null,null,null,null,null,null,null,null,null,null,null,null,null,null,null,null,null,null,null,null,null,null,null,null,null,null,"Cash","Discounted",0,"Cash","Discounted"]
[null,null,{"$f":"C$17","v":1},{"$f":"D$17","v":"In-situ tamping of ballast"},null,null,{"$f":"G17*IntvCosts!$J18","v":17000},{"$f":"H17*IntvCosts!$J18","v":17000},{"$f":"I17*IntvCosts!$J18","v":17000},{"$f":"J17*IntvCosts!$J18","v":34000},{"$f":"K17*IntvCosts!$J18","v":34000},{"$f":"L17*IntvCosts!$J18","v":17000},{"$f":"M17*IntvCosts!$J18","v":34000},{"$f":"N17*IntvCosts!$J18","v":0},{"$f":"O17*IntvCosts!$J18","v":17000},{"$f":"P17*IntvCosts!$J18","v":0},{"$f":"Q17*IntvCosts!$J18","v":17000},{"$f":"R17*IntvCosts!$J18","v":0},{"$f":"S17*IntvCosts!$J18","v":17000},{"$f":"T17*IntvCosts!$J18","v":0},{"$f":"U17*IntvCosts!$J18","v":17000},{"$f":"V17*IntvCosts!$J18","v":0},{"$f":"W17*IntvCosts!$J18","v":17000},{"$f":"X17*IntvCosts!$J18","v":0},{"$f":"Y17*IntvCosts!$J18","v":0},{"$f":"Z17*IntvCosts!$J18","v":17000},{"$f":"AA17*IntvCosts!$J18","v":17000},null,null,null,{"$f":"SUM(G21:AA21)","v":289000},{"$f":"SUMPRODUCT(G21:AA21,OFFSET(G$81:AA$81,AG$20,0))","v":144850.89522838412},null,{"$f":"Projection!BC16","v":-491346.15384615387},{"$f":"Projection!BC18","v":-71114.587507289267}]
[null,null,{"$f":"C$18","v":2},{"$f":"D$18","v":"Renew track structure"},null,null,{"$f":"G18*IntvCosts!$J19","v":730000},{"$f":"H18*IntvCosts!$J19","v":0},{"$f":"I18*IntvCosts!$J19","v":0},{"$f":"J18*IntvCosts!$J19","v":0},{"$f":"K18*IntvCosts!$J19","v":0},{"$f":"L18*IntvCosts!$J19","v":0},{"$f":"M18*IntvCosts!$J19","v":0},{"$f":"N18*IntvCosts!$J19","v":730000},{"$f":"O18*IntvCosts!$J19","v":0},{"$f":"P18*IntvCosts!$J19","v":0},{"$f":"Q18*IntvCosts!$J19","v":0},{"$f":"R18*IntvCosts!$J19","v":0},{"$f":"S18*IntvCosts!$J19","v":0},{"$f":"T18*IntvCosts!$J19","v":0},{"$f":"U18*IntvCosts!$J19","v":0},{"$f":"V18*IntvCosts!$J19","v":0},{"$f":"W18*IntvCosts!$J19","v":0},{"$f":"X18*IntvCosts!$J19","v":730000},{"$f":"Y18*IntvCosts!$J19","v":0},{"$f":"Z18*IntvCosts!$J19","v":0},{"$f":"AA18*IntvCosts!$J19","v":0},null,null,null,{"$f":"SUM(G22:AA22)","v":2190000},{"$f":"SUMPRODUCT(G22:AA22,OFFSET(G$81:AA$81,AG$20,0))","v":1165019.6186974945}]
[null,null,null,"Financial",null,"Total",{"$f":"SUM(G21:G22)","v":747000},17000,17000,34000,34000,17000,34000,730000,17000,0,17000,0,17000,0,17000,0,17000,730000,0,17000,{"$f":"SUM(AA21:AA22)","v":17000},null,null,null,{"$f":"SUM(AE21:AE22)","v":2479000},{"$f":"SUM(AF21:AF22)","v":1309870.5139258786}]
[]
[null,null,"Costs by Category"]
[null,null,1,{"$f":"INDEX(IntvCosts!$F$14:$I$15,1,$C26)","v":"Labour"},null,{"$f":"INDEX(IntvCosts!$F$14:$I$15,2,$C26)","v":"Lab"},{"$f":"SUMPRODUCT(G$17:G$18,OFFSET(IntvCosts!$F$18:$F$19,0,$C26-1))","v":215000},{"$f":"SUMPRODUCT(H$17:H$18,OFFSET(IntvCosts!$F$18:$F$19,0,$C26-1))","v":10000},{"$f":"SUMPRODUCT(I$17:I$18,OFFSET(IntvCosts!$F$18:$F$19,0,$C26-1))","v":10000},{"$f":"SUMPRODUCT(J$17:J$18,OFFSET(IntvCosts!$F$18:$F$19,0,$C26-1))","v":20000},{"$f":"SUMPRODUCT(K$17:K$18,OFFSET(IntvCosts!$F$18:$F$19,0,$C26-1))","v":20000},{"$f":"SUMPRODUCT(L$17:L$18,OFFSET(IntvCosts!$F$18:$F$19,0,$C26-1))","v":10000},{"$f":"SUMPRODUCT(M$17:M$18,OFFSET(IntvCosts!$F$18:$F$19,0,$C26-1))","v":20000},{"$f":"SUMPRODUCT(N$17:N$18,OFFSET(IntvCosts!$F$18:$F$19,0,$C26-1))","v":205000},{"$f":"SUMPRODUCT(O$17:O$18,OFFSET(IntvCosts!$F$18:$F$19,0,$C26-1))","v":10000},{"$f":"SUMPRODUCT(P$17:P$18,OFFSET(IntvCosts!$F$18:$F$19,0,$C26-1))","v":0},{"$f":"SUMPRODUCT(Q$17:Q$18,OFFSET(IntvCosts!$F$18:$F$19,0,$C26-1))","v":10000},{"$f":"SUMPRODUCT(R$17:R$18,OFFSET(IntvCosts!$F$18:$F$19,0,$C26-1))","v":0},{"$f":"SUMPRODUCT(S$17:S$18,OFFSET(IntvCosts!$F$18:$F$19,0,$C26-1))","v":10000},{"$f":"SUMPRODUCT(T$17:T$18,OFFSET(IntvCosts!$F$18:$F$19,0,$C26-1))","v":0},{"$f":"SUMPRODUCT(U$17:U$18,OFFSET(IntvCosts!$F$18:$F$19,0,$C26-1))","v":10000},{"$f":"SUMPRODUCT(V$17:V$18,OFFSET(IntvCosts!$F$18:$F$19,0,$C26-1))","v":0},{"$f":"SUMPRODUCT(W$17:W$18,OFFSET(IntvCosts!$F$18:$F$19,0,$C26-1))","v":10000},{"$f":"SUMPRODUCT(X$17:X$18,OFFSET(IntvCosts!$F$18:$F$19,0,$C26-1))","v":205000},{"$f":"SUMPRODUCT(Y$17:Y$18,OFFSET(IntvCosts!$F$18:$F$19,0,$C26-1))","v":0},{"$f":"SUMPRODUCT(Z$17:Z$18,OFFSET(IntvCosts!$F$18:$F$19,0,$C26-1))","v":10000},{"$f":"SUMPRODUCT(AA$17:AA$18,OFFSET(IntvCosts!$F$18:$F$19,0,$C26-1))","v":10000},null,null,null,{"$f":"SUM(G26:AA26)","v":785000},{"$f":"SUMPRODUCT(G26:AA26,OFFSET(G$81:AA$81,AG$20,0))","v":412369.45256470382}]
[null,null,2,{"$f":"INDEX(IntvCosts!$F$14:$I$15,1,$C27)","v":"Plant"},null,{"$f":"INDEX(IntvCosts!$F$14:$I$15,2,$C27)","v":"Plt"},{"$f":"SUMPRODUCT(G$17:G$18,OFFSET(IntvCosts!$F$18:$F$19,0,$C27-1))","v":502000},{"$f":"SUMPRODUCT(H$17:H$18,OFFSET(IntvCosts!$F$18:$F$19,0,$C27-1))","v":2000},{"$f":"SUMPRODUCT(I$17:I$18,OFFSET(IntvCosts!$F$18:$F$19,0,$C27-1))","v":2000},{"$f":"SUMPRODUCT(J$17:J$18,OFFSET(IntvCosts!$F$18:$F$19,0,$C27-1))","v":4000},{"$f":"SUMPRODUCT(K$17:K$18,OFFSET(IntvCosts!$F$18:$F$19,0,$C27-1))","v":4000},{"$f":"SUMPRODUCT(L$17:L$18,OFFSET(IntvCosts!$F$18:$F$19,0,$C27-1))","v":2000},{"$f":"SUMPRODUCT(M$17:M$18,OFFSET(IntvCosts!$F$18:$F$19,0,$C27-1))","v":4000},{"$f":"SUMPRODUCT(N$17:N$18,OFFSET(IntvCosts!$F$18:$F$19,0,$C27-1))","v":500000},{"$f":"SUMPRODUCT(O$17:O$18,OFFSET(IntvCosts!$F$18:$F$19,0,$C27-1))","v":2000},{"$f":"SUMPRODUCT(P$17:P$18,OFFSET(IntvCosts!$F$18:$F$19,0,$C27-1))","v":0},{"$f":"SUMPRODUCT(Q$17:Q$18,OFFSET(IntvCosts!$F$18:$F$19,0,$C27-1))","v":2000},{"$f":"SUMPRODUCT(R$17:R$18,OFFSET(IntvCosts!$F$18:$F$19,0,$C27-1))","v":0},{"$f":"SUMPRODUCT(S$17:S$18,OFFSET(IntvCosts!$F$18:$F$19,0,$C27-1))","v":2000},{"$f":"SUMPRODUCT(T$17:T$18,OFFSET(IntvCosts!$F$18:$F$19,0,$C27-1))","v":0},{"$f":"SUMPRODUCT(U$17:U$18,OFFSET(IntvCosts!$F$18:$F$19,0,$C27-1))","v":2000},{"$f":"SUMPRODUCT(V$17:V$18,OFFSET(IntvCosts!$F$18:$F$19,0,$C27-1))","v":0},{"$f":"SUMPRODUCT(W$17:W$18,OFFSET(IntvCosts!$F$18:$F$19,0,$C27-1))","v":2000},{"$f":"SUMPRODUCT(X$17:X$18,OFFSET(IntvCosts!$F$18:$F$19,0,$C27-1))","v":500000},{"$f":"SUMPRODUCT(Y$17:Y$18,OFFSET(IntvCosts!$F$18:$F$19,0,$C27-1))","v":0},{"$f":"SUMPRODUCT(Z$17:Z$18,OFFSET(IntvCosts!$F$18:$F$19,0,$C27-1))","v":2000},{"$f":"SUMPRODUCT(AA$17:AA$18,OFFSET(IntvCosts!$F$18:$F$19,0,$C27-1))","v":2000},null,null,null,{"$f":"SUM(G27:AA27)","v":1534000},{"$f":"SUMPRODUCT(G27:AA27,OFFSET(G$81:AA$81,AG$20,0))","v":814999.92473506392}]
[null,null,3,{"$f":"INDEX(IntvCosts!$F$14:$I$15,1,$C28)","v":"Materials"},null,{"$f":"INDEX(IntvCosts!$F$14:$I$15,2,$C28)","v":"Mnt"},{"$f":"SUMPRODUCT(G$17:G$18,OFFSET(IntvCosts!$F$18:$F$19,0,$C28-1))","v":7000},{"$f":"SUMPRODUCT(H$17:H$18,OFFSET(IntvCosts!$F$18:$F$19,0,$C28-1))","v":2000},{"$f":"SUMPRODUCT(I$17:I$18,OFFSET(IntvCosts!$F$18:$F$19,0,$C28-1))","v":2000},{"$f":"SUMPRODUCT(J$17:J$18,OFFSET(IntvCosts!$F$18:$F$19,0,$C28-1))","v":4000},{"$f":"SUMPRODUCT(K$17:K$18,OFFSET(IntvCosts!$F$18:$F$19,0,$C28-1))","v":4000},{"$f":"SUMPRODUCT(L$17:L$18,OFFSET(IntvCosts!$F$18:$F$19,0,$C28-1))","v":2000},{"$f":"SUMPRODUCT(M$17:M$18,OFFSET(IntvCosts!$F$18:$F$19,0,$C28-1))","v":4000},{"$f":"SUMPRODUCT(N$17:N$18,OFFSET(IntvCosts!$F$18:$F$19,0,$C28-1))","v":5000},{"$f":"SUMPRODUCT(O$17:O$18,OFFSET(IntvCosts!$F$18:$F$19,0,$C28-1))","v":2000},{"$f":"SUMPRODUCT(P$17:P$18,OFFSET(IntvCosts!$F$18:$F$19,0,$C28-1))","v":0},{"$f":"SUMPRODUCT(Q$17:Q$18,OFFSET(IntvCosts!$F$18:$F$19,0,$C28-1))","v":2000},{"$f":"SUMPRODUCT(R$17:R$18,OFFSET(IntvCosts!$F$18:$F$19,0,$C28-1))","v":0},{"$f":"SUMPRODUCT(S$17:S$18,OFFSET(IntvCosts!$F$18:$F$19,0,$C28-1))","v":2000},{"$f":"SUMPRODUCT(T$17:T$18,OFFSET(IntvCosts!$F$18:$F$19,0,$C28-1))","v":0},{"$f":"SUMPRODUCT(U$17:U$18,OFFSET(IntvCosts!$F$18:$F$19,0,$C28-1))","v":2000},{"$f":"SUMPRODUCT(V$17:V$18,OFFSET(IntvCosts!$F$18:$F$19,0,$C28-1))","v":0},{"$f":"SUMPRODUCT(W$17:W$18,OFFSET(IntvCosts!$F$18:$F$19,0,$C28-1))","v":2000},{"$f":"SUMPRODUCT(X$17:X$18,OFFSET(IntvCosts!$F$18:$F$19,0,$C28-1))","v":5000},{"$f":"SUMPRODUCT(Y$17:Y$18,OFFSET(IntvCosts!$F$18:$F$19,0,$C28-1))","v":0},{"$f":"SUMPRODUCT(Z$17:Z$18,OFFSET(IntvCosts!$F$18:$F$19,0,$C28-1))","v":2000},{"$f":"SUMPRODUCT(AA$17:AA$18,OFFSET(IntvCosts!$F$18:$F$19,0,$C28-1))","v":2000},null,null,null,{"$f":"SUM(G28:AA28)","v":49000},{"$f":"SUMPRODUCT(G28:AA28,OFFSET(G$81:AA$81,AG$20,0))","v":25020.868221009496}]
[null,null,4,{"$f":"INDEX(IntvCosts!$F$14:$I$15,1,$C29)","v":"Tax"},null,{"$f":"INDEX(IntvCosts!$F$14:$I$15,2,$C29)","v":"Tax"},{"$f":"SUMPRODUCT(G$17:G$18,OFFSET(IntvCosts!$F$18:$F$19,0,$C29-1))","v":23000},{"$f":"SUMPRODUCT(H$17:H$18,OFFSET(IntvCosts!$F$18:$F$19,0,$C29-1))","v":3000},{"$f":"SUMPRODUCT(I$17:I$18,OFFSET(IntvCosts!$F$18:$F$19,0,$C29-1))","v":3000},{"$f":"SUMPRODUCT(J$17:J$18,OFFSET(IntvCosts!$F$18:$F$19,0,$C29-1))","v":6000},{"$f":"SUMPRODUCT(K$17:K$18,OFFSET(IntvCosts!$F$18:$F$19,0,$C29-1))","v":6000},{"$f":"SUMPRODUCT(L$17:L$18,OFFSET(IntvCosts!$F$18:$F$19,0,$C29-1))","v":3000},{"$f":"SUMPRODUCT(M$17:M$18,OFFSET(IntvCosts!$F$18:$F$19,0,$C29-1))","v":6000},{"$f":"SUMPRODUCT(N$17:N$18,OFFSET(IntvCosts!$F$18:$F$19,0,$C29-1))","v":20000},{"$f":"SUMPRODUCT(O$17:O$18,OFFSET(IntvCosts!$F$18:$F$19,0,$C29-1))","v":3000},{"$f":"SUMPRODUCT(P$17:P$18,OFFSET(IntvCosts!$F$18:$F$19,0,$C29-1))","v":0},{"$f":"SUMPRODUCT(Q$17:Q$18,OFFSET(IntvCosts!$F$18:$F$19,0,$C29-1))","v":3000},{"$f":"SUMPRODUCT(R$17:R$18,OFFSET(IntvCosts!$F$18:$F$19,0,$C29-1))","v":0},{"$f":"SUMPRODUCT(S$17:S$18,OFFSET(IntvCosts!$F$18:$F$19,0,$C29-1))","v":3000},{"$f":"SUMPRODUCT(T$17:T$18,OFFSET(IntvCosts!$F$18:$F$19,0,$C29-1))","v":0},{"$f":"SUMPRODUCT(U$17:U$18,OFFSET(IntvCosts!$F$18:$F$19,0,$C29-1))","v":3000},{"$f":"SUMPRODUCT(V$17:V$18,OFFSET(IntvCosts!$F$18:$F$19,0,$C29-1))","v":0},{"$f":"SUMPRODUCT(W$17:W$18,OFFSET(IntvCosts!$F$18:$F$19,0,$C29-1))","v":3000},{"$f":"SUMPRODUCT(X$17:X$18,OFFSET(IntvCosts!$F$18:$F$19,0,$C29-1))","v":20000},{"$f":"SUMPRODUCT(Y$17:Y$18,OFFSET(IntvCosts!$F$18:$F$19,0,$C29-1))","v":0},{"$f":"SUMPRODUCT(Z$17:Z$18,OFFSET(IntvCosts!$F$18:$F$19,0,$C29-1))","v":3000},{"$f":"SUMPRODUCT(AA$17:AA$18,OFFSET(IntvCosts!$F$18:$F$19,0,$C29-1))","v":3000},null,null,null,{"$f":"SUM(G29:AA29)","v":111000},{"$f":"SUMPRODUCT(G29:AA29,OFFSET(G$81:AA$81,AG$20,0))","v":57480.26840510148}]
[null,null,null,"Financial",null,"Total",{"$f":"SUM(G26:G29)","v":747000},17000,17000,34000,34000,17000,34000,730000,17000,0,17000,0,17000,0,17000,0,17000,730000,0,17000,17000,null,null,null,{"$f":"SUM(AE26:AE29)","v":2479000},{"$f":"SUM(AF26:AF29)","v":1309870.5139258786}]
[]
[null,null,"Costs by Budget"]
[null,null,1,{"$f":"INDEX(IntvCosts!$L$14:$O$15,1,$C33)","v":"Maintenance"},null,{"$f":"INDEX(IntvCosts!$L$14:$O$15,2,$C33)","v":"Mnt"},{"$f":"SUMPRODUCT(G$21:G$22,OFFSET(IntvCosts!$L$18:$L$19,0,$C33-1))","v":730000},{"$f":"SUMPRODUCT(H$21:H$22,OFFSET(IntvCosts!$L$18:$L$19,0,$C33-1))","v":0},{"$f":"SUMPRODUCT(I$21:I$22,OFFSET(IntvCosts!$L$18:$L$19,0,$C33-1))","v":0},{"$f":"SUMPRODUCT(J$21:J$22,OFFSET(IntvCosts!$L$18:$L$19,0,$C33-1))","v":0},{"$f":"SUMPRODUCT(K$21:K$22,OFFSET(IntvCosts!$L$18:$L$19,0,$C33-1))","v":0},{"$f":"SUMPRODUCT(L$21:L$22,OFFSET(IntvCosts!$L$18:$L$19,0,$C33-1))","v":0},{"$f":"SUMPRODUCT(M$21:M$22,OFFSET(IntvCosts!$L$18:$L$19,0,$C33-1))","v":0},{"$f":"SUMPRODUCT(N$21:N$22,OFFSET(IntvCosts!$L$18:$L$19,0,$C33-1))","v":730000},{"$f":"SUMPRODUCT(O$21:O$22,OFFSET(IntvCosts!$L$18:$L$19,0,$C33-1))","v":0},{"$f":"SUMPRODUCT(P$21:P$22,OFFSET(IntvCosts!$L$18:$L$19,0,$C33-1))","v":0},{"$f":"SUMPRODUCT(Q$21:Q$22,OFFSET(IntvCosts!$L$18:$L$19,0,$C33-1))","v":0},{"$f":"SUMPRODUCT(R$21:R$22,OFFSET(IntvCosts!$L$18:$L$19,0,$C33-1))","v":0},{"$f":"SUMPRODUCT(S$21:S$22,OFFSET(IntvCosts!$L$18:$L$19,0,$C33-1))","v":0},{"$f":"SUMPRODUCT(T$21:T$22,OFFSET(IntvCosts!$L$18:$L$19,0,$C33-1))","v":0},{"$f":"SUMPRODUCT(U$21:U$22,OFFSET(IntvCosts!$L$18:$L$19,0,$C33-1))","v":0},{"$f":"SUMPRODUCT(V$21:V$22,OFFSET(IntvCosts!$L$18:$L$19,0,$C33-1))","v":0},{"$f":"SUMPRODUCT(W$21:W$22,OFFSET(IntvCosts!$L$18:$L$19,0,$C33-1))","v":0},{"$f":"SUMPRODUCT(X$21:X$22,OFFSET(IntvCosts!$L$18:$L$19,0,$C33-1))","v":730000},{"$f":"SUMPRODUCT(Y$21:Y$22,OFFSET(IntvCosts!$L$18:$L$19,0,$C33-1))","v":0},{"$f":"SUMPRODUCT(Z$21:Z$22,OFFSET(IntvCosts!$L$18:$L$19,0,$C33-1))","v":0},{"$f":"SUMPRODUCT(AA$21:AA$22,OFFSET(IntvCosts!$L$18:$L$19,0,$C33-1))","v":0},null,null,null,{"$f":"SUM(G33:AA33)","v":2190000},{"$f":"SUMPRODUCT(G33:AA33,OFFSET(G$81:AA$81,AG$20,0))","v":1165019.6186974945}]
[null,null,2,{"$f":"INDEX(IntvCosts!$L$14:$O$15,1,$C34)","v":"Capital"},null,{"$f":"INDEX(IntvCosts!$L$14:$O$15,2,$C34)","v":"Cap"},{"$f":"SUMPRODUCT(G$21:G$22,OFFSET(IntvCosts!$L$18:$L$19,0,$C34-1))","v":13600},{"$f":"SUMPRODUCT(H$21:H$22,OFFSET(IntvCosts!$L$18:$L$19,0,$C34-1))","v":13600},{"$f":"SUMPRODUCT(I$21:I$22,OFFSET(IntvCosts!$L$18:$L$19,0,$C34-1))","v":13600},{"$f":"SUMPRODUCT(J$21:J$22,OFFSET(IntvCosts!$L$18:$L$19,0,$C34-1))","v":27200},{"$f":"SUMPRODUCT(K$21:K$22,OFFSET(IntvCosts!$L$18:$L$19,0,$C34-1))","v":27200},{"$f":"SUMPRODUCT(L$21:L$22,OFFSET(IntvCosts!$L$18:$L$19,0,$C34-1))","v":13600},{"$f":"SUMPRODUCT(M$21:M$22,OFFSET(IntvCosts!$L$18:$L$19,0,$C34-1))","v":27200},{"$f":"SUMPRODUCT(N$21:N$22,OFFSET(IntvCosts!$L$18:$L$19,0,$C34-1))","v":0},{"$f":"SUMPRODUCT(O$21:O$22,OFFSET(IntvCosts!$L$18:$L$19,0,$C34-1))","v":13600},{"$f":"SUMPRODUCT(P$21:P$22,OFFSET(IntvCosts!$L$18:$L$19,0,$C34-1))","v":0},{"$f":"SUMPRODUCT(Q$21:Q$22,OFFSET(IntvCosts!$L$18:$L$19,0,$C34-1))","v":13600},{"$f":"SUMPRODUCT(R$21:R$22,OFFSET(IntvCosts!$L$18:$L$19,0,$C34-1))","v":0},{"$f":"SUMPRODUCT(S$21:S$22,OFFSET(IntvCosts!$L$18:$L$19,0,$C34-1))","v":13600},{"$f":"SUMPRODUCT(T$21:T$22,OFFSET(IntvCosts!$L$18:$L$19,0,$C34-1))","v":0},{"$f":"SUMPRODUCT(U$21:U$22,OFFSET(IntvCosts!$L$18:$L$19,0,$C34-1))","v":13600},{"$f":"SUMPRODUCT(V$21:V$22,OFFSET(IntvCosts!$L$18:$L$19,0,$C34-1))","v":0},{"$f":"SUMPRODUCT(W$21:W$22,OFFSET(IntvCosts!$L$18:$L$19,0,$C34-1))","v":13600},{"$f":"SUMPRODUCT(X$21:X$22,OFFSET(IntvCosts!$L$18:$L$19,0,$C34-1))","v":0},{"$f":"SUMPRODUCT(Y$21:Y$22,OFFSET(IntvCosts!$L$18:$L$19,0,$C34-1))","v":0},{"$f":"SUMPRODUCT(Z$21:Z$22,OFFSET(IntvCosts!$L$18:$L$19,0,$C34-1))","v":13600},{"$f":"SUMPRODUCT(AA$21:AA$22,OFFSET(IntvCosts!$L$18:$L$19,0,$C34-1))","v":13600},null,null,null,{"$f":"SUM(G34:AA34)","v":231200},{"$f":"SUMPRODUCT(G34:AA34,OFFSET(G$81:AA$81,AG$20,0))","v":115880.71618270729}]
[null,null,3,{"$f":"INDEX(IntvCosts!$L$14:$O$15,1,$C35)","v":"Operations"},null,{"$f":"INDEX(IntvCosts!$L$14:$O$15,2,$C35)","v":"Ops"},{"$f":"SUMPRODUCT(G$21:G$22,OFFSET(IntvCosts!$L$18:$L$19,0,$C35-1))","v":2550},{"$f":"SUMPRODUCT(H$21:H$22,OFFSET(IntvCosts!$L$18:$L$19,0,$C35-1))","v":2550},{"$f":"SUMPRODUCT(I$21:I$22,OFFSET(IntvCosts!$L$18:$L$19,0,$C35-1))","v":2550},{"$f":"SUMPRODUCT(J$21:J$22,OFFSET(IntvCosts!$L$18:$L$19,0,$C35-1))","v":5100},{"$f":"SUMPRODUCT(K$21:K$22,OFFSET(IntvCosts!$L$18:$L$19,0,$C35-1))","v":5100},{"$f":"SUMPRODUCT(L$21:L$22,OFFSET(IntvCosts!$L$18:$L$19,0,$C35-1))","v":2550},{"$f":"SUMPRODUCT(M$21:M$22,OFFSET(IntvCosts!$L$18:$L$19,0,$C35-1))","v":5100},{"$f":"SUMPRODUCT(N$21:N$22,OFFSET(IntvCosts!$L$18:$L$19,0,$C35-1))","v":0},{"$f":"SUMPRODUCT(O$21:O$22,OFFSET(IntvCosts!$L$18:$L$19,0,$C35-1))","v":2550},{"$f":"SUMPRODUCT(P$21:P$22,OFFSET(IntvCosts!$L$18:$L$19,0,$C35-1))","v":0},{"$f":"SUMPRODUCT(Q$21:Q$22,OFFSET(IntvCosts!$L$18:$L$19,0,$C35-1))","v":2550},{"$f":"SUMPRODUCT(R$21:R$22,OFFSET(IntvCosts!$L$18:$L$19,0,$C35-1))","v":0},{"$f":"SUMPRODUCT(S$21:S$22,OFFSET(IntvCosts!$L$18:$L$19,0,$C35-1))","v":2550},{"$f":"SUMPRODUCT(T$21:T$22,OFFSET(IntvCosts!$L$18:$L$19,0,$C35-1))","v":0},{"$f":"SUMPRODUCT(U$21:U$22,OFFSET(IntvCosts!$L$18:$L$19,0,$C35-1))","v":2550},{"$f":"SUMPRODUCT(V$21:V$22,OFFSET(IntvCosts!$L$18:$L$19,0,$C35-1))","v":0},{"$f":"SUMPRODUCT(W$21:W$22,OFFSET(IntvCosts!$L$18:$L$19,0,$C35-1))","v":2550},{"$f":"SUMPRODUCT(X$21:X$22,OFFSET(IntvCosts!$L$18:$L$19,0,$C35-1))","v":0},{"$f":"SUMPRODUCT(Y$21:Y$22,OFFSET(IntvCosts!$L$18:$L$19,0,$C35-1))","v":0},{"$f":"SUMPRODUCT(Z$21:Z$22,OFFSET(IntvCosts!$L$18:$L$19,0,$C35-1))","v":2550},{"$f":"SUMPRODUCT(AA$21:AA$22,OFFSET(IntvCosts!$L$18:$L$19,0,$C35-1))","v":2550},null,null,null,{"$f":"SUM(G35:AA35)","v":43350},{"$f":"SUMPRODUCT(G35:AA35,OFFSET(G$81:AA$81,AG$20,0))","v":21727.63428425762}]
[null,null,4,{"$f":"INDEX(IntvCosts!$L$14:$O$15,1,$C36)","v":"Government"},null,{"$f":"INDEX(IntvCosts!$L$14:$O$15,2,$C36)","v":"Gov"},{"$f":"SUMPRODUCT(G$21:G$22,OFFSET(IntvCosts!$L$18:$L$19,0,$C36-1))","v":850},{"$f":"SUMPRODUCT(H$21:H$22,OFFSET(IntvCosts!$L$18:$L$19,0,$C36-1))","v":850},{"$f":"SUMPRODUCT(I$21:I$22,OFFSET(IntvCosts!$L$18:$L$19,0,$C36-1))","v":850},{"$f":"SUMPRODUCT(J$21:J$22,OFFSET(IntvCosts!$L$18:$L$19,0,$C36-1))","v":1700},{"$f":"SUMPRODUCT(K$21:K$22,OFFSET(IntvCosts!$L$18:$L$19,0,$C36-1))","v":1700},{"$f":"SUMPRODUCT(L$21:L$22,OFFSET(IntvCosts!$L$18:$L$19,0,$C36-1))","v":850},{"$f":"SUMPRODUCT(M$21:M$22,OFFSET(IntvCosts!$L$18:$L$19,0,$C36-1))","v":1700},{"$f":"SUMPRODUCT(N$21:N$22,OFFSET(IntvCosts!$L$18:$L$19,0,$C36-1))","v":0},{"$f":"SUMPRODUCT(O$21:O$22,OFFSET(IntvCosts!$L$18:$L$19,0,$C36-1))","v":850},{"$f":"SUMPRODUCT(P$21:P$22,OFFSET(IntvCosts!$L$18:$L$19,0,$C36-1))","v":0},{"$f":"SUMPRODUCT(Q$21:Q$22,OFFSET(IntvCosts!$L$18:$L$19,0,$C36-1))","v":850},{"$f":"SUMPRODUCT(R$21:R$22,OFFSET(IntvCosts!$L$18:$L$19,0,$C36-1))","v":0},{"$f":"SUMPRODUCT(S$21:S$22,OFFSET(IntvCosts!$L$18:$L$19,0,$C36-1))","v":850},{"$f":"SUMPRODUCT(T$21:T$22,OFFSET(IntvCosts!$L$18:$L$19,0,$C36-1))","v":0},{"$f":"SUMPRODUCT(U$21:U$22,OFFSET(IntvCosts!$L$18:$L$19,0,$C36-1))","v":850},{"$f":"SUMPRODUCT(V$21:V$22,OFFSET(IntvCosts!$L$18:$L$19,0,$C36-1))","v":0},{"$f":"SUMPRODUCT(W$21:W$22,OFFSET(IntvCosts!$L$18:$L$19,0,$C36-1))","v":850},{"$f":"SUMPRODUCT(X$21:X$22,OFFSET(IntvCosts!$L$18:$L$19,0,$C36-1))","v":0},{"$f":"SUMPRODUCT(Y$21:Y$22,OFFSET(IntvCosts!$L$18:$L$19,0,$C36-1))","v":0},{"$f":"SUMPRODUCT(Z$21:Z$22,OFFSET(IntvCosts!$L$18:$L$19,0,$C36-1))","v":850},{"$f":"SUMPRODUCT(AA$21:AA$22,OFFSET(IntvCosts!$L$18:$L$19,0,$C36-1))","v":850},null,null,null,{"$f":"SUM(G36:AA36)","v":14450},{"$f":"SUMPRODUCT(G36:AA36,OFFSET(G$81:AA$81,AG$20,0))","v":7242.5447614192053}]
[null,null,null,"Financial",null,"Total",{"$f":"SUM(G33:G36)","v":747000},17000,17000,34000,34000,17000,34000,730000,17000,0,17000,0,17000,0,17000,0,17000,730000,0,17000,17000,null,null,null,{"$f":"SUM(AE33:AE36)","v":2479000},{"$f":"SUM(AF33:AF36)","v":1309870.5139258788}]
[]
[]
[null,null,"Environmental Impacts"]
[null,null,null,null,null,null,{"$f":"IntvCosts!Q14&\" [\"&IntvCosts!Q16&\"]\"","v":"Carbon Dioxide equivalent [kg]"},null,null,null,null,null,null,null,null,null,null,null,null,null,null,null,null,null,null,null,null,null,{"$f":"OFFSET(IntvCosts!$Q$16,0,$B42)&\" \"&OFFSET(IntvCosts!$Q$15,0,$B42)","v":"kg CO2e"},{"$f":"\"Euro/\"&AC41","v":"Euro/kg CO2e"},"As Cash","Disc't",1]
["Offset",0,{"$f":"C$17","v":1},{"$f":"D$17","v":"In-situ tamping of ballast"},null,null,{"$f":"OFFSET(G$16,$C42,0)*OFFSET(IntvCosts!$Q$17,$C42,$B42)","v":421},{"$f":"OFFSET(H$16,$C42,0)*OFFSET(IntvCosts!$Q$17,$C42,$B42)","v":421},{"$f":"OFFSET(I$16,$C42,0)*OFFSET(IntvCosts!$Q$17,$C42,$B42)","v":421},{"$f":"OFFSET(J$16,$C42,0)*OFFSET(IntvCosts!$Q$17,$C42,$B42)","v":842},{"$f":"OFFSET(K$16,$C42,0)*OFFSET(IntvCosts!$Q$17,$C42,$B42)","v":842},{"$f":"OFFSET(L$16,$C42,0)*OFFSET(IntvCosts!$Q$17,$C42,$B42)","v":421},{"$f":"OFFSET(M$16,$C42,0)*OFFSET(IntvCosts!$Q$17,$C42,$B42)","v":842},{"$f":"OFFSET(N$16,$C42,0)*OFFSET(IntvCosts!$Q$17,$C42,$B42)","v":0},{"$f":"OFFSET(O$16,$C42,0)*OFFSET(IntvCosts!$Q$17,$C42,$B42)","v":421},{"$f":"OFFSET(P$16,$C42,0)*OFFSET(IntvCosts!$Q$17,$C42,$B42)","v":0},{"$f":"OFFSET(Q$16,$C42,0)*OFFSET(IntvCosts!$Q$17,$C42,$B42)","v":421},{"$f":"OFFSET(R$16,$C42,0)*OFFSET(IntvCosts!$Q$17,$C42,$B42)","v":0},{"$f":"OFFSET(S$16,$C42,0)*OFFSET(IntvCosts!$Q$17,$C42,$B42)","v":421},{"$f":"OFFSET(T$16,$C42,0)*OFFSET(IntvCosts!$Q$17,$C42,$B42)","v":0},{"$f":"OFFSET(U$16,$C42,0)*OFFSET(IntvCosts!$Q$17,$C42,$B42)","v":421},{"$f":"OFFSET(V$16,$C42,0)*OFFSET(IntvCosts!$Q$17,$C42,$B42)","v":0},{"$f":"OFFSET(W$16,$C42,0)*OFFSET(IntvCosts!$Q$17,$C42,$B42)","v":421},{"$f":"OFFSET(X$16,$C42,0)*OFFSET(IntvCosts!$Q$17,$C42,$B42)","v":0},{"$f":"OFFSET(Y$16,$C42,0)*OFFSET(IntvCosts!$Q$17,$C42,$B42)","v":0},{"$f":"OFFSET(Z$16,$C42,0)*OFFSET(IntvCosts!$Q$17,$C42,$B42)","v":421},{"$f":"OFFSET(AA$16,$C42,0)*OFFSET(IntvCosts!$Q$17,$C42,$B42)","v":421},null,{"$f":"SUM(G42:AA42)","v":7157},{"$f":"AD43","v":1},{"$f":"AC42*AD42","v":7157},{"$f":"SUMPRODUCT(G42:AA42,OFFSET(G$81:AA$81,AG$41,0))*AD42","v":3850.6741032198706}]
[null,0,{"$f":"C$18","v":2},{"$f":"D$18","v":"Renew track structure"},null,null,{"$f":"OFFSET(G$16,$C43,0)*OFFSET(IntvCosts!$Q$17,$C43,$B43)","v":296745.7},{"$f":"OFFSET(H$16,$C43,0)*OFFSET(IntvCosts!$Q$17,$C43,$B43)","v":0},{"$f":"OFFSET(I$16,$C43,0)*OFFSET(IntvCosts!$Q$17,$C43,$B43)","v":0},{"$f":"OFFSET(J$16,$C43,0)*OFFSET(IntvCosts!$Q$17,$C43,$B43)","v":0},{"$f":"OFFSET(K$16,$C43,0)*OFFSET(IntvCosts!$Q$17,$C43,$B43)","v":0},{"$f":"OFFSET(L$16,$C43,0)*OFFSET(IntvCosts!$Q$17,$C43,$B43)","v":0},{"$f":"OFFSET(M$16,$C43,0)*OFFSET(IntvCosts!$Q$17,$C43,$B43)","v":0},{"$f":"OFFSET(N$16,$C43,0)*OFFSET(IntvCosts!$Q$17,$C43,$B43)","v":296745.7},{"$f":"OFFSET(O$16,$C43,0)*OFFSET(IntvCosts!$Q$17,$C43,$B43)","v":0},{"$f":"OFFSET(P$16,$C43,0)*OFFSET(IntvCosts!$Q$17,$C43,$B43)","v":0},{"$f":"OFFSET(Q$16,$C43,0)*OFFSET(IntvCosts!$Q$17,$C43,$B43)","v":0},{"$f":"OFFSET(R$16,$C43,0)*OFFSET(IntvCosts!$Q$17,$C43,$B43)","v":0},{"$f":"OFFSET(S$16,$C43,0)*OFFSET(IntvCosts!$Q$17,$C43,$B43)","v":0},{"$f":"OFFSET(T$16,$C43,0)*OFFSET(IntvCosts!$Q$17,$C43,$B43)","v":0},{"$f":"OFFSET(U$16,$C43,0)*OFFSET(IntvCosts!$Q$17,$C43,$B43)","v":0},{"$f":"OFFSET(V$16,$C43,0)*OFFSET(IntvCosts!$Q$17,$C43,$B43)","v":0},{"$f":"OFFSET(W$16,$C43,0)*OFFSET(IntvCosts!$Q$17,$C43,$B43)","v":0},{"$f":"OFFSET(X$16,$C43,0)*OFFSET(IntvCosts!$Q$17,$C43,$B43)","v":296745.7},{"$f":"OFFSET(Y$16,$C43,0)*OFFSET(IntvCosts!$Q$17,$C43,$B43)","v":0},{"$f":"OFFSET(Z$16,$C43,0)*OFFSET(IntvCosts!$Q$17,$C43,$B43)","v":0},{"$f":"OFFSET(AA$16,$C43,0)*OFFSET(IntvCosts!$Q$17,$C43,$B43)","v":0},null,{"$f":"SUM(G43:AA43)","v":890237.10000000009},{"$f":"AD45","v":1},{"$f":"AC43*AD43","v":890237.10000000009},{"$f":"SUMPRODUCT(G43:AA43,OFFSET(G$81:AA$81,AG$41,0))*AD43","v":500254.43922484864}]
[null,0,{"$f":"IntvCosts!Q14","v":"Carbon Dioxide equivalent"},null,null,{"$f":"IntvCosts!Q15","v":"CO2e"},{"$f":"SUM(G42:G43)","v":297166.7},421,421,842,842,421,842,296745.7,421,0,421,0,421,0,421,0,421,296745.7,0,421,421,null,{"$f":"SUM(AC42:AC43)","v":897394.10000000009}]
[null,0,"Cash equivalent",null,null,"Euro",{"$f":"G44*$AD45","v":297166.7},{"$f":"H44*$AD45","v":421},421,842,842,421,842,296745.7,421,0,421,0,421,0,421,0,421,296745.7,0,421,421,null,{"$f":"SUM(G45:AA45)","v":897394.10000000009},{"$f":"OFFSET(IntvCosts!$Q$21,0,$B45)","v":1},{"$f":"SUM(AE42:AE43)","v":897394.10000000009},{"$f":"SUM(AF42:AF43)","v":504105.11332806852}]
[]
[]
[null,null,null,null,null,null,{"$f":"IntvCosts!R14&\" [\"&IntvCosts!R16&\"]\"","v":"User-defined impact (2) [unit2]"},null,null,null,null,null,null,null,null,null,null,null,null,null,null,null,null,null,null,null,null,null,{"$f":"OFFSET(IntvCosts!$Q$16,0,$B49)&\" \"&OFFSET(IntvCosts!$Q$15,0,$B49)","v":"unit2 EI-2"},{"$f":"\"Euro/\"&AC48","v":"Euro/unit2 EI-2"},"As Cash","Disc't"]
["Offset",1,{"$f":"C$17","v":1},{"$f":"D$17","v":"In-situ tamping of ballast"},null,null,{"$f":"OFFSET(G$16,$C49,0)*OFFSET(IntvCosts!$Q$17,$C49,$B49)","v":0},{"$f":"OFFSET(H$16,$C49,0)*OFFSET(IntvCosts!$Q$17,$C49,$B49)","v":0},{"$f":"OFFSET(I$16,$C49,0)*OFFSET(IntvCosts!$Q$17,$C49,$B49)","v":0},{"$f":"OFFSET(J$16,$C49,0)*OFFSET(IntvCosts!$Q$17,$C49,$B49)","v":0},{"$f":"OFFSET(K$16,$C49,0)*OFFSET(IntvCosts!$Q$17,$C49,$B49)","v":0},{"$f":"OFFSET(L$16,$C49,0)*OFFSET(IntvCosts!$Q$17,$C49,$B49)","v":0},{"$f":"OFFSET(M$16,$C49,0)*OFFSET(IntvCosts!$Q$17,$C49,$B49)","v":0},{"$f":"OFFSET(N$16,$C49,0)*OFFSET(IntvCosts!$Q$17,$C49,$B49)","v":0},{"$f":"OFFSET(O$16,$C49,0)*OFFSET(IntvCosts!$Q$17,$C49,$B49)","v":0},{"$f":"OFFSET(P$16,$C49,0)*OFFSET(IntvCosts!$Q$17,$C49,$B49)","v":0},{"$f":"OFFSET(Q$16,$C49,0)*OFFSET(IntvCosts!$Q$17,$C49,$B49)","v":0},{"$f":"OFFSET(R$16,$C49,0)*OFFSET(IntvCosts!$Q$17,$C49,$B49)","v":0},{"$f":"OFFSET(S$16,$C49,0)*OFFSET(IntvCosts!$Q$17,$C49,$B49)","v":0},{"$f":"OFFSET(T$16,$C49,0)*OFFSET(IntvCosts!$Q$17,$C49,$B49)","v":0},{"$f":"OFFSET(U$16,$C49,0)*OFFSET(IntvCosts!$Q$17,$C49,$B49)","v":0},{"$f":"OFFSET(V$16,$C49,0)*OFFSET(IntvCosts!$Q$17,$C49,$B49)","v":0},{"$f":"OFFSET(W$16,$C49,0)*OFFSET(IntvCosts!$Q$17,$C49,$B49)","v":0},{"$f":"OFFSET(X$16,$C49,0)*OFFSET(IntvCosts!$Q$17,$C49,$B49)","v":0},{"$f":"OFFSET(Y$16,$C49,0)*OFFSET(IntvCosts!$Q$17,$C49,$B49)","v":0},{"$f":"OFFSET(Z$16,$C49,0)*OFFSET(IntvCosts!$Q$17,$C49,$B49)","v":0},{"$f":"OFFSET(AA$16,$C49,0)*OFFSET(IntvCosts!$Q$17,$C49,$B49)","v":0},null,{"$f":"SUM(G49:AA49)","v":0},{"$f":"AD50","v":0.2},{"$f":"AC49*AD49","v":0},{"$f":"SUMPRODUCT(G49:AA49,OFFSET(G$81:AA$81,AG$41,0))*AD49","v":0}]
[null,1,{"$f":"C$18","v":2},{"$f":"D$18","v":"Renew track structure"},null,null,{"$f":"OFFSET(G$16,$C50,0)*OFFSET(IntvCosts!$Q$17,$C50,$B50)","v":0},{"$f":"OFFSET(H$16,$C50,0)*OFFSET(IntvCosts!$Q$17,$C50,$B50)","v":0},{"$f":"OFFSET(I$16,$C50,0)*OFFSET(IntvCosts!$Q$17,$C50,$B50)","v":0},{"$f":"OFFSET(J$16,$C50,0)*OFFSET(IntvCosts!$Q$17,$C50,$B50)","v":0},{"$f":"OFFSET(K$16,$C50,0)*OFFSET(IntvCosts!$Q$17,$C50,$B50)","v":0},{"$f":"OFFSET(L$16,$C50,0)*OFFSET(IntvCosts!$Q$17,$C50,$B50)","v":0},{"$f":"OFFSET(M$16,$C50,0)*OFFSET(IntvCosts!$Q$17,$C50,$B50)","v":0},{"$f":"OFFSET(N$16,$C50,0)*OFFSET(IntvCosts!$Q$17,$C50,$B50)","v":0},{"$f":"OFFSET(O$16,$C50,0)*OFFSET(IntvCosts!$Q$17,$C50,$B50)","v":0},{"$f":"OFFSET(P$16,$C50,0)*OFFSET(IntvCosts!$Q$17,$C50,$B50)","v":0},{"$f":"OFFSET(Q$16,$C50,0)*OFFSET(IntvCosts!$Q$17,$C50,$B50)","v":0},{"$f":"OFFSET(R$16,$C50,0)*OFFSET(IntvCosts!$Q$17,$C50,$B50)","v":0},{"$f":"OFFSET(S$16,$C50,0)*OFFSET(IntvCosts!$Q$17,$C50,$B50)","v":0},{"$f":"OFFSET(T$16,$C50,0)*OFFSET(IntvCosts!$Q$17,$C50,$B50)","v":0},{"$f":"OFFSET(U$16,$C50,0)*OFFSET(IntvCosts!$Q$17,$C50,$B50)","v":0},{"$f":"OFFSET(V$16,$C50,0)*OFFSET(IntvCosts!$Q$17,$C50,$B50)","v":0},{"$f":"OFFSET(W$16,$C50,0)*OFFSET(IntvCosts!$Q$17,$C50,$B50)","v":0},{"$f":"OFFSET(X$16,$C50,0)*OFFSET(IntvCosts!$Q$17,$C50,$B50)","v":0},{"$f":"OFFSET(Y$16,$C50,0)*OFFSET(IntvCosts!$Q$17,$C50,$B50)","v":0},{"$f":"OFFSET(Z$16,$C50,0)*OFFSET(IntvCosts!$Q$17,$C50,$B50)","v":0},{"$f":"OFFSET(AA$16,$C50,0)*OFFSET(IntvCosts!$Q$17,$C50,$B50)","v":0},null,{"$f":"SUM(G50:AA50)","v":0},{"$f":"AD52","v":0.2},{"$f":"AC50*AD50","v":0},{"$f":"SUMPRODUCT(G50:AA50,OFFSET(G$81:AA$81,AG$41,0))*AD50","v":0}]
[null,1,{"$f":"IntvCosts!R14","v":"User-defined impact (2)"},null,null,{"$f":"IntvCosts!R15","v":"EI-2"},{"$f":"SUM(G49:G50)","v":0},0,0,0,0,0,0,0,0,0,0,0,0,0,0,0,0,0,0,0,0,null,{"$f":"SUM(AC49:AC50)","v":0}]
[null,1,"Cash equivalent",null,null,"Euro",{"$f":"G51*$AD52","v":0},{"$f":"H51*$AD52","v":0},0,0,0,0,0,0,0,0,0,0,0,0,0,0,0,0,0,0,0,null,{"$f":"SUM(G52:AA52)","v":0},{"$f":"OFFSET(IntvCosts!$Q$21,0,$B52)","v":0.2},{"$f":"SUM(AE49:AE50)","v":0},{"$f":"SUM(AF49:AF50)","v":0}]
[]
[]
[null,null,null,null,null,null,{"$f":"IntvCosts!S14&\" [\"&IntvCosts!S16&\"]\"","v":"User-defined impact (3) [unit3]"},null,null,null,null,null,null,null,null,null,null,null,null,null,null,null,null,null,null,null,null,null,{"$f":"OFFSET(IntvCosts!$Q$16,0,$B56)&\" \"&OFFSET(IntvCosts!$Q$15,0,$B56)","v":"unit3 EI-3"},{"$f":"\"Euro/\"&AC55","v":"Euro/unit3 EI-3"},"As Cash","Disc't"]
["Offset",2,{"$f":"C$17","v":1},{"$f":"D$17","v":"In-situ tamping of ballast"},null,null,{"$f":"OFFSET(G$16,$C56,0)*OFFSET(IntvCosts!$Q$17,$C56,$B56)","v":0},{"$f":"OFFSET(H$16,$C56,0)*OFFSET(IntvCosts!$Q$17,$C56,$B56)","v":0},{"$f":"OFFSET(I$16,$C56,0)*OFFSET(IntvCosts!$Q$17,$C56,$B56)","v":0},{"$f":"OFFSET(J$16,$C56,0)*OFFSET(IntvCosts!$Q$17,$C56,$B56)","v":0},{"$f":"OFFSET(K$16,$C56,0)*OFFSET(IntvCosts!$Q$17,$C56,$B56)","v":0},{"$f":"OFFSET(L$16,$C56,0)*OFFSET(IntvCosts!$Q$17,$C56,$B56)","v":0},{"$f":"OFFSET(M$16,$C56,0)*OFFSET(IntvCosts!$Q$17,$C56,$B56)","v":0},{"$f":"OFFSET(N$16,$C56,0)*OFFSET(IntvCosts!$Q$17,$C56,$B56)","v":0},{"$f":"OFFSET(O$16,$C56,0)*OFFSET(IntvCosts!$Q$17,$C56,$B56)","v":0},{"$f":"OFFSET(P$16,$C56,0)*OFFSET(IntvCosts!$Q$17,$C56,$B56)","v":0},{"$f":"OFFSET(Q$16,$C56,0)*OFFSET(IntvCosts!$Q$17,$C56,$B56)","v":0},{"$f":"OFFSET(R$16,$C56,0)*OFFSET(IntvCosts!$Q$17,$C56,$B56)","v":0},{"$f":"OFFSET(S$16,$C56,0)*OFFSET(IntvCosts!$Q$17,$C56,$B56)","v":0},{"$f":"OFFSET(T$16,$C56,0)*OFFSET(IntvCosts!$Q$17,$C56,$B56)","v":0},{"$f":"OFFSET(U$16,$C56,0)*OFFSET(IntvCosts!$Q$17,$C56,$B56)","v":0},{"$f":"OFFSET(V$16,$C56,0)*OFFSET(IntvCosts!$Q$17,$C56,$B56)","v":0},{"$f":"OFFSET(W$16,$C56,0)*OFFSET(IntvCosts!$Q$17,$C56,$B56)","v":0},{"$f":"OFFSET(X$16,$C56,0)*OFFSET(IntvCosts!$Q$17,$C56,$B56)","v":0},{"$f":"OFFSET(Y$16,$C56,0)*OFFSET(IntvCosts!$Q$17,$C56,$B56)","v":0},{"$f":"OFFSET(Z$16,$C56,0)*OFFSET(IntvCosts!$Q$17,$C56,$B56)","v":0},{"$f":"OFFSET(AA$16,$C56,0)*OFFSET(IntvCosts!$Q$17,$C56,$B56)","v":0},null,{"$f":"SUM(G56:AA56)","v":0},{"$f":"AD57","v":0.3},{"$f":"AC56*AD56","v":0},{"$f":"SUMPRODUCT(G56:AA56,OFFSET(G$81:AA$81,AG$41,0))*AD56","v":0}]
[null,2,{"$f":"C$18","v":2},{"$f":"D$18","v":"Renew track structure"},null,null,{"$f":"OFFSET(G$16,$C57,0)*OFFSET(IntvCosts!$Q$17,$C57,$B57)","v":0},{"$f":"OFFSET(H$16,$C57,0)*OFFSET(IntvCosts!$Q$17,$C57,$B57)","v":0},{"$f":"OFFSET(I$16,$C57,0)*OFFSET(IntvCosts!$Q$17,$C57,$B57)","v":0},{"$f":"OFFSET(J$16,$C57,0)*OFFSET(IntvCosts!$Q$17,$C57,$B57)","v":0},{"$f":"OFFSET(K$16,$C57,0)*OFFSET(IntvCosts!$Q$17,$C57,$B57)","v":0},{"$f":"OFFSET(L$16,$C57,0)*OFFSET(IntvCosts!$Q$17,$C57,$B57)","v":0},{"$f":"OFFSET(M$16,$C57,0)*OFFSET(IntvCosts!$Q$17,$C57,$B57)","v":0},{"$f":"OFFSET(N$16,$C57,0)*OFFSET(IntvCosts!$Q$17,$C57,$B57)","v":0},{"$f":"OFFSET(O$16,$C57,0)*OFFSET(IntvCosts!$Q$17,$C57,$B57)","v":0},{"$f":"OFFSET(P$16,$C57,0)*OFFSET(IntvCosts!$Q$17,$C57,$B57)","v":0},{"$f":"OFFSET(Q$16,$C57,0)*OFFSET(IntvCosts!$Q$17,$C57,$B57)","v":0},{"$f":"OFFSET(R$16,$C57,0)*OFFSET(IntvCosts!$Q$17,$C57,$B57)","v":0},{"$f":"OFFSET(S$16,$C57,0)*OFFSET(IntvCosts!$Q$17,$C57,$B57)","v":0},{"$f":"OFFSET(T$16,$C57,0)*OFFSET(IntvCosts!$Q$17,$C57,$B57)","v":0},{"$f":"OFFSET(U$16,$C57,0)*OFFSET(IntvCosts!$Q$17,$C57,$B57)","v":0},{"$f":"OFFSET(V$16,$C57,0)*OFFSET(IntvCosts!$Q$17,$C57,$B57)","v":0},{"$f":"OFFSET(W$16,$C57,0)*OFFSET(IntvCosts!$Q$17,$C57,$B57)","v":0},{"$f":"OFFSET(X$16,$C57,0)*OFFSET(IntvCosts!$Q$17,$C57,$B57)","v":0},{"$f":"OFFSET(Y$16,$C57,0)*OFFSET(IntvCosts!$Q$17,$C57,$B57)","v":0},{"$f":"OFFSET(Z$16,$C57,0)*OFFSET(IntvCosts!$Q$17,$C57,$B57)","v":0},{"$f":"OFFSET(AA$16,$C57,0)*OFFSET(IntvCosts!$Q$17,$C57,$B57)","v":0},null,{"$f":"SUM(G57:AA57)","v":0},{"$f":"AD59","v":0.3},{"$f":"AC57*AD57","v":0},{"$f":"SUMPRODUCT(G57:AA57,OFFSET(G$81:AA$81,AG$41,0))*AD57","v":0}]
[null,2,{"$f":"IntvCosts!S14","v":"User-defined impact (3)"},null,null,{"$f":"IntvCosts!S15","v":"EI-3"},{"$f":"SUM(G56:G57)","v":0},0,0,0,0,0,0,0,0,0,0,0,0,0,0,0,0,0,0,0,0,null,{"$f":"SUM(AC56:AC57)","v":0}]
[null,2,"Cash equivalent",null,null,"Euro",{"$f":"G58*$AD59","v":0},{"$f":"H58*$AD59","v":0},0,0,0,0,0,0,0,0,0,0,0,0,0,0,0,0,0,0,0,null,{"$f":"SUM(G59:AA59)","v":0},{"$f":"OFFSET(IntvCosts!$Q$21,0,$B59)","v":0.3},{"$f":"SUM(AE56:AE57)","v":0},{"$f":"SUM(AF56:AF57)","v":0}]
[]
[null,null,null,null,null,null,null,null,null,null,null,null,null,null,null,null,null,null,null,null,null,null,null,null,null,null,null,null,null,null,null,null,null,"Ops Impacts by Intervention"]
[null,null,"Operational Costs"]
[null,null,null,null,null,null,null,null,null,null,null,null,null,null,null,null,null,null,null,null,null,null,null,null,null,null,null,null,null,null,"As Cash","Disc't",2,{"$f":"IntvCosts!V15","v":"Poss(N)"},{"$f":"IntvCosts!W15","v":"Poss(D)"},{"$f":"IntvCosts!X15","v":"TSR"}]
[null,null,{"$f":"C$17","v":1},{"$f":"D$17","v":"In-situ tamping of ballast"},null,null,{"$f":"G17*IntvCosts!$Y18","v":1000},{"$f":"H17*IntvCosts!$Y18","v":1000},{"$f":"I17*IntvCosts!$Y18","v":1000},{"$f":"J17*IntvCosts!$Y18","v":2000},{"$f":"K17*IntvCosts!$Y18","v":2000},{"$f":"L17*IntvCosts!$Y18","v":1000},{"$f":"M17*IntvCosts!$Y18","v":2000},{"$f":"N17*IntvCosts!$Y18","v":0},{"$f":"O17*IntvCosts!$Y18","v":1000},{"$f":"P17*IntvCosts!$Y18","v":0},{"$f":"Q17*IntvCosts!$Y18","v":1000},{"$f":"R17*IntvCosts!$Y18","v":0},{"$f":"S17*IntvCosts!$Y18","v":1000},{"$f":"T17*IntvCosts!$Y18","v":0},{"$f":"U17*IntvCosts!$Y18","v":1000},{"$f":"V17*IntvCosts!$Y18","v":0},{"$f":"W17*IntvCosts!$Y18","v":1000},{"$f":"X17*IntvCosts!$Y18","v":0},{"$f":"Y17*IntvCosts!$Y18","v":0},{"$f":"Z17*IntvCosts!$Y18","v":1000},{"$f":"AA17*IntvCosts!$Y18","v":1000},null,null,null,{"$f":"SUM(G64:AA64)","v":17000},{"$f":"SUMPRODUCT(G64:AA64,OFFSET(G$81:AA$81,AG$63,0))","v":8520.6408957872991},null,{"$f":"$AC17*IntvCosts!V18","v":17},{"$f":"$AC17*IntvCosts!W18","v":0},{"$f":"$AC17*IntvCosts!X18","v":0}]
[null,null,{"$f":"C$18","v":2},{"$f":"D$18","v":"Renew track structure"},null,null,{"$f":"G18*IntvCosts!$Y19","v":4000},{"$f":"H18*IntvCosts!$Y19","v":0},{"$f":"I18*IntvCosts!$Y19","v":0},{"$f":"J18*IntvCosts!$Y19","v":0},{"$f":"K18*IntvCosts!$Y19","v":0},{"$f":"L18*IntvCosts!$Y19","v":0},{"$f":"M18*IntvCosts!$Y19","v":0},{"$f":"N18*IntvCosts!$Y19","v":4000},{"$f":"O18*IntvCosts!$Y19","v":0},{"$f":"P18*IntvCosts!$Y19","v":0},{"$f":"Q18*IntvCosts!$Y19","v":0},{"$f":"R18*IntvCosts!$Y19","v":0},{"$f":"S18*IntvCosts!$Y19","v":0},{"$f":"T18*IntvCosts!$Y19","v":0},{"$f":"U18*IntvCosts!$Y19","v":0},{"$f":"V18*IntvCosts!$Y19","v":0},{"$f":"W18*IntvCosts!$Y19","v":0},{"$f":"X18*IntvCosts!$Y19","v":4000},{"$f":"Y18*IntvCosts!$Y19","v":0},{"$f":"Z18*IntvCosts!$Y19","v":0},{"$f":"AA18*IntvCosts!$Y19","v":0},null,null,null,12000,{"$f":"SUMPRODUCT(G65:AA65,OFFSET(G$81:AA$81,AG$63,0))","v":6383.6691435479152},null,{"$f":"$AC18*IntvCosts!V19","v":9},{"$f":"$AC18*IntvCosts!W19","v":0},{"$f":"$AC18*IntvCosts!X19","v":6}]
[null,null,"Operational costs",null,"Cash Equiv.",null,{"$f":"SUM(G64:G65)","v":5000},1000,1000,2000,2000,1000,2000,4000,1000,0,1000,0,1000,0,1000,0,1000,4000,0,1000,1000,null,null,null,{"$f":"SUM(AE64:AE65)","v":29000},{"$f":"SUM(AF64:AF65)","v":14904.310039335214},null,{"$f":"SUM(AH64:AH65)","v":26},{"$f":"SUM(AI64:AI65)","v":0},{"$f":"SUM(AJ64:AJ65)","v":6}]
[]
[null,null,"Numbers of operational impacts",null,null,null,null,null,null,null,null,null,null,null,null,null,null,null,null,null,null,null,null,null,null,null,null,null,"Number","Convert","As Cash","Disc't"]
[null,null,1,{"$f":"INDEX(IntvCosts!$V$14:$X$15,1,$C69)","v":"Over-night possession [Nr]"},null,{"$f":"INDEX(IntvCosts!$V$14:$X$15,2,$C69)","v":"Poss(N)"},{"$f":"SUMPRODUCT(G$17:G$18,OFFSET(IntvCosts!$V$18:$V$19,0,$C69-1))","v":4},{"$f":"SUMPRODUCT(H$17:H$18,OFFSET(IntvCosts!$V$18:$V$19,0,$C69-1))","v":1},{"$f":"SUMPRODUCT(I$17:I$18,OFFSET(IntvCosts!$V$18:$V$19,0,$C69-1))","v":1},{"$f":"SUMPRODUCT(J$17:J$18,OFFSET(IntvCosts!$V$18:$V$19,0,$C69-1))","v":2},{"$f":"SUMPRODUCT(K$17:K$18,OFFSET(IntvCosts!$V$18:$V$19,0,$C69-1))","v":2},{"$f":"SUMPRODUCT(L$17:L$18,OFFSET(IntvCosts!$V$18:$V$19,0,$C69-1))","v":1},{"$f":"SUMPRODUCT(M$17:M$18,OFFSET(IntvCosts!$V$18:$V$19,0,$C69-1))","v":2},{"$f":"SUMPRODUCT(N$17:N$18,OFFSET(IntvCosts!$V$18:$V$19,0,$C69-1))","v":3},{"$f":"SUMPRODUCT(O$17:O$18,OFFSET(IntvCosts!$V$18:$V$19,0,$C69-1))","v":1},{"$f":"SUMPRODUCT(P$17:P$18,OFFSET(IntvCosts!$V$18:$V$19,0,$C69-1))","v":0},{"$f":"SUMPRODUCT(Q$17:Q$18,OFFSET(IntvCosts!$V$18:$V$19,0,$C69-1))","v":1},{"$f":"SUMPRODUCT(R$17:R$18,OFFSET(IntvCosts!$V$18:$V$19,0,$C69-1))","v":0},{"$f":"SUMPRODUCT(S$17:S$18,OFFSET(IntvCosts!$V$18:$V$19,0,$C69-1))","v":1},{"$f":"SUMPRODUCT(T$17:T$18,OFFSET(IntvCosts!$V$18:$V$19,0,$C69-1))","v":0},{"$f":"SUMPRODUCT(U$17:U$18,OFFSET(IntvCosts!$V$18:$V$19,0,$C69-1))","v":1},{"$f":"SUMPRODUCT(V$17:V$18,OFFSET(IntvCosts!$V$18:$V$19,0,$C69-1))","v":0},{"$f":"SUMPRODUCT(W$17:W$18,OFFSET(IntvCosts!$V$18:$V$19,0,$C69-1))","v":1},{"$f":"SUMPRODUCT(X$17:X$18,OFFSET(IntvCosts!$V$18:$V$19,0,$C69-1))","v":3},{"$f":"SUMPRODUCT(Y$17:Y$18,OFFSET(IntvCosts!$V$18:$V$19,0,$C69-1))","v":0},{"$f":"SUMPRODUCT(Z$17:Z$18,OFFSET(IntvCosts!$V$18:$V$19,0,$C69-1))","v":1},{"$f":"SUMPRODUCT(AA$17:AA$18,OFFSET(IntvCosts!$V$18:$V$19,0,$C69-1))","v":1},null,{"$f":"SUM(G69:AA69)","v":26},{"$f":"IntvCosts!V21","v":1000},{"$f":"AC69*AD69","v":26000},{"$f":"SUMPRODUCT(G69:AA69,OFFSET(G$81:AA$81,AG$63,0))*AD69","v":13308.392753448235}]
[null,null,2,{"$f":"INDEX(IntvCosts!$V$14:$X$15,1,$C70)","v":"Day possessions [Nr]"},null,{"$f":"INDEX(IntvCosts!$V$14:$X$15,2,$C70)","v":"Poss(D)"},{"$f":"SUMPRODUCT(G$17:G$18,OFFSET(IntvCosts!$V$18:$V$19,0,$C70-1))","v":0},{"$f":"SUMPRODUCT(H$17:H$18,OFFSET(IntvCosts!$V$18:$V$19,0,$C70-1))","v":0},{"$f":"SUMPRODUCT(I$17:I$18,OFFSET(IntvCosts!$V$18:$V$19,0,$C70-1))","v":0},{"$f":"SUMPRODUCT(J$17:J$18,OFFSET(IntvCosts!$V$18:$V$19,0,$C70-1))","v":0},{"$f":"SUMPRODUCT(K$17:K$18,OFFSET(IntvCosts!$V$18:$V$19,0,$C70-1))","v":0},{"$f":"SUMPRODUCT(L$17:L$18,OFFSET(IntvCosts!$V$18:$V$19,0,$C70-1))","v":0},{"$f":"SUMPRODUCT(M$17:M$18,OFFSET(IntvCosts!$V$18:$V$19,0,$C70-1))","v":0},{"$f":"SUMPRODUCT(N$17:N$18,OFFSET(IntvCosts!$V$18:$V$19,0,$C70-1))","v":0},{"$f":"SUMPRODUCT(O$17:O$18,OFFSET(IntvCosts!$V$18:$V$19,0,$C70-1))","v":0},{"$f":"SUMPRODUCT(P$17:P$18,OFFSET(IntvCosts!$V$18:$V$19,0,$C70-1))","v":0},{"$f":"SUMPRODUCT(Q$17:Q$18,OFFSET(IntvCosts!$V$18:$V$19,0,$C70-1))","v":0},{"$f":"SUMPRODUCT(R$17:R$18,OFFSET(IntvCosts!$V$18:$V$19,0,$C70-1))","v":0},{"$f":"SUMPRODUCT(S$17:S$18,OFFSET(IntvCosts!$V$18:$V$19,0,$C70-1))","v":0},{"$f":"SUMPRODUCT(T$17:T$18,OFFSET(IntvCosts!$V$18:$V$19,0,$C70-1))","v":0},{"$f":"SUMPRODUCT(U$17:U$18,OFFSET(IntvCosts!$V$18:$V$19,0,$C70-1))","v":0},{"$f":"SUMPRODUCT(V$17:V$18,OFFSET(IntvCosts!$V$18:$V$19,0,$C70-1))","v":0},{"$f":"SUMPRODUCT(W$17:W$18,OFFSET(IntvCosts!$V$18:$V$19,0,$C70-1))","v":0},{"$f":"SUMPRODUCT(X$17:X$18,OFFSET(IntvCosts!$V$18:$V$19,0,$C70-1))","v":0},{"$f":"SUMPRODUCT(Y$17:Y$18,OFFSET(IntvCosts!$V$18:$V$19,0,$C70-1))","v":0},{"$f":"SUMPRODUCT(Z$17:Z$18,OFFSET(IntvCosts!$V$18:$V$19,0,$C70-1))","v":0},{"$f":"SUMPRODUCT(AA$17:AA$18,OFFSET(IntvCosts!$V$18:$V$19,0,$C70-1))","v":0},null,{"$f":"SUM(G70:AA70)","v":0},{"$f":"IntvCosts!W21","v":5000},{"$f":"AC70*AD70","v":0},{"$f":"SUMPRODUCT(G70:AA70,OFFSET(G$81:AA$81,AG$63,0))*AD70","v":0}]
[null,null,3,{"$f":"INDEX(IntvCosts!$V$14:$X$15,1,$C71)","v":"Speed restriction [days]"},null,{"$f":"INDEX(IntvCosts!$V$14:$X$15,2,$C71)","v":"TSR"},{"$f":"SUMPRODUCT(G$17:G$18,OFFSET(IntvCosts!$V$18:$V$19,0,$C71-1))","v":2},{"$f":"SUMPRODUCT(H$17:H$18,OFFSET(IntvCosts!$V$18:$V$19,0,$C71-1))","v":0},{"$f":"SUMPRODUCT(I$17:I$18,OFFSET(IntvCosts!$V$18:$V$19,0,$C71-1))","v":0},{"$f":"SUMPRODUCT(J$17:J$18,OFFSET(IntvCosts!$V$18:$V$19,0,$C71-1))","v":0},{"$f":"SUMPRODUCT(K$17:K$18,OFFSET(IntvCosts!$V$18:$V$19,0,$C71-1))","v":0},{"$f":"SUMPRODUCT(L$17:L$18,OFFSET(IntvCosts!$V$18:$V$19,0,$C71-1))","v":0},{"$f":"SUMPRODUCT(M$17:M$18,OFFSET(IntvCosts!$V$18:$V$19,0,$C71-1))","v":0},{"$f":"SUMPRODUCT(N$17:N$18,OFFSET(IntvCosts!$V$18:$V$19,0,$C71-1))","v":2},{"$f":"SUMPRODUCT(O$17:O$18,OFFSET(IntvCosts!$V$18:$V$19,0,$C71-1))","v":0},{"$f":"SUMPRODUCT(P$17:P$18,OFFSET(IntvCosts!$V$18:$V$19,0,$C71-1))","v":0},{"$f":"SUMPRODUCT(Q$17:Q$18,OFFSET(IntvCosts!$V$18:$V$19,0,$C71-1))","v":0},{"$f":"SUMPRODUCT(R$17:R$18,OFFSET(IntvCosts!$V$18:$V$19,0,$C71-1))","v":0},{"$f":"SUMPRODUCT(S$17:S$18,OFFSET(IntvCosts!$V$18:$V$19,0,$C71-1))","v":0},{"$f":"SUMPRODUCT(T$17:T$18,OFFSET(IntvCosts!$V$18:$V$19,0,$C71-1))","v":0},{"$f":"SUMPRODUCT(U$17:U$18,OFFSET(IntvCosts!$V$18:$V$19,0,$C71-1))","v":0},{"$f":"SUMPRODUCT(V$17:V$18,OFFSET(IntvCosts!$V$18:$V$19,0,$C71-1))","v":0},{"$f":"SUMPRODUCT(W$17:W$18,OFFSET(IntvCosts!$V$18:$V$19,0,$C71-1))","v":0},{"$f":"SUMPRODUCT(X$17:X$18,OFFSET(IntvCosts!$V$18:$V$19,0,$C71-1))","v":2},{"$f":"SUMPRODUCT(Y$17:Y$18,OFFSET(IntvCosts!$V$18:$V$19,0,$C71-1))","v":0},{"$f":"SUMPRODUCT(Z$17:Z$18,OFFSET(IntvCosts!$V$18:$V$19,0,$C71-1))","v":0},{"$f":"SUMPRODUCT(AA$17:AA$18,OFFSET(IntvCosts!$V$18:$V$19,0,$C71-1))","v":0},null,{"$f":"SUM(G71:AA71)","v":6},{"$f":"IntvCosts!X21","v":500},{"$f":"AC71*AD71","v":3000},{"$f":"SUMPRODUCT(G71:AA71,OFFSET(G$81:AA$81,AG$63,0))*AD71","v":1595.9172858869788}]
[null,null,null,null,null,null,null,null,null,null,null,null,null,null,null,null,null,null,null,null,null,null,null,null,null,null,null,null,null,null,{"$f":"SUM(AE69:AE71)","v":29000},{"$f":"SUM(AF69:AF71)","v":14904.310039335214}]
[null,null,"Cash Equivalents"]
[]
[null,null,null,null,null,"Finance",{"$f":"G23","v":747000},{"$f":"H23","v":17000},17000,34000,34000,17000,34000,730000,17000,0,17000,0,17000,0,17000,0,17000,730000,0,17000,17000,null,null,null,{"$f":"SUM(G75:AA75)","v":2479000},{"$f":"SUMPRODUCT(G75:AA75,G81:AA81)","v":1309870.5139258783}]
[null,null,null,null,null,"Env Equiv (all)",{"$f":"G45+G52+G59","v":297166.7},421,421,842,842,421,842,296745.7,421,0,421,0,421,0,421,0,421,296745.7,0,421,421,null,null,null,{"$f":"SUM(G76:AA76)","v":897394.10000000009},{"$f":"SUMPRODUCT(G76:AA76,G82:AA82)","v":504105.11332806846}]
[null,null,null,null,null,"Ops Cost",{"$f":"SUMPRODUCT(G69:G71,$AD69:$AD71)","v":5000},1000,1000,2000,2000,1000,2000,4000,1000,0,1000,0,1000,0,1000,0,1000,4000,0,1000,1000,null,null,null,{"$f":"SUM(G77:AA77)","v":29000},{"$f":"SUMPRODUCT(G77:AA77,G83:AA83)","v":14904.310039335214}]
[null,null,null,null,null,"Total",{"$f":"SUM(G75:G77)","v":1049166.7},{"$f":"SUM(H75:H77)","v":18421},18421,36842,36842,18421,36842,1030745.7,18421,0,18421,0,18421,0,18421,0,18421,1030745.7,0,18421,18421,null,null,null,{"$f":"SUM(G78:AA78)","v":3405394.0999999996},{"$f":"SUM(AF75:AF77)","v":1828879.937293282}]
[]
[null,null,"Discounted Cash Equivalent"]
[null,null,{"$f":"IntvCosts!$J$23","v":2.3E-2},null,"Fin. factors",null,1,{"$f":"(1+C81)^(-$G$13)","v":0.89252796289224312},{"$f":"H81*$H81","v":0.79660616454457733},{"$f":"I81*$H81","v":0.71099327726837469},0.63458138139042231,0.56638162762173927,0.50551144032082396,0.45118309604826873,0.40269352960737653,0.35941523565035899,0.32078814810745043,0.28631239235031791,0.25554181629523393,0.22807821673176895,0.20356618615970126,0.18168851344686129,0.16216207878764705,0.14473418983871006,0.12917931161760307,0.11529614784588155,0.10290503596620754]
[null,null,{"$f":"IntvCosts!$T$23","v":0.02},null,"Env. factors",null,1,{"$f":"(1+C82)^(-$G$13)","v":0.90573080982991594},{"$f":"H82*$H82","v":0.82034829987515534},0.74301472998851914,0.67297133310805779,0.60953087052827926,0.55207088897991197,0.50002761335929724,0.45289041518523637,0.41019680250993101,0.37152788212696192,0.33650424955324676,0.30478226645907031,0.27605068902177099,0.25002761412179492,0.22645771341837503,0.20510972816665585,0.18577420019637911,0.16826141678937137,0.15239954929176636,0.13803296719774574]
[null,null,{"$f":"IntvCosts!$J$23","v":2.3E-2},null,"Ops. factors",null,1,{"$f":"(1+C83)^(-$G$13)","v":0.89252796289224312},{"$f":"H83*$H83","v":0.79660616454457733},0.71099327726837469,0.63458138139042231,0.56638162762173927,0.50551144032082396,0.45118309604826873,0.40269352960737653,0.35941523565035899,0.32078814810745043,0.28631239235031791,0.25554181629523393,0.22807821673176895,0.20356618615970126,0.18168851344686129,0.16216207878764705,0.14473418983871006,0.12917931161760307,0.11529614784588155,0.10290503596620754]
[]
[null,null,null,null,null,"Finance",{"$f":"G75*G81","v":747000},{"$f":"H75*H81","v":15172.975369168133},13542.304797257815,24173.771427124739,21575.766967274358,9628.4876695695675,17187.388970908014,329363.66011523618,6845.7900033254009,0,5453.3985178266576,0,4344.210877018977,0,3460.6251647149215,0,2756.7553393899998,105655.95858225835,{"$f":"Y75*Y81","v":0},1960.0345133799863,1749.3856114255282,null,null,null,null,{"$f":"SUM(G85:AA85)","v":1309870.5139258783}]
[null,null,null,null,null,"Env Equiv",{"$f":"G76*G82","v":297166.7},381.3126709383946,345.3666342474404,625.61840265033311,566.64186247698467,256.61249649240557,464.84368852108588,148381.04414563402,190.66686479298451,0,156.41323837545096,0,128.31333417926859,0,105.26162554527566,0,86.351195558162118,55127.69507921466,0,64.160210251833632,58.11187919025096,null,null,null,null,{"$f":"SUM(G86:AA86)","v":504105.11332806846}]
[null,null,null,null,null,"Ops Cost",{"$f":"G77*G83","v":5000},892.52796289224307,796.60616454457738,1421.9865545367493,1269.1627627808446,566.38162762173931,1011.0228806416479,1804.7323841930749,402.69352960737655,0,320.78814810745041,0,255.54181629523393,0,203.56618615970126,0,162.16207878764703,578.93675935484021,0,115.29614784588155,102.90503596620754,null,null,null,null,{"$f":"SUM(G87:AA87)","v":14904.310039335214}]
[null,null,null,null,null,"Disc.Total",{"$f":"SUM(G85:G87)","v":1049166.7},16446.81600299877,14684.277596049833,26221.376384311821,23411.571592532186,10451.481793683712,18663.25554007075,479549.43664506328,7439.1503977257616,0,5930.599904309559,0,4728.0660274934789,0,3769.4529764198987,0,3005.2686137358087,161362.59042082785,0,2139.4908714777016,1910.4025265819866,null,null,null,null,{"$f":"SUM(G88:AA88)","v":1828879.9372932822}]
[]
[null,null,"Track Condition"]
[]
[null,null,"Q","Track quality (start)",null,null,{"$f":"TRANSPOSE(Projection!AW133:AW153)","v":-7},-8,-11.934597581130163,-14.576950403124068,-11.61834242728283,-10,-16.929494367201521,-22,-8.3960341488655814,-6.75,-10.273240500425777,-8.1542764292595855,-11.173473201310111,-8.3987343848047669,-12.342900333889268,-11.746392053135322,-17.877557122096189,-14.786131570989284,-7.0976196638868645,-10.802304264838655,-8.6845232516726725]
[null,null,"Q","Track quality (end)",null,null,{"$f":"TRANSPOSE(Projection!AY133:AY153)","v":-8},-11.934597581130163,-14.576950403124068,-11.61834242728283,-10,-16.929494367201521,-22,-8.3960341488655814,-6.75,-10.273240500425777,-8.1542764292595855,-11.173473201310111,-8.3987343848047669,-12.342900333889268,-11.746392053135322,-17.877557122096189,-14.786131570989284,-7.0976196638868645,-10.802304264838655,-8.6845232516726725,-7.1889311648113114]

{"sheet":"Summary","index":14,"n_rows":53,"n_cols":40,"rows_kept":53,"cut":false,"hidden":false,"merged":[[8,38,8,39],[13,30,13,32],[8,34,8,36],[9,4,9,24],[12,1,12,2],[8,30,8,32],[8,1,8,3],[8,27,8,29]]}
["MAINLINE",null,{"$f":"Flowchart!C1","v":"Plain Track Model"}]
[null,null,null,null,"Warnings:",{"$f":"IF(Projection!$BF$24,Projection!BF27,\"OK\")","v":"OK"}]
[null,"Summary of Costs & Condition",null,null,null,{"$f":"IF(Projection!$BF$24,Projection!BF28,\"OK\")","v":"OK"}]
[null,null,null,null,null,{"$f":"IF(AND(Projection!K17<>1,Projection!S24>25),\"Technical Service Life (TSL) within Radius <600 should be limited to certain values (25,22,20). The LCAT results may not be appropriate after 25 years.\",\"OK\")","v":"OK"}]
[null,null,null,null,null,{"$f":"IF(Projection!G17=3,\"In the case that technical Service Life (TSL) for wooden sleepers is above 30 years, the condition of the sleepers has to be investigated in detail.\",IF(Projection!G18=3,\"In the case that technical Service Life (TSL) for wooden sleepers is above 30 years, the condition of the sleepers has to be investigated in detail.\",\"OK\"))","v":"OK"}]
[]
[null,null,null,"Years:",{"$f":"Results!G14","v":"01-05"},{"$f":"Results!H14","v":"06-10"},{"$f":"Results!I14","v":"11-15"},{"$f":"Results!J14","v":"16-20"},{"$f":"Results!K14","v":"21-25"},{"$f":"Results!L14","v":"26-30"},{"$f":"Results!M14","v":"31-35"},{"$f":"Results!N14","v":"36-40"},{"$f":"Results!O14","v":"41-45"},{"$f":"Results!P14","v":"46-50"},{"$f":"Results!Q14","v":"51-55"},{"$f":"Results!R14","v":"56-60"},{"$f":"Results!S14","v":"61-65"},{"$f":"Results!T14","v":"66-70"},{"$f":"Results!U14","v":"71-75"},{"$f":"Results!V14","v":"76-80"},{"$f":"Results!W14","v":"81-85"},{"$f":"Results!X14","v":"86-90"},{"$f":"Results!Y14","v":"91-95"},{"$f":"Results!Z14","v":"96-100"},{"$f":"Results!AA14","v":"101-05"}]
[null,null,null,"Period:",1,{"$f":"E8+1","v":2},3,4,5,6,7,8,9,10,11,12,13,14,15,16,17,18,19,20,21]
[null,"Interventions",null,null,null,null,null,null,null,null,null,null,null,null,null,null,null,null,null,null,null,null,null,null,null,"Financial",null,"Env.ironmental Impacts",null,null,"Operational Impacts",null,null,null,"Discounted costs",null,null,null,"Track Residual Value"]
[null,"No","Name","Number","Intervention schedule",null,null,null,null,null,null,null,null,null,null,null,null,null,null,null,null,null,null,null,null,"Cash",null,{"$f":"Results!AC41","v":"kg CO2e"},{"$f":"Results!AC48","v":"unit2 EI-2"},{"$f":"Results!AC55","v":"unit3 EI-3"},{"$f":"IntvCosts!V15","v":"Poss(N)"},{"$f":"IntvCosts!W15","v":"Poss(D)"},{"$f":"IntvCosts!X15","v":"TSR"},null,"Financial","Env Equiv.","Operational",null,"Cash","Discounted"]
[null,1,{"$f":"Results!D17","v":"In-situ tamping of ballast"},{"$f":"Results!AC17","v":17},{"$f":"Results!G17","v":1},{"$f":"Results!H17","v":1},{"$f":"Results!I17","v":1},{"$f":"Results!J17","v":2},{"$f":"Results!K17","v":2},{"$f":"Results!L17","v":1},{"$f":"Results!M17","v":2},{"$f":"Results!N17","v":0},{"$f":"Results!O17","v":1},{"$f":"Results!P17","v":0},{"$f":"Results!Q17","v":1},{"$f":"Results!R17","v":0},{"$f":"Results!S17","v":1},{"$f":"Results!T17","v":0},{"$f":"Results!U17","v":1},{"$f":"Results!V17","v":0},{"$f":"Results!W17","v":1},{"$f":"Results!X17","v":0},{"$f":"Results!Y17","v":0},{"$f":"Results!Z17","v":1},{"$f":"Results!AA17","v":1},{"$f":"Results!AE21","v":289000},null,{"$f":"Results!AC42","v":7157},{"$f":"Results!AC49","v":0},{"$f":"Results!AC56","v":0},{"$f":"Results!AH64","v":17},{"$f":"Results!AI64","v":0},{"$f":"Results!AJ64","v":0},null,{"$f":"Results!AF21","v":144850.89522838412},{"$f":"Results!AF42+Results!AF49+Results!AF56","v":3850.6741032198706},{"$f":"Results!AF64","v":8520.6408957872991},null,{"$f":"Results!AH21","v":-491346.15384615387},{"$f":"Results!AI21","v":-71114.587507289267}]
[null,2,{"$f":"Results!D18","v":"Renew track structure"},{"$f":"Results!AC18","v":3},{"$f":"Results!G18","v":1},{"$f":"Results!H18","v":0},{"$f":"Results!I18","v":0},{"$f":"Results!J18","v":0},{"$f":"Results!K18","v":0},{"$f":"Results!L18","v":0},{"$f":"Results!M18","v":0},{"$f":"Results!N18","v":1},{"$f":"Results!O18","v":0},{"$f":"Results!P18","v":0},{"$f":"Results!Q18","v":0},{"$f":"Results!R18","v":0},{"$f":"Results!S18","v":0},{"$f":"Results!T18","v":0},{"$f":"Results!U18","v":0},{"$f":"Results!V18","v":0},{"$f":"Results!W18","v":0},{"$f":"Results!X18","v":1},{"$f":"Results!Y18","v":0},{"$f":"Results!Z18","v":0},{"$f":"Results!AA18","v":0},{"$f":"Results!AE22","v":2190000},null,{"$f":"Results!AC43","v":890237.10000000009},{"$f":"Results!AC50","v":0},{"$f":"Results!AC57","v":0},{"$f":"Results!AH65","v":9},{"$f":"Results!AI65","v":0},{"$f":"Results!AJ65","v":6},null,{"$f":"Results!AF22","v":1165019.6186974945},{"$f":"Results!AF43+Results!AF50+Results!AF57","v":500254.43922484864},{"$f":"Results!AF65","v":6383.6691435479152}]
[null,"All interventions",null,{"$f":"SUM(D11:D12)","v":20},2,1,1,2,2,1,2,1,1,0,1,0,1,0,1,0,1,1,0,1,1,null,null,{"$f":"Results!AC44","v":897394.10000000009},{"$f":"Results!AC51","v":0},{"$f":"Results!AC58","v":0},{"$f":"SUM(AE11:AE12)","v":26},{"$f":"SUM(AF11:AF12)","v":0},{"$f":"SUM(AG11:AG12)","v":6}]
[null,null,null,"Cash:",{"$f":"Results!G23","v":747000},{"$f":"Results!H23","v":17000},{"$f":"Results!I23","v":17000},{"$f":"Results!J23","v":34000},{"$f":"Results!K23","v":34000},{"$f":"Results!L23","v":17000},{"$f":"Results!M23","v":34000},{"$f":"Results!N23","v":730000},{"$f":"Results!O23","v":17000},{"$f":"Results!P23","v":0},{"$f":"Results!Q23","v":17000},{"$f":"Results!R23","v":0},{"$f":"Results!S23","v":17000},{"$f":"Results!T23","v":0},{"$f":"Results!U23","v":17000},{"$f":"Results!V23","v":0},{"$f":"Results!W23","v":17000},{"$f":"Results!X23","v":730000},{"$f":"Results!Y23","v":0},{"$f":"Results!Z23","v":17000},{"$f":"Results!AA23","v":17000},{"$f":"SUM(Z11:Z12)+AM11","v":1987653.846153846},null,{"$f":"Results!AC45","v":897394.10000000009},{"$f":"Results!AC52","v":0},{"$f":"Results!AC59","v":0},{"$f":"Results!AE66","v":29000},null,null,null,{"$f":"SUM(AI11:AI12)+AN11","v":1238755.9264185892},{"$f":"SUM(AJ11:AJ12)","v":504105.11332806852},{"$f":"SUM(AK11:AK12)","v":14904.310039335214}]
[null,null,null,null,null,null,null,null,null,null,null,null,null,null,null,null,null,null,null,null,null,null,null,null,null,null,null,null,null,null,null,null,null,null,{"$f":"IntvCosts!$J$23","v":2.3E-2},{"$f":"IntvCosts!$T$23","v":0.02},{"$f":"IntvCosts!$J$23","v":2.3E-2},"Rates p.a."]
[]
[]
[]
[]
[]
[null,null,"Costs by Category"]
[null,null,{"$f":"Results!D26","v":"Labour"},{"$f":"Results!AE26","v":785000}]
[null,null,{"$f":"Results!D27","v":"Plant"},{"$f":"Results!AE27","v":1534000}]
[null,null,{"$f":"Results!D28","v":"Materials"},{"$f":"Results!AE28","v":49000}]
[null,null,{"$f":"Results!D29","v":"Tax"},{"$f":"Results!AE29","v":111000}]
[]
[]
[]
[]
[]
[]
[]
[]
[]
[null,null,"Costs by Budget"]
[null,null,{"$f":"Results!D33","v":"Maintenance"},{"$f":"Results!AE33","v":2190000}]
[null,null,{"$f":"Results!D34","v":"Capital"},{"$f":"Results!AE34","v":231200}]
[null,null,{"$f":"Results!D35","v":"Operations"},{"$f":"Results!AE35","v":43350}]
[null,null,{"$f":"Results!D36","v":"Government"},{"$f":"Results!AE36","v":14450}]
[]
[]
[]
[]
[]
[]
[]
[null,null,null,"Notes:"]
[null,null,"●","Please be aware that the charts' axis are each time automatically adjusted to the configuration - if you wish to change that, you should follow the next steps:"]
[null,null,null,"    -Right click on that Y-axis, and click \"Format Axis\" "]
[null,null,null,"   -Then, make sure you check the options that said \"Fixed\", instead of \"Auto\" "]
[null,null,null,"   -Doing that will make it fixed to the specified values, even when the line goes out "]
[null,null,"●","Track assumed to be brand new on year 0. This track's renewal cost is included in the LCC analysis (see graph above)."]
[null,null,"●","Track residual value is calculated for the last track renewal. This cost is combined in the LCC as an income (revenue)."]

{"sheet":"OutputFinancial","index":15,"n_rows":27,"n_cols":31,"rows_kept":27,"cut":false,"hidden":false,"merged":[[6,4,6,24],[10,29,10,30]]}
["MAINLINE",null,{"$f":"Flowchart!C1","v":"Plain Track Model"}]
[null,null,null,null,"Check",{"$f":"IF(Projection!$BF$24,Projection!BF27,\"OK\")","v":"OK"}]
[null,"Summary of Projected Costs",null,null,null,{"$f":"IF(Projection!$BF$24,Projection!BF28,\"OK\")","v":"OK"}]
[]
[null,null,null,"Years:",{"$f":"Summary!E7","v":"01-05"},{"$f":"Summary!F7","v":"06-10"},{"$f":"Summary!G7","v":"11-15"},{"$f":"Summary!H7","v":"16-20"},{"$f":"Summary!I7","v":"21-25"},{"$f":"Summary!J7","v":"26-30"},{"$f":"Summary!K7","v":"31-35"},{"$f":"Summary!L7","v":"36-40"},{"$f":"Summary!M7","v":"41-45"},{"$f":"Summary!N7","v":"46-50"},{"$f":"Summary!O7","v":"51-55"},{"$f":"Summary!P7","v":"56-60"},{"$f":"Summary!Q7","v":"61-65"},{"$f":"Summary!R7","v":"66-70"},{"$f":"Summary!S7","v":"71-75"},{"$f":"Summary!T7","v":"76-80"},{"$f":"Summary!U7","v":"81-85"},{"$f":"Summary!V7","v":"86-90"},{"$f":"Summary!W7","v":"91-95"},{"$f":"Summary!X7","v":"96-100"},{"$f":"Summary!Y7","v":"101-05"}]
[null,null,null,"Period:",{"$f":"Summary!E8","v":1},{"$f":"Summary!F8","v":2},{"$f":"Summary!G8","v":3},{"$f":"Summary!H8","v":4},{"$f":"Summary!I8","v":5},{"$f":"Summary!J8","v":6},{"$f":"Summary!K8","v":7},{"$f":"Summary!L8","v":8},{"$f":"Summary!M8","v":9},{"$f":"Summary!N8","v":10},{"$f":"Summary!O8","v":11},{"$f":"Summary!P8","v":12},{"$f":"Summary!Q8","v":13},{"$f":"Summary!R8","v":14},{"$f":"Summary!S8","v":15},{"$f":"Summary!T8","v":16},{"$f":"Summary!U8","v":17},{"$f":"Summary!V8","v":18},{"$f":"Summary!W8","v":19},{"$f":"Summary!X8","v":20},{"$f":"Summary!Y8","v":21}]
[null,"No","Name",null,"Intervention schedule"]
[null,1,{"$f":"Results!D17","v":"In-situ tamping of ballast"},null,{"$f":"Results!G17","v":1},{"$f":"Results!H17","v":1},{"$f":"Results!I17","v":1},{"$f":"Results!J17","v":2},{"$f":"Results!K17","v":2},{"$f":"Results!L17","v":1},{"$f":"Results!M17","v":2},{"$f":"Results!N17","v":0},{"$f":"Results!O17","v":1},{"$f":"Results!P17","v":0},{"$f":"Results!Q17","v":1},{"$f":"Results!R17","v":0},{"$f":"Results!S17","v":1},{"$f":"Results!T17","v":0},{"$f":"Results!U17","v":1},{"$f":"Results!V17","v":0},{"$f":"Results!W17","v":1},{"$f":"Results!X17","v":0},{"$f":"Results!Y17","v":0},{"$f":"Results!Z17","v":1},{"$f":"Results!AA17","v":1}]
[null,2,{"$f":"Results!D18","v":"Renew track structure"},null,{"$f":"Results!G18","v":1},{"$f":"Results!H18","v":0},{"$f":"Results!I18","v":0},{"$f":"Results!J18","v":0},{"$f":"Results!K18","v":0},{"$f":"Results!L18","v":0},{"$f":"Results!M18","v":0},{"$f":"Results!N18","v":1},{"$f":"Results!O18","v":0},{"$f":"Results!P18","v":0},{"$f":"Results!Q18","v":0},{"$f":"Results!R18","v":0},{"$f":"Results!S18","v":0},{"$f":"Results!T18","v":0},{"$f":"Results!U18","v":0},{"$f":"Results!V18","v":0},{"$f":"Results!W18","v":0},{"$f":"Results!X18","v":1},{"$f":"Results!Y18","v":0},{"$f":"Results!Z18","v":0},{"$f":"Results!AA18","v":0}]
[]
[null,null,"Cash Equivalent Costs (€'000)",null,null,null,null,null,null,null,null,null,null,null,null,null,null,null,null,null,null,null,null,null,null,null,"Total",null,null,"Track Residual Value"]
[null,null,null,"Finance",{"$f":"Results!G75*0.001","v":747},{"$f":"Results!H75*0.001","v":17},{"$f":"Results!I75*0.001","v":17},{"$f":"Results!J75*0.001","v":34},{"$f":"Results!K75*0.001","v":34},{"$f":"Results!L75*0.001","v":17},{"$f":"Results!M75*0.001","v":34},{"$f":"Results!N75*0.001","v":730},{"$f":"Results!O75*0.001","v":17},{"$f":"Results!P75*0.001","v":0},{"$f":"Results!Q75*0.001","v":17},{"$f":"Results!R75*0.001","v":0},{"$f":"Results!S75*0.001","v":17},{"$f":"Results!T75*0.001","v":0},{"$f":"Results!U75*0.001","v":17},{"$f":"Results!V75*0.001","v":0},{"$f":"Results!W75*0.001","v":17},{"$f":"Results!X75*0.001","v":730},{"$f":"Results!Y75*0.001","v":0},{"$f":"Results!Z75*0.001","v":17},{"$f":"Results!AA75*0.001","v":17},null,{"$f":"SUM(E12:Y12)+AD13","v":1987.6538461538462},null,null,"Cash","Discounted"]
[null,null,null,"Env Equiv",{"$f":"Results!G76*0.001","v":297.16669999999999},{"$f":"Results!H76*0.001","v":0.42099999999999999},{"$f":"Results!I76*0.001","v":0.42099999999999999},{"$f":"Results!J76*0.001","v":0.84199999999999997},{"$f":"Results!K76*0.001","v":0.84199999999999997},{"$f":"Results!L76*0.001","v":0.42099999999999999},{"$f":"Results!M76*0.001","v":0.84199999999999997},{"$f":"Results!N76*0.001","v":296.7457},{"$f":"Results!O76*0.001","v":0.42099999999999999},{"$f":"Results!P76*0.001","v":0},{"$f":"Results!Q76*0.001","v":0.42099999999999999},{"$f":"Results!R76*0.001","v":0},{"$f":"Results!S76*0.001","v":0.42099999999999999},{"$f":"Results!T76*0.001","v":0},{"$f":"Results!U76*0.001","v":0.42099999999999999},{"$f":"Results!V76*0.001","v":0},{"$f":"Results!W76*0.001","v":0.42099999999999999},{"$f":"Results!X76*0.001","v":296.7457},{"$f":"Results!Y76*0.001","v":0},{"$f":"Results!Z76*0.001","v":0.42099999999999999},{"$f":"Results!AA76*0.001","v":0.42099999999999999},null,{"$f":"SUM(E13:Y13)","v":897.39410000000021},null,null,{"$f":"Summary!AM11*0.001","v":-491.34615384615387},{"$f":"Summary!AN11*0.001","v":-71.114587507289272}]
[null,null,null,"Ops Cost",{"$f":"Results!G77*0.001","v":5},{"$f":"Results!H77*0.001","v":1},{"$f":"Results!I77*0.001","v":1},{"$f":"Results!J77*0.001","v":2},{"$f":"Results!K77*0.001","v":2},{"$f":"Results!L77*0.001","v":1},{"$f":"Results!M77*0.001","v":2},{"$f":"Results!N77*0.001","v":4},{"$f":"Results!O77*0.001","v":1},{"$f":"Results!P77*0.001","v":0},{"$f":"Results!Q77*0.001","v":1},{"$f":"Results!R77*0.001","v":0},{"$f":"Results!S77*0.001","v":1},{"$f":"Results!T77*0.001","v":0},{"$f":"Results!U77*0.001","v":1},{"$f":"Results!V77*0.001","v":0},{"$f":"Results!W77*0.001","v":1},{"$f":"Results!X77*0.001","v":4},{"$f":"Results!Y77*0.001","v":0},{"$f":"Results!Z77*0.001","v":1},{"$f":"Results!AA77*0.001","v":1},null,{"$f":"SUM(E14:Y14)","v":29}]
[null,null,null,"Total",{"$f":"SUM(E12:E14)","v":1049.1667},18.420999999999999,18.420999999999999,36.841999999999999,36.841999999999999,18.420999999999999,36.841999999999999,1030.7456999999999,18.420999999999999,0,18.420999999999999,0,18.420999999999999,0,18.420999999999999,0,18.420999999999999,1030.7456999999999,0,18.420999999999999,18.420999999999999,null,{"$f":"SUM(AA12:AA14)","v":2914.0479461538462}]
[]
[null,null,"Discounted  (€'000)",2.3E-2]
[null,null,null,"Finance",{"$f":"Results!G85*0.001","v":747},{"$f":"Results!H85*0.001","v":15.172975369168133},{"$f":"Results!I85*0.001","v":13.542304797257815},{"$f":"Results!J85*0.001","v":24.173771427124738},{"$f":"Results!K85*0.001","v":21.575766967274358},{"$f":"Results!L85*0.001","v":9.6284876695695676},{"$f":"Results!M85*0.001","v":17.187388970908014},{"$f":"Results!N85*0.001","v":329.3636601152362},{"$f":"Results!O85*0.001","v":6.8457900033254013},{"$f":"Results!P85*0.001","v":0},{"$f":"Results!Q85*0.001","v":5.453398517826658},{"$f":"Results!R85*0.001","v":0},{"$f":"Results!S85*0.001","v":4.3442108770189769},{"$f":"Results!T85*0.001","v":0},{"$f":"Results!U85*0.001","v":3.4606251647149215},{"$f":"Results!V85*0.001","v":0},{"$f":"Results!W85*0.001","v":2.7567553393899997},{"$f":"Results!X85*0.001","v":105.65595858225835},{"$f":"Results!Y85*0.001","v":0},{"$f":"Results!Z85*0.001","v":1.9600345133799864},{"$f":"Results!AA85*0.001","v":1.7493856114255282},null,{"$f":"SUM(E18:Y18)+AE13","v":1238.7559264185893}]
[null,null,null,"Env Equiv",{"$f":"Results!G86*0.001","v":297.16669999999999},{"$f":"Results!H86*0.001","v":0.3813126709383946},{"$f":"Results!I86*0.001","v":0.34536663424744041},{"$f":"Results!J86*0.001","v":0.62561840265033308},{"$f":"Results!K86*0.001","v":0.56664186247698467},{"$f":"Results!L86*0.001","v":0.25661249649240558},{"$f":"Results!M86*0.001","v":0.46484368852108587},{"$f":"Results!N86*0.001","v":148.38104414563404},{"$f":"Results!O86*0.001","v":0.1906668647929845},{"$f":"Results!P86*0.001","v":0},{"$f":"Results!Q86*0.001","v":0.15641323837545096},{"$f":"Results!R86*0.001","v":0},{"$f":"Results!S86*0.001","v":0.1283133341792686},{"$f":"Results!T86*0.001","v":0},{"$f":"Results!U86*0.001","v":0.10526162554527567},{"$f":"Results!V86*0.001","v":0},{"$f":"Results!W86*0.001","v":8.6351195558162119E-2},{"$f":"Results!X86*0.001","v":55.127695079214661},{"$f":"Results!Y86*0.001","v":0},{"$f":"Results!Z86*0.001","v":6.4160210251833633E-2},{"$f":"Results!AA86*0.001","v":5.8111879190250959E-2},null,{"$f":"SUM(E19:Y19)","v":504.10511332806863}]
[null,null,null,"Ops Cost",{"$f":"Results!G87*0.001","v":5},{"$f":"Results!H87*0.001","v":0.89252796289224312},{"$f":"Results!I87*0.001","v":0.79660616454457744},{"$f":"Results!J87*0.001","v":1.4219865545367494},{"$f":"Results!K87*0.001","v":1.2691627627808446},{"$f":"Results!L87*0.001","v":0.56638162762173927},{"$f":"Results!M87*0.001","v":1.0110228806416479},{"$f":"Results!N87*0.001","v":1.8047323841930749},{"$f":"Results!O87*0.001","v":0.40269352960737653},{"$f":"Results!P87*0.001","v":0},{"$f":"Results!Q87*0.001","v":0.32078814810745043},{"$f":"Results!R87*0.001","v":0},{"$f":"Results!S87*0.001","v":0.25554181629523393},{"$f":"Results!T87*0.001","v":0},{"$f":"Results!U87*0.001","v":0.20356618615970126},{"$f":"Results!V87*0.001","v":0},{"$f":"Results!W87*0.001","v":0.16216207878764705},{"$f":"Results!X87*0.001","v":0.57893675935484024},{"$f":"Results!Y87*0.001","v":0},{"$f":"Results!Z87*0.001","v":0.11529614784588155},{"$f":"Results!AA87*0.001","v":0.10290503596620754},null,{"$f":"SUM(E20:Y20)","v":14.904310039335215}]
[null,null,null,"Total",{"$f":"SUM(E18:E20)","v":1049.1667},16.446816002998769,14.684277596049833,26.221376384311817,23.411571592532187,10.451481793683712,18.663255540070747,479.54943664506328,7.4391503977257623,0,5.9305999043095587,0,4.7280660274934796,0,3.7694529764198985,0,3.0052686137358089,161.36259042082784,0,2.1394908714777015,{"$f":"SUM(Y18:Y20)","v":1.9104025265819868},null,{"$f":"SUM(AA18:AA20)","v":1757.7653497859933}]
[]
[]
[null,null,"Chart options:"]
[null,null,true,"Finance",{"$f":"IF($C$25,Results!G85,Results!G37)*0.001","v":747},{"$f":"IF($C$25,Results!H85,Results!H37)*0.001","v":15.172975369168133},{"$f":"IF($C$25,Results!I85,Results!I37)*0.001","v":13.542304797257815},{"$f":"IF($C$25,Results!J85,Results!J37)*0.001","v":24.173771427124738},{"$f":"IF($C$25,Results!K85,Results!K37)*0.001","v":21.575766967274358},{"$f":"IF($C$25,Results!L85,Results!L37)*0.001","v":9.6284876695695676},{"$f":"IF($C$25,Results!M85,Results!M37)*0.001","v":17.187388970908014},{"$f":"IF($C$25,Results!N85,Results!N37)*0.001","v":329.3636601152362},{"$f":"IF($C$25,Results!O85,Results!O37)*0.001","v":6.8457900033254013},{"$f":"IF($C$25,Results!P85,Results!P37)*0.001","v":0},{"$f":"IF($C$25,Results!Q85,Results!Q37)*0.001","v":5.453398517826658},{"$f":"IF($C$25,Results!R85,Results!R37)*0.001","v":0},{"$f":"IF($C$25,Results!S85,Results!S37)*0.001","v":4.3442108770189769},{"$f":"IF($C$25,Results!T85,Results!T37)*0.001","v":0},{"$f":"IF($C$25,Results!U85,Results!U37)*0.001","v":3.4606251647149215},{"$f":"IF($C$25,Results!V85,Results!V37)*0.001","v":0},{"$f":"IF($C$25,Results!W85,Results!W37)*0.001","v":2.7567553393899997},{"$f":"IF($C$25,Results!X85,Results!X37)*0.001","v":105.65595858225835},{"$f":"IF($C$25,Results!Y85,Results!Y37)*0.001","v":0},{"$f":"IF($C$25,Results!Z85,Results!Z37)*0.001","v":1.9600345133799864},{"$f":"IF($C$25,Results!AA85,Results!AA37)*0.001","v":1.7493856114255282}]
[null,null,true,"Env Equiv",{"$f":"IF($C$26,IF($C$25,Results!G86,Results!G76),0)*0.001","v":297.16669999999999},{"$f":"IF($C$26,IF($C$25,Results!H86,Results!H76),0)*0.001","v":0.3813126709383946},{"$f":"IF($C$26,IF($C$25,Results!I86,Results!I76),0)*0.001","v":0.34536663424744041},{"$f":"IF($C$26,IF($C$25,Results!J86,Results!J76),0)*0.001","v":0.62561840265033308},{"$f":"IF($C$26,IF($C$25,Results!K86,Results!K76),0)*0.001","v":0.56664186247698467},{"$f":"IF($C$26,IF($C$25,Results!L86,Results!L76),0)*0.001","v":0.25661249649240558},{"$f":"IF($C$26,IF($C$25,Results!M86,Results!M76),0)*0.001","v":0.46484368852108587},{"$f":"IF($C$26,IF($C$25,Results!N86,Results!N76),0)*0.001","v":148.38104414563404},{"$f":"IF($C$26,IF($C$25,Results!O86,Results!O76),0)*0.001","v":0.1906668647929845},{"$f":"IF($C$26,IF($C$25,Results!P86,Results!P76),0)*0.001","v":0},{"$f":"IF($C$26,IF($C$25,Results!Q86,Results!Q76),0)*0.001","v":0.15641323837545096},{"$f":"IF($C$26,IF($C$25,Results!R86,Results!R76),0)*0.001","v":0},{"$f":"IF($C$26,IF($C$25,Results!S86,Results!S76),0)*0.001","v":0.1283133341792686},{"$f":"IF($C$26,IF($C$25,Results!T86,Results!T76),0)*0.001","v":0},{"$f":"IF($C$26,IF($C$25,Results!U86,Results!U76),0)*0.001","v":0.10526162554527567},{"$f":"IF($C$26,IF($C$25,Results!V86,Results!V76),0)*0.001","v":0},{"$f":"IF($C$26,IF($C$25,Results!W86,Results!W76),0)*0.001","v":8.6351195558162119E-2},{"$f":"IF($C$26,IF($C$25,Results!X86,Results!X76),0)*0.001","v":55.127695079214661},{"$f":"IF($C$26,IF($C$25,Results!Y86,Results!Y76),0)*0.001","v":0},{"$f":"IF($C$26,IF($C$25,Results!Z86,Results!Z76),0)*0.001","v":6.4160210251833633E-2},{"$f":"IF($C$26,IF($C$25,Results!AA86,Results!AA76),0)*0.001","v":5.8111879190250959E-2}]
[null,null,true,"Ops Cost",{"$f":"IF($C$27,IF($C$25,Results!G87,Results!G77),0)*0.001","v":5},{"$f":"IF($C$27,IF($C$25,Results!H87,Results!H77),0)*0.001","v":0.89252796289224312},{"$f":"IF($C$27,IF($C$25,Results!I87,Results!I77),0)*0.001","v":0.79660616454457744},{"$f":"IF($C$27,IF($C$25,Results!J87,Results!J77),0)*0.001","v":1.4219865545367494},{"$f":"IF($C$27,IF($C$25,Results!K87,Results!K77),0)*0.001","v":1.2691627627808446},{"$f":"IF($C$27,IF($C$25,Results!L87,Results!L77),0)*0.001","v":0.56638162762173927},{"$f":"IF($C$27,IF($C$25,Results!M87,Results!M77),0)*0.001","v":1.0110228806416479},{"$f":"IF($C$27,IF($C$25,Results!N87,Results!N77),0)*0.001","v":1.8047323841930749},{"$f":"IF($C$27,IF($C$25,Results!O87,Results!O77),0)*0.001","v":0.40269352960737653},{"$f":"IF($C$27,IF($C$25,Results!P87,Results!P77),0)*0.001","v":0},{"$f":"IF($C$27,IF($C$25,Results!Q87,Results!Q77),0)*0.001","v":0.32078814810745043},{"$f":"IF($C$27,IF($C$25,Results!R87,Results!R77),0)*0.001","v":0},{"$f":"IF($C$27,IF($C$25,Results!S87,Results!S77),0)*0.001","v":0.25554181629523393},{"$f":"IF($C$27,IF($C$25,Results!T87,Results!T77),0)*0.001","v":0},{"$f":"IF($C$27,IF($C$25,Results!U87,Results!U77),0)*0.001","v":0.20356618615970126},{"$f":"IF($C$27,IF($C$25,Results!V87,Results!V77),0)*0.001","v":0},{"$f":"IF($C$27,IF($C$25,Results!W87,Results!W77),0)*0.001","v":0.16216207878764705},{"$f":"IF($C$27,IF($C$25,Results!X87,Results!X77),0)*0.001","v":0.57893675935484024},{"$f":"IF($C$27,IF($C$25,Results!Y87,Results!Y77),0)*0.001","v":0},{"$f":"IF($C$27,IF($C$25,Results!Z87,Results!Z77),0)*0.001","v":0.11529614784588155},{"$f":"IF($C$27,IF($C$25,Results!AA87,Results!AA77),0)*0.001","v":0.10290503596620754}]

{"sheet":"OutputEnv","index":16,"n_rows":21,"n_cols":27,"rows_kept":21,"cut":false,"hidden":false,"merged":[[7,4,7,24],[12,4,12,24],[17,4,17,24]]}
["MAINLINE",null,{"$f":"Flowchart!C1","v":"Plain Track Model"}]
[null,null,null,null,"Check",{"$f":"IF(Projection!$BF$24,Projection!BF27,\"OK\")","v":"OK"}]
[null,"Summary of Projected Environmental Impacts",null,null,null,{"$f":"IF(Projection!$BF$24,Projection!BF28,\"OK\")","v":"OK"}]
[]
[null,null,null,"Years:",{"$f":"Summary!E7","v":"01-05"},{"$f":"Summary!F7","v":"06-10"},{"$f":"Summary!G7","v":"11-15"},{"$f":"Summary!H7","v":"16-20"},{"$f":"Summary!I7","v":"21-25"},{"$f":"Summary!J7","v":"26-30"},{"$f":"Summary!K7","v":"31-35"},{"$f":"Summary!L7","v":"36-40"},{"$f":"Summary!M7","v":"41-45"},{"$f":"Summary!N7","v":"46-50"},{"$f":"Summary!O7","v":"51-55"},{"$f":"Summary!P7","v":"56-60"},{"$f":"Summary!Q7","v":"61-65"},{"$f":"Summary!R7","v":"66-70"},{"$f":"Summary!S7","v":"71-75"},{"$f":"Summary!T7","v":"76-80"},{"$f":"Summary!U7","v":"81-85"},{"$f":"Summary!V7","v":"86-90"},{"$f":"Summary!W7","v":"91-95"},{"$f":"Summary!X7","v":"96-100"},{"$f":"Summary!Y7","v":"101-05"}]
[null,null,null,"Period:",{"$f":"Summary!E8","v":1},{"$f":"Summary!F8","v":2},{"$f":"Summary!G8","v":3},{"$f":"Summary!H8","v":4},{"$f":"Summary!I8","v":5},{"$f":"Summary!J8","v":6},{"$f":"Summary!K8","v":7},{"$f":"Summary!L8","v":8},{"$f":"Summary!M8","v":9},{"$f":"Summary!N8","v":10},{"$f":"Summary!O8","v":11},{"$f":"Summary!P8","v":12},{"$f":"Summary!Q8","v":13},{"$f":"Summary!R8","v":14},{"$f":"Summary!S8","v":15},{"$f":"Summary!T8","v":16},{"$f":"Summary!U8","v":17},{"$f":"Summary!V8","v":18},{"$f":"Summary!W8","v":19},{"$f":"Summary!X8","v":20},{"$f":"Summary!Y8","v":21}]
[]
[null,"No","Name",null,{"$f":"Results!G41","v":"Carbon Dioxide equivalent [kg]"},null,null,null,null,null,null,null,null,null,null,null,null,null,null,null,null,null,null,null,null,null,{"$f":"Results!AC41","v":"kg CO2e"}]
[null,1,{"$f":"Results!D42","v":"In-situ tamping of ballast"},null,{"$f":"Results!G42","v":421},{"$f":"Results!H42","v":421},{"$f":"Results!I42","v":421},{"$f":"Results!J42","v":842},{"$f":"Results!K42","v":842},{"$f":"Results!L42","v":421},{"$f":"Results!M42","v":842},{"$f":"Results!N42","v":0},{"$f":"Results!O42","v":421},{"$f":"Results!P42","v":0},{"$f":"Results!Q42","v":421},{"$f":"Results!R42","v":0},{"$f":"Results!S42","v":421},{"$f":"Results!T42","v":0},{"$f":"Results!U42","v":421},{"$f":"Results!V42","v":0},{"$f":"Results!W42","v":421},{"$f":"Results!X42","v":0},{"$f":"Results!Y42","v":0},{"$f":"Results!Z42","v":421},{"$f":"Results!AA42","v":421},null,{"$f":"SUM(E9:Y9)","v":7157}]
[null,2,{"$f":"Results!D43","v":"Renew track structure"},null,{"$f":"Results!G43","v":296745.7},{"$f":"Results!H43","v":0},{"$f":"Results!I43","v":0},{"$f":"Results!J43","v":0},{"$f":"Results!K43","v":0},{"$f":"Results!L43","v":0},{"$f":"Results!M43","v":0},{"$f":"Results!N43","v":296745.7},{"$f":"Results!O43","v":0},{"$f":"Results!P43","v":0},{"$f":"Results!Q43","v":0},{"$f":"Results!R43","v":0},{"$f":"Results!S43","v":0},{"$f":"Results!T43","v":0},{"$f":"Results!U43","v":0},{"$f":"Results!V43","v":0},{"$f":"Results!W43","v":0},{"$f":"Results!X43","v":296745.7},{"$f":"Results!Y43","v":0},{"$f":"Results!Z43","v":0},{"$f":"Results!AA43","v":0},null,890237.10000000009]
[null,null,null,{"$f":"Results!F44","v":"CO2e"},{"$f":"Results!G44","v":297166.7},{"$f":"Results!H44","v":421},{"$f":"Results!I44","v":421},{"$f":"Results!J44","v":842},{"$f":"Results!K44","v":842},{"$f":"Results!L44","v":421},{"$f":"Results!M44","v":842},{"$f":"Results!N44","v":296745.7},{"$f":"Results!O44","v":421},{"$f":"Results!P44","v":0},{"$f":"Results!Q44","v":421},{"$f":"Results!R44","v":0},{"$f":"Results!S44","v":421},{"$f":"Results!T44","v":0},{"$f":"Results!U44","v":421},{"$f":"Results!V44","v":0},{"$f":"Results!W44","v":421},{"$f":"Results!X44","v":296745.7},{"$f":"Results!Y44","v":0},{"$f":"Results!Z44","v":421},{"$f":"Results!AA44","v":421},null,{"$f":"SUM(E11:Y11)","v":897394.10000000009}]
[]
[null,"No","Name",null,{"$f":"Results!G48","v":"User-defined impact (2) [unit2]"},null,null,null,null,null,null,null,null,null,null,null,null,null,null,null,null,null,null,null,null,null,{"$f":"Results!AC48","v":"unit2 EI-2"}]
[null,1,{"$f":"Results!D49","v":"In-situ tamping of ballast"},null,{"$f":"Results!G49","v":0},{"$f":"Results!H49","v":0},{"$f":"Results!I49","v":0},{"$f":"Results!J49","v":0},{"$f":"Results!K49","v":0},{"$f":"Results!L49","v":0},{"$f":"Results!M49","v":0},{"$f":"Results!N49","v":0},{"$f":"Results!O49","v":0},{"$f":"Results!P49","v":0},{"$f":"Results!Q49","v":0},{"$f":"Results!R49","v":0},{"$f":"Results!S49","v":0},{"$f":"Results!T49","v":0},{"$f":"Results!U49","v":0},{"$f":"Results!V49","v":0},{"$f":"Results!W49","v":0},{"$f":"Results!X49","v":0},{"$f":"Results!Y49","v":0},{"$f":"Results!Z49","v":0},{"$f":"Results!AA49","v":0},null,{"$f":"SUM(E14:Y14)","v":0}]
[null,2,{"$f":"Results!D50","v":"Renew track structure"},null,{"$f":"Results!G50","v":0},{"$f":"Results!H50","v":0},{"$f":"Results!I50","v":0},{"$f":"Results!J50","v":0},{"$f":"Results!K50","v":0},{"$f":"Results!L50","v":0},{"$f":"Results!M50","v":0},{"$f":"Results!N50","v":0},{"$f":"Results!O50","v":0},{"$f":"Results!P50","v":0},{"$f":"Results!Q50","v":0},{"$f":"Results!R50","v":0},{"$f":"Results!S50","v":0},{"$f":"Results!T50","v":0},{"$f":"Results!U50","v":0},{"$f":"Results!V50","v":0},{"$f":"Results!W50","v":0},{"$f":"Results!X50","v":0},{"$f":"Results!Y50","v":0},{"$f":"Results!Z50","v":0},{"$f":"Results!AA50","v":0},null,0]
[null,null,null,{"$f":"Results!F51","v":"EI-2"},{"$f":"Results!G51","v":0},{"$f":"Results!H51","v":0},{"$f":"Results!I51","v":0},{"$f":"Results!J51","v":0},{"$f":"Results!K51","v":0},{"$f":"Results!L51","v":0},{"$f":"Results!M51","v":0},{"$f":"Results!N51","v":0},{"$f":"Results!O51","v":0},{"$f":"Results!P51","v":0},{"$f":"Results!Q51","v":0},{"$f":"Results!R51","v":0},{"$f":"Results!S51","v":0},{"$f":"Results!T51","v":0},{"$f":"Results!U51","v":0},{"$f":"Results!V51","v":0},{"$f":"Results!W51","v":0},{"$f":"Results!X51","v":0},{"$f":"Results!Y51","v":0},{"$f":"Results!Z51","v":0},{"$f":"Results!AA51","v":0},null,{"$f":"SUM(E16:Y16)","v":0}]
[]
[null,"No","Name",null,{"$f":"Results!G55","v":"User-defined impact (3) [unit3]"},null,null,null,null,null,null,null,null,null,null,null,null,null,null,null,null,null,null,null,null,null,{"$f":"Results!AC55","v":"unit3 EI-3"}]
[null,1,{"$f":"Results!D56","v":"In-situ tamping of ballast"},null,{"$f":"Results!G56","v":0},{"$f":"Results!H56","v":0},{"$f":"Results!I56","v":0},{"$f":"Results!J56","v":0},{"$f":"Results!K56","v":0},{"$f":"Results!L56","v":0},{"$f":"Results!M56","v":0},{"$f":"Results!N56","v":0},{"$f":"Results!O56","v":0},{"$f":"Results!P56","v":0},{"$f":"Results!Q56","v":0},{"$f":"Results!R56","v":0},{"$f":"Results!S56","v":0},{"$f":"Results!T56","v":0},{"$f":"Results!U56","v":0},{"$f":"Results!V56","v":0},{"$f":"Results!W56","v":0},{"$f":"Results!X56","v":0},{"$f":"Results!Y56","v":0},{"$f":"Results!Z56","v":0},{"$f":"Results!AA56","v":0},null,{"$f":"SUM(E19:Y19)","v":0}]
[null,2,{"$f":"Results!D57","v":"Renew track structure"},null,{"$f":"Results!G57","v":0},{"$f":"Results!H57","v":0},{"$f":"Results!I57","v":0},{"$f":"Results!J57","v":0},{"$f":"Results!K57","v":0},{"$f":"Results!L57","v":0},{"$f":"Results!M57","v":0},{"$f":"Results!N57","v":0},{"$f":"Results!O57","v":0},{"$f":"Results!P57","v":0},{"$f":"Results!Q57","v":0},{"$f":"Results!R57","v":0},{"$f":"Results!S57","v":0},{"$f":"Results!T57","v":0},{"$f":"Results!U57","v":0},{"$f":"Results!V57","v":0},{"$f":"Results!W57","v":0},{"$f":"Results!X57","v":0},{"$f":"Results!Y57","v":0},{"$f":"Results!Z57","v":0},{"$f":"Results!AA57","v":0},null,0]
[null,null,null,{"$f":"Results!F58","v":"EI-3"},{"$f":"Results!G58","v":0},{"$f":"Results!H58","v":0},{"$f":"Results!I58","v":0},{"$f":"Results!J58","v":0},{"$f":"Results!K58","v":0},{"$f":"Results!L58","v":0},{"$f":"Results!M58","v":0},{"$f":"Results!N58","v":0},{"$f":"Results!O58","v":0},{"$f":"Results!P58","v":0},{"$f":"Results!Q58","v":0},{"$f":"Results!R58","v":0},{"$f":"Results!S58","v":0},{"$f":"Results!T58","v":0},{"$f":"Results!U58","v":0},{"$f":"Results!V58","v":0},{"$f":"Results!W58","v":0},{"$f":"Results!X58","v":0},{"$f":"Results!Y58","v":0},{"$f":"Results!Z58","v":0},{"$f":"Results!AA58","v":0},null,{"$f":"SUM(E21:Y21)","v":0}]

{"sheet":"OutputOps","index":17,"n_rows":14,"n_cols":27,"rows_kept":14,"cut":false,"hidden":false,"merged":[[6,4,6,24]]}
["MAINLINE",null,{"$f":"Flowchart!C1","v":"Plain Track Model"}]
[null,null,null,null,"Check",{"$f":"IF(Projection!$BF$24,Projection!BF27,\"OK\")","v":"OK"}]
[null,"Summary of Projected Operational Costs & Impacts",null,null,null,{"$f":"IF(Projection!$BF$24,Projection!BF28,\"OK\")","v":"OK"}]
[]
[null,null,null,"Years:",{"$f":"Summary!E7","v":"01-05"},{"$f":"Summary!F7","v":"06-10"},{"$f":"Summary!G7","v":"11-15"},{"$f":"Summary!H7","v":"16-20"},{"$f":"Summary!I7","v":"21-25"},{"$f":"Summary!J7","v":"26-30"},{"$f":"Summary!K7","v":"31-35"},{"$f":"Summary!L7","v":"36-40"},{"$f":"Summary!M7","v":"41-45"},{"$f":"Summary!N7","v":"46-50"},{"$f":"Summary!O7","v":"51-55"},{"$f":"Summary!P7","v":"56-60"},{"$f":"Summary!Q7","v":"61-65"},{"$f":"Summary!R7","v":"66-70"},{"$f":"Summary!S7","v":"71-75"},{"$f":"Summary!T7","v":"76-80"},{"$f":"Summary!U7","v":"81-85"},{"$f":"Summary!V7","v":"86-90"},{"$f":"Summary!W7","v":"91-95"},{"$f":"Summary!X7","v":"96-100"},{"$f":"Summary!Y7","v":"101-05"}]
[null,null,null,"Period:",{"$f":"Summary!E8","v":1},{"$f":"Summary!F8","v":2},{"$f":"Summary!G8","v":3},{"$f":"Summary!H8","v":4},{"$f":"Summary!I8","v":5},{"$f":"Summary!J8","v":6},{"$f":"Summary!K8","v":7},{"$f":"Summary!L8","v":8},{"$f":"Summary!M8","v":9},{"$f":"Summary!N8","v":10},{"$f":"Summary!O8","v":11},{"$f":"Summary!P8","v":12},{"$f":"Summary!Q8","v":13},{"$f":"Summary!R8","v":14},{"$f":"Summary!S8","v":15},{"$f":"Summary!T8","v":16},{"$f":"Summary!U8","v":17},{"$f":"Summary!V8","v":18},{"$f":"Summary!W8","v":19},{"$f":"Summary!X8","v":20},{"$f":"Summary!Y8","v":21}]
[null,"No","Name",null,"Intervention schedule"]
[null,1,{"$f":"Results!D17","v":"In-situ tamping of ballast"},null,{"$f":"Results!G17","v":1},{"$f":"Results!H17","v":1},{"$f":"Results!I17","v":1},{"$f":"Results!J17","v":2},{"$f":"Results!K17","v":2},{"$f":"Results!L17","v":1},{"$f":"Results!M17","v":2},{"$f":"Results!N17","v":0},{"$f":"Results!O17","v":1},{"$f":"Results!P17","v":0},{"$f":"Results!Q17","v":1},{"$f":"Results!R17","v":0},{"$f":"Results!S17","v":1},{"$f":"Results!T17","v":0},{"$f":"Results!U17","v":1},{"$f":"Results!V17","v":0},{"$f":"Results!W17","v":1},{"$f":"Results!X17","v":0},{"$f":"Results!Y17","v":0},{"$f":"Results!Z17","v":1},{"$f":"Results!AA17","v":1}]
[null,2,{"$f":"Results!D18","v":"Renew track structure"},null,{"$f":"Results!G18","v":1},{"$f":"Results!H18","v":0},{"$f":"Results!I18","v":0},{"$f":"Results!J18","v":0},{"$f":"Results!K18","v":0},{"$f":"Results!L18","v":0},{"$f":"Results!M18","v":0},{"$f":"Results!N18","v":1},{"$f":"Results!O18","v":0},{"$f":"Results!P18","v":0},{"$f":"Results!Q18","v":0},{"$f":"Results!R18","v":0},{"$f":"Results!S18","v":0},{"$f":"Results!T18","v":0},{"$f":"Results!U18","v":0},{"$f":"Results!V18","v":0},{"$f":"Results!W18","v":0},{"$f":"Results!X18","v":1},{"$f":"Results!Y18","v":0},{"$f":"Results!Z18","v":0},{"$f":"Results!AA18","v":0}]
[]
[null,null,"Operational Impacts",null,null,null,null,null,null,null,null,null,null,null,null,null,null,null,null,null,null,null,null,null,null,null,"Total"]
[null,null,{"$f":"IntvCosts!V14","v":"Over-night possession [Nr]"},{"$f":"IntvCosts!V15","v":"Poss(N)"},{"$f":"Results!G69","v":4},{"$f":"Results!H69","v":1},{"$f":"Results!I69","v":1},{"$f":"Results!J69","v":2},{"$f":"Results!K69","v":2},{"$f":"Results!L69","v":1},{"$f":"Results!M69","v":2},{"$f":"Results!N69","v":3},{"$f":"Results!O69","v":1},{"$f":"Results!P69","v":0},{"$f":"Results!Q69","v":1},{"$f":"Results!R69","v":0},{"$f":"Results!S69","v":1},{"$f":"Results!T69","v":0},{"$f":"Results!U69","v":1},{"$f":"Results!V69","v":0},{"$f":"Results!W69","v":1},{"$f":"Results!X69","v":3},{"$f":"Results!Y69","v":0},{"$f":"Results!Z69","v":1},{"$f":"Results!AA69","v":1},null,{"$f":"SUM(E12:Y12)","v":26}]
[null,null,{"$f":"IntvCosts!W14","v":"Day possessions [Nr]"},{"$f":"IntvCosts!W15","v":"Poss(D)"},{"$f":"Results!G70","v":0},{"$f":"Results!H70","v":0},{"$f":"Results!I70","v":0},{"$f":"Results!J70","v":0},{"$f":"Results!K70","v":0},{"$f":"Results!L70","v":0},{"$f":"Results!M70","v":0},{"$f":"Results!N70","v":0},{"$f":"Results!O70","v":0},{"$f":"Results!P70","v":0},{"$f":"Results!Q70","v":0},{"$f":"Results!R70","v":0},{"$f":"Results!S70","v":0},{"$f":"Results!T70","v":0},{"$f":"Results!U70","v":0},{"$f":"Results!V70","v":0},{"$f":"Results!W70","v":0},{"$f":"Results!X70","v":0},{"$f":"Results!Y70","v":0},{"$f":"Results!Z70","v":0},{"$f":"Results!AA70","v":0},null,{"$f":"SUM(E13:Y13)","v":0}]
[null,null,{"$f":"IntvCosts!X14","v":"Speed restriction [days]"},{"$f":"IntvCosts!X15","v":"TSR"},{"$f":"Results!G71","v":2},{"$f":"Results!H71","v":0},{"$f":"Results!I71","v":0},{"$f":"Results!J71","v":0},{"$f":"Results!K71","v":0},{"$f":"Results!L71","v":0},{"$f":"Results!M71","v":0},{"$f":"Results!N71","v":2},{"$f":"Results!O71","v":0},{"$f":"Results!P71","v":0},{"$f":"Results!Q71","v":0},{"$f":"Results!R71","v":0},{"$f":"Results!S71","v":0},{"$f":"Results!T71","v":0},{"$f":"Results!U71","v":0},{"$f":"Results!V71","v":0},{"$f":"Results!W71","v":0},{"$f":"Results!X71","v":2},{"$f":"Results!Y71","v":0},{"$f":"Results!Z71","v":0},{"$f":"Results!AA71","v":0},null,{"$f":"SUM(E14:Y14)","v":6}]

{"sheet":"OutputCondition","index":18,"n_rows":13,"n_cols":25,"rows_kept":13,"cut":false,"hidden":false,"merged":[[6,4,6,24]]}
["MAINLINE",null,{"$f":"Flowchart!C1","v":"Plain Track Model"}]
[null,null,null,null,"Check",{"$f":"IF(Projection!$BF$24,Projection!BF27,\"OK\")","v":"OK"}]
[null,"Summary of Projected Condition",null,null,null,{"$f":"IF(Projection!$BF$24,Projection!BF28,\"OK\")","v":"OK"}]
[]
[null,null,null,"Years:",{"$f":"Summary!E7","v":"01-05"},{"$f":"Summary!F7","v":"06-10"},{"$f":"Summary!G7","v":"11-15"},{"$f":"Summary!H7","v":"16-20"},{"$f":"Summary!I7","v":"21-25"},{"$f":"Summary!J7","v":"26-30"},{"$f":"Summary!K7","v":"31-35"},{"$f":"Summary!L7","v":"36-40"},{"$f":"Summary!M7","v":"41-45"},{"$f":"Summary!N7","v":"46-50"},{"$f":"Summary!O7","v":"51-55"},{"$f":"Summary!P7","v":"56-60"},{"$f":"Summary!Q7","v":"61-65"},{"$f":"Summary!R7","v":"66-70"},{"$f":"Summary!S7","v":"71-75"},{"$f":"Summary!T7","v":"76-80"},{"$f":"Summary!U7","v":"81-85"},{"$f":"Summary!V7","v":"86-90"},{"$f":"Summary!W7","v":"91-95"},{"$f":"Summary!X7","v":"96-100"},{"$f":"Summary!Y7","v":"101-05"}]
[null,null,null,"Period:",{"$f":"Summary!E8","v":1},{"$f":"Summary!F8","v":2},{"$f":"Summary!G8","v":3},{"$f":"Summary!H8","v":4},{"$f":"Summary!I8","v":5},{"$f":"Summary!J8","v":6},{"$f":"Summary!K8","v":7},{"$f":"Summary!L8","v":8},{"$f":"Summary!M8","v":9},{"$f":"Summary!N8","v":10},{"$f":"Summary!O8","v":11},{"$f":"Summary!P8","v":12},{"$f":"Summary!Q8","v":13},{"$f":"Summary!R8","v":14},{"$f":"Summary!S8","v":15},{"$f":"Summary!T8","v":16},{"$f":"Summary!U8","v":17},{"$f":"Summary!V8","v":18},{"$f":"Summary!W8","v":19},{"$f":"Summary!X8","v":20},{"$f":"Summary!Y8","v":21}]
[null,"No","Name",null,"Intervention schedule"]
[null,1,{"$f":"Results!D17","v":"In-situ tamping of ballast"},null,{"$f":"Results!G17","v":1},{"$f":"Results!H17","v":1},{"$f":"Results!I17","v":1},{"$f":"Results!J17","v":2},{"$f":"Results!K17","v":2},{"$f":"Results!L17","v":1},{"$f":"Results!M17","v":2},{"$f":"Results!N17","v":0},{"$f":"Results!O17","v":1},{"$f":"Results!P17","v":0},{"$f":"Results!Q17","v":1},{"$f":"Results!R17","v":0},{"$f":"Results!S17","v":1},{"$f":"Results!T17","v":0},{"$f":"Results!U17","v":1},{"$f":"Results!V17","v":0},{"$f":"Results!W17","v":1},{"$f":"Results!X17","v":0},{"$f":"Results!Y17","v":0},{"$f":"Results!Z17","v":1},{"$f":"Results!AA17","v":1}]
[null,2,{"$f":"Results!D18","v":"Renew track structure"},null,{"$f":"Results!G18","v":1},{"$f":"Results!H18","v":0},{"$f":"Results!I18","v":0},{"$f":"Results!J18","v":0},{"$f":"Results!K18","v":0},{"$f":"Results!L18","v":0},{"$f":"Results!M18","v":0},{"$f":"Results!N18","v":1},{"$f":"Results!O18","v":0},{"$f":"Results!P18","v":0},{"$f":"Results!Q18","v":0},{"$f":"Results!R18","v":0},{"$f":"Results!S18","v":0},{"$f":"Results!T18","v":0},{"$f":"Results!U18","v":0},{"$f":"Results!V18","v":0},{"$f":"Results!W18","v":0},{"$f":"Results!X18","v":1},{"$f":"Results!Y18","v":0},{"$f":"Results!Z18","v":0},{"$f":"Results!AA18","v":0}]
[]
[null,"Condition Scores"]
[null,"Qs",{"$f":"Results!D92","v":"Track quality (start)"},null,{"$f":"Results!G92","v":-7},{"$f":"Results!H92","v":-8},{"$f":"Results!I92","v":-11.934597581130163},{"$f":"Results!J92","v":-14.576950403124068},{"$f":"Results!K92","v":-11.61834242728283},{"$f":"Results!L92","v":-10},{"$f":"Results!M92","v":-16.929494367201521},{"$f":"Results!N92","v":-22},{"$f":"Results!O92","v":-8.3960341488655814},{"$f":"Results!P92","v":-6.75},{"$f":"Results!Q92","v":-10.273240500425777},{"$f":"Results!R92","v":-8.1542764292595855},{"$f":"Results!S92","v":-11.173473201310111},{"$f":"Results!T92","v":-8.3987343848047669},{"$f":"Results!U92","v":-12.342900333889268},{"$f":"Results!V92","v":-11.746392053135322},{"$f":"Results!W92","v":-17.877557122096189},{"$f":"Results!X92","v":-14.786131570989284},{"$f":"Results!Y92","v":-7.0976196638868645},{"$f":"Results!Z92","v":-10.802304264838655},{"$f":"Results!AA92","v":-8.6845232516726725}]
[null,"Qe",{"$f":"Results!D93","v":"Track quality (end)"},null,{"$f":"Results!G93","v":-8},{"$f":"Results!H93","v":-11.934597581130163},{"$f":"Results!I93","v":-14.576950403124068},{"$f":"Results!J93","v":-11.61834242728283},{"$f":"Results!K93","v":-10},{"$f":"Results!L93","v":-16.929494367201521},{"$f":"Results!M93","v":-22},{"$f":"Results!N93","v":-8.3960341488655814},{"$f":"Results!O93","v":-6.75},{"$f":"Results!P93","v":-10.273240500425777},{"$f":"Results!Q93","v":-8.1542764292595855},{"$f":"Results!R93","v":-11.173473201310111},{"$f":"Results!S93","v":-8.3987343848047669},{"$f":"Results!T93","v":-12.342900333889268},{"$f":"Results!U93","v":-11.746392053135322},{"$f":"Results!V93","v":-17.877557122096189},{"$f":"Results!W93","v":-14.786131570989284},{"$f":"Results!X93","v":-7.0976196638868645},{"$f":"Results!Y93","v":-10.802304264838655},{"$f":"Results!Z93","v":-8.6845232516726725},{"$f":"Results!AA93","v":-7.1889311648113114}]

{"sheet":"EnvImpacts","index":19,"n_rows":52,"n_cols":12,"rows_kept":52,"cut":false,"hidden":false,"merged":[[12,1,12,4]]}
["MAINLINE",null,{"$f":"Flowchart!C1","v":"Plain Track Model"}]
[null,"Environment Impact of Construction Activity"]
[null,null,"version 3"]
[null,null,"Users may amend this data and add more data if necessary"]
[]
[null,null,null,null,null,null,"NOTES: "]
[null,null,null,null,null,null,1,"These impact values will be used to build-up the environmental impact of the interventions employed in asset life-cycles."]
[null,null,null,null,null,null,2,"The data will be applicable across Europe. If it is specific to a certain country, this is noted."]
[null,null,null,null,null,null,3,"The impacts of materials are shown as from cradle-to-factorygate."]
[null,null,null,null,null,null,4,"The impacts of equipment and transport will include only fuel usage (excluding the manufacture of the equipment or vehicle)."]
[null,null,null,null,null,null,5,"Different types and sizes of equipment should be shown on separate lines, where appropriate."]
[null,null,null,null,null,null,6,"Different types of paints and coatings should be shown on separate lines, where appropriate."]
[null,"Model",null,null,null,"Col:",{"$f":"COLUMNS($G14:G14)","v":1},{"$f":"COLUMNS($G14:H14)","v":2},{"$f":"COLUMNS($G14:I14)","v":3},{"$f":"COLUMNS($G14:J14)","v":4},{"$f":"COLUMNS($G14:K14)","v":5},{"$f":"COLUMNS($G14:L14)","v":6}]
[null,"Bridges","Cuttings","Track","Tunnels","Group","Item","Unit of usage","CO2e\n[kg/unit of usage]","Basis of impact estimation","Note on impact assessment","Sources of Impact data"]
[null,null,null,"•",null,"Materials","Ballast","m3",50.72,"0.0317 kgCO2e/kg x density 1600 kg/m3 (assumed crushed rock 16/32 mm)",null,"Database of GaBi 6 (PE International)"]
[null,null,null,"•",null,"Equipment","Ballast stoneblower","km",418,"data from research paper (see reference column L)",null,"Milford, R & Allwood, J. (2010) \"Assessing the CO2 impact of current and future rail track in the UK\", Transportation Research Part D 15, pp. 61-72."]
[null,null,null,"•",null,"Equipment","Ballast tamper","km",153,"data from research paper (see reference column L)",null,"Milford, R & Allwood, J. (2010) \"Assessing the CO2 impact of current and future rail track in the UK\", Transportation Research Part D 15, pp. 61-72."]
[null,"•",null,null,"•","Materials","Brickwork - single skin brick","m2",44.879999999999995,"0.22 kg CO2e/kg x2000kg/m3 x 0.102m brick thickness. Assumed clay brick density, 2000kg/m3.",null,"Ecoinvent database"]
[null,"•","•","•","•","Equipment","Chainsaw (5)","hr",3.35,"Power chainsaw with catalytic converter with assumed 1.25kg petrol usage per hour",null,"Database of GaBi 6 (PE International)"]
[null,"•","•","•","•","Materials","Concrete, mass insitu","m3",221.26,"0..0962 kgCO2e/kg x density 2300kg/m3. Assuming use of ready-mix concrete C20/25.",null,"Database of GaBi 6 (PE International)"]
[null,"•","•","•","•","Materials","Concrete, precast","m3",333.6,"0.139 kg CO2e/kg x 2400 kg/m3. Assuming concrete type C20/25 and minimum reinforcement share of 0.5%.",null,"Database of GaBi 6 (PE international)"]
[null,"•",null,"•","•","Equipment","Crane, mobile (5)","hr",15.8,"3.16 kg CO2e/litre x 5 litre/hour. Assuming 15t wheeled crane and diesel consumption 5 litre/hour.  (U.K. data)",null,"U.K. Environment Agency and CESMM3"]
[null,"•",null,null,null,"Equipment","Crane, static (5)","hr",15.8,"Assuming similar to mobile crane."]
[null,"•","•","•","•","Materials","Diesel fuel","l",2.68]
[null,"•",null,null,null,"Materials","Epoxy resin","kg",8.2799999999999994,null,null,"Plastic Europe"]
[null,"•","•","•","•","Equipment","Excavator (5)","t",0.55000000000000004,"Assuming 100kW excavator, diesel driven and for excavating 1 tonne of material",null,"Database of GaBi 6 (PE International)"]
[null,null,"•",null,null,"Materials","Geo-textile","m2",0.96169499999999997,"2,13 kgCO2e/kg x density 903 kg/m3 x thickness 0,0005 m (assuming polyethylene film (PE-HD) with polypropylene (PP) fleece for sealing)",null,"Database of GaBi 6 (PE International)"]
[null,"•",null,null,null,"Materials","Glass fibre reinforced plastic","kg",8.76,"Assuming GFRP production with injection moulding glass fibre method.",null,"Ecoinvent database"]
[null,"•","•","•","•","Materials","Granular fill","m3",11.200000000000001,"0.0045 kgCO2e/kg x 2240 kg/m3 .  Assumed sand and gravel (2/32mm) density, 2240 kg/m3.",null,"Database of GaBi 6 (PE international) "]
[null,"•","•",null,null,"Materials","GRP drainage pipe","m",86.519461679862928,"3.25 kgCO2e/kg x 960 kg/m3 x 0.01 x 0.1 x 2 Pi. Assuming a pipe of 200mm diameter and 10mm thick, and with average density of 960 kg/m3.",null,"Europe Plastic"]
[null,"•","•","•","•","Materials","Mortar","m3",367,"0.21 kg CO2e/kg x 1750kg/m3. Cement mortar with portland cement Z 42.5 strength and 1:4 cement and sand mix. Assumed average density, 1750 kg/m3.",null,"Ecoinvent database "]
[null,"•",null,null,null,"Materials","Paint (6) - single coat alkyd solvent paint","m2",0.34533333333333333," 2.59 kg CO2e/kg divides by 7.5m2. Assumed paint coverage per coat is about 7.5m2 per kg. ",null,"Ecoinvent database"]
[null,"•",null,null,null,"Materials","Paint (6) - single coat zinc rich primer","m2",0.36,"Assumed paint coverage per coat is about 7.5m2 per kg. (U.K. data)",null,"CESMM3"]
[null,null,null,"•",null,"Equipment","Rail grinder","(track)km",1000,"(For 2 rails)  data from research paper (see reference column L)",null,"Milford, R & Allwood, J. (2010) \"Assessing the CO2 impact of current and future rail track in the UK\", Transportation Research Part D 15, pp. 61-72."]
[null,"•","•","•","•","Transport","Rail transport","t-km",2.9100000000000001E-2,"rail freight",null,"Ecoinvent database"]
[null,"•","•","•","•","Transport","Road transport EURO5 (5)","t-km",2.01E-2,"assuming  lorry 16-32t, EURO5",null,"Ecoinvent database"]
[null,"•","•","•","•","Transport","Road transport EURO4 (5)","t-km",1.9800000000000002E-2,"assuming  lorry 16-32t, EURO4",null,"Ecoinvent database"]
[null,"•","•","•","•","Transport","Road transport EURO3 (5)","t-km",2.2200000000000001E-2,"assuming  lorry 16-32t, EURO3",null,"Ecoinvent database"]
[null,"•",null,null,null,"Materials","Shot-blasting","m2",0.71,"Shot blasting equipment with air compressor  (U.K. data)",null,"CESMM3"]
[null,null,null,"•",null,"Materials","Sleeper (concrete)","each",21.572849999999999,"(assumed dimensions of sleeper: length - 2.6 m, width - 250 mm and depth - 150 mm)",null,"Database of GaBi 6 (PE International)"]
[null,null,null,"•",null,"Materials","Sleeper (timber oak)","each",9.5257500000000004,"(assumed dimensions of sleeper: length - 2.6 m, width - 250 mm and depth - 150 mm)","Excluding biogenic carbon","Database of GaBi 6 (PE International)"]
[null,null,null,"•",null,"Materials","Sleeper (timber pine)","each",8.5507500000000007,"(assumed dimensions of sleeper: length - 2.6 m, width - 250 mm and depth - 150 mm)","Excluding biogenic carbon","Database of GaBi 6 (PE International)"]
[null,null,null,"•","•","Equipment","Specialist equipment train","day",null,"What type of equipment???"]
[null,null,"•",null,"•","Materials","Sprayed concrete","m3",221.26,"0.0962 kgCO2e/kg x density 2300kg/m3 (assuming ready-mix concrete C20/25)",null,"Database of GaBi 6 (PE International)"]
[null,null,null,"•",null,"Materials","Steel rails","t",1560,"assuming steel sections with a recycling content (global data)",null,"Worldsteel organization"]
[null,"•","•","•","•","Materials","Steel rebar ","t",1030,"Assuming rebar with recycling content (global data)",null,"Eurofer"]
[null,"•",null,null,null,"Materials","Structural steelwork - steel plate","t",2350,"Steel thickness between 2 - 20mm.  Assuming steel plates with recycling content (global data).",null,"Worldsteel"]
[null,"•",null,null,null,"Materials","Structural steelwork - steel section","t",1560,"Hot-rolled steel sections include I-beams ,H-beams, wide-flange beams, and sheet piling. Assuming steel sections with recycling content (global data).",null,"Worldsteel"]
[null,null,null,null,null,"Materials","Timber","m3",87.7,"(assuming timber pine (549 kg/m3) (12% moisture / 10.7% water content))","Excluding biogenic carbon","Database of GaBi 6 (PE International)"]
[null,null,null,null,null,"Materials","Timber","m3",97.7,"(assuming timber oak (717 kg/m3) (12% moisture / 10.7% water content))","Excluding biogenic carbon","Database of GaBi 6 (PE International)"]
[null,"•",null,null,null,"Equipment","Welding -  MAG arc welding","m",0.121,"Assuming wire consumption of 0.0536 kg/m.",null,"Ecoinvent database"]
[null,"•",null,null,null,"Equipment","Welding - manual gas welding","m",0.154,"Assuming gas welding using mixture of acetylene and oxygen fuels and wire consumption of 0.0536 kg/m.",null,"Ecoinvent database"]